{"text_format":"1","workbook":"xlsx","n_sheets":4,"sheets":["HAL","Sheet1","Sheet2","Sheet3"],"not_rendered":{"charts":0,"images":1,"macros":1,"external_links":0,"defined_names":92,"comments":0,"pivot_tables":0},"unopened":[],"bounds":{"document_bytes":16777216,"sheet_cells":100000,"rows_first":2000,"rows_last":500,"rows_between":2000,"halvings":0,"cell_chars":16384,"cell_head_chars":4096},"cells_cut":0,"cells_raw":0,"read":"whole","date_system":"1900"}

{"sheet":"HAL","index":0,"n_rows":58,"n_cols":18,"rows_kept":58,"cut":false,"hidden":false,"merged":[[6,2,6,17],[7,2,7,17],[9,16,9,17],[10,16,18,17],[37,2,37,17],[9,2,9,7],[44,2,44,17],[36,2,36,17],[22,2,34,17],[21,2,21,17],[13,2,13,7],[51,2,51,17],[52,3,52,7],[52,16,52,17],[53,3,53,7],[53,16,53,17],[57,3,57,7],[57,16,57,17],[54,3,54,7],[54,16,54,17],[55,3,55,7],[55,16,55,17],[56,3,56,7],[56,16,56,17]]}
[]
[]
[]
[]
[]
[]
[null,null,"League Year"]
[]
[]
[null,null,"League & Team Information",null,null,null,null,null,null,null,null,null,null,null,null,null,"Instructions"]
[null,null,"League ID:",null,null,null,null,null,null,null,null,null,null,null,null,null,"1. Enter Your the league year in the \"League Year\" input and the league ID number in the \"League ID:\" input\n2. Press the \"Connect To League\" button and wait while the program contacts your league website.\n3. Once the process has completed select the team you would like to run the report against from the \"Team to Run Report On:\" pull down list.\n4. Press the \"Generate Report\" button and wait for a few minutes (length will depend on your computer speed and internet speed)."]
[null,null,"Team to Run Report On:",7]
[]
[null,null,"Team Longevity Report"]
[null,null,"Grouping","Age",null,null,null,"NFL Experience"]
[null,null,"Average",{"$f":"IFERROR(Sheet2!CE2,\"\")","v":""},null,null,null,{"$f":"IFERROR(Sheet2!CD2,\"\")","v":""},{"$f":"27-D16","v":{"$error":"#VALUE!"}},{"$f":"IF(I16>0,\"younger than\",IF(I16<0,\"older than\", \"exact the age as\"))","v":{"$error":"#VALUE!"}},{"$f":"ABS(I16)","v":{"$error":"#VALUE!"}},null,{"$f":"3.5-H16","v":{"$error":"#VALUE!"}},{"$f":"IF(M16>0,\"shorter than\",IF(M16<0,\"longer than\", \"exactly as long as\"))","v":{"$error":"#VALUE!"}},{"$f":"ABS(M16)","v":{"$error":"#VALUE!"}}]
[null,null,"Oldest/Most",{"$f":"IF(Sheet2!CG2>0,Sheet2!CG2,IF(Sheet2!CG2=0,\"\",IFERROR(Sheet2!CG2,\"\")))","v":""},null,null,null,{"$f":"IF(Sheet2!CS2>0,Sheet2!CS2,IF(Sheet2!CS2=0,0,IFERROR(Sheet2!CS2,\"\")))","v":""},{"$f":"D17-D16","v":{"$error":"#VALUE!"}},{"$f":"IF(I17<0,\"younger than\",IF(I17>0,\"older than\", \"exact the age as\"))","v":{"$error":"#VALUE!"}},{"$f":"ABS(I17)","v":{"$error":"#VALUE!"}},null,{"$f":"3.5-H17","v":{"$error":"#VALUE!"}},{"$f":"IF(M17>0,\"shorter than\",IF(M17<0,\"longer than\", \"exactly as long as\"))","v":{"$error":"#VALUE!"}},{"$f":"ABS(M17)","v":{"$error":"#VALUE!"}}]
[null,null,"Youngest/Least",{"$f":"IF(Sheet2!CH2>0,Sheet2!CH2,IF(Sheet2!CH2=0,\"\",IFERROR(Sheet2!CH2,\"\")))","v":""},null,null,null,{"$f":"IF(Sheet2!CT2>0,Sheet2!CT2,IF(Sheet2!CT2=0,0,IFERROR(Sheet2!CT2,\"\")))","v":""},{"$f":"D18-D16","v":{"$error":"#VALUE!"}},{"$f":"IF(I18<0,\"younger than\",IF(I18>0,\"older than\", \"exact the age as\"))","v":{"$error":"#VALUE!"}},{"$f":"ABS(I18)","v":{"$error":"#VALUE!"}},null,{"$f":"3.5-H18","v":{"$error":"#VALUE!"}},{"$f":"IF(M18>0,\"shorter than\",IF(M18<0,\"longer than\", \"exactly as long as\"))","v":{"$error":"#VALUE!"}},{"$f":"ABS(M18)","v":{"$error":"#VALUE!"}}]
[null,null,"Median",{"$f":"IFERROR(Sheet2!CF2,\"\")","v":""},null,null,null,{"$f":"IFERROR(Sheet2!CU2,\"\")","v":""}]
[]
[]
[null,null,"Fantasy Team Versus NFL Assessment"]
[null,{"$f":"\"The Average NFL player is 27 years old. Your squad is \"&J16&\" the average NFL player \"&IF(I16>0,\"by \"&ROUND(K16,0)&\" years\",IF(I16<0,\"by \"&ROUND(K16,0)&\" years\",))&\".\"","v":{"$error":"#VALUE!"}},{"$f":"IFERROR(CONCATENATE(B23,\" \",B24,\" \",B25,\" \",B26,\" \",B27,\" \",B28,\" \",B29,\" \",B30,\" \",B31,\" \",B32,\" \",B33,\" \",B34),\"\")","v":""}]
[null,{"$f":"\"The Average NFL player plays for 3.5 Years. The average player on your squad has been playing for\"&IF(O16=0,\"\",CONCATENATE(\" \",ROUND(O16,1)))&\" years \"&N16&\" the average NFL player.\"","v":{"$error":"#VALUE!"}}]
[null,{"$f":"\"Your oldest player is \"&D17&\" years old which is \"&ROUND(K17,0)&\" years \"&J17&\" the average NFL player.\"","v":{"$error":"#VALUE!"}}]
[null,{"$f":"\"Your oldest player has been playing for \"&O17&\" years \"&N17&\" the average NFL player.\"","v":{"$error":"#VALUE!"}}]
[null,{"$f":"\"Your youngest player is \"&D18&\" years old which is \"&ROUND(K18,0)&\" years \"&J18&\" the average NFL player.\"","v":{"$error":"#VALUE!"}}]
[null,{"$f":"\"Your youngest player has been playing for \"&O18&\" years \"&N18&\" the average NFL player.\"","v":{"$error":"#VALUE!"}}]
[null,{"$f":"\"Your team has \"&Sheet2!CV2&\" players (\"&ROUND((Sheet2!CV2/Sheet2!CA2),2)*100&\"%) younger than the NFL average.\"","v":{"$error":"#DIV/0!"}}]
[null,{"$f":"\"Your Team has \"&Sheet2!CW2&\" players (\"&ROUND((Sheet2!CW2/Sheet2!CA2),2)*100&\"%) older than the NFL average.\"","v":{"$error":"#DIV/0!"}}]
[null,{"$f":"\"Your Team has \"&(Sheet2!CA2-(Sheet2!CW2+Sheet2!CV2))&\" players (\"&ROUND(((Sheet2!CA2-(Sheet2!CW2+Sheet2!CV2))/Sheet2!CA2),2)*100&\"%) the same age as the NFL average.\"","v":{"$error":"#DIV/0!"}}]
[null,{"$f":"\"Your team has \"&Sheet2!CX2&\" players (\"&ROUND((Sheet2!CX2/Sheet2!CA2),2)*100&\"%) with less experience than the NFL average.\"","v":{"$error":"#DIV/0!"}}]
[null,{"$f":"\"Your Team has \"&Sheet2!CY2&\" players (\"&ROUND((Sheet2!CY2/Sheet2!CA2),2)*100&\"%) with more experience than the NFL average.\"","v":{"$error":"#DIV/0!"}}]
[null,{"$f":"\"Your Team has \"&(Sheet2!CA2-(Sheet2!CX2+Sheet2!CY2))&\" players (\"&IF((Sheet2!CA2-(Sheet2!CX2+Sheet2!CY2))=0,0,ROUND(((Sheet2!CA2-(Sheet2!CX5+Sheet2!CY2))/Sheet2!CA2),2)*100)&\"%) with the same amount of experience as the NFL average.\"","v":"Your Team has 0 players (0%) with the same amount of experience as the NFL average."}]
[]
[]
[null,null,"Positional Longevity Report"]
[null,null,"Offensive Position"]
[null,null,"Position","Average Team Age",null,null,null,"Average NFL Age","Average Team Experience","Average NFL Experience","Positional Percentage of Team",null,null,null,null,{"$f":"I39","v":"Average Team Experience"},{"$f":"J39","v":"Average NFL Experience"},{"$f":"K39","v":"Positional Percentage of Team"}]
[null,null,"Quarterbacks",{"$f":"IFERROR(Sheet2!CZ2,\"\")","v":""},null,null,null,27,{"$f":"Sheet2!DA2","v":{"$error":"#DIV/0!"}},6.96,{"$f":"((5000-(COUNTBLANK(Sheet2!AQ1:AQ5000)))/Sheet2!CA2)","v":{"$error":"#DIV/0!"}},null,null,null,null,{"$f":"IFERROR(I40,\"\")","v":""},6.96,""]
[null,null,"Running Backs",{"$f":"IFERROR(Sheet2!DB2,\"\")","v":""},null,null,null,25.5,{"$f":"Sheet2!DC2","v":{"$error":"#DIV/0!"}},4.3499999999999996,{"$f":"((5000-(COUNTBLANK(Sheet2!AT1:AT5000)))/Sheet2!CA2)","v":{"$error":"#DIV/0!"}},null,null,null,null,"",4.3499999999999996,""]
[null,null,"Wide Receivers",{"$f":"IFERROR(Sheet2!DD2,\"\")","v":""},null,null,null,26,{"$f":"Sheet2!DE2","v":{"$error":"#DIV/0!"}},4.54,{"$f":"((5000-(COUNTBLANK(Sheet2!AW1:AW5000)))/Sheet2!CA2)","v":{"$error":"#DIV/0!"}},null,null,null,null,"",4.54,""]
[null,null,"Tight Ends",{"$f":"IFERROR(Sheet2!DF2,\"\")","v":""},null,null,null,26.4,{"$f":"Sheet2!DG2","v":{"$error":"#DIV/0!"}},4.9800000000000004,{"$f":"((5000-(COUNTBLANK(Sheet2!AZ1:AZ5000)))/Sheet2!CA2)","v":{"$error":"#DIV/0!"}},null,null,null,null,"",4.9800000000000004,""]
[null,null,"Kickers",{"$f":"IFERROR(Sheet2!DH2,\"\")","v":""},null,null,null,30,{"$f":"Sheet2!DI2","v":{"$error":"#DIV/0!"}},8.33,{"$f":"((5000-(COUNTBLANK(Sheet2!BC1:BC5000)))/Sheet2!CA2)","v":{"$error":"#DIV/0!"}},null,null,null,null,"",8.33,""]
[null,null,"Defensive Positions (If Applicable)"]
[null,null,"Defensive Tackles",{"$f":"IFERROR(Sheet2!DJ2,\"\")","v":""},null,null,null,27.1,{"$f":"Sheet2!DK2","v":{"$error":"#DIV/0!"}},4.71,{"$f":"((5000-(COUNTBLANK(Sheet2!BF1:BF5000)))/Sheet2!CA2)","v":{"$error":"#DIV/0!"}},null,null,null,null,{"$f":"IFERROR(I46,\"\")","v":""},4.71,""]
[null,null,"Defensive Ends",{"$f":"IFERROR(Sheet2!DL2,\"\")","v":""},null,null,null,27.3,{"$f":"Sheet2!DM2","v":{"$error":"#DIV/0!"}},5.39,{"$f":"((5000-(COUNTBLANK(Sheet2!BI1:BI5000)))/Sheet2!CA2)","v":{"$error":"#DIV/0!"}},null,null,null,null,"",5.39,""]
[null,null,"Linebackers",{"$f":"IFERROR(Sheet2!DN2,\"\")","v":""},null,null,null,27.1,{"$f":"Sheet2!DO2","v":{"$error":"#DIV/0!"}},5.5,{"$f":"((5000-(COUNTBLANK(Sheet2!BL1:BL5000)))/Sheet2!CA2)","v":{"$error":"#DIV/0!"}},null,null,null,null,"",5.5,""]
[null,null,"Corner Backs",{"$f":"IFERROR(Sheet2!DP2,\"\")","v":""},null,null,null,26.1,{"$f":"Sheet2!DQ2","v":{"$error":"#DIV/0!"}},5.13,{"$f":"((5000-(COUNTBLANK(Sheet2!BO1:BO5000)))/Sheet2!CA2)","v":{"$error":"#DIV/0!"}},null,null,null,null,"",5.13,""]
[null,null,"Safties",{"$f":"IFERROR(Sheet2!DR2,\"\")","v":""},null,null,null,{"$f":"IF(ISBLANK(D50),\"\",26.7)","v":26.7},{"$f":"Sheet2!DS2","v":{"$error":"#DIV/0!"}},5.88,{"$f":"((5000-(COUNTBLANK(Sheet2!BR1:BR5000)))/Sheet2!CA2)","v":{"$error":"#DIV/0!"}},null,null,null,null,"",5.88,""]
[]
[null,null,"Oldest Players By Position"]
[null,null,"Position","Player (Age)",null,null,null,null,null,null,null,null,null,null,null,"Position","Player (Age)"]
[null,null,"Quarterbacks",{"$f":"IFERROR(Sheet2!CI2,\"\")","v":""},null,null,null,null,null,null,null,null,null,null,null,"Defensive Tackles",{"$f":"IFERROR(Sheet2!CN2,\"\")","v":""}]
[null,null,"Running Backs",{"$f":"IFERROR(Sheet2!CJ2,\"\")","v":""},null,null,null,null,null,null,null,null,null,null,null,"Defensive Ends",{"$f":"IFERROR(Sheet2!CO2,\"\")","v":""}]
[null,null,"Wide Receivers",{"$f":"IFERROR(Sheet2!CK2,\"\")","v":""},null,null,null,null,null,null,null,null,null,null,null,"Linebackers",{"$f":"IFERROR(Sheet2!CP2,\"\")","v":""}]
[null,null,"Tight Ends",{"$f":"IFERROR(Sheet2!CL2,\"\")","v":""},null,null,null,null,null,null,null,null,null,null,null,"Corner Backs",{"$f":"IFERROR(Sheet2!CQ2,\"\")","v":""}]
[null,null,"Kickers",{"$f":"IFERROR(Sheet2!CM2,\"\")","v":""},null,null,null,null,null,null,null,null,null,null,null,"Safties",{"$f":"IFERROR(Sheet2!CR2,\"\")","v":""}]

{"sheet":"Sheet1","index":1,"n_rows":1500,"n_cols":80,"rows_kept":1500,"cut":false,"hidden":true,"merged":[[2,29,2,46],[0,7,0,23],[1,55,1,64],[1,65,1,68],[0,55,0,68]]}
[{"$f":"IF(E3=\"\",\"\",GetAddress(E3))","v":""},{"$f":"IF(E3=\"\",\"\",GetAddress(E3))","v":""},null,null,null,null,null,null,null,null,null,null,null,null,null,null,null,null,null,null,null,null,null,null,null,null,null,null,null,null,null,null,null,null,null,null,null,null,null,null,null,null,null,null,null,null,null,null,null,null,null,null,{"$f":"BA2","v":"http://football99.myfantasyleague.com//top?L=&SEARCHTYPE=BASIC&COUNT=500&YEAR=-1&START_WEEK=1&END_WEEK=17&CATEGORY=&POSITION=*&DISPLAY=points&TEAM=*&PRINTER=1"},{"$f":"TEXT(BA1,)","v":"http://football99.myfantasyleague.com//top?L=&SEARCHTYPE=BASIC&COUNT=500&YEAR=-1&START_WEEK=1&END_WEEK=17&CATEGORY=&POSITION=*&DISPLAY=points&TEAM=*&PRINTER=1"},{"$f":"INDEX(BC3:BC67,HAL!D12)","v":""}]
[{"$f":"IF(E4=\"\",\"\",GetAddress(E4))","v":""},{"$f":"IF(E4=\"\",\"\",GetAddress(E4))","v":""},null,null,null,null,null,null,null,null,null,null,null,null,null,null,null,null,null,null,null,null,null,null,null,null,null,null,null,null,null,null,null,null,null,null,null,null,null,null,null,null,null,null,null,null,null,null,null,null,null,null,{"$f":"CONCATENATE(\"http://football99.myfantasyleague.com/\",HAL!C8,\"/top?L=\",HAL!D11,\"&SEARCHTYPE=BASIC&COUNT=500&YEAR=\",(HAL!C8-1),\"&START_WEEK=1&END_WEEK=17&CATEGORY=\",BC1,\"&POSITION=*&DISPLAY=points&TEAM=*&PRINTER=1\")","v":"http://football99.myfantasyleague.com//top?L=&SEARCHTYPE=BASIC&COUNT=500&YEAR=-1&START_WEEK=1&END_WEEK=17&CATEGORY=&POSITION=*&DISPLAY=points&TEAM=*&PRINTER=1"},{"$f":"BB3","v":"http://football99.myfantasyleague.com//options?L=&O=120"},{"$f":"INDEX(BC3:BC67,HAL!D12)","v":""}]
[{"$f":"IF(E5=\"\",\"\",GetAddress(E5))","v":""},{"$f":"IF(E5=\"\",\"\",GetAddress(E5))","v":""},null,null,null,null,null,null,null,null,null,null,null,null,null,null,null,null,null,null,null,null,null,null,null,null,null,null,null,null,null,null,null,null,null,null,null,null,null,null,null,null,null,null,null,null,null,null,null,null,null,null,null,{"$f":"CONCATENATE(\"http://football99.myfantasyleague.com/\",HAL!C8,\"/options?L=\", HAL!D11, \"&O=120\")","v":"http://football99.myfantasyleague.com//options?L=&O=120"},{"$f":"CB3","v":""},null,null,null,null,null,null,null,null,null,null,null,null,null,null,null,null,null,null,null,null,null,null,null,{"$f":"IF(BD3=\"Franchise\",\"\",IF(BD3=\"\",\"\",GetAddress(BD3)))","v":""},{"$f":"IF(BD3=\"Franchise\",\"\",LEFT(RIGHT(CA3,19),4))","v":""}]
[{"$f":"IF(E6=\"\",\"\",GetAddress(E6))","v":""},{"$f":"IF(E6=\"\",\"\",GetAddress(E6))","v":""},null,null,null,null,null,null,null,null,null,null,null,null,null,null,null,null,null,null,null,null,null,null,null,null,null,null,null,null,null,null,null,null,null,null,null,null,null,null,null,null,null,null,null,null,null,null,null,null,null,null,null,{"$f":"CONCATENATE(\"http://football99.myfantasyleague.com/\",HAL!C8,\"/options?L=\",HAL!D11,\"&O=101&PRINTER=1\")","v":"http://football99.myfantasyleague.com//options?L=&O=101&PRINTER=1"},{"$f":"CB4","v":""},null,null,null,null,null,null,null,null,null,null,null,null,null,null,null,null,null,null,null,null,null,null,null,{"$f":"IF(BD4=\"\",\"\",GetAddress(BD4))","v":""},{"$f":"LEFT(RIGHT(CA4,19),4)","v":""}]
[{"$f":"IF(E7=\"\",\"\",GetAddress(E7))","v":""},{"$f":"IF(E7=\"\",\"\",GetAddress(E7))","v":""},null,null,null,null,null,null,null,null,null,null,null,null,null,null,null,null,null,null,null,null,null,null,null,null,null,null,null,null,null,null,null,null,null,null,null,null,null,null,null,null,null,null,null,null,null,null,null,null,null,null,null,null,"",null,null,null,null,null,null,null,null,null,null,null,null,null,null,null,null,null,null,null,null,null,null,null,{"$f":"IF(BD5=\"\",\"\",GetAddress(BD5))","v":""},""]
[{"$f":"IF(E8=\"\",\"\",GetAddress(E8))","v":""},{"$f":"IF(E8=\"\",\"\",GetAddress(E8))","v":""},null,null,null,null,null,null,null,null,null,null,null,null,null,null,null,null,null,null,null,null,null,null,null,null,null,null,null,null,null,null,null,null,null,null,null,null,null,null,null,null,null,null,null,null,null,null,null,null,null,null,null,null,"",null,null,null,null,null,null,null,null,null,null,null,null,null,null,null,null,null,null,null,null,null,null,null,{"$f":"IF(BD6=\"\",\"\",GetAddress(BD6))","v":""},""]
[{"$f":"IF(E9=\"\",\"\",GetAddress(E9))","v":""},{"$f":"IF(E9=\"\",\"\",GetAddress(E9))","v":""},null,null,null,null,null,null,null,null,null,null,null,null,null,null,null,null,null,null,null,null,null,null,null,null,null,null,null,null,null,null,null,null,null,null,null,null,null,null,null,null,null,null,null,null,null,null,null,null,null,null,null,null,"",null,null,null,null,null,null,null,null,null,null,null,null,null,null,null,null,null,null,null,null,null,null,null,{"$f":"IF(BD7=\"\",\"\",GetAddress(BD7))","v":""},""]
[{"$f":"IF(E10=\"\",\"\",GetAddress(E10))","v":""},{"$f":"IF(E10=\"\",\"\",GetAddress(E10))","v":""},null,null,null,null,null,null,null,null,null,null,null,null,null,null,null,null,null,null,null,null,null,null,null,null,null,null,null,null,null,null,null,null,null,null,null,null,null,null,null,null,null,null,null,null,null,null,null,null,null,null,null,null,"",null,null,null,null,null,null,null,null,null,null,null,null,null,null,null,null,null,null,null,null,null,null,null,{"$f":"IF(BD8=\"\",\"\",GetAddress(BD8))","v":""},""]
[{"$f":"IF(E11=\"\",\"\",GetAddress(E11))","v":""},{"$f":"IF(E11=\"\",\"\",GetAddress(E11))","v":""},null,null,null,null,null,null,null,null,null,null,null,null,null,null,null,null,null,null,null,null,null,null,null,null,null,null,null,null,null,null,null,null,null,null,null,null,null,null,null,null,null,null,null,null,null,null,null,null,null,null,null,null,"",null,null,null,null,null,null,null,null,null,null,null,null,null,null,null,null,null,null,null,null,null,null,null,{"$f":"IF(BD9=\"\",\"\",GetAddress(BD9))","v":""},""]
[{"$f":"IF(E12=\"\",\"\",GetAddress(E12))","v":""},{"$f":"IF(E12=\"\",\"\",GetAddress(E12))","v":""},null,null,null,null,null,null,null,null,null,null,null,null,null,null,null,null,null,null,null,null,null,null,null,null,null,null,null,null,null,null,null,null,null,null,null,null,null,null,null,null,null,null,null,null,null,null,null,null,null,null,null,null,"",null,null,null,null,null,null,null,null,null,null,null,null,null,null,null,null,null,null,null,null,null,null,null,{"$f":"IF(BD10=\"\",\"\",GetAddress(BD10))","v":""},""]
[{"$f":"IF(E13=\"\",\"\",GetAddress(E13))","v":""},{"$f":"IF(E13=\"\",\"\",GetAddress(E13))","v":""},null,null,null,null,null,null,null,null,null,null,null,null,null,null,null,null,null,null,null,null,null,null,null,null,null,null,null,null,null,null,null,null,null,null,null,null,null,null,null,null,null,null,null,null,null,null,null,null,null,null,null,null,"",null,null,null,null,null,null,null,null,null,null,null,null,null,null,null,null,null,null,null,null,null,null,null,{"$f":"IF(BD11=\"\",\"\",GetAddress(BD11))","v":""},""]
[{"$f":"IF(E14=\"\",\"\",GetAddress(E14))","v":""},{"$f":"IF(E14=\"\",\"\",GetAddress(E14))","v":""},null,null,null,null,null,null,null,null,null,null,null,null,null,null,null,null,null,null,null,null,null,null,null,null,null,null,null,null,null,null,null,null,null,null,null,null,null,null,null,null,null,null,null,null,null,null,null,null,null,null,null,null,"",null,null,null,null,null,null,null,null,null,null,null,null,null,null,null,null,null,null,null,null,null,null,null,{"$f":"IF(BD12=\"\",\"\",GetAddress(BD12))","v":""},""]
[{"$f":"IF(E15=\"\",\"\",GetAddress(E15))","v":""},{"$f":"IF(E15=\"\",\"\",GetAddress(E15))","v":""},null,null,null,null,null,null,null,null,null,null,null,null,null,null,null,null,null,null,null,null,null,null,null,null,null,null,null,null,null,null,null,null,null,null,null,null,null,null,null,null,null,null,null,null,null,null,null,null,null,null,null,null,"",null,null,null,null,null,null,null,null,null,null,null,null,null,null,null,null,null,null,null,null,null,null,null,{"$f":"IF(BD13=\"\",\"\",GetAddress(BD13))","v":""},{"$f":"LEFT(RIGHT(CA13,19),4)","v":""}]
[{"$f":"IF(E16=\"\",\"\",GetAddress(E16))","v":""},{"$f":"IF(E16=\"\",\"\",GetAddress(E16))","v":""},null,null,null,null,null,null,null,null,null,null,null,null,null,null,null,null,null,null,null,null,null,null,null,null,null,null,null,null,null,null,null,null,null,null,null,null,null,null,null,null,null,null,null,null,null,null,null,null,null,null,null,null,"",null,null,null,null,null,null,null,null,null,null,null,null,null,null,null,null,null,null,null,null,null,null,null,{"$f":"IF(BD14=\"\",\"\",GetAddress(BD14))","v":""},{"$f":"LEFT(RIGHT(CA14,19),4)","v":""}]
[{"$f":"IF(E17=\"\",\"\",GetAddress(E17))","v":""},{"$f":"IF(E17=\"\",\"\",GetAddress(E17))","v":""},null,null,null,null,null,null,null,null,null,null,null,null,null,null,null,null,null,null,null,null,null,null,null,null,null,null,null,null,null,null,null,null,null,null,null,null,null,null,null,null,null,null,null,null,null,null,null,null,null,null,null,null,"",null,null,null,null,null,null,null,null,null,null,null,null,null,null,null,null,null,null,null,null,null,null,null,{"$f":"IF(BD15=\"\",\"\",GetAddress(BD15))","v":""},""]
[{"$f":"IF(E18=\"\",\"\",GetAddress(E18))","v":""},{"$f":"IF(E18=\"\",\"\",GetAddress(E18))","v":""},null,null,null,null,null,null,null,null,null,null,null,null,null,null,null,null,null,null,null,null,null,null,null,null,null,null,null,null,null,null,null,null,null,null,null,null,null,null,null,null,null,null,null,null,null,null,null,null,null,null,null,null,"",null,null,null,null,null,null,null,null,null,null,null,null,null,null,null,null,null,null,null,null,null,null,null,{"$f":"IF(BD16=\"\",\"\",GetAddress(BD16))","v":""},""]
[{"$f":"IF(E19=\"\",\"\",GetAddress(E19))","v":""},{"$f":"IF(E19=\"\",\"\",GetAddress(E19))","v":""},null,null,null,null,null,null,null,null,null,null,null,null,null,null,null,null,null,null,null,null,null,null,null,null,null,null,null,null,null,null,null,null,null,null,null,null,null,null,null,null,null,null,null,null,null,null,null,null,null,null,null,null,"",null,null,null,null,null,null,null,null,null,null,null,null,null,null,null,null,null,null,null,null,null,null,null,{"$f":"IF(BD17=\"\",\"\",GetAddress(BD17))","v":""},""]
[{"$f":"IF(E20=\"\",\"\",GetAddress(E20))","v":""},{"$f":"IF(E20=\"\",\"\",GetAddress(E20))","v":""},null,null,null,null,null,null,null,null,null,null,null,null,null,null,null,null,null,null,null,null,null,null,null,null,null,null,null,null,null,null,null,null,null,null,null,null,null,null,null,null,null,null,null,null,null,null,null,null,null,null,null,null,"",null,null,null,null,null,null,null,null,null,null,null,null,null,null,null,null,null,null,null,null,null,null,null,{"$f":"IF(BD18=\"\",\"\",GetAddress(BD18))","v":""},""]
[{"$f":"IF(E21=\"\",\"\",GetAddress(E21))","v":""},{"$f":"IF(E21=\"\",\"\",GetAddress(E21))","v":""},null,null,null,null,null,null,null,null,null,null,null,null,null,null,null,null,null,null,null,null,null,null,null,null,null,null,null,null,null,null,null,null,null,null,null,null,null,null,null,null,null,null,null,null,null,null,null,null,null,null,null,null,"",null,null,null,null,null,null,null,null,null,null,null,null,null,null,null,null,null,null,null,null,null,null,null,{"$f":"IF(BD19=\"\",\"\",GetAddress(BD19))","v":""},""]
[{"$f":"IF(E22=\"\",\"\",GetAddress(E22))","v":""},{"$f":"IF(E22=\"\",\"\",GetAddress(E22))","v":""},null,null,null,null,null,null,null,null,null,null,null,null,null,null,null,null,null,null,null,null,null,null,null,null,null,null,null,null,null,null,null,null,null,null,null,null,null,null,null,null,null,null,null,null,null,null,null,null,null,null,null,null,"",null,null,null,null,null,null,null,null,null,null,null,null,null,null,null,null,null,null,null,null,null,null,null,{"$f":"IF(BD20=\"\",\"\",GetAddress(BD20))","v":""},""]
[{"$f":"IF(E23=\"\",\"\",GetAddress(E23))","v":""},{"$f":"IF(E23=\"\",\"\",GetAddress(E23))","v":""},null,null,null,null,null,null,null,null,null,null,null,null,null,null,null,null,null,null,null,null,null,null,null,null,null,null,null,null,null,null,null,null,null,null,null,null,null,null,null,null,null,null,null,null,null,null,null,null,null,null,null,null,"",null,null,null,null,null,null,null,null,null,null,null,null,null,null,null,null,null,null,null,null,null,null,null,{"$f":"IF(BD21=\"\",\"\",GetAddress(BD21))","v":""},""]
[{"$f":"IF(E24=\"\",\"\",GetAddress(E24))","v":""},{"$f":"IF(E24=\"\",\"\",GetAddress(E24))","v":""},null,null,null,null,null,null,null,null,null,null,null,null,null,null,null,null,null,null,null,null,null,null,null,null,null,null,null,null,null,null,null,null,null,null,null,null,null,null,null,null,null,null,null,null,null,null,null,null,null,null,null,null,"",null,null,null,null,null,null,null,null,null,null,null,null,null,null,null,null,null,null,null,null,null,null,null,{"$f":"IF(BD22=\"\",\"\",GetAddress(BD22))","v":""},""]
[{"$f":"IF(E25=\"\",\"\",GetAddress(E25))","v":""},{"$f":"IF(E25=\"\",\"\",GetAddress(E25))","v":""},null,null,null,null,null,null,null,null,null,null,null,null,null,null,null,null,null,null,null,null,null,null,null,null,null,null,null,null,null,null,null,null,null,null,null,null,null,null,null,null,null,null,null,null,null,null,null,null,null,null,null,null,"",null,null,null,null,null,null,null,null,null,null,null,null,null,null,null,null,null,null,null,null,null,null,null,{"$f":"IF(BD23=\"\",\"\",GetAddress(BD23))","v":""},""]
[{"$f":"IF(E26=\"\",\"\",GetAddress(E26))","v":""},{"$f":"IF(E26=\"\",\"\",GetAddress(E26))","v":""},null,null,null,null,null,null,null,null,null,null,null,null,null,null,null,null,null,null,null,null,null,null,null,null,null,null,null,{"$f":"VALUE(IF(ISNUMBER(SEARCH(\"(P)\",Y24)),\"1\", \"0\"))","v":0},{"$f":"VALUE(IF(ISNUMBER(SEARCH(\"(Q)\",Y24)),\"1\", \"0\"))","v":0},{"$f":"VALUE(IF(ISNUMBER(SEARCH(\"(O)\",Y24)),\"1\", \"0\"))","v":0},{"$f":"VALUE(IF(ISNUMBER(SEARCH(\"(S)\",Y24)),\"1\", \"0\"))","v":0},{"$f":"VALUE(IF(ISNUMBER(SEARCH(\"Free Agent\",Y24)),\"1\", \"0\"))","v":0},{"$f":"IF(SUM(AD24:AH24)=0,Y24,LEFT(Y24,LEN(Y24)-4))","v":0},{"$f":"IF(AI24=\"Free A\",\"\",AI24)","v":0},{"$f":"IF(AJ24=0,\"\",AJ24)","v":""},{"$f":"IF(AK24=\"Free Agent\",\"\",AK24)","v":""},{"$f":"INDEX($AL$3:$AL$1500, MATCH(0, IF(ISBLANK($AL$3:$AL$1500), 1, COUNTIF(AM$3:AM23, $AL$3:$AL$1500)), 0))","v":{"$error":"#N/A"}},{"$f":"IF(ISERROR(AM24),\"\",AM24)","v":""},null,null,null,null,null,null,null,null,null,null,null,null,null,null,"",null,null,null,null,null,null,null,null,null,null,null,null,null,null,null,null,null,null,null,null,null,null,null,{"$f":"IF(BD24=\"\",\"\",GetAddress(BD24))","v":""},""]
[{"$f":"IF(E27=\"\",\"\",GetAddress(E27))","v":""},{"$f":"IF(E27=\"\",\"\",GetAddress(E27))","v":""},null,null,null,null,null,null,null,null,null,null,null,null,null,null,null,null,null,null,null,null,null,null,null,null,null,null,null,0,0,0,0,0,0,0,"","",{"$f":"INDEX($AL$3:$AL$1500, MATCH(0, IF(ISBLANK($AL$3:$AL$1500), 1, COUNTIF(AM$3:AM24, $AL$3:$AL$1500)), 0))","v":{"$error":"#N/A"}},"",null,null,null,null,null,null,null,null,null,null,null,null,null,null,"",null,null,null,null,null,null,null,null,null,null,null,null,null,null,null,null,null,null,null,null,null,null,null,{"$f":"IF(BD25=\"\",\"\",GetAddress(BD25))","v":""},""]
[{"$f":"IF(E28=\"\",\"\",GetAddress(E28))","v":""},{"$f":"IF(E28=\"\",\"\",GetAddress(E28))","v":""},null,null,null,null,null,null,null,null,null,null,null,null,null,null,null,null,null,null,null,null,null,null,null,null,null,null,null,0,0,0,0,0,0,0,"","",{"$f":"INDEX($AL$3:$AL$1500, MATCH(0, IF(ISBLANK($AL$3:$AL$1500), 1, COUNTIF(AM$3:AM25, $AL$3:$AL$1500)), 0))","v":{"$error":"#N/A"}},"",null,null,null,null,null,null,null,null,null,null,null,null,null,null,"",null,null,null,null,null,null,null,null,null,null,null,null,null,null,null,null,null,null,null,null,null,null,null,{"$f":"IF(BD26=\"\",\"\",GetAddress(BD26))","v":""},""]
[{"$f":"IF(E29=\"\",\"\",GetAddress(E29))","v":""},{"$f":"IF(E29=\"\",\"\",GetAddress(E29))","v":""},null,null,null,null,null,null,null,null,null,null,null,null,null,null,null,null,null,null,null,null,null,null,null,null,null,null,null,0,0,0,0,0,0,0,"","",{"$f":"INDEX($AL$3:$AL$1500, MATCH(0, IF(ISBLANK($AL$3:$AL$1500), 1, COUNTIF(AM$3:AM26, $AL$3:$AL$1500)), 0))","v":{"$error":"#N/A"}},"",null,null,null,null,null,null,null,null,null,null,null,null,null,null,"",null,null,null,null,null,null,null,null,null,null,null,null,null,null,null,null,null,null,null,null,null,null,null,{"$f":"IF(BD27=\"\",\"\",GetAddress(BD27))","v":""},""]
[{"$f":"IF(E30=\"\",\"\",GetAddress(E30))","v":""},{"$f":"IF(E30=\"\",\"\",GetAddress(E30))","v":""},null,null,null,null,null,null,null,null,null,null,null,null,null,null,null,null,null,null,null,null,null,null,null,null,null,null,null,0,0,0,0,0,0,0,"","",{"$f":"INDEX($AL$3:$AL$1500, MATCH(0, IF(ISBLANK($AL$3:$AL$1500), 1, COUNTIF(AM$3:AM27, $AL$3:$AL$1500)), 0))","v":{"$error":"#N/A"}},"",null,null,null,null,null,null,null,null,null,null,null,null,null,null,"",null,null,null,null,null,null,null,null,null,null,null,null,null,null,null,null,null,null,null,null,null,null,null,{"$f":"IF(BD28=\"\",\"\",GetAddress(BD28))","v":""},""]
[{"$f":"IF(E31=\"\",\"\",GetAddress(E31))","v":""},{"$f":"IF(E31=\"\",\"\",GetAddress(E31))","v":""},null,null,null,null,null,null,null,null,null,null,null,null,null,null,null,null,null,null,null,null,null,null,null,null,null,null,null,0,0,0,0,0,0,0,"","",{"$f":"INDEX($AL$3:$AL$1500, MATCH(0, IF(ISBLANK($AL$3:$AL$1500), 1, COUNTIF(AM$3:AM28, $AL$3:$AL$1500)), 0))","v":{"$error":"#N/A"}},"",null,null,null,null,null,null,null,null,null,null,null,null,null,null,"",null,null,null,null,null,null,null,null,null,null,null,null,null,null,null,null,null,null,null,null,null,null,null,{"$f":"IF(BD29=\"\",\"\",GetAddress(BD29))","v":""},""]
[{"$f":"IF(E32=\"\",\"\",GetAddress(E32))","v":""},{"$f":"IF(E32=\"\",\"\",GetAddress(E32))","v":""},null,null,null,null,null,null,null,null,null,null,null,null,null,null,null,null,null,null,null,null,null,null,null,null,null,null,null,0,0,0,0,0,0,{"$f":"IF(AI30=\"Free A\",\"\",AI30)","v":0},"","",{"$f":"INDEX($AL$3:$AL$1500, MATCH(0, IF(ISBLANK($AL$3:$AL$1500), 1, COUNTIF(AM$3:AM29, $AL$3:$AL$1500)), 0))","v":{"$error":"#N/A"}},"",null,null,null,null,null,null,null,null,null,null,null,null,null,null,"",null,null,null,null,null,null,null,null,null,null,null,null,null,null,null,null,null,null,null,null,null,null,null,{"$f":"IF(BD30=\"\",\"\",GetAddress(BD30))","v":""},""]
[{"$f":"IF(E33=\"\",\"\",GetAddress(E33))","v":""},{"$f":"IF(E33=\"\",\"\",GetAddress(E33))","v":""},null,null,null,null,null,null,null,null,null,null,null,null,null,null,null,null,null,null,null,null,null,null,null,null,null,null,null,0,0,0,0,0,0,0,"","",{"$f":"INDEX($AL$3:$AL$1500, MATCH(0, IF(ISBLANK($AL$3:$AL$1500), 1, COUNTIF(AM$3:AM30, $AL$3:$AL$1500)), 0))","v":{"$error":"#N/A"}},"",null,null,null,null,null,null,null,null,null,null,null,null,null,null,"",null,null,null,null,null,null,null,null,null,null,null,null,null,null,null,null,null,null,null,null,null,null,null,{"$f":"IF(BD31=\"\",\"\",GetAddress(BD31))","v":""},""]
[{"$f":"IF(E34=\"\",\"\",GetAddress(E34))","v":""},{"$f":"IF(E34=\"\",\"\",GetAddress(E34))","v":""},null,null,null,null,null,null,null,null,null,null,null,null,null,null,null,null,null,null,null,null,null,null,null,null,null,null,null,0,0,0,0,0,0,0,"","",{"$f":"INDEX($AL$3:$AL$1500, MATCH(0, IF(ISBLANK($AL$3:$AL$1500), 1, COUNTIF(AM$3:AM31, $AL$3:$AL$1500)), 0))","v":{"$error":"#N/A"}},"",null,null,null,null,null,null,null,null,null,null,null,null,null,null,"",null,null,null,null,null,null,null,null,null,null,null,null,null,null,null,null,null,null,null,null,null,null,null,{"$f":"IF(BD32=\"\",\"\",GetAddress(BD32))","v":""},""]
[{"$f":"IF(E35=\"\",\"\",GetAddress(E35))","v":""},{"$f":"IF(E35=\"\",\"\",GetAddress(E35))","v":""},null,null,null,null,null,null,null,null,null,null,null,null,null,null,null,null,null,null,null,null,null,null,null,null,null,null,null,0,0,0,0,0,0,0,"","",{"$f":"INDEX($AL$3:$AL$1500, MATCH(0, IF(ISBLANK($AL$3:$AL$1500), 1, COUNTIF(AM$3:AM32, $AL$3:$AL$1500)), 0))","v":{"$error":"#N/A"}},"",null,null,null,null,null,null,null,null,null,null,null,null,null,null,"",null,null,null,null,null,null,null,null,null,null,null,null,null,null,null,null,null,null,null,null,null,null,null,{"$f":"IF(BD33=\"\",\"\",GetAddress(BD33))","v":""},""]
[{"$f":"IF(E36=\"\",\"\",GetAddress(E36))","v":""},{"$f":"IF(E36=\"\",\"\",GetAddress(E36))","v":""},null,null,null,null,null,null,null,null,null,null,null,null,null,null,null,null,null,null,null,null,null,null,null,null,null,null,null,0,0,0,0,0,0,0,"","",{"$f":"INDEX($AL$3:$AL$1500, MATCH(0, IF(ISBLANK($AL$3:$AL$1500), 1, COUNTIF(AM$3:AM33, $AL$3:$AL$1500)), 0))","v":{"$error":"#N/A"}},"",null,null,null,null,null,null,null,null,null,null,null,null,null,null,"",null,null,null,null,null,null,null,null,null,null,null,null,null,null,null,null,null,null,null,null,null,null,null,{"$f":"IF(BD34=\"\",\"\",GetAddress(BD34))","v":""},""]
[{"$f":"IF(E37=\"\",\"\",GetAddress(E37))","v":""},{"$f":"IF(E37=\"\",\"\",GetAddress(E37))","v":""},null,null,null,null,null,null,null,null,null,null,null,null,null,null,null,null,null,null,null,null,null,null,null,null,null,null,null,0,0,0,0,0,0,0,"","",{"$f":"INDEX($AL$3:$AL$1500, MATCH(0, IF(ISBLANK($AL$3:$AL$1500), 1, COUNTIF(AM$3:AM34, $AL$3:$AL$1500)), 0))","v":{"$error":"#N/A"}},"",null,null,null,null,null,null,null,null,null,null,null,null,null,null,"",null,null,null,null,null,null,null,null,null,null,null,null,null,null,null,null,null,null,null,null,null,null,null,{"$f":"IF(BD35=\"\",\"\",GetAddress(BD35))","v":""},""]
[{"$f":"IF(E38=\"\",\"\",GetAddress(E38))","v":""},{"$f":"IF(E38=\"\",\"\",GetAddress(E38))","v":""},null,null,null,null,null,null,null,null,null,null,null,null,null,null,null,null,null,null,null,null,null,null,null,null,null,null,null,0,0,0,0,0,0,0,"","",{"$f":"INDEX($AL$3:$AL$1500, MATCH(0, IF(ISBLANK($AL$3:$AL$1500), 1, COUNTIF(AM$3:AM35, $AL$3:$AL$1500)), 0))","v":{"$error":"#N/A"}},"",null,null,null,null,null,null,null,null,null,null,null,null,null,null,"",null,null,null,null,null,null,null,null,null,null,null,null,null,null,null,null,null,null,null,null,null,null,null,{"$f":"IF(BD36=\"\",\"\",GetAddress(BD36))","v":""},""]
[{"$f":"IF(E39=\"\",\"\",GetAddress(E39))","v":""},{"$f":"IF(E39=\"\",\"\",GetAddress(E39))","v":""},null,null,null,null,null,null,null,null,null,null,null,null,null,null,null,null,null,null,null,null,null,null,null,null,null,null,null,0,0,0,0,0,0,0,"","",{"$f":"INDEX($AL$3:$AL$1500, MATCH(0, IF(ISBLANK($AL$3:$AL$1500), 1, COUNTIF(AM$3:AM36, $AL$3:$AL$1500)), 0))","v":{"$error":"#N/A"}},"",null,null,null,null,null,null,null,null,null,null,null,null,null,null,"",null,null,null,null,null,null,null,null,null,null,null,null,null,null,null,null,null,null,null,null,null,null,null,{"$f":"IF(BD37=\"\",\"\",GetAddress(BD37))","v":""},""]
[{"$f":"IF(E40=\"\",\"\",GetAddress(E40))","v":""},{"$f":"IF(E40=\"\",\"\",GetAddress(E40))","v":""},null,null,null,null,null,null,null,null,null,null,null,null,null,null,null,null,null,null,null,null,null,null,null,null,null,null,null,0,0,0,0,0,0,0,"","",{"$f":"INDEX($AL$3:$AL$1500, MATCH(0, IF(ISBLANK($AL$3:$AL$1500), 1, COUNTIF(AM$3:AM37, $AL$3:$AL$1500)), 0))","v":{"$error":"#N/A"}},"",null,null,null,null,null,null,null,null,null,null,null,null,null,null,"",null,null,null,null,null,null,null,null,null,null,null,null,null,null,null,null,null,null,null,null,null,null,null,{"$f":"IF(BD38=\"\",\"\",GetAddress(BD38))","v":""},""]
[{"$f":"IF(E41=\"\",\"\",GetAddress(E41))","v":""},{"$f":"IF(E41=\"\",\"\",GetAddress(E41))","v":""},null,null,null,null,null,null,null,null,null,null,null,null,null,null,null,null,null,null,null,null,null,null,null,null,null,null,null,0,0,0,0,0,0,0,"","",{"$f":"INDEX($AL$3:$AL$1500, MATCH(0, IF(ISBLANK($AL$3:$AL$1500), 1, COUNTIF(AM$3:AM38, $AL$3:$AL$1500)), 0))","v":{"$error":"#N/A"}},"",null,null,null,null,null,null,null,null,null,null,null,null,null,null,"",null,null,null,null,null,null,null,null,null,null,null,null,null,null,null,null,null,null,null,null,null,null,null,{"$f":"IF(BD39=\"\",\"\",GetAddress(BD39))","v":""},""]
[{"$f":"IF(E42=\"\",\"\",GetAddress(E42))","v":""},{"$f":"IF(E42=\"\",\"\",GetAddress(E42))","v":""},null,null,null,null,null,null,null,null,null,null,null,null,null,null,null,null,null,null,null,null,null,null,null,null,null,null,null,0,0,0,0,0,0,0,"","",{"$f":"INDEX($AL$3:$AL$1500, MATCH(0, IF(ISBLANK($AL$3:$AL$1500), 1, COUNTIF(AM$3:AM39, $AL$3:$AL$1500)), 0))","v":{"$error":"#N/A"}},"",null,null,null,null,null,null,null,null,null,null,null,null,null,null,"",null,null,null,null,null,null,null,null,null,null,null,null,null,null,null,null,null,null,null,null,null,null,null,{"$f":"IF(BD40=\"\",\"\",GetAddress(BD40))","v":""},""]
[{"$f":"IF(E43=\"\",\"\",GetAddress(E43))","v":""},{"$f":"IF(E43=\"\",\"\",GetAddress(E43))","v":""},null,null,null,null,null,null,null,null,null,null,null,null,null,null,null,null,null,null,null,null,null,null,null,null,null,null,null,0,0,0,0,0,0,0,"","",{"$f":"INDEX($AL$3:$AL$1500, MATCH(0, IF(ISBLANK($AL$3:$AL$1500), 1, COUNTIF(AM$3:AM40, $AL$3:$AL$1500)), 0))","v":{"$error":"#N/A"}},"",null,null,null,null,null,null,null,null,null,null,null,null,null,null,"",null,null,null,null,null,null,null,null,null,null,null,null,null,null,null,null,null,null,null,null,null,null,null,{"$f":"IF(BD41=\"\",\"\",GetAddress(BD41))","v":""},""]
[{"$f":"IF(E44=\"\",\"\",GetAddress(E44))","v":""},{"$f":"IF(E44=\"\",\"\",GetAddress(E44))","v":""},null,null,null,null,null,null,null,null,null,null,null,null,null,null,null,null,null,null,null,null,null,null,null,null,null,null,null,0,0,0,0,0,0,0,"","",{"$f":"INDEX($AL$3:$AL$1500, MATCH(0, IF(ISBLANK($AL$3:$AL$1500), 1, COUNTIF(AM$3:AM41, $AL$3:$AL$1500)), 0))","v":{"$error":"#N/A"}},"",null,null,null,null,null,null,null,null,null,null,null,null,null,null,"",null,null,null,null,null,null,null,null,null,null,null,null,null,null,null,null,null,null,null,null,null,null,null,{"$f":"IF(BD42=\"\",\"\",GetAddress(BD42))","v":""},""]
[{"$f":"IF(E45=\"\",\"\",GetAddress(E45))","v":""},{"$f":"IF(E45=\"\",\"\",GetAddress(E45))","v":""},null,null,null,null,null,null,null,null,null,null,null,null,null,null,null,null,null,null,null,null,null,null,null,null,null,null,null,0,0,0,0,0,0,0,"","",{"$f":"INDEX($AL$3:$AL$1500, MATCH(0, IF(ISBLANK($AL$3:$AL$1500), 1, COUNTIF(AM$3:AM42, $AL$3:$AL$1500)), 0))","v":{"$error":"#N/A"}},"",null,null,null,null,null,null,null,null,null,null,null,null,null,null,"",null,null,null,null,null,null,null,null,null,null,null,null,null,null,null,null,null,null,null,null,null,null,null,{"$f":"IF(BD43=\"\",\"\",GetAddress(BD43))","v":""},""]
[{"$f":"IF(E46=\"\",\"\",GetAddress(E46))","v":""},{"$f":"IF(E46=\"\",\"\",GetAddress(E46))","v":""},null,null,null,null,null,null,null,null,null,null,null,null,null,null,null,null,null,null,null,null,null,null,null,null,null,null,null,0,0,0,0,0,0,0,"","",{"$f":"INDEX($AL$3:$AL$1500, MATCH(0, IF(ISBLANK($AL$3:$AL$1500), 1, COUNTIF(AM$3:AM43, $AL$3:$AL$1500)), 0))","v":{"$error":"#N/A"}},"",null,null,null,null,null,null,null,null,null,null,null,null,null,null,"",null,null,null,null,null,null,null,null,null,null,null,null,null,null,null,null,null,null,null,null,null,null,null,{"$f":"IF(BD44=\"\",\"\",GetAddress(BD44))","v":""},""]
[{"$f":"IF(E47=\"\",\"\",GetAddress(E47))","v":""},{"$f":"IF(E47=\"\",\"\",GetAddress(E47))","v":""},null,null,null,null,null,null,null,null,null,null,null,null,null,null,null,null,null,null,null,null,null,null,null,null,null,null,null,0,0,0,0,0,0,0,"","",{"$f":"INDEX($AL$3:$AL$1500, MATCH(0, IF(ISBLANK($AL$3:$AL$1500), 1, COUNTIF(AM$3:AM44, $AL$3:$AL$1500)), 0))","v":{"$error":"#N/A"}},"",null,null,null,null,null,null,null,null,null,null,null,null,null,null,"",null,null,null,null,null,null,null,null,null,null,null,null,null,null,null,null,null,null,null,null,null,null,null,{"$f":"IF(BD45=\"\",\"\",GetAddress(BD45))","v":""},""]
[{"$f":"IF(E48=\"\",\"\",GetAddress(E48))","v":""},{"$f":"IF(E48=\"\",\"\",GetAddress(E48))","v":""},null,null,null,null,null,null,null,null,null,null,null,null,null,null,null,null,null,null,null,null,null,null,null,null,null,null,null,0,0,0,0,0,0,0,"","",{"$f":"INDEX($AL$3:$AL$1500, MATCH(0, IF(ISBLANK($AL$3:$AL$1500), 1, COUNTIF(AM$3:AM45, $AL$3:$AL$1500)), 0))","v":{"$error":"#N/A"}},"",null,null,null,null,null,null,null,null,null,null,null,null,null,null,"",null,null,null,null,null,null,null,null,null,null,null,null,null,null,null,null,null,null,null,null,null,null,null,{"$f":"IF(BD46=\"\",\"\",GetAddress(BD46))","v":""},""]
[{"$f":"IF(E49=\"\",\"\",GetAddress(E49))","v":""},{"$f":"IF(E49=\"\",\"\",GetAddress(E49))","v":""},null,null,null,null,null,null,null,null,null,null,null,null,null,null,null,null,null,null,null,null,null,null,null,null,null,null,null,0,0,0,0,0,0,0,"","",{"$f":"INDEX($AL$3:$AL$1500, MATCH(0, IF(ISBLANK($AL$3:$AL$1500), 1, COUNTIF(AM$3:AM46, $AL$3:$AL$1500)), 0))","v":{"$error":"#N/A"}},"",null,null,null,null,null,null,null,null,null,null,null,null,null,null,"",null,null,null,null,null,null,null,null,null,null,null,null,null,null,null,null,null,null,null,null,null,null,null,{"$f":"IF(BD47=\"\",\"\",GetAddress(BD47))","v":""},""]
[{"$f":"IF(E50=\"\",\"\",GetAddress(E50))","v":""},{"$f":"IF(E50=\"\",\"\",GetAddress(E50))","v":""},null,null,null,null,null,null,null,null,null,null,null,null,null,null,null,null,null,null,null,null,null,null,null,null,null,null,null,0,0,0,0,0,0,0,"","",{"$f":"INDEX($AL$3:$AL$1500, MATCH(0, IF(ISBLANK($AL$3:$AL$1500), 1, COUNTIF(AM$3:AM47, $AL$3:$AL$1500)), 0))","v":{"$error":"#N/A"}},"",null,null,null,null,null,null,null,null,null,null,null,null,null,null,"",null,null,null,null,null,null,null,null,null,null,null,null,null,null,null,null,null,null,null,null,null,null,null,{"$f":"IF(BD48=\"\",\"\",GetAddress(BD48))","v":""},""]
[{"$f":"IF(E51=\"\",\"\",GetAddress(E51))","v":""},{"$f":"IF(E51=\"\",\"\",GetAddress(E51))","v":""},null,null,null,null,null,null,null,null,null,null,null,null,null,null,null,null,null,null,null,null,null,null,null,null,null,null,null,0,0,0,0,0,0,0,"","",{"$f":"INDEX($AL$3:$AL$1500, MATCH(0, IF(ISBLANK($AL$3:$AL$1500), 1, COUNTIF(AM$3:AM48, $AL$3:$AL$1500)), 0))","v":{"$error":"#N/A"}},"",null,null,null,null,null,null,null,null,null,null,null,null,null,null,"",null,null,null,null,null,null,null,null,null,null,null,null,null,null,null,null,null,null,null,null,null,null,null,{"$f":"IF(BD49=\"\",\"\",GetAddress(BD49))","v":""},""]
[{"$f":"IF(E52=\"\",\"\",GetAddress(E52))","v":""},{"$f":"IF(E52=\"\",\"\",GetAddress(E52))","v":""},null,null,null,null,null,null,null,null,null,null,null,null,null,null,null,null,null,null,null,null,null,null,null,null,null,null,null,0,0,0,0,0,0,0,"","",{"$f":"INDEX($AL$3:$AL$1500, MATCH(0, IF(ISBLANK($AL$3:$AL$1500), 1, COUNTIF(AM$3:AM49, $AL$3:$AL$1500)), 0))","v":{"$error":"#N/A"}},"",null,null,null,null,null,null,null,null,null,null,null,null,null,null,"",null,null,null,null,null,null,null,null,null,null,null,null,null,null,null,null,null,null,null,null,null,null,null,{"$f":"IF(BD50=\"\",\"\",GetAddress(BD50))","v":""},""]
[{"$f":"IF(E53=\"\",\"\",GetAddress(E53))","v":""},{"$f":"IF(E53=\"\",\"\",GetAddress(E53))","v":""},null,null,null,null,null,null,null,null,null,null,null,null,null,null,null,null,null,null,null,null,null,null,null,null,null,null,null,0,0,0,0,0,0,0,"","",{"$f":"INDEX($AL$3:$AL$1500, MATCH(0, IF(ISBLANK($AL$3:$AL$1500), 1, COUNTIF(AM$3:AM50, $AL$3:$AL$1500)), 0))","v":{"$error":"#N/A"}},"",null,null,null,null,null,null,null,null,null,null,null,null,null,null,"",null,null,null,null,null,null,null,null,null,null,null,null,null,null,null,null,null,null,null,null,null,null,null,{"$f":"IF(BD51=\"\",\"\",GetAddress(BD51))","v":""},""]
[{"$f":"IF(E54=\"\",\"\",GetAddress(E54))","v":""},{"$f":"IF(E54=\"\",\"\",GetAddress(E54))","v":""},null,null,null,null,null,null,null,null,null,null,null,null,null,null,null,null,null,null,null,null,null,null,null,null,null,null,null,0,0,0,0,0,0,0,"","",{"$f":"INDEX($AL$3:$AL$1500, MATCH(0, IF(ISBLANK($AL$3:$AL$1500), 1, COUNTIF(AM$3:AM51, $AL$3:$AL$1500)), 0))","v":{"$error":"#N/A"}},"",null,null,null,null,null,null,null,null,null,null,null,null,null,null,"",null,null,null,null,null,null,null,null,null,null,null,null,null,null,null,null,null,null,null,null,null,null,null,{"$f":"IF(BD52=\"\",\"\",GetAddress(BD52))","v":""},""]
[{"$f":"IF(E55=\"\",\"\",GetAddress(E55))","v":""},{"$f":"IF(E55=\"\",\"\",GetAddress(E55))","v":""},null,null,null,null,null,null,null,null,null,null,null,null,null,null,null,null,null,null,null,null,null,null,null,null,null,null,null,0,0,0,0,0,0,0,"","",{"$f":"INDEX($AL$3:$AL$1500, MATCH(0, IF(ISBLANK($AL$3:$AL$1500), 1, COUNTIF(AM$3:AM52, $AL$3:$AL$1500)), 0))","v":{"$error":"#N/A"}},"",null,null,null,null,null,null,null,null,null,null,null,null,null,null,"",null,null,null,null,null,null,null,null,null,null,null,null,null,null,null,null,null,null,null,null,null,null,null,{"$f":"IF(BD53=\"\",\"\",GetAddress(BD53))","v":""},""]
[{"$f":"IF(E56=\"\",\"\",GetAddress(E56))","v":""},{"$f":"IF(E56=\"\",\"\",GetAddress(E56))","v":""},null,null,null,null,null,null,null,null,null,null,null,null,null,null,null,null,null,null,null,null,null,null,null,null,null,null,null,0,0,0,0,0,0,0,"","",{"$f":"INDEX($AL$3:$AL$1500, MATCH(0, IF(ISBLANK($AL$3:$AL$1500), 1, COUNTIF(AM$3:AM53, $AL$3:$AL$1500)), 0))","v":{"$error":"#N/A"}},"",null,null,null,null,null,null,null,null,null,null,null,null,null,null,"",null,null,null,null,null,null,null,null,null,null,null,null,null,null,null,null,null,null,null,null,null,null,null,{"$f":"IF(BD54=\"\",\"\",GetAddress(BD54))","v":""},""]
[{"$f":"IF(E57=\"\",\"\",GetAddress(E57))","v":""},{"$f":"IF(E57=\"\",\"\",GetAddress(E57))","v":""},null,null,null,null,null,null,null,null,null,null,null,null,null,null,null,null,null,null,null,null,null,null,null,null,null,null,null,0,0,0,0,0,0,0,"","",{"$f":"INDEX($AL$3:$AL$1500, MATCH(0, IF(ISBLANK($AL$3:$AL$1500), 1, COUNTIF(AM$3:AM54, $AL$3:$AL$1500)), 0))","v":{"$error":"#N/A"}},"",null,null,null,null,null,null,null,null,null,null,null,null,null,null,"",null,null,null,null,null,null,null,null,null,null,null,null,null,null,null,null,null,null,null,null,null,null,null,{"$f":"IF(BD55=\"\",\"\",GetAddress(BD55))","v":""},""]
[{"$f":"IF(E58=\"\",\"\",GetAddress(E58))","v":""},{"$f":"IF(E58=\"\",\"\",GetAddress(E58))","v":""},null,null,null,null,null,null,null,null,null,null,null,null,null,null,null,null,null,null,null,null,null,null,null,null,null,null,null,0,0,0,0,0,0,0,"","",{"$f":"INDEX($AL$3:$AL$1500, MATCH(0, IF(ISBLANK($AL$3:$AL$1500), 1, COUNTIF(AM$3:AM55, $AL$3:$AL$1500)), 0))","v":{"$error":"#N/A"}},"",null,null,null,null,null,null,null,null,null,null,null,null,null,null,"",null,null,null,null,null,null,null,null,null,null,null,null,null,null,null,null,null,null,null,null,null,null,null,{"$f":"IF(BD56=\"\",\"\",GetAddress(BD56))","v":""},""]
[{"$f":"IF(E59=\"\",\"\",GetAddress(E59))","v":""},{"$f":"IF(E59=\"\",\"\",GetAddress(E59))","v":""},null,null,null,null,null,null,null,null,null,null,null,null,null,null,null,null,null,null,null,null,null,null,null,null,null,null,null,0,0,0,0,0,0,0,"","",{"$f":"INDEX($AL$3:$AL$1500, MATCH(0, IF(ISBLANK($AL$3:$AL$1500), 1, COUNTIF(AM$3:AM56, $AL$3:$AL$1500)), 0))","v":{"$error":"#N/A"}},"",null,null,null,null,null,null,null,null,null,null,null,null,null,null,"",null,null,null,null,null,null,null,null,null,null,null,null,null,null,null,null,null,null,null,null,null,null,null,{"$f":"IF(BD57=\"\",\"\",GetAddress(BD57))","v":""},""]
[{"$f":"IF(E60=\"\",\"\",GetAddress(E60))","v":""},{"$f":"IF(E60=\"\",\"\",GetAddress(E60))","v":""},null,null,null,null,null,null,null,null,null,null,null,null,null,null,null,null,null,null,null,null,null,null,null,null,null,null,null,0,0,0,0,0,0,0,"","",{"$f":"INDEX($AL$3:$AL$1500, MATCH(0, IF(ISBLANK($AL$3:$AL$1500), 1, COUNTIF(AM$3:AM57, $AL$3:$AL$1500)), 0))","v":{"$error":"#N/A"}},"",null,null,null,null,null,null,null,null,null,null,null,null,null,null,"",null,null,null,null,null,null,null,null,null,null,null,null,null,null,null,null,null,null,null,null,null,null,null,{"$f":"IF(BD58=\"\",\"\",GetAddress(BD58))","v":""},""]
[{"$f":"IF(E61=\"\",\"\",GetAddress(E61))","v":""},{"$f":"IF(E61=\"\",\"\",GetAddress(E61))","v":""},null,null,null,null,null,null,null,null,null,null,null,null,null,null,null,null,null,null,null,null,null,null,null,null,null,null,null,0,0,0,0,0,0,0,"","",{"$f":"INDEX($AL$3:$AL$1500, MATCH(0, IF(ISBLANK($AL$3:$AL$1500), 1, COUNTIF(AM$3:AM58, $AL$3:$AL$1500)), 0))","v":{"$error":"#N/A"}},"",null,null,null,null,null,null,null,null,null,null,null,null,null,null,"",null,null,null,null,null,null,null,null,null,null,null,null,null,null,null,null,null,null,null,null,null,null,null,{"$f":"IF(BD59=\"\",\"\",GetAddress(BD59))","v":""},""]
[{"$f":"IF(E62=\"\",\"\",GetAddress(E62))","v":""},{"$f":"IF(E62=\"\",\"\",GetAddress(E62))","v":""},null,null,null,null,null,null,null,null,null,null,null,null,null,null,null,null,null,null,null,null,null,null,null,null,null,null,null,0,0,0,0,0,0,0,"","",{"$f":"INDEX($AL$3:$AL$1500, MATCH(0, IF(ISBLANK($AL$3:$AL$1500), 1, COUNTIF(AM$3:AM59, $AL$3:$AL$1500)), 0))","v":{"$error":"#N/A"}},"",null,null,null,null,null,null,null,null,null,null,null,null,null,null,"",null,null,null,null,null,null,null,null,null,null,null,null,null,null,null,null,null,null,null,null,null,null,null,{"$f":"IF(BD60=\"\",\"\",GetAddress(BD60))","v":""},""]
[{"$f":"IF(E63=\"\",\"\",GetAddress(E63))","v":""},{"$f":"IF(E63=\"\",\"\",GetAddress(E63))","v":""},null,null,null,null,null,null,null,null,null,null,null,null,null,null,null,null,null,null,null,null,null,null,null,null,null,null,null,0,0,0,0,0,0,0,"","",{"$f":"INDEX($AL$3:$AL$1500, MATCH(0, IF(ISBLANK($AL$3:$AL$1500), 1, COUNTIF(AM$3:AM60, $AL$3:$AL$1500)), 0))","v":{"$error":"#N/A"}},"",null,null,null,null,null,null,null,null,null,null,null,null,null,null,"",null,null,null,null,null,null,null,null,null,null,null,null,null,null,null,null,null,null,null,null,null,null,null,{"$f":"IF(BD61=\"\",\"\",GetAddress(BD61))","v":""},""]
[{"$f":"IF(E64=\"\",\"\",GetAddress(E64))","v":""},{"$f":"IF(E64=\"\",\"\",GetAddress(E64))","v":""},null,null,null,null,null,null,null,null,null,null,null,null,null,null,null,null,null,null,null,null,null,null,null,null,null,null,null,0,0,0,0,0,0,0,"","",{"$f":"INDEX($AL$3:$AL$1500, MATCH(0, IF(ISBLANK($AL$3:$AL$1500), 1, COUNTIF(AM$3:AM61, $AL$3:$AL$1500)), 0))","v":{"$error":"#N/A"}},"",null,null,null,null,null,null,null,null,null,null,null,null,null,null,"",null,null,null,null,null,null,null,null,null,null,null,null,null,null,null,null,null,null,null,null,null,null,null,{"$f":"IF(BD62=\"\",\"\",GetAddress(BD62))","v":""},""]
[{"$f":"IF(E65=\"\",\"\",GetAddress(E65))","v":""},{"$f":"IF(E65=\"\",\"\",GetAddress(E65))","v":""},null,null,null,null,null,null,null,null,null,null,null,null,null,null,null,null,null,null,null,null,null,null,null,null,null,null,null,0,0,0,0,0,0,0,"","",{"$f":"INDEX($AL$3:$AL$1500, MATCH(0, IF(ISBLANK($AL$3:$AL$1500), 1, COUNTIF(AM$3:AM62, $AL$3:$AL$1500)), 0))","v":{"$error":"#N/A"}},"",null,null,null,null,null,null,null,null,null,null,null,null,null,null,"",null,null,null,null,null,null,null,null,null,null,null,null,null,null,null,null,null,null,null,null,null,null,null,{"$f":"IF(BD63=\"\",\"\",GetAddress(BD63))","v":""},""]
[{"$f":"IF(E66=\"\",\"\",GetAddress(E66))","v":""},{"$f":"IF(E66=\"\",\"\",GetAddress(E66))","v":""},null,null,null,null,null,null,null,null,null,null,null,null,null,null,null,null,null,null,null,null,null,null,null,null,null,null,null,0,0,0,0,0,0,0,"","",{"$f":"INDEX($AL$3:$AL$1500, MATCH(0, IF(ISBLANK($AL$3:$AL$1500), 1, COUNTIF(AM$3:AM63, $AL$3:$AL$1500)), 0))","v":{"$error":"#N/A"}},"",null,null,null,null,null,null,null,null,null,null,null,null,null,null,"",null,null,null,null,null,null,null,null,null,null,null,null,null,null,null,null,null,null,null,null,null,null,null,{"$f":"IF(BD64=\"\",\"\",GetAddress(BD64))","v":""},""]
[{"$f":"IF(E67=\"\",\"\",GetAddress(E67))","v":""},{"$f":"IF(E67=\"\",\"\",GetAddress(E67))","v":""},null,null,null,null,null,null,null,null,null,null,null,null,null,null,null,null,null,null,null,null,null,null,null,null,null,null,null,0,0,0,0,0,0,0,"","",{"$f":"INDEX($AL$3:$AL$1500, MATCH(0, IF(ISBLANK($AL$3:$AL$1500), 1, COUNTIF(AM$3:AM64, $AL$3:$AL$1500)), 0))","v":{"$error":"#N/A"}},"",null,null,null,null,null,null,null,null,null,null,null,null,null,null,"",null,null,null,null,null,null,null,null,null,null,null,null,null,null,null,null,null,null,null,null,null,null,null,{"$f":"IF(BD65=\"\",\"\",GetAddress(BD65))","v":""},""]
[{"$f":"IF(E68=\"\",\"\",GetAddress(E68))","v":""},{"$f":"IF(E68=\"\",\"\",GetAddress(E68))","v":""},null,null,null,null,null,null,null,null,null,null,null,null,null,null,null,null,null,null,null,null,null,null,null,null,null,null,null,0,0,0,0,0,0,0,"","",{"$f":"INDEX($AL$3:$AL$1500, MATCH(0, IF(ISBLANK($AL$3:$AL$1500), 1, COUNTIF(AM$3:AM65, $AL$3:$AL$1500)), 0))","v":{"$error":"#N/A"}},"",null,null,null,null,null,null,null,null,null,null,null,null,null,null,"",null,null,null,null,null,null,null,null,null,null,null,null,null,null,null,null,null,null,null,null,null,null,null,{"$f":"IF(BD66=\"\",\"\",GetAddress(BD66))","v":""},""]
[{"$f":"IF(E69=\"\",\"\",GetAddress(E69))","v":""},{"$f":"IF(E69=\"\",\"\",GetAddress(E69))","v":""},null,null,null,null,null,null,null,null,null,null,null,null,null,null,null,null,null,null,null,null,null,null,null,null,null,null,null,0,0,0,0,0,0,{"$f":"IF(AI67=\"Free A\",\"\",AI67)","v":0},{"$f":"IF(AJ67=0,\"\",AJ67)","v":""},{"$f":"IF(AK67=\"Free Agent\",\"\",AK67)","v":""},{"$f":"INDEX($AL$3:$AL$1500, MATCH(0, IF(ISBLANK($AL$3:$AL$1500), 1, COUNTIF(AM$3:AM66, $AL$3:$AL$1500)), 0))","v":{"$error":"#N/A"}},{"$f":"IF(ISERROR(AM67),\"\",AM67)","v":""},null,null,null,null,null,null,null,null,null,null,null,null,null,null,"",null,null,null,null,null,null,null,null,null,null,null,null,null,null,null,null,null,null,null,null,null,null,null,{"$f":"IF(BD67=\"\",\"\",GetAddress(BD67))","v":""},""]
[{"$f":"IF(E70=\"\",\"\",GetAddress(E70))","v":""},{"$f":"IF(E70=\"\",\"\",GetAddress(E70))","v":""},null,null,null,null,null,null,null,null,null,null,null,null,null,null,null,null,null,null,null,null,null,null,null,null,null,null,null,0,0,0,0,0,0,0,"","",{"$f":"INDEX($AL$3:$AL$1500, MATCH(0, IF(ISBLANK($AL$3:$AL$1500), 1, COUNTIF(AM$3:AM67, $AL$3:$AL$1500)), 0))","v":{"$error":"#N/A"}},""]
[{"$f":"IF(E71=\"\",\"\",GetAddress(E71))","v":""},{"$f":"IF(E71=\"\",\"\",GetAddress(E71))","v":""},null,null,null,null,null,null,null,null,null,null,null,null,null,null,null,null,null,null,null,null,null,null,null,null,null,null,null,{"$f":"VALUE(IF(ISNUMBER(SEARCH(\"(P)\",Y69)),\"1\", \"0\"))","v":0},{"$f":"VALUE(IF(ISNUMBER(SEARCH(\"(Q)\",Y69)),\"1\", \"0\"))","v":0},{"$f":"VALUE(IF(ISNUMBER(SEARCH(\"(O)\",Y69)),\"1\", \"0\"))","v":0},{"$f":"VALUE(IF(ISNUMBER(SEARCH(\"(S)\",Y69)),\"1\", \"0\"))","v":0},{"$f":"VALUE(IF(ISNUMBER(SEARCH(\"Free Agent\",Y69)),\"1\", \"0\"))","v":0},{"$f":"IF(SUM(AD69:AH69)=0,Y69,LEFT(Y69,LEN(Y69)-4))","v":0},0,"","",{"$f":"INDEX($AL$3:$AL$1500, MATCH(0, IF(ISBLANK($AL$3:$AL$1500), 1, COUNTIF(AM$3:AM68, $AL$3:$AL$1500)), 0))","v":{"$error":"#N/A"}},""]
[{"$f":"IF(E72=\"\",\"\",GetAddress(E72))","v":""},{"$f":"IF(E72=\"\",\"\",GetAddress(E72))","v":""},null,null,null,null,null,null,null,null,null,null,null,null,null,null,null,null,null,null,null,null,null,null,null,null,null,null,null,0,0,0,0,0,0,0,"","",{"$f":"INDEX($AL$3:$AL$1500, MATCH(0, IF(ISBLANK($AL$3:$AL$1500), 1, COUNTIF(AM$3:AM69, $AL$3:$AL$1500)), 0))","v":{"$error":"#N/A"}},""]
[{"$f":"IF(E73=\"\",\"\",GetAddress(E73))","v":""},{"$f":"IF(E73=\"\",\"\",GetAddress(E73))","v":""},null,null,null,null,null,null,null,null,null,null,null,null,null,null,null,null,null,null,null,null,null,null,null,null,null,null,null,0,0,0,0,0,0,0,"","",{"$f":"INDEX($AL$3:$AL$1500, MATCH(0, IF(ISBLANK($AL$3:$AL$1500), 1, COUNTIF(AM$3:AM70, $AL$3:$AL$1500)), 0))","v":{"$error":"#N/A"}},""]
[{"$f":"IF(E74=\"\",\"\",GetAddress(E74))","v":""},{"$f":"IF(E74=\"\",\"\",GetAddress(E74))","v":""},null,null,null,null,null,null,null,null,null,null,null,null,null,null,null,null,null,null,null,null,null,null,null,null,null,null,null,0,0,0,0,0,0,0,"","",{"$f":"INDEX($AL$3:$AL$1500, MATCH(0, IF(ISBLANK($AL$3:$AL$1500), 1, COUNTIF(AM$3:AM71, $AL$3:$AL$1500)), 0))","v":{"$error":"#N/A"}},""]
[{"$f":"IF(E75=\"\",\"\",GetAddress(E75))","v":""},{"$f":"IF(E75=\"\",\"\",GetAddress(E75))","v":""},null,null,null,null,null,null,null,null,null,null,null,null,null,null,null,null,null,null,null,null,null,null,null,null,null,null,null,0,0,0,0,0,0,0,"","",{"$f":"INDEX($AL$3:$AL$1500, MATCH(0, IF(ISBLANK($AL$3:$AL$1500), 1, COUNTIF(AM$3:AM72, $AL$3:$AL$1500)), 0))","v":{"$error":"#N/A"}},""]
[{"$f":"IF(E76=\"\",\"\",GetAddress(E76))","v":""},{"$f":"IF(E76=\"\",\"\",GetAddress(E76))","v":""},null,null,null,null,null,null,null,null,null,null,null,null,null,null,null,null,null,null,null,null,null,null,null,null,null,null,null,0,0,0,0,0,0,0,"","",{"$f":"INDEX($AL$3:$AL$1500, MATCH(0, IF(ISBLANK($AL$3:$AL$1500), 1, COUNTIF(AM$3:AM73, $AL$3:$AL$1500)), 0))","v":{"$error":"#N/A"}},""]
[{"$f":"IF(E77=\"\",\"\",GetAddress(E77))","v":""},{"$f":"IF(E77=\"\",\"\",GetAddress(E77))","v":""},null,null,null,null,null,null,null,null,null,null,null,null,null,null,null,null,null,null,null,null,null,null,null,null,null,null,null,0,0,0,0,0,0,0,"","",{"$f":"INDEX($AL$3:$AL$1500, MATCH(0, IF(ISBLANK($AL$3:$AL$1500), 1, COUNTIF(AM$3:AM74, $AL$3:$AL$1500)), 0))","v":{"$error":"#N/A"}},""]
[{"$f":"IF(E78=\"\",\"\",GetAddress(E78))","v":""},{"$f":"IF(E78=\"\",\"\",GetAddress(E78))","v":""},null,null,null,null,null,null,null,null,null,null,null,null,null,null,null,null,null,null,null,null,null,null,null,null,null,null,null,0,0,0,0,0,0,0,{"$f":"IF(AJ76=0,\"\",AJ76)","v":""},"",{"$f":"INDEX($AL$3:$AL$1500, MATCH(0, IF(ISBLANK($AL$3:$AL$1500), 1, COUNTIF(AM$3:AM75, $AL$3:$AL$1500)), 0))","v":{"$error":"#N/A"}},""]
[{"$f":"IF(E79=\"\",\"\",GetAddress(E79))","v":""},{"$f":"IF(E79=\"\",\"\",GetAddress(E79))","v":""},null,null,null,null,null,null,null,null,null,null,null,null,null,null,null,null,null,null,null,null,null,null,null,null,null,null,null,0,0,0,0,0,0,0,"","",{"$f":"INDEX($AL$3:$AL$1500, MATCH(0, IF(ISBLANK($AL$3:$AL$1500), 1, COUNTIF(AM$3:AM76, $AL$3:$AL$1500)), 0))","v":{"$error":"#N/A"}},""]
[{"$f":"IF(E80=\"\",\"\",GetAddress(E80))","v":""},{"$f":"IF(E80=\"\",\"\",GetAddress(E80))","v":""},null,null,null,null,null,null,null,null,null,null,null,null,null,null,null,null,null,null,null,null,null,null,null,null,null,null,null,0,0,0,0,0,0,0,"","",{"$f":"INDEX($AL$3:$AL$1500, MATCH(0, IF(ISBLANK($AL$3:$AL$1500), 1, COUNTIF(AM$3:AM77, $AL$3:$AL$1500)), 0))","v":{"$error":"#N/A"}},""]
[{"$f":"IF(E81=\"\",\"\",GetAddress(E81))","v":""},{"$f":"IF(E81=\"\",\"\",GetAddress(E81))","v":""},null,null,null,null,null,null,null,null,null,null,null,null,null,null,null,null,null,null,null,null,null,null,null,null,null,null,null,0,0,0,0,0,0,0,"","",{"$f":"INDEX($AL$3:$AL$1500, MATCH(0, IF(ISBLANK($AL$3:$AL$1500), 1, COUNTIF(AM$3:AM78, $AL$3:$AL$1500)), 0))","v":{"$error":"#N/A"}},""]
[{"$f":"IF(E82=\"\",\"\",GetAddress(E82))","v":""},{"$f":"IF(E82=\"\",\"\",GetAddress(E82))","v":""},null,null,null,null,null,null,null,null,null,null,null,null,null,null,null,null,null,null,null,null,null,null,null,null,null,null,null,0,0,0,0,0,0,0,"","",{"$f":"INDEX($AL$3:$AL$1500, MATCH(0, IF(ISBLANK($AL$3:$AL$1500), 1, COUNTIF(AM$3:AM79, $AL$3:$AL$1500)), 0))","v":{"$error":"#N/A"}},""]
[{"$f":"IF(E83=\"\",\"\",GetAddress(E83))","v":""},{"$f":"IF(E83=\"\",\"\",GetAddress(E83))","v":""},null,null,null,null,null,null,null,null,null,null,null,null,null,null,null,null,null,null,null,null,null,null,null,null,null,null,null,0,0,0,0,0,0,0,"","",{"$f":"INDEX($AL$3:$AL$1500, MATCH(0, IF(ISBLANK($AL$3:$AL$1500), 1, COUNTIF(AM$3:AM80, $AL$3:$AL$1500)), 0))","v":{"$error":"#N/A"}},""]
[{"$f":"IF(E84=\"\",\"\",GetAddress(E84))","v":""},{"$f":"IF(E84=\"\",\"\",GetAddress(E84))","v":""},null,null,null,null,null,null,null,null,null,null,null,null,null,null,null,null,null,null,null,null,null,null,null,null,null,null,null,0,0,0,0,0,0,0,"","",{"$f":"INDEX($AL$3:$AL$1500, MATCH(0, IF(ISBLANK($AL$3:$AL$1500), 1, COUNTIF(AM$3:AM81, $AL$3:$AL$1500)), 0))","v":{"$error":"#N/A"}},""]
[{"$f":"IF(E85=\"\",\"\",GetAddress(E85))","v":""},{"$f":"IF(E85=\"\",\"\",GetAddress(E85))","v":""},null,null,null,null,null,null,null,null,null,null,null,null,null,null,null,null,null,null,null,null,null,null,null,null,null,null,null,0,0,0,0,0,0,0,"","",{"$f":"INDEX($AL$3:$AL$1500, MATCH(0, IF(ISBLANK($AL$3:$AL$1500), 1, COUNTIF(AM$3:AM82, $AL$3:$AL$1500)), 0))","v":{"$error":"#N/A"}},""]
[{"$f":"IF(E86=\"\",\"\",GetAddress(E86))","v":""},{"$f":"IF(E86=\"\",\"\",GetAddress(E86))","v":""},null,null,null,null,null,null,null,null,null,null,null,null,null,null,null,null,null,null,null,null,null,null,null,null,null,null,null,0,0,0,0,0,0,0,"","",{"$f":"INDEX($AL$3:$AL$1500, MATCH(0, IF(ISBLANK($AL$3:$AL$1500), 1, COUNTIF(AM$3:AM83, $AL$3:$AL$1500)), 0))","v":{"$error":"#N/A"}},""]
[{"$f":"IF(E87=\"\",\"\",GetAddress(E87))","v":""},{"$f":"IF(E87=\"\",\"\",GetAddress(E87))","v":""},null,null,null,null,null,null,null,null,null,null,null,null,null,null,null,null,null,null,null,null,null,null,null,null,null,null,null,0,0,0,0,0,0,0,"","",{"$f":"INDEX($AL$3:$AL$1500, MATCH(0, IF(ISBLANK($AL$3:$AL$1500), 1, COUNTIF(AM$3:AM84, $AL$3:$AL$1500)), 0))","v":{"$error":"#N/A"}},""]
[{"$f":"IF(E88=\"\",\"\",GetAddress(E88))","v":""},{"$f":"IF(E88=\"\",\"\",GetAddress(E88))","v":""},null,null,null,null,null,null,null,null,null,null,null,null,null,null,null,null,null,null,null,null,null,null,null,null,null,null,null,0,0,0,0,0,0,0,"","",{"$f":"INDEX($AL$3:$AL$1500, MATCH(0, IF(ISBLANK($AL$3:$AL$1500), 1, COUNTIF(AM$3:AM85, $AL$3:$AL$1500)), 0))","v":{"$error":"#N/A"}},""]
[{"$f":"IF(E89=\"\",\"\",GetAddress(E89))","v":""},{"$f":"IF(E89=\"\",\"\",GetAddress(E89))","v":""},null,null,null,null,null,null,null,null,null,null,null,null,null,null,null,null,null,null,null,null,null,null,null,null,null,null,null,0,0,0,0,0,0,0,"","",{"$f":"INDEX($AL$3:$AL$1500, MATCH(0, IF(ISBLANK($AL$3:$AL$1500), 1, COUNTIF(AM$3:AM86, $AL$3:$AL$1500)), 0))","v":{"$error":"#N/A"}},""]
[{"$f":"IF(E90=\"\",\"\",GetAddress(E90))","v":""},{"$f":"IF(E90=\"\",\"\",GetAddress(E90))","v":""},null,null,null,null,null,null,null,null,null,null,null,null,null,null,null,null,null,null,null,null,null,null,null,null,null,null,null,0,0,0,0,0,0,0,"","",{"$f":"INDEX($AL$3:$AL$1500, MATCH(0, IF(ISBLANK($AL$3:$AL$1500), 1, COUNTIF(AM$3:AM87, $AL$3:$AL$1500)), 0))","v":{"$error":"#N/A"}},""]
[{"$f":"IF(E91=\"\",\"\",GetAddress(E91))","v":""},{"$f":"IF(E91=\"\",\"\",GetAddress(E91))","v":""},null,null,null,null,null,null,null,null,null,null,null,null,null,null,null,null,null,null,null,null,null,null,null,null,null,null,null,0,0,0,0,0,0,0,"","",{"$f":"INDEX($AL$3:$AL$1500, MATCH(0, IF(ISBLANK($AL$3:$AL$1500), 1, COUNTIF(AM$3:AM88, $AL$3:$AL$1500)), 0))","v":{"$error":"#N/A"}},""]
[{"$f":"IF(E92=\"\",\"\",GetAddress(E92))","v":""},{"$f":"IF(E92=\"\",\"\",GetAddress(E92))","v":""},null,null,null,null,null,null,null,null,null,null,null,null,null,null,null,null,null,null,null,null,null,null,null,null,null,null,null,0,0,0,0,0,0,0,"","",{"$f":"INDEX($AL$3:$AL$1500, MATCH(0, IF(ISBLANK($AL$3:$AL$1500), 1, COUNTIF(AM$3:AM89, $AL$3:$AL$1500)), 0))","v":{"$error":"#N/A"}},""]
[{"$f":"IF(E93=\"\",\"\",GetAddress(E93))","v":""},{"$f":"IF(E93=\"\",\"\",GetAddress(E93))","v":""},null,null,null,null,null,null,null,null,null,null,null,null,null,null,null,null,null,null,null,null,null,null,null,null,null,null,null,0,0,0,0,0,0,0,"","",{"$f":"INDEX($AL$3:$AL$1500, MATCH(0, IF(ISBLANK($AL$3:$AL$1500), 1, COUNTIF(AM$3:AM90, $AL$3:$AL$1500)), 0))","v":{"$error":"#N/A"}},""]
[{"$f":"IF(E94=\"\",\"\",GetAddress(E94))","v":""},{"$f":"IF(E94=\"\",\"\",GetAddress(E94))","v":""},null,null,null,null,null,null,null,null,null,null,null,null,null,null,null,null,null,null,null,null,null,null,null,null,null,null,null,0,0,0,0,0,0,0,"","",{"$f":"INDEX($AL$3:$AL$1500, MATCH(0, IF(ISBLANK($AL$3:$AL$1500), 1, COUNTIF(AM$3:AM91, $AL$3:$AL$1500)), 0))","v":{"$error":"#N/A"}},""]
[{"$f":"IF(E95=\"\",\"\",GetAddress(E95))","v":""},{"$f":"IF(E95=\"\",\"\",GetAddress(E95))","v":""},null,null,null,null,null,null,null,null,null,null,null,null,null,null,null,null,null,null,null,null,null,null,null,null,null,null,null,0,0,0,0,0,0,0,"","",{"$f":"INDEX($AL$3:$AL$1500, MATCH(0, IF(ISBLANK($AL$3:$AL$1500), 1, COUNTIF(AM$3:AM92, $AL$3:$AL$1500)), 0))","v":{"$error":"#N/A"}},""]
[{"$f":"IF(E96=\"\",\"\",GetAddress(E96))","v":""},{"$f":"IF(E96=\"\",\"\",GetAddress(E96))","v":""},null,null,null,null,null,null,null,null,null,null,null,null,null,null,null,null,null,null,null,null,null,null,null,null,null,null,null,0,0,0,0,0,0,0,"","",{"$f":"INDEX($AL$3:$AL$1500, MATCH(0, IF(ISBLANK($AL$3:$AL$1500), 1, COUNTIF(AM$3:AM93, $AL$3:$AL$1500)), 0))","v":{"$error":"#N/A"}},""]
[{"$f":"IF(E97=\"\",\"\",GetAddress(E97))","v":""},{"$f":"IF(E97=\"\",\"\",GetAddress(E97))","v":""},null,null,null,null,null,null,null,null,null,null,null,null,null,null,null,null,null,null,null,null,null,null,null,null,null,null,null,0,0,0,0,0,0,0,"","",{"$f":"INDEX($AL$3:$AL$1500, MATCH(0, IF(ISBLANK($AL$3:$AL$1500), 1, COUNTIF(AM$3:AM94, $AL$3:$AL$1500)), 0))","v":{"$error":"#N/A"}},""]
[{"$f":"IF(E98=\"\",\"\",GetAddress(E98))","v":""},{"$f":"IF(E98=\"\",\"\",GetAddress(E98))","v":""},null,null,null,null,null,null,null,null,null,null,null,null,null,null,null,null,null,null,null,null,null,null,null,null,null,null,null,0,0,0,0,0,0,0,"","",{"$f":"INDEX($AL$3:$AL$1500, MATCH(0, IF(ISBLANK($AL$3:$AL$1500), 1, COUNTIF(AM$3:AM95, $AL$3:$AL$1500)), 0))","v":{"$error":"#N/A"}},""]
[{"$f":"IF(E99=\"\",\"\",GetAddress(E99))","v":""},{"$f":"IF(E99=\"\",\"\",GetAddress(E99))","v":""},null,null,null,null,null,null,null,null,null,null,null,null,null,null,null,null,null,null,null,null,null,null,null,null,null,null,null,0,0,0,0,0,0,0,"","",{"$f":"INDEX($AL$3:$AL$1500, MATCH(0, IF(ISBLANK($AL$3:$AL$1500), 1, COUNTIF(AM$3:AM96, $AL$3:$AL$1500)), 0))","v":{"$error":"#N/A"}},""]
[{"$f":"IF(E100=\"\",\"\",GetAddress(E100))","v":""},{"$f":"IF(E100=\"\",\"\",GetAddress(E100))","v":""},null,null,null,null,null,null,null,null,null,null,null,null,null,null,null,null,null,null,null,null,null,null,null,null,null,null,null,0,0,0,0,0,0,0,"","",{"$f":"INDEX($AL$3:$AL$1500, MATCH(0, IF(ISBLANK($AL$3:$AL$1500), 1, COUNTIF(AM$3:AM97, $AL$3:$AL$1500)), 0))","v":{"$error":"#N/A"}},""]
[{"$f":"IF(E101=\"\",\"\",GetAddress(E101))","v":""},{"$f":"IF(E101=\"\",\"\",GetAddress(E101))","v":""},null,null,null,null,null,null,null,null,null,null,null,null,null,null,null,null,null,null,null,null,null,null,null,null,null,null,null,0,0,0,0,0,0,0,"","",{"$f":"INDEX($AL$3:$AL$1500, MATCH(0, IF(ISBLANK($AL$3:$AL$1500), 1, COUNTIF(AM$3:AM98, $AL$3:$AL$1500)), 0))","v":{"$error":"#N/A"}},""]
[{"$f":"IF(E102=\"\",\"\",GetAddress(E102))","v":""},{"$f":"IF(E102=\"\",\"\",GetAddress(E102))","v":""},null,null,null,null,null,null,null,null,null,null,null,null,null,null,null,null,null,null,null,null,null,null,null,null,null,null,null,0,0,0,0,0,0,0,"","",{"$f":"INDEX($AL$3:$AL$1500, MATCH(0, IF(ISBLANK($AL$3:$AL$1500), 1, COUNTIF(AM$3:AM99, $AL$3:$AL$1500)), 0))","v":{"$error":"#N/A"}},""]
[{"$f":"IF(E103=\"\",\"\",GetAddress(E103))","v":""},{"$f":"IF(E103=\"\",\"\",GetAddress(E103))","v":""},null,null,null,null,null,null,null,null,null,null,null,null,null,null,null,null,null,null,null,null,null,null,null,null,null,null,null,0,0,0,0,0,0,0,"","",{"$f":"INDEX($AL$3:$AL$1500, MATCH(0, IF(ISBLANK($AL$3:$AL$1500), 1, COUNTIF(AM$3:AM100, $AL$3:$AL$1500)), 0))","v":{"$error":"#N/A"}},""]
[{"$f":"IF(E104=\"\",\"\",GetAddress(E104))","v":""},{"$f":"IF(E104=\"\",\"\",GetAddress(E104))","v":""},null,null,null,null,null,null,null,null,null,null,null,null,null,null,null,null,null,null,null,null,null,null,null,null,null,null,null,0,0,0,0,0,0,0,"","",{"$f":"INDEX($AL$3:$AL$1500, MATCH(0, IF(ISBLANK($AL$3:$AL$1500), 1, COUNTIF(AM$3:AM101, $AL$3:$AL$1500)), 0))","v":{"$error":"#N/A"}},""]
[{"$f":"IF(E105=\"\",\"\",GetAddress(E105))","v":""},{"$f":"IF(E105=\"\",\"\",GetAddress(E105))","v":""},null,null,null,null,null,null,null,null,null,null,null,null,null,null,null,null,null,null,null,null,null,null,null,null,null,null,null,0,0,0,0,0,0,0,"","",{"$f":"INDEX($AL$3:$AL$1500, MATCH(0, IF(ISBLANK($AL$3:$AL$1500), 1, COUNTIF(AM$3:AM102, $AL$3:$AL$1500)), 0))","v":{"$error":"#N/A"}},""]
[{"$f":"IF(E106=\"\",\"\",GetAddress(E106))","v":""},{"$f":"IF(E106=\"\",\"\",GetAddress(E106))","v":""},null,null,null,null,null,null,null,null,null,null,null,null,null,null,null,null,null,null,null,null,null,null,null,null,null,null,null,0,0,0,0,0,0,0,"","",{"$f":"INDEX($AL$3:$AL$1500, MATCH(0, IF(ISBLANK($AL$3:$AL$1500), 1, COUNTIF(AM$3:AM103, $AL$3:$AL$1500)), 0))","v":{"$error":"#N/A"}},""]
[{"$f":"IF(E107=\"\",\"\",GetAddress(E107))","v":""},{"$f":"IF(E107=\"\",\"\",GetAddress(E107))","v":""},null,null,null,null,null,null,null,null,null,null,null,null,null,null,null,null,null,null,null,null,null,null,null,null,null,null,null,0,0,0,0,0,0,0,"","",{"$f":"INDEX($AL$3:$AL$1500, MATCH(0, IF(ISBLANK($AL$3:$AL$1500), 1, COUNTIF(AM$3:AM104, $AL$3:$AL$1500)), 0))","v":{"$error":"#N/A"}},""]
[{"$f":"IF(E108=\"\",\"\",GetAddress(E108))","v":""},{"$f":"IF(E108=\"\",\"\",GetAddress(E108))","v":""},null,null,null,null,null,null,null,null,null,null,null,null,null,null,null,null,null,null,null,null,null,null,null,null,null,null,null,0,0,0,0,0,0,0,"","",{"$f":"INDEX($AL$3:$AL$1500, MATCH(0, IF(ISBLANK($AL$3:$AL$1500), 1, COUNTIF(AM$3:AM105, $AL$3:$AL$1500)), 0))","v":{"$error":"#N/A"}},""]
[{"$f":"IF(E109=\"\",\"\",GetAddress(E109))","v":""},{"$f":"IF(E109=\"\",\"\",GetAddress(E109))","v":""},null,null,null,null,null,null,null,null,null,null,null,null,null,null,null,null,null,null,null,null,null,null,null,null,null,null,null,0,0,0,0,0,0,0,"","",{"$f":"INDEX($AL$3:$AL$1500, MATCH(0, IF(ISBLANK($AL$3:$AL$1500), 1, COUNTIF(AM$3:AM106, $AL$3:$AL$1500)), 0))","v":{"$error":"#N/A"}},""]
[{"$f":"IF(E110=\"\",\"\",GetAddress(E110))","v":""},{"$f":"IF(E110=\"\",\"\",GetAddress(E110))","v":""},null,null,null,null,null,null,null,null,null,null,null,null,null,null,null,null,null,null,null,null,null,null,null,null,null,null,null,0,0,0,0,0,0,0,"","",{"$f":"INDEX($AL$3:$AL$1500, MATCH(0, IF(ISBLANK($AL$3:$AL$1500), 1, COUNTIF(AM$3:AM107, $AL$3:$AL$1500)), 0))","v":{"$error":"#N/A"}},""]
[{"$f":"IF(E111=\"\",\"\",GetAddress(E111))","v":""},{"$f":"IF(E111=\"\",\"\",GetAddress(E111))","v":""},null,null,null,null,null,null,null,null,null,null,null,null,null,null,null,null,null,null,null,null,null,null,null,null,null,null,null,0,0,0,0,0,0,0,"","",{"$f":"INDEX($AL$3:$AL$1500, MATCH(0, IF(ISBLANK($AL$3:$AL$1500), 1, COUNTIF(AM$3:AM108, $AL$3:$AL$1500)), 0))","v":{"$error":"#N/A"}},""]
[{"$f":"IF(E112=\"\",\"\",GetAddress(E112))","v":""},{"$f":"IF(E112=\"\",\"\",GetAddress(E112))","v":""},null,null,null,null,null,null,null,null,null,null,null,null,null,null,null,null,null,null,null,null,null,null,null,null,null,null,null,0,0,0,0,0,0,0,"","",{"$f":"INDEX($AL$3:$AL$1500, MATCH(0, IF(ISBLANK($AL$3:$AL$1500), 1, COUNTIF(AM$3:AM109, $AL$3:$AL$1500)), 0))","v":{"$error":"#N/A"}},""]
[{"$f":"IF(E113=\"\",\"\",GetAddress(E113))","v":""},{"$f":"IF(E113=\"\",\"\",GetAddress(E113))","v":""},null,null,null,null,null,null,null,null,null,null,null,null,null,null,null,null,null,null,null,null,null,null,null,null,null,null,null,0,0,0,0,0,0,0,"","",{"$f":"INDEX($AL$3:$AL$1500, MATCH(0, IF(ISBLANK($AL$3:$AL$1500), 1, COUNTIF(AM$3:AM110, $AL$3:$AL$1500)), 0))","v":{"$error":"#N/A"}},""]
[{"$f":"IF(E114=\"\",\"\",GetAddress(E114))","v":""},{"$f":"IF(E114=\"\",\"\",GetAddress(E114))","v":""},null,null,null,null,null,null,null,null,null,null,null,null,null,null,null,null,null,null,null,null,null,null,null,null,null,null,null,0,0,0,0,0,0,0,"","",{"$f":"INDEX($AL$3:$AL$1500, MATCH(0, IF(ISBLANK($AL$3:$AL$1500), 1, COUNTIF(AM$3:AM111, $AL$3:$AL$1500)), 0))","v":{"$error":"#N/A"}},""]
[{"$f":"IF(E115=\"\",\"\",GetAddress(E115))","v":""},{"$f":"IF(E115=\"\",\"\",GetAddress(E115))","v":""},null,null,null,null,null,null,null,null,null,null,null,null,null,null,null,null,null,null,null,null,null,null,null,null,null,null,null,0,0,0,0,0,0,0,"","",{"$f":"INDEX($AL$3:$AL$1500, MATCH(0, IF(ISBLANK($AL$3:$AL$1500), 1, COUNTIF(AM$3:AM112, $AL$3:$AL$1500)), 0))","v":{"$error":"#N/A"}},""]
[{"$f":"IF(E116=\"\",\"\",GetAddress(E116))","v":""},{"$f":"IF(E116=\"\",\"\",GetAddress(E116))","v":""},null,null,null,null,null,null,null,null,null,null,null,null,null,null,null,null,null,null,null,null,null,null,null,null,null,null,null,0,0,0,0,0,0,0,"","",{"$f":"INDEX($AL$3:$AL$1500, MATCH(0, IF(ISBLANK($AL$3:$AL$1500), 1, COUNTIF(AM$3:AM113, $AL$3:$AL$1500)), 0))","v":{"$error":"#N/A"}},""]
[{"$f":"IF(E117=\"\",\"\",GetAddress(E117))","v":""},{"$f":"IF(E117=\"\",\"\",GetAddress(E117))","v":""},null,null,null,null,null,null,null,null,null,null,null,null,null,null,null,null,null,null,null,null,null,null,null,null,null,null,null,0,0,0,0,0,0,0,"","",{"$f":"INDEX($AL$3:$AL$1500, MATCH(0, IF(ISBLANK($AL$3:$AL$1500), 1, COUNTIF(AM$3:AM114, $AL$3:$AL$1500)), 0))","v":{"$error":"#N/A"}},""]
[{"$f":"IF(E118=\"\",\"\",GetAddress(E118))","v":""},{"$f":"IF(E118=\"\",\"\",GetAddress(E118))","v":""},null,null,null,null,null,null,null,null,null,null,null,null,null,null,null,null,null,null,null,null,null,null,null,null,null,null,null,0,0,0,0,0,0,0,"","",{"$f":"INDEX($AL$3:$AL$1500, MATCH(0, IF(ISBLANK($AL$3:$AL$1500), 1, COUNTIF(AM$3:AM115, $AL$3:$AL$1500)), 0))","v":{"$error":"#N/A"}},""]
[{"$f":"IF(E119=\"\",\"\",GetAddress(E119))","v":""},{"$f":"IF(E119=\"\",\"\",GetAddress(E119))","v":""},null,null,null,null,null,null,null,null,null,null,null,null,null,null,null,null,null,null,null,null,null,null,null,null,null,null,null,0,0,0,0,0,0,0,"","",{"$f":"INDEX($AL$3:$AL$1500, MATCH(0, IF(ISBLANK($AL$3:$AL$1500), 1, COUNTIF(AM$3:AM116, $AL$3:$AL$1500)), 0))","v":{"$error":"#N/A"}},""]
[{"$f":"IF(E120=\"\",\"\",GetAddress(E120))","v":""},{"$f":"IF(E120=\"\",\"\",GetAddress(E120))","v":""},null,null,null,null,null,null,null,null,null,null,null,null,null,null,null,null,null,null,null,null,null,null,null,null,null,null,null,0,0,0,0,0,0,0,"","",{"$f":"INDEX($AL$3:$AL$1500, MATCH(0, IF(ISBLANK($AL$3:$AL$1500), 1, COUNTIF(AM$3:AM117, $AL$3:$AL$1500)), 0))","v":{"$error":"#N/A"}},""]
[{"$f":"IF(E121=\"\",\"\",GetAddress(E121))","v":""},{"$f":"IF(E121=\"\",\"\",GetAddress(E121))","v":""},null,null,null,null,null,null,null,null,null,null,null,null,null,null,null,null,null,null,null,null,null,null,null,null,null,null,null,0,0,0,0,0,0,0,"","",{"$f":"INDEX($AL$3:$AL$1500, MATCH(0, IF(ISBLANK($AL$3:$AL$1500), 1, COUNTIF(AM$3:AM118, $AL$3:$AL$1500)), 0))","v":{"$error":"#N/A"}},""]
[{"$f":"IF(E122=\"\",\"\",GetAddress(E122))","v":""},{"$f":"IF(E122=\"\",\"\",GetAddress(E122))","v":""},null,null,null,null,null,null,null,null,null,null,null,null,null,null,null,null,null,null,null,null,null,null,null,null,null,null,null,0,0,0,0,0,0,0,"","",{"$f":"INDEX($AL$3:$AL$1500, MATCH(0, IF(ISBLANK($AL$3:$AL$1500), 1, COUNTIF(AM$3:AM119, $AL$3:$AL$1500)), 0))","v":{"$error":"#N/A"}},""]
[{"$f":"IF(E123=\"\",\"\",GetAddress(E123))","v":""},{"$f":"IF(E123=\"\",\"\",GetAddress(E123))","v":""},null,null,null,null,null,null,null,null,null,null,null,null,null,null,null,null,null,null,null,null,null,null,null,null,null,null,null,0,0,0,0,0,0,0,"","",{"$f":"INDEX($AL$3:$AL$1500, MATCH(0, IF(ISBLANK($AL$3:$AL$1500), 1, COUNTIF(AM$3:AM120, $AL$3:$AL$1500)), 0))","v":{"$error":"#N/A"}},""]
[{"$f":"IF(E124=\"\",\"\",GetAddress(E124))","v":""},{"$f":"IF(E124=\"\",\"\",GetAddress(E124))","v":""},null,null,null,null,null,null,null,null,null,null,null,null,null,null,null,null,null,null,null,null,null,null,null,null,null,null,null,0,0,0,0,0,0,0,"","",{"$f":"INDEX($AL$3:$AL$1500, MATCH(0, IF(ISBLANK($AL$3:$AL$1500), 1, COUNTIF(AM$3:AM121, $AL$3:$AL$1500)), 0))","v":{"$error":"#N/A"}},""]
[{"$f":"IF(E125=\"\",\"\",GetAddress(E125))","v":""},{"$f":"IF(E125=\"\",\"\",GetAddress(E125))","v":""},null,null,null,null,null,null,null,null,null,null,null,null,null,null,null,null,null,null,null,null,null,null,null,null,null,null,null,0,0,0,0,0,0,0,"","",{"$f":"INDEX($AL$3:$AL$1500, MATCH(0, IF(ISBLANK($AL$3:$AL$1500), 1, COUNTIF(AM$3:AM122, $AL$3:$AL$1500)), 0))","v":{"$error":"#N/A"}},""]
[{"$f":"IF(E126=\"\",\"\",GetAddress(E126))","v":""},{"$f":"IF(E126=\"\",\"\",GetAddress(E126))","v":""},null,null,null,null,null,null,null,null,null,null,null,null,null,null,null,null,null,null,null,null,null,null,null,null,null,null,null,0,0,0,0,0,0,0,"","",{"$f":"INDEX($AL$3:$AL$1500, MATCH(0, IF(ISBLANK($AL$3:$AL$1500), 1, COUNTIF(AM$3:AM123, $AL$3:$AL$1500)), 0))","v":{"$error":"#N/A"}},""]
[{"$f":"IF(E127=\"\",\"\",GetAddress(E127))","v":""},{"$f":"IF(E127=\"\",\"\",GetAddress(E127))","v":""},null,null,null,null,null,null,null,null,null,null,null,null,null,null,null,null,null,null,null,null,null,null,null,null,null,null,null,0,0,0,0,0,0,0,"","",{"$f":"INDEX($AL$3:$AL$1500, MATCH(0, IF(ISBLANK($AL$3:$AL$1500), 1, COUNTIF(AM$3:AM124, $AL$3:$AL$1500)), 0))","v":{"$error":"#N/A"}},""]
[{"$f":"IF(E128=\"\",\"\",GetAddress(E128))","v":""},{"$f":"IF(E128=\"\",\"\",GetAddress(E128))","v":""},null,null,null,null,null,null,null,null,null,null,null,null,null,null,null,null,null,null,null,null,null,null,null,null,null,null,null,0,0,0,0,0,0,0,"","",{"$f":"INDEX($AL$3:$AL$1500, MATCH(0, IF(ISBLANK($AL$3:$AL$1500), 1, COUNTIF(AM$3:AM125, $AL$3:$AL$1500)), 0))","v":{"$error":"#N/A"}},""]
[{"$f":"IF(E129=\"\",\"\",GetAddress(E129))","v":""},{"$f":"IF(E129=\"\",\"\",GetAddress(E129))","v":""},null,null,null,null,null,null,null,null,null,null,null,null,null,null,null,null,null,null,null,null,null,null,null,null,null,null,null,0,0,0,0,0,0,0,"","",{"$f":"INDEX($AL$3:$AL$1500, MATCH(0, IF(ISBLANK($AL$3:$AL$1500), 1, COUNTIF(AM$3:AM126, $AL$3:$AL$1500)), 0))","v":{"$error":"#N/A"}},""]
[{"$f":"IF(E130=\"\",\"\",GetAddress(E130))","v":""},{"$f":"IF(E130=\"\",\"\",GetAddress(E130))","v":""},null,null,null,null,null,null,null,null,null,null,null,null,null,null,null,null,null,null,null,null,null,null,null,null,null,null,null,0,0,0,0,0,0,0,"","",{"$f":"INDEX($AL$3:$AL$1500, MATCH(0, IF(ISBLANK($AL$3:$AL$1500), 1, COUNTIF(AM$3:AM127, $AL$3:$AL$1500)), 0))","v":{"$error":"#N/A"}},""]
[{"$f":"IF(E131=\"\",\"\",GetAddress(E131))","v":""},{"$f":"IF(E131=\"\",\"\",GetAddress(E131))","v":""},null,null,null,null,null,null,null,null,null,null,null,null,null,null,null,null,null,null,null,null,null,null,null,null,null,null,null,0,0,0,0,0,0,0,"","",{"$f":"INDEX($AL$3:$AL$1500, MATCH(0, IF(ISBLANK($AL$3:$AL$1500), 1, COUNTIF(AM$3:AM128, $AL$3:$AL$1500)), 0))","v":{"$error":"#N/A"}},""]
[{"$f":"IF(E132=\"\",\"\",GetAddress(E132))","v":""},{"$f":"IF(E132=\"\",\"\",GetAddress(E132))","v":""},null,null,null,null,null,null,null,null,null,null,null,null,null,null,null,null,null,null,null,null,null,null,null,null,null,null,null,0,0,0,0,0,0,0,"","",{"$f":"INDEX($AL$3:$AL$1500, MATCH(0, IF(ISBLANK($AL$3:$AL$1500), 1, COUNTIF(AM$3:AM129, $AL$3:$AL$1500)), 0))","v":{"$error":"#N/A"}},""]
[{"$f":"IF(E133=\"\",\"\",GetAddress(E133))","v":""},{"$f":"IF(E133=\"\",\"\",GetAddress(E133))","v":""},null,null,null,null,null,null,null,null,null,null,null,null,null,null,null,null,null,null,null,null,null,null,null,null,null,null,null,0,0,0,0,0,0,{"$f":"IF(AI131=\"Free A\",\"\",AI131)","v":0},{"$f":"IF(AJ131=0,\"\",AJ131)","v":""},{"$f":"IF(AK131=\"Free Agent\",\"\",AK131)","v":""},{"$f":"INDEX($AL$3:$AL$1500, MATCH(0, IF(ISBLANK($AL$3:$AL$1500), 1, COUNTIF(AM$3:AM130, $AL$3:$AL$1500)), 0))","v":{"$error":"#N/A"}},{"$f":"IF(ISERROR(AM131),\"\",AM131)","v":""}]
[{"$f":"IF(E134=\"\",\"\",GetAddress(E134))","v":""},{"$f":"IF(E134=\"\",\"\",GetAddress(E134))","v":""},null,null,null,null,null,null,null,null,null,null,null,null,null,null,null,null,null,null,null,null,null,null,null,null,null,null,null,0,0,0,0,0,0,0,"","",{"$f":"INDEX($AL$3:$AL$1500, MATCH(0, IF(ISBLANK($AL$3:$AL$1500), 1, COUNTIF(AM$3:AM131, $AL$3:$AL$1500)), 0))","v":{"$error":"#N/A"}},""]
[{"$f":"IF(E135=\"\",\"\",GetAddress(E135))","v":""},{"$f":"IF(E135=\"\",\"\",GetAddress(E135))","v":""},null,null,null,null,null,null,null,null,null,null,null,null,null,null,null,null,null,null,null,null,null,null,null,null,null,null,null,{"$f":"VALUE(IF(ISNUMBER(SEARCH(\"(P)\",Y133)),\"1\", \"0\"))","v":0},{"$f":"VALUE(IF(ISNUMBER(SEARCH(\"(Q)\",Y133)),\"1\", \"0\"))","v":0},{"$f":"VALUE(IF(ISNUMBER(SEARCH(\"(O)\",Y133)),\"1\", \"0\"))","v":0},{"$f":"VALUE(IF(ISNUMBER(SEARCH(\"(S)\",Y133)),\"1\", \"0\"))","v":0},{"$f":"VALUE(IF(ISNUMBER(SEARCH(\"Free Agent\",Y133)),\"1\", \"0\"))","v":0},{"$f":"IF(SUM(AD133:AH133)=0,Y133,LEFT(Y133,LEN(Y133)-4))","v":0},0,"","",{"$f":"INDEX($AL$3:$AL$1500, MATCH(0, IF(ISBLANK($AL$3:$AL$1500), 1, COUNTIF(AM$3:AM132, $AL$3:$AL$1500)), 0))","v":{"$error":"#N/A"}},""]
[{"$f":"IF(E136=\"\",\"\",GetAddress(E136))","v":""},{"$f":"IF(E136=\"\",\"\",GetAddress(E136))","v":""},null,null,null,null,null,null,null,null,null,null,null,null,null,null,null,null,null,null,null,null,null,null,null,null,null,null,null,0,0,0,0,0,0,0,"","",{"$f":"INDEX($AL$3:$AL$1500, MATCH(0, IF(ISBLANK($AL$3:$AL$1500), 1, COUNTIF(AM$3:AM133, $AL$3:$AL$1500)), 0))","v":{"$error":"#N/A"}},""]
[{"$f":"IF(E137=\"\",\"\",GetAddress(E137))","v":""},{"$f":"IF(E137=\"\",\"\",GetAddress(E137))","v":""},null,null,null,null,null,null,null,null,null,null,null,null,null,null,null,null,null,null,null,null,null,null,null,null,null,null,null,0,0,0,0,0,0,0,"","",{"$f":"INDEX($AL$3:$AL$1500, MATCH(0, IF(ISBLANK($AL$3:$AL$1500), 1, COUNTIF(AM$3:AM134, $AL$3:$AL$1500)), 0))","v":{"$error":"#N/A"}},""]
[{"$f":"IF(E138=\"\",\"\",GetAddress(E138))","v":""},{"$f":"IF(E138=\"\",\"\",GetAddress(E138))","v":""},null,null,null,null,null,null,null,null,null,null,null,null,null,null,null,null,null,null,null,null,null,null,null,null,null,null,null,0,0,0,0,0,0,0,"","",{"$f":"INDEX($AL$3:$AL$1500, MATCH(0, IF(ISBLANK($AL$3:$AL$1500), 1, COUNTIF(AM$3:AM135, $AL$3:$AL$1500)), 0))","v":{"$error":"#N/A"}},""]
[{"$f":"IF(E139=\"\",\"\",GetAddress(E139))","v":""},{"$f":"IF(E139=\"\",\"\",GetAddress(E139))","v":""},null,null,null,null,null,null,null,null,null,null,null,null,null,null,null,null,null,null,null,null,null,null,null,null,null,null,null,0,0,0,0,0,0,0,"","",{"$f":"INDEX($AL$3:$AL$1500, MATCH(0, IF(ISBLANK($AL$3:$AL$1500), 1, COUNTIF(AM$3:AM136, $AL$3:$AL$1500)), 0))","v":{"$error":"#N/A"}},""]
[{"$f":"IF(E140=\"\",\"\",GetAddress(E140))","v":""},{"$f":"IF(E140=\"\",\"\",GetAddress(E140))","v":""},null,null,null,null,null,null,null,null,null,null,null,null,null,null,null,null,null,null,null,null,null,null,null,null,null,null,null,0,0,0,0,0,0,0,"","",{"$f":"INDEX($AL$3:$AL$1500, MATCH(0, IF(ISBLANK($AL$3:$AL$1500), 1, COUNTIF(AM$3:AM137, $AL$3:$AL$1500)), 0))","v":{"$error":"#N/A"}},""]
[{"$f":"IF(E141=\"\",\"\",GetAddress(E141))","v":""},{"$f":"IF(E141=\"\",\"\",GetAddress(E141))","v":""},null,null,null,null,null,null,null,null,null,null,null,null,null,null,null,null,null,null,null,null,null,null,null,null,null,null,null,0,0,0,0,0,0,0,"","",{"$f":"INDEX($AL$3:$AL$1500, MATCH(0, IF(ISBLANK($AL$3:$AL$1500), 1, COUNTIF(AM$3:AM138, $AL$3:$AL$1500)), 0))","v":{"$error":"#N/A"}},""]
[{"$f":"IF(E142=\"\",\"\",GetAddress(E142))","v":""},{"$f":"IF(E142=\"\",\"\",GetAddress(E142))","v":""},null,null,null,null,null,null,null,null,null,null,null,null,null,null,null,null,null,null,null,null,null,null,null,null,null,null,null,0,0,0,0,0,0,0,"","",{"$f":"INDEX($AL$3:$AL$1500, MATCH(0, IF(ISBLANK($AL$3:$AL$1500), 1, COUNTIF(AM$3:AM139, $AL$3:$AL$1500)), 0))","v":{"$error":"#N/A"}},""]
[{"$f":"IF(E143=\"\",\"\",GetAddress(E143))","v":""},{"$f":"IF(E143=\"\",\"\",GetAddress(E143))","v":""},null,null,null,null,null,null,null,null,null,null,null,null,null,null,null,null,null,null,null,null,null,null,null,null,null,null,null,0,0,0,0,0,0,0,"","",{"$f":"INDEX($AL$3:$AL$1500, MATCH(0, IF(ISBLANK($AL$3:$AL$1500), 1, COUNTIF(AM$3:AM140, $AL$3:$AL$1500)), 0))","v":{"$error":"#N/A"}},""]
[{"$f":"IF(E144=\"\",\"\",GetAddress(E144))","v":""},{"$f":"IF(E144=\"\",\"\",GetAddress(E144))","v":""},null,null,null,null,null,null,null,null,null,null,null,null,null,null,null,null,null,null,null,null,null,null,null,null,null,null,null,0,0,0,0,0,0,0,"","",{"$f":"INDEX($AL$3:$AL$1500, MATCH(0, IF(ISBLANK($AL$3:$AL$1500), 1, COUNTIF(AM$3:AM141, $AL$3:$AL$1500)), 0))","v":{"$error":"#N/A"}},""]
[{"$f":"IF(E145=\"\",\"\",GetAddress(E145))","v":""},{"$f":"IF(E145=\"\",\"\",GetAddress(E145))","v":""},null,null,null,null,null,null,null,null,null,null,null,null,null,null,null,null,null,null,null,null,null,null,null,null,null,null,null,0,0,0,0,0,0,0,"","",{"$f":"INDEX($AL$3:$AL$1500, MATCH(0, IF(ISBLANK($AL$3:$AL$1500), 1, COUNTIF(AM$3:AM142, $AL$3:$AL$1500)), 0))","v":{"$error":"#N/A"}},""]
[{"$f":"IF(E146=\"\",\"\",GetAddress(E146))","v":""},{"$f":"IF(E146=\"\",\"\",GetAddress(E146))","v":""},null,null,null,null,null,null,null,null,null,null,null,null,null,null,null,null,null,null,null,null,null,null,null,null,null,null,null,0,0,0,0,0,0,0,"","",{"$f":"INDEX($AL$3:$AL$1500, MATCH(0, IF(ISBLANK($AL$3:$AL$1500), 1, COUNTIF(AM$3:AM143, $AL$3:$AL$1500)), 0))","v":{"$error":"#N/A"}},""]
[{"$f":"IF(E147=\"\",\"\",GetAddress(E147))","v":""},{"$f":"IF(E147=\"\",\"\",GetAddress(E147))","v":""},null,null,null,null,null,null,null,null,null,null,null,null,null,null,null,null,null,null,null,null,null,null,null,null,null,null,null,0,0,0,0,0,0,0,"","",{"$f":"INDEX($AL$3:$AL$1500, MATCH(0, IF(ISBLANK($AL$3:$AL$1500), 1, COUNTIF(AM$3:AM144, $AL$3:$AL$1500)), 0))","v":{"$error":"#N/A"}},""]
[{"$f":"IF(E148=\"\",\"\",GetAddress(E148))","v":""},{"$f":"IF(E148=\"\",\"\",GetAddress(E148))","v":""},null,null,null,null,null,null,null,null,null,null,null,null,null,null,null,null,null,null,null,null,null,null,null,null,null,null,null,0,0,0,0,0,0,0,"","",{"$f":"INDEX($AL$3:$AL$1500, MATCH(0, IF(ISBLANK($AL$3:$AL$1500), 1, COUNTIF(AM$3:AM145, $AL$3:$AL$1500)), 0))","v":{"$error":"#N/A"}},""]
[{"$f":"IF(E149=\"\",\"\",GetAddress(E149))","v":""},{"$f":"IF(E149=\"\",\"\",GetAddress(E149))","v":""},null,null,null,null,null,null,null,null,null,null,null,null,null,null,null,null,null,null,null,null,null,null,null,null,null,null,null,0,0,0,0,0,0,0,"","",{"$f":"INDEX($AL$3:$AL$1500, MATCH(0, IF(ISBLANK($AL$3:$AL$1500), 1, COUNTIF(AM$3:AM146, $AL$3:$AL$1500)), 0))","v":{"$error":"#N/A"}},""]
[{"$f":"IF(E150=\"\",\"\",GetAddress(E150))","v":""},{"$f":"IF(E150=\"\",\"\",GetAddress(E150))","v":""},null,null,null,null,null,null,null,null,null,null,null,null,null,null,null,null,null,null,null,null,null,null,null,null,null,null,null,0,0,0,0,0,0,0,"","",{"$f":"INDEX($AL$3:$AL$1500, MATCH(0, IF(ISBLANK($AL$3:$AL$1500), 1, COUNTIF(AM$3:AM147, $AL$3:$AL$1500)), 0))","v":{"$error":"#N/A"}},""]
[{"$f":"IF(E151=\"\",\"\",GetAddress(E151))","v":""},{"$f":"IF(E151=\"\",\"\",GetAddress(E151))","v":""},null,null,null,null,null,null,null,null,null,null,null,null,null,null,null,null,null,null,null,null,null,null,null,null,null,null,null,0,0,0,0,0,0,0,"","",{"$f":"INDEX($AL$3:$AL$1500, MATCH(0, IF(ISBLANK($AL$3:$AL$1500), 1, COUNTIF(AM$3:AM148, $AL$3:$AL$1500)), 0))","v":{"$error":"#N/A"}},""]
[{"$f":"IF(E152=\"\",\"\",GetAddress(E152))","v":""},{"$f":"IF(E152=\"\",\"\",GetAddress(E152))","v":""},null,null,null,null,null,null,null,null,null,null,null,null,null,null,null,null,null,null,null,null,null,null,null,null,null,null,null,0,0,0,0,0,0,0,"","",{"$f":"INDEX($AL$3:$AL$1500, MATCH(0, IF(ISBLANK($AL$3:$AL$1500), 1, COUNTIF(AM$3:AM149, $AL$3:$AL$1500)), 0))","v":{"$error":"#N/A"}},""]
[{"$f":"IF(E153=\"\",\"\",GetAddress(E153))","v":""},{"$f":"IF(E153=\"\",\"\",GetAddress(E153))","v":""},null,null,null,null,null,null,null,null,null,null,null,null,null,null,null,null,null,null,null,null,null,null,null,null,null,null,null,0,0,0,0,0,0,0,"","",{"$f":"INDEX($AL$3:$AL$1500, MATCH(0, IF(ISBLANK($AL$3:$AL$1500), 1, COUNTIF(AM$3:AM150, $AL$3:$AL$1500)), 0))","v":{"$error":"#N/A"}},""]
[{"$f":"IF(E154=\"\",\"\",GetAddress(E154))","v":""},{"$f":"IF(E154=\"\",\"\",GetAddress(E154))","v":""},null,null,null,null,null,null,null,null,null,null,null,null,null,null,null,null,null,null,null,null,null,null,null,null,null,null,null,0,0,0,0,0,0,0,"","",{"$f":"INDEX($AL$3:$AL$1500, MATCH(0, IF(ISBLANK($AL$3:$AL$1500), 1, COUNTIF(AM$3:AM151, $AL$3:$AL$1500)), 0))","v":{"$error":"#N/A"}},""]
[{"$f":"IF(E155=\"\",\"\",GetAddress(E155))","v":""},{"$f":"IF(E155=\"\",\"\",GetAddress(E155))","v":""},null,null,null,null,null,null,null,null,null,null,null,null,null,null,null,null,null,null,null,null,null,null,null,null,null,null,null,0,0,0,0,0,0,0,"","",{"$f":"INDEX($AL$3:$AL$1500, MATCH(0, IF(ISBLANK($AL$3:$AL$1500), 1, COUNTIF(AM$3:AM152, $AL$3:$AL$1500)), 0))","v":{"$error":"#N/A"}},""]
[{"$f":"IF(E156=\"\",\"\",GetAddress(E156))","v":""},{"$f":"IF(E156=\"\",\"\",GetAddress(E156))","v":""},null,null,null,null,null,null,null,null,null,null,null,null,null,null,null,null,null,null,null,null,null,null,null,null,null,null,null,0,0,0,0,0,0,0,"","",{"$f":"INDEX($AL$3:$AL$1500, MATCH(0, IF(ISBLANK($AL$3:$AL$1500), 1, COUNTIF(AM$3:AM153, $AL$3:$AL$1500)), 0))","v":{"$error":"#N/A"}},""]
[{"$f":"IF(E157=\"\",\"\",GetAddress(E157))","v":""},{"$f":"IF(E157=\"\",\"\",GetAddress(E157))","v":""},null,null,null,null,null,null,null,null,null,null,null,null,null,null,null,null,null,null,null,null,null,null,null,null,null,null,null,0,0,0,0,0,0,0,"","",{"$f":"INDEX($AL$3:$AL$1500, MATCH(0, IF(ISBLANK($AL$3:$AL$1500), 1, COUNTIF(AM$3:AM154, $AL$3:$AL$1500)), 0))","v":{"$error":"#N/A"}},""]
[{"$f":"IF(E158=\"\",\"\",GetAddress(E158))","v":""},{"$f":"IF(E158=\"\",\"\",GetAddress(E158))","v":""},null,null,null,null,null,null,null,null,null,null,null,null,null,null,null,null,null,null,null,null,null,null,null,null,null,null,null,0,0,0,0,0,0,0,"","",{"$f":"INDEX($AL$3:$AL$1500, MATCH(0, IF(ISBLANK($AL$3:$AL$1500), 1, COUNTIF(AM$3:AM155, $AL$3:$AL$1500)), 0))","v":{"$error":"#N/A"}},""]
[{"$f":"IF(E159=\"\",\"\",GetAddress(E159))","v":""},{"$f":"IF(E159=\"\",\"\",GetAddress(E159))","v":""},null,null,null,null,null,null,null,null,null,null,null,null,null,null,null,null,null,null,null,null,null,null,null,null,null,null,null,0,0,0,0,0,0,0,"","",{"$f":"INDEX($AL$3:$AL$1500, MATCH(0, IF(ISBLANK($AL$3:$AL$1500), 1, COUNTIF(AM$3:AM156, $AL$3:$AL$1500)), 0))","v":{"$error":"#N/A"}},""]
[{"$f":"IF(E160=\"\",\"\",GetAddress(E160))","v":""},{"$f":"IF(E160=\"\",\"\",GetAddress(E160))","v":""},null,null,null,null,null,null,null,null,null,null,null,null,null,null,null,null,null,null,null,null,null,null,null,null,null,null,null,0,0,0,0,0,0,0,"","",{"$f":"INDEX($AL$3:$AL$1500, MATCH(0, IF(ISBLANK($AL$3:$AL$1500), 1, COUNTIF(AM$3:AM157, $AL$3:$AL$1500)), 0))","v":{"$error":"#N/A"}},""]
[{"$f":"IF(E161=\"\",\"\",GetAddress(E161))","v":""},{"$f":"IF(E161=\"\",\"\",GetAddress(E161))","v":""},null,null,null,null,null,null,null,null,null,null,null,null,null,null,null,null,null,null,null,null,null,null,null,null,null,null,null,0,0,0,0,0,0,0,"","",{"$f":"INDEX($AL$3:$AL$1500, MATCH(0, IF(ISBLANK($AL$3:$AL$1500), 1, COUNTIF(AM$3:AM158, $AL$3:$AL$1500)), 0))","v":{"$error":"#N/A"}},""]
[{"$f":"IF(E162=\"\",\"\",GetAddress(E162))","v":""},{"$f":"IF(E162=\"\",\"\",GetAddress(E162))","v":""},null,null,null,null,null,null,null,null,null,null,null,null,null,null,null,null,null,null,null,null,null,null,null,null,null,null,null,0,0,0,0,0,0,0,"","",{"$f":"INDEX($AL$3:$AL$1500, MATCH(0, IF(ISBLANK($AL$3:$AL$1500), 1, COUNTIF(AM$3:AM159, $AL$3:$AL$1500)), 0))","v":{"$error":"#N/A"}},""]
[{"$f":"IF(E163=\"\",\"\",GetAddress(E163))","v":""},{"$f":"IF(E163=\"\",\"\",GetAddress(E163))","v":""},null,null,null,null,null,null,null,null,null,null,null,null,null,null,null,null,null,null,null,null,null,null,null,null,null,null,null,0,0,0,0,0,0,0,"","",{"$f":"INDEX($AL$3:$AL$1500, MATCH(0, IF(ISBLANK($AL$3:$AL$1500), 1, COUNTIF(AM$3:AM160, $AL$3:$AL$1500)), 0))","v":{"$error":"#N/A"}},""]
[{"$f":"IF(E164=\"\",\"\",GetAddress(E164))","v":""},{"$f":"IF(E164=\"\",\"\",GetAddress(E164))","v":""},null,null,null,null,null,null,null,null,null,null,null,null,null,null,null,null,null,null,null,null,null,null,null,null,null,null,null,0,0,0,0,0,0,0,"","",{"$f":"INDEX($AL$3:$AL$1500, MATCH(0, IF(ISBLANK($AL$3:$AL$1500), 1, COUNTIF(AM$3:AM161, $AL$3:$AL$1500)), 0))","v":{"$error":"#N/A"}},""]
[{"$f":"IF(E165=\"\",\"\",GetAddress(E165))","v":""},{"$f":"IF(E165=\"\",\"\",GetAddress(E165))","v":""},null,null,null,null,null,null,null,null,null,null,null,null,null,null,null,null,null,null,null,null,null,null,null,null,null,null,null,0,0,0,0,0,0,0,"","",{"$f":"INDEX($AL$3:$AL$1500, MATCH(0, IF(ISBLANK($AL$3:$AL$1500), 1, COUNTIF(AM$3:AM162, $AL$3:$AL$1500)), 0))","v":{"$error":"#N/A"}},""]
[{"$f":"IF(E166=\"\",\"\",GetAddress(E166))","v":""},{"$f":"IF(E166=\"\",\"\",GetAddress(E166))","v":""},null,null,null,null,null,null,null,null,null,null,null,null,null,null,null,null,null,null,null,null,null,null,null,null,null,null,null,0,0,0,0,0,0,0,"","",{"$f":"INDEX($AL$3:$AL$1500, MATCH(0, IF(ISBLANK($AL$3:$AL$1500), 1, COUNTIF(AM$3:AM163, $AL$3:$AL$1500)), 0))","v":{"$error":"#N/A"}},""]
[{"$f":"IF(E167=\"\",\"\",GetAddress(E167))","v":""},{"$f":"IF(E167=\"\",\"\",GetAddress(E167))","v":""},null,null,null,null,null,null,null,null,null,null,null,null,null,null,null,null,null,null,null,null,null,null,null,null,null,null,null,0,0,0,0,0,0,0,"","",{"$f":"INDEX($AL$3:$AL$1500, MATCH(0, IF(ISBLANK($AL$3:$AL$1500), 1, COUNTIF(AM$3:AM164, $AL$3:$AL$1500)), 0))","v":{"$error":"#N/A"}},""]
[{"$f":"IF(E168=\"\",\"\",GetAddress(E168))","v":""},{"$f":"IF(E168=\"\",\"\",GetAddress(E168))","v":""},null,null,null,null,null,null,null,null,null,null,null,null,null,null,null,null,null,null,null,null,null,null,null,null,null,null,null,0,0,0,0,0,0,0,"","",{"$f":"INDEX($AL$3:$AL$1500, MATCH(0, IF(ISBLANK($AL$3:$AL$1500), 1, COUNTIF(AM$3:AM165, $AL$3:$AL$1500)), 0))","v":{"$error":"#N/A"}},""]
[{"$f":"IF(E169=\"\",\"\",GetAddress(E169))","v":""},{"$f":"IF(E169=\"\",\"\",GetAddress(E169))","v":""},null,null,null,null,null,null,null,null,null,null,null,null,null,null,null,null,null,null,null,null,null,null,null,null,null,null,null,0,0,0,0,0,0,0,"","",{"$f":"INDEX($AL$3:$AL$1500, MATCH(0, IF(ISBLANK($AL$3:$AL$1500), 1, COUNTIF(AM$3:AM166, $AL$3:$AL$1500)), 0))","v":{"$error":"#N/A"}},""]
[{"$f":"IF(E170=\"\",\"\",GetAddress(E170))","v":""},{"$f":"IF(E170=\"\",\"\",GetAddress(E170))","v":""},null,null,null,null,null,null,null,null,null,null,null,null,null,null,null,null,null,null,null,null,null,null,null,null,null,null,null,0,0,0,0,0,0,0,"","",{"$f":"INDEX($AL$3:$AL$1500, MATCH(0, IF(ISBLANK($AL$3:$AL$1500), 1, COUNTIF(AM$3:AM167, $AL$3:$AL$1500)), 0))","v":{"$error":"#N/A"}},""]
[{"$f":"IF(E171=\"\",\"\",GetAddress(E171))","v":""},{"$f":"IF(E171=\"\",\"\",GetAddress(E171))","v":""},null,null,null,null,null,null,null,null,null,null,null,null,null,null,null,null,null,null,null,null,null,null,null,null,null,null,null,0,0,0,0,0,0,0,"","",{"$f":"INDEX($AL$3:$AL$1500, MATCH(0, IF(ISBLANK($AL$3:$AL$1500), 1, COUNTIF(AM$3:AM168, $AL$3:$AL$1500)), 0))","v":{"$error":"#N/A"}},""]
[{"$f":"IF(E172=\"\",\"\",GetAddress(E172))","v":""},{"$f":"IF(E172=\"\",\"\",GetAddress(E172))","v":""},null,null,null,null,null,null,null,null,null,null,null,null,null,null,null,null,null,null,null,null,null,null,null,null,null,null,null,0,0,0,0,0,0,0,"","",{"$f":"INDEX($AL$3:$AL$1500, MATCH(0, IF(ISBLANK($AL$3:$AL$1500), 1, COUNTIF(AM$3:AM169, $AL$3:$AL$1500)), 0))","v":{"$error":"#N/A"}},""]
[{"$f":"IF(E173=\"\",\"\",GetAddress(E173))","v":""},{"$f":"IF(E173=\"\",\"\",GetAddress(E173))","v":""},null,null,null,null,null,null,null,null,null,null,null,null,null,null,null,null,null,null,null,null,null,null,null,null,null,null,null,0,0,0,0,0,0,0,"","",{"$f":"INDEX($AL$3:$AL$1500, MATCH(0, IF(ISBLANK($AL$3:$AL$1500), 1, COUNTIF(AM$3:AM170, $AL$3:$AL$1500)), 0))","v":{"$error":"#N/A"}},""]
[{"$f":"IF(E174=\"\",\"\",GetAddress(E174))","v":""},{"$f":"IF(E174=\"\",\"\",GetAddress(E174))","v":""},null,null,null,null,null,null,null,null,null,null,null,null,null,null,null,null,null,null,null,null,null,null,null,null,null,null,null,0,0,0,0,0,0,0,"","",{"$f":"INDEX($AL$3:$AL$1500, MATCH(0, IF(ISBLANK($AL$3:$AL$1500), 1, COUNTIF(AM$3:AM171, $AL$3:$AL$1500)), 0))","v":{"$error":"#N/A"}},""]
[{"$f":"IF(E175=\"\",\"\",GetAddress(E175))","v":""},{"$f":"IF(E175=\"\",\"\",GetAddress(E175))","v":""},null,null,null,null,null,null,null,null,null,null,null,null,null,null,null,null,null,null,null,null,null,null,null,null,null,null,null,0,0,0,0,0,0,0,"","",{"$f":"INDEX($AL$3:$AL$1500, MATCH(0, IF(ISBLANK($AL$3:$AL$1500), 1, COUNTIF(AM$3:AM172, $AL$3:$AL$1500)), 0))","v":{"$error":"#N/A"}},""]
[{"$f":"IF(E176=\"\",\"\",GetAddress(E176))","v":""},{"$f":"IF(E176=\"\",\"\",GetAddress(E176))","v":""},null,null,null,null,null,null,null,null,null,null,null,null,null,null,null,null,null,null,null,null,null,null,null,null,null,null,null,0,0,0,0,0,0,0,"","",{"$f":"INDEX($AL$3:$AL$1500, MATCH(0, IF(ISBLANK($AL$3:$AL$1500), 1, COUNTIF(AM$3:AM173, $AL$3:$AL$1500)), 0))","v":{"$error":"#N/A"}},""]
[{"$f":"IF(E177=\"\",\"\",GetAddress(E177))","v":""},{"$f":"IF(E177=\"\",\"\",GetAddress(E177))","v":""},null,null,null,null,null,null,null,null,null,null,null,null,null,null,null,null,null,null,null,null,null,null,null,null,null,null,null,0,0,0,0,0,0,0,"","",{"$f":"INDEX($AL$3:$AL$1500, MATCH(0, IF(ISBLANK($AL$3:$AL$1500), 1, COUNTIF(AM$3:AM174, $AL$3:$AL$1500)), 0))","v":{"$error":"#N/A"}},""]
[{"$f":"IF(E178=\"\",\"\",GetAddress(E178))","v":""},{"$f":"IF(E178=\"\",\"\",GetAddress(E178))","v":""},null,null,null,null,null,null,null,null,null,null,null,null,null,null,null,null,null,null,null,null,null,null,null,null,null,null,null,0,0,0,0,0,0,0,"","",{"$f":"INDEX($AL$3:$AL$1500, MATCH(0, IF(ISBLANK($AL$3:$AL$1500), 1, COUNTIF(AM$3:AM175, $AL$3:$AL$1500)), 0))","v":{"$error":"#N/A"}},""]
[{"$f":"IF(E179=\"\",\"\",GetAddress(E179))","v":""},{"$f":"IF(E179=\"\",\"\",GetAddress(E179))","v":""},null,null,null,null,null,null,null,null,null,null,null,null,null,null,null,null,null,null,null,null,null,null,null,null,null,null,null,0,0,0,0,0,0,0,"","",{"$f":"INDEX($AL$3:$AL$1500, MATCH(0, IF(ISBLANK($AL$3:$AL$1500), 1, COUNTIF(AM$3:AM176, $AL$3:$AL$1500)), 0))","v":{"$error":"#N/A"}},""]
[{"$f":"IF(E180=\"\",\"\",GetAddress(E180))","v":""},{"$f":"IF(E180=\"\",\"\",GetAddress(E180))","v":""},null,null,null,null,null,null,null,null,null,null,null,null,null,null,null,null,null,null,null,null,null,null,null,null,null,null,null,0,0,0,0,0,0,0,"","",{"$f":"INDEX($AL$3:$AL$1500, MATCH(0, IF(ISBLANK($AL$3:$AL$1500), 1, COUNTIF(AM$3:AM177, $AL$3:$AL$1500)), 0))","v":{"$error":"#N/A"}},""]
[{"$f":"IF(E181=\"\",\"\",GetAddress(E181))","v":""},{"$f":"IF(E181=\"\",\"\",GetAddress(E181))","v":""},null,null,null,null,null,null,null,null,null,null,null,null,null,null,null,null,null,null,null,null,null,null,null,null,null,null,null,0,0,0,0,0,0,0,"","",{"$f":"INDEX($AL$3:$AL$1500, MATCH(0, IF(ISBLANK($AL$3:$AL$1500), 1, COUNTIF(AM$3:AM178, $AL$3:$AL$1500)), 0))","v":{"$error":"#N/A"}},""]
[{"$f":"IF(E182=\"\",\"\",GetAddress(E182))","v":""},{"$f":"IF(E182=\"\",\"\",GetAddress(E182))","v":""},null,null,null,null,null,null,null,null,null,null,null,null,null,null,null,null,null,null,null,null,null,null,null,null,null,null,null,0,0,0,0,0,0,0,"","",{"$f":"INDEX($AL$3:$AL$1500, MATCH(0, IF(ISBLANK($AL$3:$AL$1500), 1, COUNTIF(AM$3:AM179, $AL$3:$AL$1500)), 0))","v":{"$error":"#N/A"}},""]
[{"$f":"IF(E183=\"\",\"\",GetAddress(E183))","v":""},{"$f":"IF(E183=\"\",\"\",GetAddress(E183))","v":""},null,null,null,null,null,null,null,null,null,null,null,null,null,null,null,null,null,null,null,null,null,null,null,null,null,null,null,0,0,0,0,0,0,0,"","",{"$f":"INDEX($AL$3:$AL$1500, MATCH(0, IF(ISBLANK($AL$3:$AL$1500), 1, COUNTIF(AM$3:AM180, $AL$3:$AL$1500)), 0))","v":{"$error":"#N/A"}},""]
[{"$f":"IF(E184=\"\",\"\",GetAddress(E184))","v":""},{"$f":"IF(E184=\"\",\"\",GetAddress(E184))","v":""},null,null,null,null,null,null,null,null,null,null,null,null,null,null,null,null,null,null,null,null,null,null,null,null,null,null,null,0,0,0,0,0,0,0,"","",{"$f":"INDEX($AL$3:$AL$1500, MATCH(0, IF(ISBLANK($AL$3:$AL$1500), 1, COUNTIF(AM$3:AM181, $AL$3:$AL$1500)), 0))","v":{"$error":"#N/A"}},""]
[{"$f":"IF(E185=\"\",\"\",GetAddress(E185))","v":""},{"$f":"IF(E185=\"\",\"\",GetAddress(E185))","v":""},null,null,null,null,null,null,null,null,null,null,null,null,null,null,null,null,null,null,null,null,null,null,null,null,null,null,null,0,0,0,0,0,0,0,"","",{"$f":"INDEX($AL$3:$AL$1500, MATCH(0, IF(ISBLANK($AL$3:$AL$1500), 1, COUNTIF(AM$3:AM182, $AL$3:$AL$1500)), 0))","v":{"$error":"#N/A"}},""]
[{"$f":"IF(E186=\"\",\"\",GetAddress(E186))","v":""},{"$f":"IF(E186=\"\",\"\",GetAddress(E186))","v":""},null,null,null,null,null,null,null,null,null,null,null,null,null,null,null,null,null,null,null,null,null,null,null,null,null,null,null,0,0,0,0,0,0,0,"","",{"$f":"INDEX($AL$3:$AL$1500, MATCH(0, IF(ISBLANK($AL$3:$AL$1500), 1, COUNTIF(AM$3:AM183, $AL$3:$AL$1500)), 0))","v":{"$error":"#N/A"}},""]
[{"$f":"IF(E187=\"\",\"\",GetAddress(E187))","v":""},{"$f":"IF(E187=\"\",\"\",GetAddress(E187))","v":""},null,null,null,null,null,null,null,null,null,null,null,null,null,null,null,null,null,null,null,null,null,null,null,null,null,null,null,0,0,0,0,0,0,0,"","",{"$f":"INDEX($AL$3:$AL$1500, MATCH(0, IF(ISBLANK($AL$3:$AL$1500), 1, COUNTIF(AM$3:AM184, $AL$3:$AL$1500)), 0))","v":{"$error":"#N/A"}},""]
[{"$f":"IF(E188=\"\",\"\",GetAddress(E188))","v":""},{"$f":"IF(E188=\"\",\"\",GetAddress(E188))","v":""},null,null,null,null,null,null,null,null,null,null,null,null,null,null,null,null,null,null,null,null,null,null,null,null,null,null,null,0,0,0,0,0,0,0,"","",{"$f":"INDEX($AL$3:$AL$1500, MATCH(0, IF(ISBLANK($AL$3:$AL$1500), 1, COUNTIF(AM$3:AM185, $AL$3:$AL$1500)), 0))","v":{"$error":"#N/A"}},""]
[{"$f":"IF(E189=\"\",\"\",GetAddress(E189))","v":""},{"$f":"IF(E189=\"\",\"\",GetAddress(E189))","v":""},null,null,null,null,null,null,null,null,null,null,null,null,null,null,null,null,null,null,null,null,null,null,null,null,null,null,null,0,0,0,0,0,0,0,"","",{"$f":"INDEX($AL$3:$AL$1500, MATCH(0, IF(ISBLANK($AL$3:$AL$1500), 1, COUNTIF(AM$3:AM186, $AL$3:$AL$1500)), 0))","v":{"$error":"#N/A"}},""]
[{"$f":"IF(E190=\"\",\"\",GetAddress(E190))","v":""},{"$f":"IF(E190=\"\",\"\",GetAddress(E190))","v":""},null,null,null,null,null,null,null,null,null,null,null,null,null,null,null,null,null,null,null,null,null,null,null,null,null,null,null,0,0,0,0,0,0,0,"","",{"$f":"INDEX($AL$3:$AL$1500, MATCH(0, IF(ISBLANK($AL$3:$AL$1500), 1, COUNTIF(AM$3:AM187, $AL$3:$AL$1500)), 0))","v":{"$error":"#N/A"}},""]
[{"$f":"IF(E191=\"\",\"\",GetAddress(E191))","v":""},{"$f":"IF(E191=\"\",\"\",GetAddress(E191))","v":""},null,null,null,null,null,null,null,null,null,null,null,null,null,null,null,null,null,null,null,null,null,null,null,null,null,null,null,0,0,0,0,0,0,0,"","",{"$f":"INDEX($AL$3:$AL$1500, MATCH(0, IF(ISBLANK($AL$3:$AL$1500), 1, COUNTIF(AM$3:AM188, $AL$3:$AL$1500)), 0))","v":{"$error":"#N/A"}},""]
[{"$f":"IF(E192=\"\",\"\",GetAddress(E192))","v":""},{"$f":"IF(E192=\"\",\"\",GetAddress(E192))","v":""},null,null,null,null,null,null,null,null,null,null,null,null,null,null,null,null,null,null,null,null,null,null,null,null,null,null,null,0,0,0,0,0,0,0,"","",{"$f":"INDEX($AL$3:$AL$1500, MATCH(0, IF(ISBLANK($AL$3:$AL$1500), 1, COUNTIF(AM$3:AM189, $AL$3:$AL$1500)), 0))","v":{"$error":"#N/A"}},""]
[{"$f":"IF(E193=\"\",\"\",GetAddress(E193))","v":""},{"$f":"IF(E193=\"\",\"\",GetAddress(E193))","v":""},null,null,null,null,null,null,null,null,null,null,null,null,null,null,null,null,null,null,null,null,null,null,null,null,null,null,null,0,0,0,0,0,0,0,"","",{"$f":"INDEX($AL$3:$AL$1500, MATCH(0, IF(ISBLANK($AL$3:$AL$1500), 1, COUNTIF(AM$3:AM190, $AL$3:$AL$1500)), 0))","v":{"$error":"#N/A"}},""]
[{"$f":"IF(E194=\"\",\"\",GetAddress(E194))","v":""},{"$f":"IF(E194=\"\",\"\",GetAddress(E194))","v":""},null,null,null,null,null,null,null,null,null,null,null,null,null,null,null,null,null,null,null,null,null,null,null,null,null,null,null,0,0,0,0,0,0,0,"","",{"$f":"INDEX($AL$3:$AL$1500, MATCH(0, IF(ISBLANK($AL$3:$AL$1500), 1, COUNTIF(AM$3:AM191, $AL$3:$AL$1500)), 0))","v":{"$error":"#N/A"}},""]
[{"$f":"IF(E195=\"\",\"\",GetAddress(E195))","v":""},{"$f":"IF(E195=\"\",\"\",GetAddress(E195))","v":""},null,null,null,null,null,null,null,null,null,null,null,null,null,null,null,null,null,null,null,null,null,null,null,null,null,null,null,0,0,0,0,0,0,0,"","",{"$f":"INDEX($AL$3:$AL$1500, MATCH(0, IF(ISBLANK($AL$3:$AL$1500), 1, COUNTIF(AM$3:AM192, $AL$3:$AL$1500)), 0))","v":{"$error":"#N/A"}},""]
[{"$f":"IF(E196=\"\",\"\",GetAddress(E196))","v":""},{"$f":"IF(E196=\"\",\"\",GetAddress(E196))","v":""},null,null,null,null,null,null,null,null,null,null,null,null,null,null,null,null,null,null,null,null,null,null,null,null,null,null,null,0,0,0,0,0,0,0,"","",{"$f":"INDEX($AL$3:$AL$1500, MATCH(0, IF(ISBLANK($AL$3:$AL$1500), 1, COUNTIF(AM$3:AM193, $AL$3:$AL$1500)), 0))","v":{"$error":"#N/A"}},""]
[{"$f":"IF(E197=\"\",\"\",GetAddress(E197))","v":""},{"$f":"IF(E197=\"\",\"\",GetAddress(E197))","v":""},null,null,null,null,null,null,null,null,null,null,null,null,null,null,null,null,null,null,null,null,null,null,null,null,null,null,null,0,0,0,0,0,0,{"$f":"IF(AI195=\"Free A\",\"\",AI195)","v":0},{"$f":"IF(AJ195=0,\"\",AJ195)","v":""},{"$f":"IF(AK195=\"Free Agent\",\"\",AK195)","v":""},{"$f":"INDEX($AL$3:$AL$1500, MATCH(0, IF(ISBLANK($AL$3:$AL$1500), 1, COUNTIF(AM$3:AM194, $AL$3:$AL$1500)), 0))","v":{"$error":"#N/A"}},{"$f":"IF(ISERROR(AM195),\"\",AM195)","v":""}]
[{"$f":"IF(E198=\"\",\"\",GetAddress(E198))","v":""},{"$f":"IF(E198=\"\",\"\",GetAddress(E198))","v":""},null,null,null,null,null,null,null,null,null,null,null,null,null,null,null,null,null,null,null,null,null,null,null,null,null,null,null,0,0,0,0,0,0,0,"","",{"$f":"INDEX($AL$3:$AL$1500, MATCH(0, IF(ISBLANK($AL$3:$AL$1500), 1, COUNTIF(AM$3:AM195, $AL$3:$AL$1500)), 0))","v":{"$error":"#N/A"}},""]
[{"$f":"IF(E199=\"\",\"\",GetAddress(E199))","v":""},{"$f":"IF(E199=\"\",\"\",GetAddress(E199))","v":""},null,null,null,null,null,null,null,null,null,null,null,null,null,null,null,null,null,null,null,null,null,null,null,null,null,null,null,{"$f":"VALUE(IF(ISNUMBER(SEARCH(\"(P)\",Y197)),\"1\", \"0\"))","v":0},{"$f":"VALUE(IF(ISNUMBER(SEARCH(\"(Q)\",Y197)),\"1\", \"0\"))","v":0},{"$f":"VALUE(IF(ISNUMBER(SEARCH(\"(O)\",Y197)),\"1\", \"0\"))","v":0},{"$f":"VALUE(IF(ISNUMBER(SEARCH(\"(S)\",Y197)),\"1\", \"0\"))","v":0},{"$f":"VALUE(IF(ISNUMBER(SEARCH(\"Free Agent\",Y197)),\"1\", \"0\"))","v":0},{"$f":"IF(SUM(AD197:AH197)=0,Y197,LEFT(Y197,LEN(Y197)-4))","v":0},0,"","",{"$f":"INDEX($AL$3:$AL$1500, MATCH(0, IF(ISBLANK($AL$3:$AL$1500), 1, COUNTIF(AM$3:AM196, $AL$3:$AL$1500)), 0))","v":{"$error":"#N/A"}},""]
[{"$f":"IF(E200=\"\",\"\",GetAddress(E200))","v":""},{"$f":"IF(E200=\"\",\"\",GetAddress(E200))","v":""},null,null,null,null,null,null,null,null,null,null,null,null,null,null,null,null,null,null,null,null,null,null,null,null,null,null,null,0,0,0,0,0,0,0,"","",{"$f":"INDEX($AL$3:$AL$1500, MATCH(0, IF(ISBLANK($AL$3:$AL$1500), 1, COUNTIF(AM$3:AM197, $AL$3:$AL$1500)), 0))","v":{"$error":"#N/A"}},""]
[{"$f":"IF(E201=\"\",\"\",GetAddress(E201))","v":""},{"$f":"IF(E201=\"\",\"\",GetAddress(E201))","v":""},null,null,null,null,null,null,null,null,null,null,null,null,null,null,null,null,null,null,null,null,null,null,null,null,null,null,null,0,0,0,0,0,0,0,"","",{"$f":"INDEX($AL$3:$AL$1500, MATCH(0, IF(ISBLANK($AL$3:$AL$1500), 1, COUNTIF(AM$3:AM198, $AL$3:$AL$1500)), 0))","v":{"$error":"#N/A"}},""]
[{"$f":"IF(E202=\"\",\"\",GetAddress(E202))","v":""},{"$f":"IF(E202=\"\",\"\",GetAddress(E202))","v":""},null,null,null,null,null,null,null,null,null,null,null,null,null,null,null,null,null,null,null,null,null,null,null,null,null,null,null,0,0,0,0,0,0,0,"","",{"$f":"INDEX($AL$3:$AL$1500, MATCH(0, IF(ISBLANK($AL$3:$AL$1500), 1, COUNTIF(AM$3:AM199, $AL$3:$AL$1500)), 0))","v":{"$error":"#N/A"}},""]
[{"$f":"IF(E203=\"\",\"\",GetAddress(E203))","v":""},{"$f":"IF(E203=\"\",\"\",GetAddress(E203))","v":""},null,null,null,null,null,null,null,null,null,null,null,null,null,null,null,null,null,null,null,null,null,null,null,null,null,null,null,0,0,0,0,0,0,0,"","",{"$f":"INDEX($AL$3:$AL$1500, MATCH(0, IF(ISBLANK($AL$3:$AL$1500), 1, COUNTIF(AM$3:AM200, $AL$3:$AL$1500)), 0))","v":{"$error":"#N/A"}},""]
[{"$f":"IF(E204=\"\",\"\",GetAddress(E204))","v":""},{"$f":"IF(E204=\"\",\"\",GetAddress(E204))","v":""},null,null,null,null,null,null,null,null,null,null,null,null,null,null,null,null,null,null,null,null,null,null,null,null,null,null,null,0,0,0,0,0,0,0,"","",{"$f":"INDEX($AL$3:$AL$1500, MATCH(0, IF(ISBLANK($AL$3:$AL$1500), 1, COUNTIF(AM$3:AM201, $AL$3:$AL$1500)), 0))","v":{"$error":"#N/A"}},""]
[{"$f":"IF(E205=\"\",\"\",GetAddress(E205))","v":""},{"$f":"IF(E205=\"\",\"\",GetAddress(E205))","v":""},null,null,null,null,null,null,null,null,null,null,null,null,null,null,null,null,null,null,null,null,null,null,null,null,null,null,null,0,0,0,0,0,0,0,"","",{"$f":"INDEX($AL$3:$AL$1500, MATCH(0, IF(ISBLANK($AL$3:$AL$1500), 1, COUNTIF(AM$3:AM202, $AL$3:$AL$1500)), 0))","v":{"$error":"#N/A"}},""]
[{"$f":"IF(E206=\"\",\"\",GetAddress(E206))","v":""},{"$f":"IF(E206=\"\",\"\",GetAddress(E206))","v":""},null,null,null,null,null,null,null,null,null,null,null,null,null,null,null,null,null,null,null,null,null,null,null,null,null,null,null,0,0,0,0,0,0,0,"","",{"$f":"INDEX($AL$3:$AL$1500, MATCH(0, IF(ISBLANK($AL$3:$AL$1500), 1, COUNTIF(AM$3:AM203, $AL$3:$AL$1500)), 0))","v":{"$error":"#N/A"}},""]
[{"$f":"IF(E207=\"\",\"\",GetAddress(E207))","v":""},{"$f":"IF(E207=\"\",\"\",GetAddress(E207))","v":""},null,null,null,null,null,null,null,null,null,null,null,null,null,null,null,null,null,null,null,null,null,null,null,null,null,null,null,0,0,0,0,0,0,0,"","",{"$f":"INDEX($AL$3:$AL$1500, MATCH(0, IF(ISBLANK($AL$3:$AL$1500), 1, COUNTIF(AM$3:AM204, $AL$3:$AL$1500)), 0))","v":{"$error":"#N/A"}},""]
[{"$f":"IF(E208=\"\",\"\",GetAddress(E208))","v":""},{"$f":"IF(E208=\"\",\"\",GetAddress(E208))","v":""},null,null,null,null,null,null,null,null,null,null,null,null,null,null,null,null,null,null,null,null,null,null,null,null,null,null,null,0,0,0,0,0,0,0,"","",{"$f":"INDEX($AL$3:$AL$1500, MATCH(0, IF(ISBLANK($AL$3:$AL$1500), 1, COUNTIF(AM$3:AM205, $AL$3:$AL$1500)), 0))","v":{"$error":"#N/A"}},""]
[{"$f":"IF(E209=\"\",\"\",GetAddress(E209))","v":""},{"$f":"IF(E209=\"\",\"\",GetAddress(E209))","v":""},null,null,null,null,null,null,null,null,null,null,null,null,null,null,null,null,null,null,null,null,null,null,null,null,null,null,null,0,0,0,0,0,0,0,"","",{"$f":"INDEX($AL$3:$AL$1500, MATCH(0, IF(ISBLANK($AL$3:$AL$1500), 1, COUNTIF(AM$3:AM206, $AL$3:$AL$1500)), 0))","v":{"$error":"#N/A"}},""]
[{"$f":"IF(E210=\"\",\"\",GetAddress(E210))","v":""},{"$f":"IF(E210=\"\",\"\",GetAddress(E210))","v":""},null,null,null,null,null,null,null,null,null,null,null,null,null,null,null,null,null,null,null,null,null,null,null,null,null,null,null,0,0,0,0,0,0,0,"","",{"$f":"INDEX($AL$3:$AL$1500, MATCH(0, IF(ISBLANK($AL$3:$AL$1500), 1, COUNTIF(AM$3:AM207, $AL$3:$AL$1500)), 0))","v":{"$error":"#N/A"}},""]
[{"$f":"IF(E211=\"\",\"\",GetAddress(E211))","v":""},{"$f":"IF(E211=\"\",\"\",GetAddress(E211))","v":""},null,null,null,null,null,null,null,null,null,null,null,null,null,null,null,null,null,null,null,null,null,null,null,null,null,null,null,0,0,0,0,0,0,0,"","",{"$f":"INDEX($AL$3:$AL$1500, MATCH(0, IF(ISBLANK($AL$3:$AL$1500), 1, COUNTIF(AM$3:AM208, $AL$3:$AL$1500)), 0))","v":{"$error":"#N/A"}},""]
[{"$f":"IF(E212=\"\",\"\",GetAddress(E212))","v":""},{"$f":"IF(E212=\"\",\"\",GetAddress(E212))","v":""},null,null,null,null,null,null,null,null,null,null,null,null,null,null,null,null,null,null,null,null,null,null,null,null,null,null,null,0,0,0,0,0,0,0,"","",{"$f":"INDEX($AL$3:$AL$1500, MATCH(0, IF(ISBLANK($AL$3:$AL$1500), 1, COUNTIF(AM$3:AM209, $AL$3:$AL$1500)), 0))","v":{"$error":"#N/A"}},""]
[{"$f":"IF(E213=\"\",\"\",GetAddress(E213))","v":""},{"$f":"IF(E213=\"\",\"\",GetAddress(E213))","v":""},null,null,null,null,null,null,null,null,null,null,null,null,null,null,null,null,null,null,null,null,null,null,null,null,null,null,null,0,0,0,0,0,0,0,"","",{"$f":"INDEX($AL$3:$AL$1500, MATCH(0, IF(ISBLANK($AL$3:$AL$1500), 1, COUNTIF(AM$3:AM210, $AL$3:$AL$1500)), 0))","v":{"$error":"#N/A"}},""]
[{"$f":"IF(E214=\"\",\"\",GetAddress(E214))","v":""},{"$f":"IF(E214=\"\",\"\",GetAddress(E214))","v":""},null,null,null,null,null,null,null,null,null,null,null,null,null,null,null,null,null,null,null,null,null,null,null,null,null,null,null,0,0,0,0,0,0,0,"","",{"$f":"INDEX($AL$3:$AL$1500, MATCH(0, IF(ISBLANK($AL$3:$AL$1500), 1, COUNTIF(AM$3:AM211, $AL$3:$AL$1500)), 0))","v":{"$error":"#N/A"}},""]
[{"$f":"IF(E215=\"\",\"\",GetAddress(E215))","v":""},{"$f":"IF(E215=\"\",\"\",GetAddress(E215))","v":""},null,null,null,null,null,null,null,null,null,null,null,null,null,null,null,null,null,null,null,null,null,null,null,null,null,null,null,0,0,0,0,0,0,0,"","",{"$f":"INDEX($AL$3:$AL$1500, MATCH(0, IF(ISBLANK($AL$3:$AL$1500), 1, COUNTIF(AM$3:AM212, $AL$3:$AL$1500)), 0))","v":{"$error":"#N/A"}},""]
[{"$f":"IF(E216=\"\",\"\",GetAddress(E216))","v":""},{"$f":"IF(E216=\"\",\"\",GetAddress(E216))","v":""},null,null,null,null,null,null,null,null,null,null,null,null,null,null,null,null,null,null,null,null,null,null,null,null,null,null,null,0,0,0,0,0,0,0,"","",{"$f":"INDEX($AL$3:$AL$1500, MATCH(0, IF(ISBLANK($AL$3:$AL$1500), 1, COUNTIF(AM$3:AM213, $AL$3:$AL$1500)), 0))","v":{"$error":"#N/A"}},""]
[{"$f":"IF(E217=\"\",\"\",GetAddress(E217))","v":""},{"$f":"IF(E217=\"\",\"\",GetAddress(E217))","v":""},null,null,null,null,null,null,null,null,null,null,null,null,null,null,null,null,null,null,null,null,null,null,null,null,null,null,null,0,0,0,0,0,0,0,"","",{"$f":"INDEX($AL$3:$AL$1500, MATCH(0, IF(ISBLANK($AL$3:$AL$1500), 1, COUNTIF(AM$3:AM214, $AL$3:$AL$1500)), 0))","v":{"$error":"#N/A"}},""]
[{"$f":"IF(E218=\"\",\"\",GetAddress(E218))","v":""},{"$f":"IF(E218=\"\",\"\",GetAddress(E218))","v":""},null,null,null,null,null,null,null,null,null,null,null,null,null,null,null,null,null,null,null,null,null,null,null,null,null,null,null,0,0,0,0,0,0,0,"","",{"$f":"INDEX($AL$3:$AL$1500, MATCH(0, IF(ISBLANK($AL$3:$AL$1500), 1, COUNTIF(AM$3:AM215, $AL$3:$AL$1500)), 0))","v":{"$error":"#N/A"}},""]
[{"$f":"IF(E219=\"\",\"\",GetAddress(E219))","v":""},{"$f":"IF(E219=\"\",\"\",GetAddress(E219))","v":""},null,null,null,null,null,null,null,null,null,null,null,null,null,null,null,null,null,null,null,null,null,null,null,null,null,null,null,0,0,0,0,0,0,0,"","",{"$f":"INDEX($AL$3:$AL$1500, MATCH(0, IF(ISBLANK($AL$3:$AL$1500), 1, COUNTIF(AM$3:AM216, $AL$3:$AL$1500)), 0))","v":{"$error":"#N/A"}},""]
[{"$f":"IF(E220=\"\",\"\",GetAddress(E220))","v":""},{"$f":"IF(E220=\"\",\"\",GetAddress(E220))","v":""},null,null,null,null,null,null,null,null,null,null,null,null,null,null,null,null,null,null,null,null,null,null,null,null,null,null,null,0,0,0,0,0,0,0,"","",{"$f":"INDEX($AL$3:$AL$1500, MATCH(0, IF(ISBLANK($AL$3:$AL$1500), 1, COUNTIF(AM$3:AM217, $AL$3:$AL$1500)), 0))","v":{"$error":"#N/A"}},""]
[{"$f":"IF(E221=\"\",\"\",GetAddress(E221))","v":""},{"$f":"IF(E221=\"\",\"\",GetAddress(E221))","v":""},null,null,null,null,null,null,null,null,null,null,null,null,null,null,null,null,null,null,null,null,null,null,null,null,null,null,null,0,0,0,0,0,0,0,"","",{"$f":"INDEX($AL$3:$AL$1500, MATCH(0, IF(ISBLANK($AL$3:$AL$1500), 1, COUNTIF(AM$3:AM218, $AL$3:$AL$1500)), 0))","v":{"$error":"#N/A"}},""]
[{"$f":"IF(E222=\"\",\"\",GetAddress(E222))","v":""},{"$f":"IF(E222=\"\",\"\",GetAddress(E222))","v":""},null,null,null,null,null,null,null,null,null,null,null,null,null,null,null,null,null,null,null,null,null,null,null,null,null,null,null,0,0,0,0,0,0,0,"","",{"$f":"INDEX($AL$3:$AL$1500, MATCH(0, IF(ISBLANK($AL$3:$AL$1500), 1, COUNTIF(AM$3:AM219, $AL$3:$AL$1500)), 0))","v":{"$error":"#N/A"}},""]
[{"$f":"IF(E223=\"\",\"\",GetAddress(E223))","v":""},{"$f":"IF(E223=\"\",\"\",GetAddress(E223))","v":""},null,null,null,null,null,null,null,null,null,null,null,null,null,null,null,null,null,null,null,null,null,null,null,null,null,null,null,0,0,0,0,0,0,0,"","",{"$f":"INDEX($AL$3:$AL$1500, MATCH(0, IF(ISBLANK($AL$3:$AL$1500), 1, COUNTIF(AM$3:AM220, $AL$3:$AL$1500)), 0))","v":{"$error":"#N/A"}},""]
[{"$f":"IF(E224=\"\",\"\",GetAddress(E224))","v":""},{"$f":"IF(E224=\"\",\"\",GetAddress(E224))","v":""},null,null,null,null,null,null,null,null,null,null,null,null,null,null,null,null,null,null,null,null,null,null,null,null,null,null,null,0,0,0,0,0,0,0,"","",{"$f":"INDEX($AL$3:$AL$1500, MATCH(0, IF(ISBLANK($AL$3:$AL$1500), 1, COUNTIF(AM$3:AM221, $AL$3:$AL$1500)), 0))","v":{"$error":"#N/A"}},""]
[{"$f":"IF(E225=\"\",\"\",GetAddress(E225))","v":""},{"$f":"IF(E225=\"\",\"\",GetAddress(E225))","v":""},null,null,null,null,null,null,null,null,null,null,null,null,null,null,null,null,null,null,null,null,null,null,null,null,null,null,null,0,0,0,0,0,0,0,"","",{"$f":"INDEX($AL$3:$AL$1500, MATCH(0, IF(ISBLANK($AL$3:$AL$1500), 1, COUNTIF(AM$3:AM222, $AL$3:$AL$1500)), 0))","v":{"$error":"#N/A"}},""]
[{"$f":"IF(E226=\"\",\"\",GetAddress(E226))","v":""},{"$f":"IF(E226=\"\",\"\",GetAddress(E226))","v":""},null,null,null,null,null,null,null,null,null,null,null,null,null,null,null,null,null,null,null,null,null,null,null,null,null,null,null,0,0,0,0,0,0,0,"","",{"$f":"INDEX($AL$3:$AL$1500, MATCH(0, IF(ISBLANK($AL$3:$AL$1500), 1, COUNTIF(AM$3:AM223, $AL$3:$AL$1500)), 0))","v":{"$error":"#N/A"}},""]
[{"$f":"IF(E227=\"\",\"\",GetAddress(E227))","v":""},{"$f":"IF(E227=\"\",\"\",GetAddress(E227))","v":""},null,null,null,null,null,null,null,null,null,null,null,null,null,null,null,null,null,null,null,null,null,null,null,null,null,null,null,0,0,0,0,0,0,0,"","",{"$f":"INDEX($AL$3:$AL$1500, MATCH(0, IF(ISBLANK($AL$3:$AL$1500), 1, COUNTIF(AM$3:AM224, $AL$3:$AL$1500)), 0))","v":{"$error":"#N/A"}},""]
[{"$f":"IF(E228=\"\",\"\",GetAddress(E228))","v":""},{"$f":"IF(E228=\"\",\"\",GetAddress(E228))","v":""},null,null,null,null,null,null,null,null,null,null,null,null,null,null,null,null,null,null,null,null,null,null,null,null,null,null,null,0,0,0,0,0,0,0,"","",{"$f":"INDEX($AL$3:$AL$1500, MATCH(0, IF(ISBLANK($AL$3:$AL$1500), 1, COUNTIF(AM$3:AM225, $AL$3:$AL$1500)), 0))","v":{"$error":"#N/A"}},""]
[{"$f":"IF(E229=\"\",\"\",GetAddress(E229))","v":""},{"$f":"IF(E229=\"\",\"\",GetAddress(E229))","v":""},null,null,null,null,null,null,null,null,null,null,null,null,null,null,null,null,null,null,null,null,null,null,null,null,null,null,null,0,0,0,0,0,0,0,"","",{"$f":"INDEX($AL$3:$AL$1500, MATCH(0, IF(ISBLANK($AL$3:$AL$1500), 1, COUNTIF(AM$3:AM226, $AL$3:$AL$1500)), 0))","v":{"$error":"#N/A"}},""]
[{"$f":"IF(E230=\"\",\"\",GetAddress(E230))","v":""},{"$f":"IF(E230=\"\",\"\",GetAddress(E230))","v":""},null,null,null,null,null,null,null,null,null,null,null,null,null,null,null,null,null,null,null,null,null,null,null,null,null,null,null,0,0,0,0,0,0,0,"","",{"$f":"INDEX($AL$3:$AL$1500, MATCH(0, IF(ISBLANK($AL$3:$AL$1500), 1, COUNTIF(AM$3:AM227, $AL$3:$AL$1500)), 0))","v":{"$error":"#N/A"}},""]
[{"$f":"IF(E231=\"\",\"\",GetAddress(E231))","v":""},{"$f":"IF(E231=\"\",\"\",GetAddress(E231))","v":""},null,null,null,null,null,null,null,null,null,null,null,null,null,null,null,null,null,null,null,null,null,null,null,null,null,null,null,0,0,0,0,0,0,0,"","",{"$f":"INDEX($AL$3:$AL$1500, MATCH(0, IF(ISBLANK($AL$3:$AL$1500), 1, COUNTIF(AM$3:AM228, $AL$3:$AL$1500)), 0))","v":{"$error":"#N/A"}},""]
[{"$f":"IF(E232=\"\",\"\",GetAddress(E232))","v":""},{"$f":"IF(E232=\"\",\"\",GetAddress(E232))","v":""},null,null,null,null,null,null,null,null,null,null,null,null,null,null,null,null,null,null,null,null,null,null,null,null,null,null,null,0,0,0,0,0,0,0,"","",{"$f":"INDEX($AL$3:$AL$1500, MATCH(0, IF(ISBLANK($AL$3:$AL$1500), 1, COUNTIF(AM$3:AM229, $AL$3:$AL$1500)), 0))","v":{"$error":"#N/A"}},""]
[{"$f":"IF(E233=\"\",\"\",GetAddress(E233))","v":""},{"$f":"IF(E233=\"\",\"\",GetAddress(E233))","v":""},null,null,null,null,null,null,null,null,null,null,null,null,null,null,null,null,null,null,null,null,null,null,null,null,null,null,null,0,0,0,0,0,0,0,"","",{"$f":"INDEX($AL$3:$AL$1500, MATCH(0, IF(ISBLANK($AL$3:$AL$1500), 1, COUNTIF(AM$3:AM230, $AL$3:$AL$1500)), 0))","v":{"$error":"#N/A"}},""]
[{"$f":"IF(E234=\"\",\"\",GetAddress(E234))","v":""},{"$f":"IF(E234=\"\",\"\",GetAddress(E234))","v":""},null,null,null,null,null,null,null,null,null,null,null,null,null,null,null,null,null,null,null,null,null,null,null,null,null,null,null,0,0,0,0,0,0,0,"","",{"$f":"INDEX($AL$3:$AL$1500, MATCH(0, IF(ISBLANK($AL$3:$AL$1500), 1, COUNTIF(AM$3:AM231, $AL$3:$AL$1500)), 0))","v":{"$error":"#N/A"}},""]
[{"$f":"IF(E235=\"\",\"\",GetAddress(E235))","v":""},{"$f":"IF(E235=\"\",\"\",GetAddress(E235))","v":""},null,null,null,null,null,null,null,null,null,null,null,null,null,null,null,null,null,null,null,null,null,null,null,null,null,null,null,0,0,0,0,0,0,0,"","",{"$f":"INDEX($AL$3:$AL$1500, MATCH(0, IF(ISBLANK($AL$3:$AL$1500), 1, COUNTIF(AM$3:AM232, $AL$3:$AL$1500)), 0))","v":{"$error":"#N/A"}},""]
[{"$f":"IF(E236=\"\",\"\",GetAddress(E236))","v":""},{"$f":"IF(E236=\"\",\"\",GetAddress(E236))","v":""},null,null,null,null,null,null,null,null,null,null,null,null,null,null,null,null,null,null,null,null,null,null,null,null,null,null,null,0,0,0,0,0,0,0,"","",{"$f":"INDEX($AL$3:$AL$1500, MATCH(0, IF(ISBLANK($AL$3:$AL$1500), 1, COUNTIF(AM$3:AM233, $AL$3:$AL$1500)), 0))","v":{"$error":"#N/A"}},""]
[{"$f":"IF(E237=\"\",\"\",GetAddress(E237))","v":""},{"$f":"IF(E237=\"\",\"\",GetAddress(E237))","v":""},null,null,null,null,null,null,null,null,null,null,null,null,null,null,null,null,null,null,null,null,null,null,null,null,null,null,null,0,0,0,0,0,0,0,"","",{"$f":"INDEX($AL$3:$AL$1500, MATCH(0, IF(ISBLANK($AL$3:$AL$1500), 1, COUNTIF(AM$3:AM234, $AL$3:$AL$1500)), 0))","v":{"$error":"#N/A"}},""]
[{"$f":"IF(E238=\"\",\"\",GetAddress(E238))","v":""},{"$f":"IF(E238=\"\",\"\",GetAddress(E238))","v":""},null,null,null,null,null,null,null,null,null,null,null,null,null,null,null,null,null,null,null,null,null,null,null,null,null,null,null,0,0,0,0,0,0,0,"","",{"$f":"INDEX($AL$3:$AL$1500, MATCH(0, IF(ISBLANK($AL$3:$AL$1500), 1, COUNTIF(AM$3:AM235, $AL$3:$AL$1500)), 0))","v":{"$error":"#N/A"}},""]
[{"$f":"IF(E239=\"\",\"\",GetAddress(E239))","v":""},{"$f":"IF(E239=\"\",\"\",GetAddress(E239))","v":""},null,null,null,null,null,null,null,null,null,null,null,null,null,null,null,null,null,null,null,null,null,null,null,null,null,null,null,0,0,0,0,0,0,0,"","",{"$f":"INDEX($AL$3:$AL$1500, MATCH(0, IF(ISBLANK($AL$3:$AL$1500), 1, COUNTIF(AM$3:AM236, $AL$3:$AL$1500)), 0))","v":{"$error":"#N/A"}},""]
[{"$f":"IF(E240=\"\",\"\",GetAddress(E240))","v":""},{"$f":"IF(E240=\"\",\"\",GetAddress(E240))","v":""},null,null,null,null,null,null,null,null,null,null,null,null,null,null,null,null,null,null,null,null,null,null,null,null,null,null,null,0,0,0,0,0,0,0,"","",{"$f":"INDEX($AL$3:$AL$1500, MATCH(0, IF(ISBLANK($AL$3:$AL$1500), 1, COUNTIF(AM$3:AM237, $AL$3:$AL$1500)), 0))","v":{"$error":"#N/A"}},""]
[{"$f":"IF(E241=\"\",\"\",GetAddress(E241))","v":""},{"$f":"IF(E241=\"\",\"\",GetAddress(E241))","v":""},null,null,null,null,null,null,null,null,null,null,null,null,null,null,null,null,null,null,null,null,null,null,null,null,null,null,null,0,0,0,0,0,0,0,"","",{"$f":"INDEX($AL$3:$AL$1500, MATCH(0, IF(ISBLANK($AL$3:$AL$1500), 1, COUNTIF(AM$3:AM238, $AL$3:$AL$1500)), 0))","v":{"$error":"#N/A"}},""]
[{"$f":"IF(E242=\"\",\"\",GetAddress(E242))","v":""},{"$f":"IF(E242=\"\",\"\",GetAddress(E242))","v":""},null,null,null,null,null,null,null,null,null,null,null,null,null,null,null,null,null,null,null,null,null,null,null,null,null,null,null,0,0,0,0,0,0,0,"","",{"$f":"INDEX($AL$3:$AL$1500, MATCH(0, IF(ISBLANK($AL$3:$AL$1500), 1, COUNTIF(AM$3:AM239, $AL$3:$AL$1500)), 0))","v":{"$error":"#N/A"}},""]
[{"$f":"IF(E243=\"\",\"\",GetAddress(E243))","v":""},{"$f":"IF(E243=\"\",\"\",GetAddress(E243))","v":""},null,null,null,null,null,null,null,null,null,null,null,null,null,null,null,null,null,null,null,null,null,null,null,null,null,null,null,0,0,0,0,0,0,0,"","",{"$f":"INDEX($AL$3:$AL$1500, MATCH(0, IF(ISBLANK($AL$3:$AL$1500), 1, COUNTIF(AM$3:AM240, $AL$3:$AL$1500)), 0))","v":{"$error":"#N/A"}},""]
[{"$f":"IF(E244=\"\",\"\",GetAddress(E244))","v":""},{"$f":"IF(E244=\"\",\"\",GetAddress(E244))","v":""},null,null,null,null,null,null,null,null,null,null,null,null,null,null,null,null,null,null,null,null,null,null,null,null,null,null,null,0,0,0,0,0,0,0,"","",{"$f":"INDEX($AL$3:$AL$1500, MATCH(0, IF(ISBLANK($AL$3:$AL$1500), 1, COUNTIF(AM$3:AM241, $AL$3:$AL$1500)), 0))","v":{"$error":"#N/A"}},""]
[{"$f":"IF(E245=\"\",\"\",GetAddress(E245))","v":""},{"$f":"IF(E245=\"\",\"\",GetAddress(E245))","v":""},null,null,null,null,null,null,null,null,null,null,null,null,null,null,null,null,null,null,null,null,null,null,null,null,null,null,null,0,0,0,0,0,0,0,"","",{"$f":"INDEX($AL$3:$AL$1500, MATCH(0, IF(ISBLANK($AL$3:$AL$1500), 1, COUNTIF(AM$3:AM242, $AL$3:$AL$1500)), 0))","v":{"$error":"#N/A"}},""]
[{"$f":"IF(E246=\"\",\"\",GetAddress(E246))","v":""},{"$f":"IF(E246=\"\",\"\",GetAddress(E246))","v":""},null,null,null,null,null,null,null,null,null,null,null,null,null,null,null,null,null,null,null,null,null,null,null,null,null,null,null,0,0,0,0,0,0,0,"","",{"$f":"INDEX($AL$3:$AL$1500, MATCH(0, IF(ISBLANK($AL$3:$AL$1500), 1, COUNTIF(AM$3:AM243, $AL$3:$AL$1500)), 0))","v":{"$error":"#N/A"}},""]
[{"$f":"IF(E247=\"\",\"\",GetAddress(E247))","v":""},{"$f":"IF(E247=\"\",\"\",GetAddress(E247))","v":""},null,null,null,null,null,null,null,null,null,null,null,null,null,null,null,null,null,null,null,null,null,null,null,null,null,null,null,0,0,0,0,0,0,0,"","",{"$f":"INDEX($AL$3:$AL$1500, MATCH(0, IF(ISBLANK($AL$3:$AL$1500), 1, COUNTIF(AM$3:AM244, $AL$3:$AL$1500)), 0))","v":{"$error":"#N/A"}},""]
[{"$f":"IF(E248=\"\",\"\",GetAddress(E248))","v":""},{"$f":"IF(E248=\"\",\"\",GetAddress(E248))","v":""},null,null,null,null,null,null,null,null,null,null,null,null,null,null,null,null,null,null,null,null,null,null,null,null,null,null,null,0,0,0,0,0,0,0,"","",{"$f":"INDEX($AL$3:$AL$1500, MATCH(0, IF(ISBLANK($AL$3:$AL$1500), 1, COUNTIF(AM$3:AM245, $AL$3:$AL$1500)), 0))","v":{"$error":"#N/A"}},""]
[{"$f":"IF(E249=\"\",\"\",GetAddress(E249))","v":""},{"$f":"IF(E249=\"\",\"\",GetAddress(E249))","v":""},null,null,null,null,null,null,null,null,null,null,null,null,null,null,null,null,null,null,null,null,null,null,null,null,null,null,null,0,0,0,0,0,0,0,"","",{"$f":"INDEX($AL$3:$AL$1500, MATCH(0, IF(ISBLANK($AL$3:$AL$1500), 1, COUNTIF(AM$3:AM246, $AL$3:$AL$1500)), 0))","v":{"$error":"#N/A"}},""]
[{"$f":"IF(E250=\"\",\"\",GetAddress(E250))","v":""},{"$f":"IF(E250=\"\",\"\",GetAddress(E250))","v":""},null,null,null,null,null,null,null,null,null,null,null,null,null,null,null,null,null,null,null,null,null,null,null,null,null,null,null,0,0,0,0,0,0,0,"","",{"$f":"INDEX($AL$3:$AL$1500, MATCH(0, IF(ISBLANK($AL$3:$AL$1500), 1, COUNTIF(AM$3:AM247, $AL$3:$AL$1500)), 0))","v":{"$error":"#N/A"}},""]
[{"$f":"IF(E251=\"\",\"\",GetAddress(E251))","v":""},{"$f":"IF(E251=\"\",\"\",GetAddress(E251))","v":""},null,null,null,null,null,null,null,null,null,null,null,null,null,null,null,null,null,null,null,null,null,null,null,null,null,null,null,0,0,0,0,0,0,0,"","",{"$f":"INDEX($AL$3:$AL$1500, MATCH(0, IF(ISBLANK($AL$3:$AL$1500), 1, COUNTIF(AM$3:AM248, $AL$3:$AL$1500)), 0))","v":{"$error":"#N/A"}},""]
[{"$f":"IF(E252=\"\",\"\",GetAddress(E252))","v":""},{"$f":"IF(E252=\"\",\"\",GetAddress(E252))","v":""},null,null,null,null,null,null,null,null,null,null,null,null,null,null,null,null,null,null,null,null,null,null,null,null,null,null,null,0,0,0,0,0,0,0,"","",{"$f":"INDEX($AL$3:$AL$1500, MATCH(0, IF(ISBLANK($AL$3:$AL$1500), 1, COUNTIF(AM$3:AM249, $AL$3:$AL$1500)), 0))","v":{"$error":"#N/A"}},""]
[{"$f":"IF(E253=\"\",\"\",GetAddress(E253))","v":""},{"$f":"IF(E253=\"\",\"\",GetAddress(E253))","v":""},null,null,null,null,null,null,null,null,null,null,null,null,null,null,null,null,null,null,null,null,null,null,null,null,null,null,null,0,0,0,0,0,0,0,"","",{"$f":"INDEX($AL$3:$AL$1500, MATCH(0, IF(ISBLANK($AL$3:$AL$1500), 1, COUNTIF(AM$3:AM250, $AL$3:$AL$1500)), 0))","v":{"$error":"#N/A"}},""]
[{"$f":"IF(E254=\"\",\"\",GetAddress(E254))","v":""},{"$f":"IF(E254=\"\",\"\",GetAddress(E254))","v":""},null,null,null,null,null,null,null,null,null,null,null,null,null,null,null,null,null,null,null,null,null,null,null,null,null,null,null,0,0,0,0,0,0,0,"","",{"$f":"INDEX($AL$3:$AL$1500, MATCH(0, IF(ISBLANK($AL$3:$AL$1500), 1, COUNTIF(AM$3:AM251, $AL$3:$AL$1500)), 0))","v":{"$error":"#N/A"}},""]
[{"$f":"IF(E255=\"\",\"\",GetAddress(E255))","v":""},{"$f":"IF(E255=\"\",\"\",GetAddress(E255))","v":""},null,null,null,null,null,null,null,null,null,null,null,null,null,null,null,null,null,null,null,null,null,null,null,null,null,null,null,0,0,0,0,0,0,0,"","",{"$f":"INDEX($AL$3:$AL$1500, MATCH(0, IF(ISBLANK($AL$3:$AL$1500), 1, COUNTIF(AM$3:AM252, $AL$3:$AL$1500)), 0))","v":{"$error":"#N/A"}},""]
[{"$f":"IF(E256=\"\",\"\",GetAddress(E256))","v":""},{"$f":"IF(E256=\"\",\"\",GetAddress(E256))","v":""},null,null,null,null,null,null,null,null,null,null,null,null,null,null,null,null,null,null,null,null,null,null,null,null,null,null,null,0,0,0,0,0,0,0,"","",{"$f":"INDEX($AL$3:$AL$1500, MATCH(0, IF(ISBLANK($AL$3:$AL$1500), 1, COUNTIF(AM$3:AM253, $AL$3:$AL$1500)), 0))","v":{"$error":"#N/A"}},""]
[{"$f":"IF(E257=\"\",\"\",GetAddress(E257))","v":""},{"$f":"IF(E257=\"\",\"\",GetAddress(E257))","v":""},null,null,null,null,null,null,null,null,null,null,null,null,null,null,null,null,null,null,null,null,null,null,null,null,null,null,null,0,0,0,0,0,0,0,"","",{"$f":"INDEX($AL$3:$AL$1500, MATCH(0, IF(ISBLANK($AL$3:$AL$1500), 1, COUNTIF(AM$3:AM254, $AL$3:$AL$1500)), 0))","v":{"$error":"#N/A"}},""]
[{"$f":"IF(E258=\"\",\"\",GetAddress(E258))","v":""},{"$f":"IF(E258=\"\",\"\",GetAddress(E258))","v":""},null,null,null,null,null,null,null,null,null,null,null,null,null,null,null,null,null,null,null,null,null,null,null,null,null,null,null,0,0,0,0,0,0,0,"","",{"$f":"INDEX($AL$3:$AL$1500, MATCH(0, IF(ISBLANK($AL$3:$AL$1500), 1, COUNTIF(AM$3:AM255, $AL$3:$AL$1500)), 0))","v":{"$error":"#N/A"}},""]
[{"$f":"IF(E259=\"\",\"\",GetAddress(E259))","v":""},{"$f":"IF(E259=\"\",\"\",GetAddress(E259))","v":""},null,null,null,null,null,null,null,null,null,null,null,null,null,null,null,null,null,null,null,null,null,null,null,null,null,null,null,0,0,0,0,0,0,0,"","",{"$f":"INDEX($AL$3:$AL$1500, MATCH(0, IF(ISBLANK($AL$3:$AL$1500), 1, COUNTIF(AM$3:AM256, $AL$3:$AL$1500)), 0))","v":{"$error":"#N/A"}},""]
[{"$f":"IF(E260=\"\",\"\",GetAddress(E260))","v":""},{"$f":"IF(E260=\"\",\"\",GetAddress(E260))","v":""},null,null,null,null,null,null,null,null,null,null,null,null,null,null,null,null,null,null,null,null,null,null,null,null,null,null,null,0,0,0,0,0,0,0,"","",{"$f":"INDEX($AL$3:$AL$1500, MATCH(0, IF(ISBLANK($AL$3:$AL$1500), 1, COUNTIF(AM$3:AM257, $AL$3:$AL$1500)), 0))","v":{"$error":"#N/A"}},""]
[{"$f":"IF(E261=\"\",\"\",GetAddress(E261))","v":""},{"$f":"IF(E261=\"\",\"\",GetAddress(E261))","v":""},null,null,null,null,null,null,null,null,null,null,null,null,null,null,null,null,null,null,null,null,null,null,null,null,null,null,null,0,0,0,0,0,0,{"$f":"IF(AI259=\"Free A\",\"\",AI259)","v":0},{"$f":"IF(AJ259=0,\"\",AJ259)","v":""},{"$f":"IF(AK259=\"Free Agent\",\"\",AK259)","v":""},{"$f":"INDEX($AL$3:$AL$1500, MATCH(0, IF(ISBLANK($AL$3:$AL$1500), 1, COUNTIF(AM$3:AM258, $AL$3:$AL$1500)), 0))","v":{"$error":"#N/A"}},{"$f":"IF(ISERROR(AM259),\"\",AM259)","v":""}]
[{"$f":"IF(E262=\"\",\"\",GetAddress(E262))","v":""},{"$f":"IF(E262=\"\",\"\",GetAddress(E262))","v":""},null,null,null,null,null,null,null,null,null,null,null,null,null,null,null,null,null,null,null,null,null,null,null,null,null,null,null,0,0,0,0,0,0,0,"","",{"$f":"INDEX($AL$3:$AL$1500, MATCH(0, IF(ISBLANK($AL$3:$AL$1500), 1, COUNTIF(AM$3:AM259, $AL$3:$AL$1500)), 0))","v":{"$error":"#N/A"}},""]
[{"$f":"IF(E263=\"\",\"\",GetAddress(E263))","v":""},{"$f":"IF(E263=\"\",\"\",GetAddress(E263))","v":""},null,null,null,null,null,null,null,null,null,null,null,null,null,null,null,null,null,null,null,null,null,null,null,null,null,null,null,{"$f":"VALUE(IF(ISNUMBER(SEARCH(\"(P)\",Y261)),\"1\", \"0\"))","v":0},{"$f":"VALUE(IF(ISNUMBER(SEARCH(\"(Q)\",Y261)),\"1\", \"0\"))","v":0},{"$f":"VALUE(IF(ISNUMBER(SEARCH(\"(O)\",Y261)),\"1\", \"0\"))","v":0},{"$f":"VALUE(IF(ISNUMBER(SEARCH(\"(S)\",Y261)),\"1\", \"0\"))","v":0},{"$f":"VALUE(IF(ISNUMBER(SEARCH(\"Free Agent\",Y261)),\"1\", \"0\"))","v":0},{"$f":"IF(SUM(AD261:AH261)=0,Y261,LEFT(Y261,LEN(Y261)-4))","v":0},0,"","",{"$f":"INDEX($AL$3:$AL$1500, MATCH(0, IF(ISBLANK($AL$3:$AL$1500), 1, COUNTIF(AM$3:AM260, $AL$3:$AL$1500)), 0))","v":{"$error":"#N/A"}},""]
[{"$f":"IF(E264=\"\",\"\",GetAddress(E264))","v":""},{"$f":"IF(E264=\"\",\"\",GetAddress(E264))","v":""},null,null,null,null,null,null,null,null,null,null,null,null,null,null,null,null,null,null,null,null,null,null,null,null,null,null,null,0,0,0,0,0,0,0,"","",{"$f":"INDEX($AL$3:$AL$1500, MATCH(0, IF(ISBLANK($AL$3:$AL$1500), 1, COUNTIF(AM$3:AM261, $AL$3:$AL$1500)), 0))","v":{"$error":"#N/A"}},""]
[{"$f":"IF(E265=\"\",\"\",GetAddress(E265))","v":""},{"$f":"IF(E265=\"\",\"\",GetAddress(E265))","v":""},null,null,null,null,null,null,null,null,null,null,null,null,null,null,null,null,null,null,null,null,null,null,null,null,null,null,null,0,0,0,0,0,0,0,"","",{"$f":"INDEX($AL$3:$AL$1500, MATCH(0, IF(ISBLANK($AL$3:$AL$1500), 1, COUNTIF(AM$3:AM262, $AL$3:$AL$1500)), 0))","v":{"$error":"#N/A"}},""]
[{"$f":"IF(E266=\"\",\"\",GetAddress(E266))","v":""},{"$f":"IF(E266=\"\",\"\",GetAddress(E266))","v":""},null,null,null,null,null,null,null,null,null,null,null,null,null,null,null,null,null,null,null,null,null,null,null,null,null,null,null,0,0,0,0,0,0,0,"","",{"$f":"INDEX($AL$3:$AL$1500, MATCH(0, IF(ISBLANK($AL$3:$AL$1500), 1, COUNTIF(AM$3:AM263, $AL$3:$AL$1500)), 0))","v":{"$error":"#N/A"}},""]
[{"$f":"IF(E267=\"\",\"\",GetAddress(E267))","v":""},{"$f":"IF(E267=\"\",\"\",GetAddress(E267))","v":""},null,null,null,null,null,null,null,null,null,null,null,null,null,null,null,null,null,null,null,null,null,null,null,null,null,null,null,0,0,0,0,0,0,0,"","",{"$f":"INDEX($AL$3:$AL$1500, MATCH(0, IF(ISBLANK($AL$3:$AL$1500), 1, COUNTIF(AM$3:AM264, $AL$3:$AL$1500)), 0))","v":{"$error":"#N/A"}},""]
[{"$f":"IF(E268=\"\",\"\",GetAddress(E268))","v":""},{"$f":"IF(E268=\"\",\"\",GetAddress(E268))","v":""},null,null,null,null,null,null,null,null,null,null,null,null,null,null,null,null,null,null,null,null,null,null,null,null,null,null,null,0,0,0,0,0,0,0,"","",{"$f":"INDEX($AL$3:$AL$1500, MATCH(0, IF(ISBLANK($AL$3:$AL$1500), 1, COUNTIF(AM$3:AM265, $AL$3:$AL$1500)), 0))","v":{"$error":"#N/A"}},""]
[{"$f":"IF(E269=\"\",\"\",GetAddress(E269))","v":""},{"$f":"IF(E269=\"\",\"\",GetAddress(E269))","v":""},null,null,null,null,null,null,null,null,null,null,null,null,null,null,null,null,null,null,null,null,null,null,null,null,null,null,null,0,0,0,0,0,0,0,"","",{"$f":"INDEX($AL$3:$AL$1500, MATCH(0, IF(ISBLANK($AL$3:$AL$1500), 1, COUNTIF(AM$3:AM266, $AL$3:$AL$1500)), 0))","v":{"$error":"#N/A"}},""]
[{"$f":"IF(E270=\"\",\"\",GetAddress(E270))","v":""},{"$f":"IF(E270=\"\",\"\",GetAddress(E270))","v":""},null,null,null,null,null,null,null,null,null,null,null,null,null,null,null,null,null,null,null,null,null,null,null,null,null,null,null,0,0,0,0,0,0,0,"","",{"$f":"INDEX($AL$3:$AL$1500, MATCH(0, IF(ISBLANK($AL$3:$AL$1500), 1, COUNTIF(AM$3:AM267, $AL$3:$AL$1500)), 0))","v":{"$error":"#N/A"}},""]
[{"$f":"IF(E271=\"\",\"\",GetAddress(E271))","v":""},{"$f":"IF(E271=\"\",\"\",GetAddress(E271))","v":""},null,null,null,null,null,null,null,null,null,null,null,null,null,null,null,null,null,null,null,null,null,null,null,null,null,null,null,0,0,0,0,0,0,0,"","",{"$f":"INDEX($AL$3:$AL$1500, MATCH(0, IF(ISBLANK($AL$3:$AL$1500), 1, COUNTIF(AM$3:AM268, $AL$3:$AL$1500)), 0))","v":{"$error":"#N/A"}},""]
[{"$f":"IF(E272=\"\",\"\",GetAddress(E272))","v":""},{"$f":"IF(E272=\"\",\"\",GetAddress(E272))","v":""},null,null,null,null,null,null,null,null,null,null,null,null,null,null,null,null,null,null,null,null,null,null,null,null,null,null,null,0,0,0,0,0,0,0,"","",{"$f":"INDEX($AL$3:$AL$1500, MATCH(0, IF(ISBLANK($AL$3:$AL$1500), 1, COUNTIF(AM$3:AM269, $AL$3:$AL$1500)), 0))","v":{"$error":"#N/A"}},""]
[{"$f":"IF(E273=\"\",\"\",GetAddress(E273))","v":""},{"$f":"IF(E273=\"\",\"\",GetAddress(E273))","v":""},null,null,null,null,null,null,null,null,null,null,null,null,null,null,null,null,null,null,null,null,null,null,null,null,null,null,null,0,0,0,0,0,0,0,"","",{"$f":"INDEX($AL$3:$AL$1500, MATCH(0, IF(ISBLANK($AL$3:$AL$1500), 1, COUNTIF(AM$3:AM270, $AL$3:$AL$1500)), 0))","v":{"$error":"#N/A"}},""]
[{"$f":"IF(E274=\"\",\"\",GetAddress(E274))","v":""},{"$f":"IF(E274=\"\",\"\",GetAddress(E274))","v":""},null,null,null,null,null,null,null,null,null,null,null,null,null,null,null,null,null,null,null,null,null,null,null,null,null,null,null,0,0,0,0,0,0,0,"","",{"$f":"INDEX($AL$3:$AL$1500, MATCH(0, IF(ISBLANK($AL$3:$AL$1500), 1, COUNTIF(AM$3:AM271, $AL$3:$AL$1500)), 0))","v":{"$error":"#N/A"}},""]
[{"$f":"IF(E275=\"\",\"\",GetAddress(E275))","v":""},{"$f":"IF(E275=\"\",\"\",GetAddress(E275))","v":""},null,null,null,null,null,null,null,null,null,null,null,null,null,null,null,null,null,null,null,null,null,null,null,null,null,null,null,0,0,0,0,0,0,0,"","",{"$f":"INDEX($AL$3:$AL$1500, MATCH(0, IF(ISBLANK($AL$3:$AL$1500), 1, COUNTIF(AM$3:AM272, $AL$3:$AL$1500)), 0))","v":{"$error":"#N/A"}},""]
[{"$f":"IF(E276=\"\",\"\",GetAddress(E276))","v":""},{"$f":"IF(E276=\"\",\"\",GetAddress(E276))","v":""},null,null,null,null,null,null,null,null,null,null,null,null,null,null,null,null,null,null,null,null,null,null,null,null,null,null,null,0,0,0,0,0,0,0,"","",{"$f":"INDEX($AL$3:$AL$1500, MATCH(0, IF(ISBLANK($AL$3:$AL$1500), 1, COUNTIF(AM$3:AM273, $AL$3:$AL$1500)), 0))","v":{"$error":"#N/A"}},""]
[{"$f":"IF(E277=\"\",\"\",GetAddress(E277))","v":""},{"$f":"IF(E277=\"\",\"\",GetAddress(E277))","v":""},null,null,null,null,null,null,null,null,null,null,null,null,null,null,null,null,null,null,null,null,null,null,null,null,null,null,null,0,0,0,0,0,0,0,"","",{"$f":"INDEX($AL$3:$AL$1500, MATCH(0, IF(ISBLANK($AL$3:$AL$1500), 1, COUNTIF(AM$3:AM274, $AL$3:$AL$1500)), 0))","v":{"$error":"#N/A"}},""]
[{"$f":"IF(E278=\"\",\"\",GetAddress(E278))","v":""},{"$f":"IF(E278=\"\",\"\",GetAddress(E278))","v":""},null,null,null,null,null,null,null,null,null,null,null,null,null,null,null,null,null,null,null,null,null,null,null,null,null,null,null,0,0,0,0,0,0,0,"","",{"$f":"INDEX($AL$3:$AL$1500, MATCH(0, IF(ISBLANK($AL$3:$AL$1500), 1, COUNTIF(AM$3:AM275, $AL$3:$AL$1500)), 0))","v":{"$error":"#N/A"}},""]
[{"$f":"IF(E279=\"\",\"\",GetAddress(E279))","v":""},{"$f":"IF(E279=\"\",\"\",GetAddress(E279))","v":""},null,null,null,null,null,null,null,null,null,null,null,null,null,null,null,null,null,null,null,null,null,null,null,null,null,null,null,0,0,0,0,0,0,0,"","",{"$f":"INDEX($AL$3:$AL$1500, MATCH(0, IF(ISBLANK($AL$3:$AL$1500), 1, COUNTIF(AM$3:AM276, $AL$3:$AL$1500)), 0))","v":{"$error":"#N/A"}},""]
[{"$f":"IF(E280=\"\",\"\",GetAddress(E280))","v":""},{"$f":"IF(E280=\"\",\"\",GetAddress(E280))","v":""},null,null,null,null,null,null,null,null,null,null,null,null,null,null,null,null,null,null,null,null,null,null,null,null,null,null,null,0,0,0,0,0,0,0,"","",{"$f":"INDEX($AL$3:$AL$1500, MATCH(0, IF(ISBLANK($AL$3:$AL$1500), 1, COUNTIF(AM$3:AM277, $AL$3:$AL$1500)), 0))","v":{"$error":"#N/A"}},""]
[{"$f":"IF(E281=\"\",\"\",GetAddress(E281))","v":""},{"$f":"IF(E281=\"\",\"\",GetAddress(E281))","v":""},null,null,null,null,null,null,null,null,null,null,null,null,null,null,null,null,null,null,null,null,null,null,null,null,null,null,null,0,0,0,0,0,0,0,"","",{"$f":"INDEX($AL$3:$AL$1500, MATCH(0, IF(ISBLANK($AL$3:$AL$1500), 1, COUNTIF(AM$3:AM278, $AL$3:$AL$1500)), 0))","v":{"$error":"#N/A"}},""]
[{"$f":"IF(E282=\"\",\"\",GetAddress(E282))","v":""},{"$f":"IF(E282=\"\",\"\",GetAddress(E282))","v":""},null,null,null,null,null,null,null,null,null,null,null,null,null,null,null,null,null,null,null,null,null,null,null,null,null,null,null,0,0,0,0,0,0,0,"","",{"$f":"INDEX($AL$3:$AL$1500, MATCH(0, IF(ISBLANK($AL$3:$AL$1500), 1, COUNTIF(AM$3:AM279, $AL$3:$AL$1500)), 0))","v":{"$error":"#N/A"}},""]
[{"$f":"IF(E283=\"\",\"\",GetAddress(E283))","v":""},{"$f":"IF(E283=\"\",\"\",GetAddress(E283))","v":""},null,null,null,null,null,null,null,null,null,null,null,null,null,null,null,null,null,null,null,null,null,null,null,null,null,null,null,0,0,0,0,0,0,0,"","",{"$f":"INDEX($AL$3:$AL$1500, MATCH(0, IF(ISBLANK($AL$3:$AL$1500), 1, COUNTIF(AM$3:AM280, $AL$3:$AL$1500)), 0))","v":{"$error":"#N/A"}},""]
[{"$f":"IF(E284=\"\",\"\",GetAddress(E284))","v":""},{"$f":"IF(E284=\"\",\"\",GetAddress(E284))","v":""},null,null,null,null,null,null,null,null,null,null,null,null,null,null,null,null,null,null,null,null,null,null,null,null,null,null,null,0,0,0,0,0,0,0,"","",{"$f":"INDEX($AL$3:$AL$1500, MATCH(0, IF(ISBLANK($AL$3:$AL$1500), 1, COUNTIF(AM$3:AM281, $AL$3:$AL$1500)), 0))","v":{"$error":"#N/A"}},""]
[{"$f":"IF(E285=\"\",\"\",GetAddress(E285))","v":""},{"$f":"IF(E285=\"\",\"\",GetAddress(E285))","v":""},null,null,null,null,null,null,null,null,null,null,null,null,null,null,null,null,null,null,null,null,null,null,null,null,null,null,null,0,0,0,0,0,0,0,"","",{"$f":"INDEX($AL$3:$AL$1500, MATCH(0, IF(ISBLANK($AL$3:$AL$1500), 1, COUNTIF(AM$3:AM282, $AL$3:$AL$1500)), 0))","v":{"$error":"#N/A"}},""]
[{"$f":"IF(E286=\"\",\"\",GetAddress(E286))","v":""},{"$f":"IF(E286=\"\",\"\",GetAddress(E286))","v":""},null,null,null,null,null,null,null,null,null,null,null,null,null,null,null,null,null,null,null,null,null,null,null,null,null,null,null,0,0,0,0,0,0,0,"","",{"$f":"INDEX($AL$3:$AL$1500, MATCH(0, IF(ISBLANK($AL$3:$AL$1500), 1, COUNTIF(AM$3:AM283, $AL$3:$AL$1500)), 0))","v":{"$error":"#N/A"}},""]
[{"$f":"IF(E287=\"\",\"\",GetAddress(E287))","v":""},{"$f":"IF(E287=\"\",\"\",GetAddress(E287))","v":""},null,null,null,null,null,null,null,null,null,null,null,null,null,null,null,null,null,null,null,null,null,null,null,null,null,null,null,0,0,0,0,0,0,0,"","",{"$f":"INDEX($AL$3:$AL$1500, MATCH(0, IF(ISBLANK($AL$3:$AL$1500), 1, COUNTIF(AM$3:AM284, $AL$3:$AL$1500)), 0))","v":{"$error":"#N/A"}},""]
[{"$f":"IF(E288=\"\",\"\",GetAddress(E288))","v":""},{"$f":"IF(E288=\"\",\"\",GetAddress(E288))","v":""},null,null,null,null,null,null,null,null,null,null,null,null,null,null,null,null,null,null,null,null,null,null,null,null,null,null,null,0,0,0,0,0,0,0,"","",{"$f":"INDEX($AL$3:$AL$1500, MATCH(0, IF(ISBLANK($AL$3:$AL$1500), 1, COUNTIF(AM$3:AM285, $AL$3:$AL$1500)), 0))","v":{"$error":"#N/A"}},""]
[{"$f":"IF(E289=\"\",\"\",GetAddress(E289))","v":""},{"$f":"IF(E289=\"\",\"\",GetAddress(E289))","v":""},null,null,null,null,null,null,null,null,null,null,null,null,null,null,null,null,null,null,null,null,null,null,null,null,null,null,null,0,0,0,0,0,0,0,"","",{"$f":"INDEX($AL$3:$AL$1500, MATCH(0, IF(ISBLANK($AL$3:$AL$1500), 1, COUNTIF(AM$3:AM286, $AL$3:$AL$1500)), 0))","v":{"$error":"#N/A"}},""]
[{"$f":"IF(E290=\"\",\"\",GetAddress(E290))","v":""},{"$f":"IF(E290=\"\",\"\",GetAddress(E290))","v":""},null,null,null,null,null,null,null,null,null,null,null,null,null,null,null,null,null,null,null,null,null,null,null,null,null,null,null,0,0,0,0,0,0,0,"","",{"$f":"INDEX($AL$3:$AL$1500, MATCH(0, IF(ISBLANK($AL$3:$AL$1500), 1, COUNTIF(AM$3:AM287, $AL$3:$AL$1500)), 0))","v":{"$error":"#N/A"}},""]
[{"$f":"IF(E291=\"\",\"\",GetAddress(E291))","v":""},{"$f":"IF(E291=\"\",\"\",GetAddress(E291))","v":""},null,null,null,null,null,null,null,null,null,null,null,null,null,null,null,null,null,null,null,null,null,null,null,null,null,null,null,0,0,0,0,0,0,0,"","",{"$f":"INDEX($AL$3:$AL$1500, MATCH(0, IF(ISBLANK($AL$3:$AL$1500), 1, COUNTIF(AM$3:AM288, $AL$3:$AL$1500)), 0))","v":{"$error":"#N/A"}},""]
[{"$f":"IF(E292=\"\",\"\",GetAddress(E292))","v":""},{"$f":"IF(E292=\"\",\"\",GetAddress(E292))","v":""},null,null,null,null,null,null,null,null,null,null,null,null,null,null,null,null,null,null,null,null,null,null,null,null,null,null,null,0,0,0,0,0,0,0,"","",{"$f":"INDEX($AL$3:$AL$1500, MATCH(0, IF(ISBLANK($AL$3:$AL$1500), 1, COUNTIF(AM$3:AM289, $AL$3:$AL$1500)), 0))","v":{"$error":"#N/A"}},""]
[{"$f":"IF(E293=\"\",\"\",GetAddress(E293))","v":""},{"$f":"IF(E293=\"\",\"\",GetAddress(E293))","v":""},null,null,null,null,null,null,null,null,null,null,null,null,null,null,null,null,null,null,null,null,null,null,null,null,null,null,null,0,0,0,0,0,0,0,"","",{"$f":"INDEX($AL$3:$AL$1500, MATCH(0, IF(ISBLANK($AL$3:$AL$1500), 1, COUNTIF(AM$3:AM290, $AL$3:$AL$1500)), 0))","v":{"$error":"#N/A"}},""]
[{"$f":"IF(E294=\"\",\"\",GetAddress(E294))","v":""},{"$f":"IF(E294=\"\",\"\",GetAddress(E294))","v":""},null,null,null,null,null,null,null,null,null,null,null,null,null,null,null,null,null,null,null,null,null,null,null,null,null,null,null,0,0,0,0,0,0,0,"","",{"$f":"INDEX($AL$3:$AL$1500, MATCH(0, IF(ISBLANK($AL$3:$AL$1500), 1, COUNTIF(AM$3:AM291, $AL$3:$AL$1500)), 0))","v":{"$error":"#N/A"}},""]
[{"$f":"IF(E295=\"\",\"\",GetAddress(E295))","v":""},{"$f":"IF(E295=\"\",\"\",GetAddress(E295))","v":""},null,null,null,null,null,null,null,null,null,null,null,null,null,null,null,null,null,null,null,null,null,null,null,null,null,null,null,0,0,0,0,0,0,0,"","",{"$f":"INDEX($AL$3:$AL$1500, MATCH(0, IF(ISBLANK($AL$3:$AL$1500), 1, COUNTIF(AM$3:AM292, $AL$3:$AL$1500)), 0))","v":{"$error":"#N/A"}},""]
[{"$f":"IF(E296=\"\",\"\",GetAddress(E296))","v":""},{"$f":"IF(E296=\"\",\"\",GetAddress(E296))","v":""},null,null,null,null,null,null,null,null,null,null,null,null,null,null,null,null,null,null,null,null,null,null,null,null,null,null,null,0,0,0,0,0,0,0,"","",{"$f":"INDEX($AL$3:$AL$1500, MATCH(0, IF(ISBLANK($AL$3:$AL$1500), 1, COUNTIF(AM$3:AM293, $AL$3:$AL$1500)), 0))","v":{"$error":"#N/A"}},""]
[{"$f":"IF(E297=\"\",\"\",GetAddress(E297))","v":""},{"$f":"IF(E297=\"\",\"\",GetAddress(E297))","v":""},null,null,null,null,null,null,null,null,null,null,null,null,null,null,null,null,null,null,null,null,null,null,null,null,null,null,null,0,0,0,0,0,0,0,"","",{"$f":"INDEX($AL$3:$AL$1500, MATCH(0, IF(ISBLANK($AL$3:$AL$1500), 1, COUNTIF(AM$3:AM294, $AL$3:$AL$1500)), 0))","v":{"$error":"#N/A"}},""]
[{"$f":"IF(E298=\"\",\"\",GetAddress(E298))","v":""},{"$f":"IF(E298=\"\",\"\",GetAddress(E298))","v":""},null,null,null,null,null,null,null,null,null,null,null,null,null,null,null,null,null,null,null,null,null,null,null,null,null,null,null,0,0,0,0,0,0,0,"","",{"$f":"INDEX($AL$3:$AL$1500, MATCH(0, IF(ISBLANK($AL$3:$AL$1500), 1, COUNTIF(AM$3:AM295, $AL$3:$AL$1500)), 0))","v":{"$error":"#N/A"}},""]
[{"$f":"IF(E299=\"\",\"\",GetAddress(E299))","v":""},{"$f":"IF(E299=\"\",\"\",GetAddress(E299))","v":""},null,null,null,null,null,null,null,null,null,null,null,null,null,null,null,null,null,null,null,null,null,null,null,null,null,null,null,0,0,0,0,0,0,0,"","",{"$f":"INDEX($AL$3:$AL$1500, MATCH(0, IF(ISBLANK($AL$3:$AL$1500), 1, COUNTIF(AM$3:AM296, $AL$3:$AL$1500)), 0))","v":{"$error":"#N/A"}},""]
[{"$f":"IF(E300=\"\",\"\",GetAddress(E300))","v":""},{"$f":"IF(E300=\"\",\"\",GetAddress(E300))","v":""},null,null,null,null,null,null,null,null,null,null,null,null,null,null,null,null,null,null,null,null,null,null,null,null,null,null,null,0,0,0,0,0,0,0,"","",{"$f":"INDEX($AL$3:$AL$1500, MATCH(0, IF(ISBLANK($AL$3:$AL$1500), 1, COUNTIF(AM$3:AM297, $AL$3:$AL$1500)), 0))","v":{"$error":"#N/A"}},""]
[{"$f":"IF(E301=\"\",\"\",GetAddress(E301))","v":""},{"$f":"IF(E301=\"\",\"\",GetAddress(E301))","v":""},null,null,null,null,null,null,null,null,null,null,null,null,null,null,null,null,null,null,null,null,null,null,null,null,null,null,null,0,0,0,0,0,0,0,"","",{"$f":"INDEX($AL$3:$AL$1500, MATCH(0, IF(ISBLANK($AL$3:$AL$1500), 1, COUNTIF(AM$3:AM298, $AL$3:$AL$1500)), 0))","v":{"$error":"#N/A"}},""]
[{"$f":"IF(E302=\"\",\"\",GetAddress(E302))","v":""},{"$f":"IF(E302=\"\",\"\",GetAddress(E302))","v":""},null,null,null,null,null,null,null,null,null,null,null,null,null,null,null,null,null,null,null,null,null,null,null,null,null,null,null,0,0,0,0,0,0,0,"","",{"$f":"INDEX($AL$3:$AL$1500, MATCH(0, IF(ISBLANK($AL$3:$AL$1500), 1, COUNTIF(AM$3:AM299, $AL$3:$AL$1500)), 0))","v":{"$error":"#N/A"}},""]
[{"$f":"IF(E303=\"\",\"\",GetAddress(E303))","v":""},{"$f":"IF(E303=\"\",\"\",GetAddress(E303))","v":""},null,null,null,null,null,null,null,null,null,null,null,null,null,null,null,null,null,null,null,null,null,null,null,null,null,null,null,0,0,0,0,0,0,0,"","",{"$f":"INDEX($AL$3:$AL$1500, MATCH(0, IF(ISBLANK($AL$3:$AL$1500), 1, COUNTIF(AM$3:AM300, $AL$3:$AL$1500)), 0))","v":{"$error":"#N/A"}},""]
[{"$f":"IF(E304=\"\",\"\",GetAddress(E304))","v":""},{"$f":"IF(E304=\"\",\"\",GetAddress(E304))","v":""},null,null,null,null,null,null,null,null,null,null,null,null,null,null,null,null,null,null,null,null,null,null,null,null,null,null,null,0,0,0,0,0,0,0,"","",{"$f":"INDEX($AL$3:$AL$1500, MATCH(0, IF(ISBLANK($AL$3:$AL$1500), 1, COUNTIF(AM$3:AM301, $AL$3:$AL$1500)), 0))","v":{"$error":"#N/A"}},""]
[{"$f":"IF(E305=\"\",\"\",GetAddress(E305))","v":""},{"$f":"IF(E305=\"\",\"\",GetAddress(E305))","v":""},null,null,null,null,null,null,null,null,null,null,null,null,null,null,null,null,null,null,null,null,null,null,null,null,null,null,null,0,0,0,0,0,0,0,"","",{"$f":"INDEX($AL$3:$AL$1500, MATCH(0, IF(ISBLANK($AL$3:$AL$1500), 1, COUNTIF(AM$3:AM302, $AL$3:$AL$1500)), 0))","v":{"$error":"#N/A"}},""]
[{"$f":"IF(E306=\"\",\"\",GetAddress(E306))","v":""},{"$f":"IF(E306=\"\",\"\",GetAddress(E306))","v":""},null,null,null,null,null,null,null,null,null,null,null,null,null,null,null,null,null,null,null,null,null,null,null,null,null,null,null,0,0,0,0,0,0,0,"","",{"$f":"INDEX($AL$3:$AL$1500, MATCH(0, IF(ISBLANK($AL$3:$AL$1500), 1, COUNTIF(AM$3:AM303, $AL$3:$AL$1500)), 0))","v":{"$error":"#N/A"}},""]
[{"$f":"IF(E307=\"\",\"\",GetAddress(E307))","v":""},{"$f":"IF(E307=\"\",\"\",GetAddress(E307))","v":""},null,null,null,null,null,null,null,null,null,null,null,null,null,null,null,null,null,null,null,null,null,null,null,null,null,null,null,0,0,0,0,0,0,0,"","",{"$f":"INDEX($AL$3:$AL$1500, MATCH(0, IF(ISBLANK($AL$3:$AL$1500), 1, COUNTIF(AM$3:AM304, $AL$3:$AL$1500)), 0))","v":{"$error":"#N/A"}},""]
[{"$f":"IF(E308=\"\",\"\",GetAddress(E308))","v":""},{"$f":"IF(E308=\"\",\"\",GetAddress(E308))","v":""},null,null,null,null,null,null,null,null,null,null,null,null,null,null,null,null,null,null,null,null,null,null,null,null,null,null,null,0,0,0,0,0,0,0,"","",{"$f":"INDEX($AL$3:$AL$1500, MATCH(0, IF(ISBLANK($AL$3:$AL$1500), 1, COUNTIF(AM$3:AM305, $AL$3:$AL$1500)), 0))","v":{"$error":"#N/A"}},""]
[{"$f":"IF(E309=\"\",\"\",GetAddress(E309))","v":""},{"$f":"IF(E309=\"\",\"\",GetAddress(E309))","v":""},null,null,null,null,null,null,null,null,null,null,null,null,null,null,null,null,null,null,null,null,null,null,null,null,null,null,null,0,0,0,0,0,0,0,"","",{"$f":"INDEX($AL$3:$AL$1500, MATCH(0, IF(ISBLANK($AL$3:$AL$1500), 1, COUNTIF(AM$3:AM306, $AL$3:$AL$1500)), 0))","v":{"$error":"#N/A"}},""]
[{"$f":"IF(E310=\"\",\"\",GetAddress(E310))","v":""},{"$f":"IF(E310=\"\",\"\",GetAddress(E310))","v":""},null,null,null,null,null,null,null,null,null,null,null,null,null,null,null,null,null,null,null,null,null,null,null,null,null,null,null,0,0,0,0,0,0,0,"","",{"$f":"INDEX($AL$3:$AL$1500, MATCH(0, IF(ISBLANK($AL$3:$AL$1500), 1, COUNTIF(AM$3:AM307, $AL$3:$AL$1500)), 0))","v":{"$error":"#N/A"}},""]
[{"$f":"IF(E311=\"\",\"\",GetAddress(E311))","v":""},{"$f":"IF(E311=\"\",\"\",GetAddress(E311))","v":""},null,null,null,null,null,null,null,null,null,null,null,null,null,null,null,null,null,null,null,null,null,null,null,null,null,null,null,0,0,0,0,0,0,0,"","",{"$f":"INDEX($AL$3:$AL$1500, MATCH(0, IF(ISBLANK($AL$3:$AL$1500), 1, COUNTIF(AM$3:AM308, $AL$3:$AL$1500)), 0))","v":{"$error":"#N/A"}},""]
[{"$f":"IF(E312=\"\",\"\",GetAddress(E312))","v":""},{"$f":"IF(E312=\"\",\"\",GetAddress(E312))","v":""},null,null,null,null,null,null,null,null,null,null,null,null,null,null,null,null,null,null,null,null,null,null,null,null,null,null,null,0,0,0,0,0,0,0,"","",{"$f":"INDEX($AL$3:$AL$1500, MATCH(0, IF(ISBLANK($AL$3:$AL$1500), 1, COUNTIF(AM$3:AM309, $AL$3:$AL$1500)), 0))","v":{"$error":"#N/A"}},""]
[{"$f":"IF(E313=\"\",\"\",GetAddress(E313))","v":""},{"$f":"IF(E313=\"\",\"\",GetAddress(E313))","v":""},null,null,null,null,null,null,null,null,null,null,null,null,null,null,null,null,null,null,null,null,null,null,null,null,null,null,null,0,0,0,0,0,0,0,"","",{"$f":"INDEX($AL$3:$AL$1500, MATCH(0, IF(ISBLANK($AL$3:$AL$1500), 1, COUNTIF(AM$3:AM310, $AL$3:$AL$1500)), 0))","v":{"$error":"#N/A"}},""]
[{"$f":"IF(E314=\"\",\"\",GetAddress(E314))","v":""},{"$f":"IF(E314=\"\",\"\",GetAddress(E314))","v":""},null,null,null,null,null,null,null,null,null,null,null,null,null,null,null,null,null,null,null,null,null,null,null,null,null,null,null,0,0,0,0,0,0,0,"","",{"$f":"INDEX($AL$3:$AL$1500, MATCH(0, IF(ISBLANK($AL$3:$AL$1500), 1, COUNTIF(AM$3:AM311, $AL$3:$AL$1500)), 0))","v":{"$error":"#N/A"}},""]
[{"$f":"IF(E315=\"\",\"\",GetAddress(E315))","v":""},{"$f":"IF(E315=\"\",\"\",GetAddress(E315))","v":""},null,null,null,null,null,null,null,null,null,null,null,null,null,null,null,null,null,null,null,null,null,null,null,null,null,null,null,0,0,0,0,0,0,0,"","",{"$f":"INDEX($AL$3:$AL$1500, MATCH(0, IF(ISBLANK($AL$3:$AL$1500), 1, COUNTIF(AM$3:AM312, $AL$3:$AL$1500)), 0))","v":{"$error":"#N/A"}},""]
[{"$f":"IF(E316=\"\",\"\",GetAddress(E316))","v":""},{"$f":"IF(E316=\"\",\"\",GetAddress(E316))","v":""},null,null,null,null,null,null,null,null,null,null,null,null,null,null,null,null,null,null,null,null,null,null,null,null,null,null,null,0,0,0,0,0,0,0,"","",{"$f":"INDEX($AL$3:$AL$1500, MATCH(0, IF(ISBLANK($AL$3:$AL$1500), 1, COUNTIF(AM$3:AM313, $AL$3:$AL$1500)), 0))","v":{"$error":"#N/A"}},""]
[{"$f":"IF(E317=\"\",\"\",GetAddress(E317))","v":""},{"$f":"IF(E317=\"\",\"\",GetAddress(E317))","v":""},null,null,null,null,null,null,null,null,null,null,null,null,null,null,null,null,null,null,null,null,null,null,null,null,null,null,null,0,0,0,0,0,0,0,"","",{"$f":"INDEX($AL$3:$AL$1500, MATCH(0, IF(ISBLANK($AL$3:$AL$1500), 1, COUNTIF(AM$3:AM314, $AL$3:$AL$1500)), 0))","v":{"$error":"#N/A"}},""]
[{"$f":"IF(E318=\"\",\"\",GetAddress(E318))","v":""},{"$f":"IF(E318=\"\",\"\",GetAddress(E318))","v":""},null,null,null,null,null,null,null,null,null,null,null,null,null,null,null,null,null,null,null,null,null,null,null,null,null,null,null,0,0,0,0,0,0,0,"","",{"$f":"INDEX($AL$3:$AL$1500, MATCH(0, IF(ISBLANK($AL$3:$AL$1500), 1, COUNTIF(AM$3:AM315, $AL$3:$AL$1500)), 0))","v":{"$error":"#N/A"}},""]
[{"$f":"IF(E319=\"\",\"\",GetAddress(E319))","v":""},{"$f":"IF(E319=\"\",\"\",GetAddress(E319))","v":""},null,null,null,null,null,null,null,null,null,null,null,null,null,null,null,null,null,null,null,null,null,null,null,null,null,null,null,0,0,0,0,0,0,0,"","",{"$f":"INDEX($AL$3:$AL$1500, MATCH(0, IF(ISBLANK($AL$3:$AL$1500), 1, COUNTIF(AM$3:AM316, $AL$3:$AL$1500)), 0))","v":{"$error":"#N/A"}},""]
[{"$f":"IF(E320=\"\",\"\",GetAddress(E320))","v":""},{"$f":"IF(E320=\"\",\"\",GetAddress(E320))","v":""},null,null,null,null,null,null,null,null,null,null,null,null,null,null,null,null,null,null,null,null,null,null,null,null,null,null,null,0,0,0,0,0,0,0,"","",{"$f":"INDEX($AL$3:$AL$1500, MATCH(0, IF(ISBLANK($AL$3:$AL$1500), 1, COUNTIF(AM$3:AM317, $AL$3:$AL$1500)), 0))","v":{"$error":"#N/A"}},""]
[{"$f":"IF(E321=\"\",\"\",GetAddress(E321))","v":""},{"$f":"IF(E321=\"\",\"\",GetAddress(E321))","v":""},null,null,null,null,null,null,null,null,null,null,null,null,null,null,null,null,null,null,null,null,null,null,null,null,null,null,null,0,0,0,0,0,0,0,"","",{"$f":"INDEX($AL$3:$AL$1500, MATCH(0, IF(ISBLANK($AL$3:$AL$1500), 1, COUNTIF(AM$3:AM318, $AL$3:$AL$1500)), 0))","v":{"$error":"#N/A"}},""]
[{"$f":"IF(E322=\"\",\"\",GetAddress(E322))","v":""},{"$f":"IF(E322=\"\",\"\",GetAddress(E322))","v":""},null,null,null,null,null,null,null,null,null,null,null,null,null,null,null,null,null,null,null,null,null,null,null,null,null,null,null,0,0,0,0,0,0,0,"","",{"$f":"INDEX($AL$3:$AL$1500, MATCH(0, IF(ISBLANK($AL$3:$AL$1500), 1, COUNTIF(AM$3:AM319, $AL$3:$AL$1500)), 0))","v":{"$error":"#N/A"}},""]
[{"$f":"IF(E323=\"\",\"\",GetAddress(E323))","v":""},{"$f":"IF(E323=\"\",\"\",GetAddress(E323))","v":""},null,null,null,null,null,null,null,null,null,null,null,null,null,null,null,null,null,null,null,null,null,null,null,null,null,null,null,0,0,0,0,0,0,0,"","",{"$f":"INDEX($AL$3:$AL$1500, MATCH(0, IF(ISBLANK($AL$3:$AL$1500), 1, COUNTIF(AM$3:AM320, $AL$3:$AL$1500)), 0))","v":{"$error":"#N/A"}},""]
[{"$f":"IF(E324=\"\",\"\",GetAddress(E324))","v":""},{"$f":"IF(E324=\"\",\"\",GetAddress(E324))","v":""},null,null,null,null,null,null,null,null,null,null,null,null,null,null,null,null,null,null,null,null,null,null,null,null,null,null,null,0,0,0,0,0,0,0,"","",{"$f":"INDEX($AL$3:$AL$1500, MATCH(0, IF(ISBLANK($AL$3:$AL$1500), 1, COUNTIF(AM$3:AM321, $AL$3:$AL$1500)), 0))","v":{"$error":"#N/A"}},""]
[{"$f":"IF(E325=\"\",\"\",GetAddress(E325))","v":""},{"$f":"IF(E325=\"\",\"\",GetAddress(E325))","v":""},null,null,null,null,null,null,null,null,null,null,null,null,null,null,null,null,null,null,null,null,null,null,null,null,null,null,null,0,0,0,0,0,0,{"$f":"IF(AI323=\"Free A\",\"\",AI323)","v":0},{"$f":"IF(AJ323=0,\"\",AJ323)","v":""},{"$f":"IF(AK323=\"Free Agent\",\"\",AK323)","v":""},{"$f":"INDEX($AL$3:$AL$1500, MATCH(0, IF(ISBLANK($AL$3:$AL$1500), 1, COUNTIF(AM$3:AM322, $AL$3:$AL$1500)), 0))","v":{"$error":"#N/A"}},{"$f":"IF(ISERROR(AM323),\"\",AM323)","v":""}]
[{"$f":"IF(E326=\"\",\"\",GetAddress(E326))","v":""},{"$f":"IF(E326=\"\",\"\",GetAddress(E326))","v":""},null,null,null,null,null,null,null,null,null,null,null,null,null,null,null,null,null,null,null,null,null,null,null,null,null,null,null,0,0,0,0,0,0,0,"","",{"$f":"INDEX($AL$3:$AL$1500, MATCH(0, IF(ISBLANK($AL$3:$AL$1500), 1, COUNTIF(AM$3:AM323, $AL$3:$AL$1500)), 0))","v":{"$error":"#N/A"}},""]
[{"$f":"IF(E327=\"\",\"\",GetAddress(E327))","v":""},{"$f":"IF(E327=\"\",\"\",GetAddress(E327))","v":""},null,null,null,null,null,null,null,null,null,null,null,null,null,null,null,null,null,null,null,null,null,null,null,null,null,null,null,{"$f":"VALUE(IF(ISNUMBER(SEARCH(\"(P)\",Y325)),\"1\", \"0\"))","v":0},{"$f":"VALUE(IF(ISNUMBER(SEARCH(\"(Q)\",Y325)),\"1\", \"0\"))","v":0},{"$f":"VALUE(IF(ISNUMBER(SEARCH(\"(O)\",Y325)),\"1\", \"0\"))","v":0},{"$f":"VALUE(IF(ISNUMBER(SEARCH(\"(S)\",Y325)),\"1\", \"0\"))","v":0},{"$f":"VALUE(IF(ISNUMBER(SEARCH(\"Free Agent\",Y325)),\"1\", \"0\"))","v":0},{"$f":"IF(SUM(AD325:AH325)=0,Y325,LEFT(Y325,LEN(Y325)-4))","v":0},0,"","",{"$f":"INDEX($AL$3:$AL$1500, MATCH(0, IF(ISBLANK($AL$3:$AL$1500), 1, COUNTIF(AM$3:AM324, $AL$3:$AL$1500)), 0))","v":{"$error":"#N/A"}},""]
[{"$f":"IF(E328=\"\",\"\",GetAddress(E328))","v":""},{"$f":"IF(E328=\"\",\"\",GetAddress(E328))","v":""},null,null,null,null,null,null,null,null,null,null,null,null,null,null,null,null,null,null,null,null,null,null,null,null,null,null,null,0,0,0,0,0,0,0,"","",{"$f":"INDEX($AL$3:$AL$1500, MATCH(0, IF(ISBLANK($AL$3:$AL$1500), 1, COUNTIF(AM$3:AM325, $AL$3:$AL$1500)), 0))","v":{"$error":"#N/A"}},""]
[{"$f":"IF(E329=\"\",\"\",GetAddress(E329))","v":""},{"$f":"IF(E329=\"\",\"\",GetAddress(E329))","v":""},null,null,null,null,null,null,null,null,null,null,null,null,null,null,null,null,null,null,null,null,null,null,null,null,null,null,null,0,0,0,0,0,0,0,"","",{"$f":"INDEX($AL$3:$AL$1500, MATCH(0, IF(ISBLANK($AL$3:$AL$1500), 1, COUNTIF(AM$3:AM326, $AL$3:$AL$1500)), 0))","v":{"$error":"#N/A"}},""]
[{"$f":"IF(E330=\"\",\"\",GetAddress(E330))","v":""},{"$f":"IF(E330=\"\",\"\",GetAddress(E330))","v":""},null,null,null,null,null,null,null,null,null,null,null,null,null,null,null,null,null,null,null,null,null,null,null,null,null,null,null,0,0,0,0,0,0,0,"","",{"$f":"INDEX($AL$3:$AL$1500, MATCH(0, IF(ISBLANK($AL$3:$AL$1500), 1, COUNTIF(AM$3:AM327, $AL$3:$AL$1500)), 0))","v":{"$error":"#N/A"}},""]
[{"$f":"IF(E331=\"\",\"\",GetAddress(E331))","v":""},{"$f":"IF(E331=\"\",\"\",GetAddress(E331))","v":""},null,null,null,null,null,null,null,null,null,null,null,null,null,null,null,null,null,null,null,null,null,null,null,null,null,null,null,0,0,0,0,0,0,0,"","",{"$f":"INDEX($AL$3:$AL$1500, MATCH(0, IF(ISBLANK($AL$3:$AL$1500), 1, COUNTIF(AM$3:AM328, $AL$3:$AL$1500)), 0))","v":{"$error":"#N/A"}},""]
[{"$f":"IF(E332=\"\",\"\",GetAddress(E332))","v":""},{"$f":"IF(E332=\"\",\"\",GetAddress(E332))","v":""},null,null,null,null,null,null,null,null,null,null,null,null,null,null,null,null,null,null,null,null,null,null,null,null,null,null,null,0,0,0,0,0,0,0,"","",{"$f":"INDEX($AL$3:$AL$1500, MATCH(0, IF(ISBLANK($AL$3:$AL$1500), 1, COUNTIF(AM$3:AM329, $AL$3:$AL$1500)), 0))","v":{"$error":"#N/A"}},""]
[{"$f":"IF(E333=\"\",\"\",GetAddress(E333))","v":""},{"$f":"IF(E333=\"\",\"\",GetAddress(E333))","v":""},null,null,null,null,null,null,null,null,null,null,null,null,null,null,null,null,null,null,null,null,null,null,null,null,null,null,null,0,0,0,0,0,0,0,"","",{"$f":"INDEX($AL$3:$AL$1500, MATCH(0, IF(ISBLANK($AL$3:$AL$1500), 1, COUNTIF(AM$3:AM330, $AL$3:$AL$1500)), 0))","v":{"$error":"#N/A"}},""]
[{"$f":"IF(E334=\"\",\"\",GetAddress(E334))","v":""},{"$f":"IF(E334=\"\",\"\",GetAddress(E334))","v":""},null,null,null,null,null,null,null,null,null,null,null,null,null,null,null,null,null,null,null,null,null,null,null,null,null,null,null,0,0,0,0,0,0,0,"","",{"$f":"INDEX($AL$3:$AL$1500, MATCH(0, IF(ISBLANK($AL$3:$AL$1500), 1, COUNTIF(AM$3:AM331, $AL$3:$AL$1500)), 0))","v":{"$error":"#N/A"}},""]
[{"$f":"IF(E335=\"\",\"\",GetAddress(E335))","v":""},{"$f":"IF(E335=\"\",\"\",GetAddress(E335))","v":""},null,null,null,null,null,null,null,null,null,null,null,null,null,null,null,null,null,null,null,null,null,null,null,null,null,null,null,0,0,0,0,0,0,0,"","",{"$f":"INDEX($AL$3:$AL$1500, MATCH(0, IF(ISBLANK($AL$3:$AL$1500), 1, COUNTIF(AM$3:AM332, $AL$3:$AL$1500)), 0))","v":{"$error":"#N/A"}},""]
[{"$f":"IF(E336=\"\",\"\",GetAddress(E336))","v":""},{"$f":"IF(E336=\"\",\"\",GetAddress(E336))","v":""},null,null,null,null,null,null,null,null,null,null,null,null,null,null,null,null,null,null,null,null,null,null,null,null,null,null,null,0,0,0,0,0,0,0,"","",{"$f":"INDEX($AL$3:$AL$1500, MATCH(0, IF(ISBLANK($AL$3:$AL$1500), 1, COUNTIF(AM$3:AM333, $AL$3:$AL$1500)), 0))","v":{"$error":"#N/A"}},""]
[{"$f":"IF(E337=\"\",\"\",GetAddress(E337))","v":""},{"$f":"IF(E337=\"\",\"\",GetAddress(E337))","v":""},null,null,null,null,null,null,null,null,null,null,null,null,null,null,null,null,null,null,null,null,null,null,null,null,null,null,null,0,0,0,0,0,0,0,"","",{"$f":"INDEX($AL$3:$AL$1500, MATCH(0, IF(ISBLANK($AL$3:$AL$1500), 1, COUNTIF(AM$3:AM334, $AL$3:$AL$1500)), 0))","v":{"$error":"#N/A"}},""]
[{"$f":"IF(E338=\"\",\"\",GetAddress(E338))","v":""},{"$f":"IF(E338=\"\",\"\",GetAddress(E338))","v":""},null,null,null,null,null,null,null,null,null,null,null,null,null,null,null,null,null,null,null,null,null,null,null,null,null,null,null,0,0,0,0,0,0,0,"","",{"$f":"INDEX($AL$3:$AL$1500, MATCH(0, IF(ISBLANK($AL$3:$AL$1500), 1, COUNTIF(AM$3:AM335, $AL$3:$AL$1500)), 0))","v":{"$error":"#N/A"}},""]
[{"$f":"IF(E339=\"\",\"\",GetAddress(E339))","v":""},{"$f":"IF(E339=\"\",\"\",GetAddress(E339))","v":""},null,null,null,null,null,null,null,null,null,null,null,null,null,null,null,null,null,null,null,null,null,null,null,null,null,null,null,0,0,0,0,0,0,0,"","",{"$f":"INDEX($AL$3:$AL$1500, MATCH(0, IF(ISBLANK($AL$3:$AL$1500), 1, COUNTIF(AM$3:AM336, $AL$3:$AL$1500)), 0))","v":{"$error":"#N/A"}},""]
[{"$f":"IF(E340=\"\",\"\",GetAddress(E340))","v":""},{"$f":"IF(E340=\"\",\"\",GetAddress(E340))","v":""},null,null,null,null,null,null,null,null,null,null,null,null,null,null,null,null,null,null,null,null,null,null,null,null,null,null,null,0,0,0,0,0,0,0,"","",{"$f":"INDEX($AL$3:$AL$1500, MATCH(0, IF(ISBLANK($AL$3:$AL$1500), 1, COUNTIF(AM$3:AM337, $AL$3:$AL$1500)), 0))","v":{"$error":"#N/A"}},""]
[{"$f":"IF(E341=\"\",\"\",GetAddress(E341))","v":""},{"$f":"IF(E341=\"\",\"\",GetAddress(E341))","v":""},null,null,null,null,null,null,null,null,null,null,null,null,null,null,null,null,null,null,null,null,null,null,null,null,null,null,null,0,0,0,0,0,0,0,"","",{"$f":"INDEX($AL$3:$AL$1500, MATCH(0, IF(ISBLANK($AL$3:$AL$1500), 1, COUNTIF(AM$3:AM338, $AL$3:$AL$1500)), 0))","v":{"$error":"#N/A"}},""]
[{"$f":"IF(E342=\"\",\"\",GetAddress(E342))","v":""},{"$f":"IF(E342=\"\",\"\",GetAddress(E342))","v":""},null,null,null,null,null,null,null,null,null,null,null,null,null,null,null,null,null,null,null,null,null,null,null,null,null,null,null,0,0,0,0,0,0,0,"","",{"$f":"INDEX($AL$3:$AL$1500, MATCH(0, IF(ISBLANK($AL$3:$AL$1500), 1, COUNTIF(AM$3:AM339, $AL$3:$AL$1500)), 0))","v":{"$error":"#N/A"}},""]
[{"$f":"IF(E343=\"\",\"\",GetAddress(E343))","v":""},{"$f":"IF(E343=\"\",\"\",GetAddress(E343))","v":""},null,null,null,null,null,null,null,null,null,null,null,null,null,null,null,null,null,null,null,null,null,null,null,null,null,null,null,0,0,0,0,0,0,0,"","",{"$f":"INDEX($AL$3:$AL$1500, MATCH(0, IF(ISBLANK($AL$3:$AL$1500), 1, COUNTIF(AM$3:AM340, $AL$3:$AL$1500)), 0))","v":{"$error":"#N/A"}},""]
[{"$f":"IF(E344=\"\",\"\",GetAddress(E344))","v":""},{"$f":"IF(E344=\"\",\"\",GetAddress(E344))","v":""},null,null,null,null,null,null,null,null,null,null,null,null,null,null,null,null,null,null,null,null,null,null,null,null,null,null,null,0,0,0,0,0,0,0,"","",{"$f":"INDEX($AL$3:$AL$1500, MATCH(0, IF(ISBLANK($AL$3:$AL$1500), 1, COUNTIF(AM$3:AM341, $AL$3:$AL$1500)), 0))","v":{"$error":"#N/A"}},""]
[{"$f":"IF(E345=\"\",\"\",GetAddress(E345))","v":""},{"$f":"IF(E345=\"\",\"\",GetAddress(E345))","v":""},null,null,null,null,null,null,null,null,null,null,null,null,null,null,null,null,null,null,null,null,null,null,null,null,null,null,null,0,0,0,0,0,0,0,"","",{"$f":"INDEX($AL$3:$AL$1500, MATCH(0, IF(ISBLANK($AL$3:$AL$1500), 1, COUNTIF(AM$3:AM342, $AL$3:$AL$1500)), 0))","v":{"$error":"#N/A"}},""]
[{"$f":"IF(E346=\"\",\"\",GetAddress(E346))","v":""},{"$f":"IF(E346=\"\",\"\",GetAddress(E346))","v":""},null,null,null,null,null,null,null,null,null,null,null,null,null,null,null,null,null,null,null,null,null,null,null,null,null,null,null,0,0,0,0,0,0,0,"","",{"$f":"INDEX($AL$3:$AL$1500, MATCH(0, IF(ISBLANK($AL$3:$AL$1500), 1, COUNTIF(AM$3:AM343, $AL$3:$AL$1500)), 0))","v":{"$error":"#N/A"}},""]
[{"$f":"IF(E347=\"\",\"\",GetAddress(E347))","v":""},{"$f":"IF(E347=\"\",\"\",GetAddress(E347))","v":""},null,null,null,null,null,null,null,null,null,null,null,null,null,null,null,null,null,null,null,null,null,null,null,null,null,null,null,0,0,0,0,0,0,0,"","",{"$f":"INDEX($AL$3:$AL$1500, MATCH(0, IF(ISBLANK($AL$3:$AL$1500), 1, COUNTIF(AM$3:AM344, $AL$3:$AL$1500)), 0))","v":{"$error":"#N/A"}},""]
[{"$f":"IF(E348=\"\",\"\",GetAddress(E348))","v":""},{"$f":"IF(E348=\"\",\"\",GetAddress(E348))","v":""},null,null,null,null,null,null,null,null,null,null,null,null,null,null,null,null,null,null,null,null,null,null,null,null,null,null,null,0,0,0,0,0,0,0,"","",{"$f":"INDEX($AL$3:$AL$1500, MATCH(0, IF(ISBLANK($AL$3:$AL$1500), 1, COUNTIF(AM$3:AM345, $AL$3:$AL$1500)), 0))","v":{"$error":"#N/A"}},""]
[{"$f":"IF(E349=\"\",\"\",GetAddress(E349))","v":""},{"$f":"IF(E349=\"\",\"\",GetAddress(E349))","v":""},null,null,null,null,null,null,null,null,null,null,null,null,null,null,null,null,null,null,null,null,null,null,null,null,null,null,null,0,0,0,0,0,0,0,"","",{"$f":"INDEX($AL$3:$AL$1500, MATCH(0, IF(ISBLANK($AL$3:$AL$1500), 1, COUNTIF(AM$3:AM346, $AL$3:$AL$1500)), 0))","v":{"$error":"#N/A"}},""]
[{"$f":"IF(E350=\"\",\"\",GetAddress(E350))","v":""},{"$f":"IF(E350=\"\",\"\",GetAddress(E350))","v":""},null,null,null,null,null,null,null,null,null,null,null,null,null,null,null,null,null,null,null,null,null,null,null,null,null,null,null,0,0,0,0,0,0,0,"","",{"$f":"INDEX($AL$3:$AL$1500, MATCH(0, IF(ISBLANK($AL$3:$AL$1500), 1, COUNTIF(AM$3:AM347, $AL$3:$AL$1500)), 0))","v":{"$error":"#N/A"}},""]
[{"$f":"IF(E351=\"\",\"\",GetAddress(E351))","v":""},{"$f":"IF(E351=\"\",\"\",GetAddress(E351))","v":""},null,null,null,null,null,null,null,null,null,null,null,null,null,null,null,null,null,null,null,null,null,null,null,null,null,null,null,0,0,0,0,0,0,0,"","",{"$f":"INDEX($AL$3:$AL$1500, MATCH(0, IF(ISBLANK($AL$3:$AL$1500), 1, COUNTIF(AM$3:AM348, $AL$3:$AL$1500)), 0))","v":{"$error":"#N/A"}},""]
[{"$f":"IF(E352=\"\",\"\",GetAddress(E352))","v":""},{"$f":"IF(E352=\"\",\"\",GetAddress(E352))","v":""},null,null,null,null,null,null,null,null,null,null,null,null,null,null,null,null,null,null,null,null,null,null,null,null,null,null,null,0,0,0,0,0,0,0,"","",{"$f":"INDEX($AL$3:$AL$1500, MATCH(0, IF(ISBLANK($AL$3:$AL$1500), 1, COUNTIF(AM$3:AM349, $AL$3:$AL$1500)), 0))","v":{"$error":"#N/A"}},""]
[{"$f":"IF(E353=\"\",\"\",GetAddress(E353))","v":""},{"$f":"IF(E353=\"\",\"\",GetAddress(E353))","v":""},null,null,null,null,null,null,null,null,null,null,null,null,null,null,null,null,null,null,null,null,null,null,null,null,null,null,null,0,0,0,0,0,0,0,"","",{"$f":"INDEX($AL$3:$AL$1500, MATCH(0, IF(ISBLANK($AL$3:$AL$1500), 1, COUNTIF(AM$3:AM350, $AL$3:$AL$1500)), 0))","v":{"$error":"#N/A"}},""]
[{"$f":"IF(E354=\"\",\"\",GetAddress(E354))","v":""},{"$f":"IF(E354=\"\",\"\",GetAddress(E354))","v":""},null,null,null,null,null,null,null,null,null,null,null,null,null,null,null,null,null,null,null,null,null,null,null,null,null,null,null,0,0,0,0,0,0,0,"","",{"$f":"INDEX($AL$3:$AL$1500, MATCH(0, IF(ISBLANK($AL$3:$AL$1500), 1, COUNTIF(AM$3:AM351, $AL$3:$AL$1500)), 0))","v":{"$error":"#N/A"}},""]
[{"$f":"IF(E355=\"\",\"\",GetAddress(E355))","v":""},{"$f":"IF(E355=\"\",\"\",GetAddress(E355))","v":""},null,null,null,null,null,null,null,null,null,null,null,null,null,null,null,null,null,null,null,null,null,null,null,null,null,null,null,0,0,0,0,0,0,0,"","",{"$f":"INDEX($AL$3:$AL$1500, MATCH(0, IF(ISBLANK($AL$3:$AL$1500), 1, COUNTIF(AM$3:AM352, $AL$3:$AL$1500)), 0))","v":{"$error":"#N/A"}},""]
[{"$f":"IF(E356=\"\",\"\",GetAddress(E356))","v":""},{"$f":"IF(E356=\"\",\"\",GetAddress(E356))","v":""},null,null,null,null,null,null,null,null,null,null,null,null,null,null,null,null,null,null,null,null,null,null,null,null,null,null,null,0,0,0,0,0,0,0,"","",{"$f":"INDEX($AL$3:$AL$1500, MATCH(0, IF(ISBLANK($AL$3:$AL$1500), 1, COUNTIF(AM$3:AM353, $AL$3:$AL$1500)), 0))","v":{"$error":"#N/A"}},""]
[{"$f":"IF(E357=\"\",\"\",GetAddress(E357))","v":""},{"$f":"IF(E357=\"\",\"\",GetAddress(E357))","v":""},null,null,null,null,null,null,null,null,null,null,null,null,null,null,null,null,null,null,null,null,null,null,null,null,null,null,null,0,0,0,0,0,0,0,"","",{"$f":"INDEX($AL$3:$AL$1500, MATCH(0, IF(ISBLANK($AL$3:$AL$1500), 1, COUNTIF(AM$3:AM354, $AL$3:$AL$1500)), 0))","v":{"$error":"#N/A"}},""]
[{"$f":"IF(E358=\"\",\"\",GetAddress(E358))","v":""},{"$f":"IF(E358=\"\",\"\",GetAddress(E358))","v":""},null,null,null,null,null,null,null,null,null,null,null,null,null,null,null,null,null,null,null,null,null,null,null,null,null,null,null,0,0,0,0,0,0,0,"","",{"$f":"INDEX($AL$3:$AL$1500, MATCH(0, IF(ISBLANK($AL$3:$AL$1500), 1, COUNTIF(AM$3:AM355, $AL$3:$AL$1500)), 0))","v":{"$error":"#N/A"}},""]
[{"$f":"IF(E359=\"\",\"\",GetAddress(E359))","v":""},{"$f":"IF(E359=\"\",\"\",GetAddress(E359))","v":""},null,null,null,null,null,null,null,null,null,null,null,null,null,null,null,null,null,null,null,null,null,null,null,null,null,null,null,0,0,0,0,0,0,0,"","",{"$f":"INDEX($AL$3:$AL$1500, MATCH(0, IF(ISBLANK($AL$3:$AL$1500), 1, COUNTIF(AM$3:AM356, $AL$3:$AL$1500)), 0))","v":{"$error":"#N/A"}},""]
[{"$f":"IF(E360=\"\",\"\",GetAddress(E360))","v":""},{"$f":"IF(E360=\"\",\"\",GetAddress(E360))","v":""},null,null,null,null,null,null,null,null,null,null,null,null,null,null,null,null,null,null,null,null,null,null,null,null,null,null,null,0,0,0,0,0,0,0,"","",{"$f":"INDEX($AL$3:$AL$1500, MATCH(0, IF(ISBLANK($AL$3:$AL$1500), 1, COUNTIF(AM$3:AM357, $AL$3:$AL$1500)), 0))","v":{"$error":"#N/A"}},""]
[{"$f":"IF(E361=\"\",\"\",GetAddress(E361))","v":""},{"$f":"IF(E361=\"\",\"\",GetAddress(E361))","v":""},null,null,null,null,null,null,null,null,null,null,null,null,null,null,null,null,null,null,null,null,null,null,null,null,null,null,null,0,0,0,0,0,0,0,"","",{"$f":"INDEX($AL$3:$AL$1500, MATCH(0, IF(ISBLANK($AL$3:$AL$1500), 1, COUNTIF(AM$3:AM358, $AL$3:$AL$1500)), 0))","v":{"$error":"#N/A"}},""]
[{"$f":"IF(E362=\"\",\"\",GetAddress(E362))","v":""},{"$f":"IF(E362=\"\",\"\",GetAddress(E362))","v":""},null,null,null,null,null,null,null,null,null,null,null,null,null,null,null,null,null,null,null,null,null,null,null,null,null,null,null,0,0,0,0,0,0,0,"","",{"$f":"INDEX($AL$3:$AL$1500, MATCH(0, IF(ISBLANK($AL$3:$AL$1500), 1, COUNTIF(AM$3:AM359, $AL$3:$AL$1500)), 0))","v":{"$error":"#N/A"}},""]
[{"$f":"IF(E363=\"\",\"\",GetAddress(E363))","v":""},{"$f":"IF(E363=\"\",\"\",GetAddress(E363))","v":""},null,null,null,null,null,null,null,null,null,null,null,null,null,null,null,null,null,null,null,null,null,null,null,null,null,null,null,0,0,0,0,0,0,0,"","",{"$f":"INDEX($AL$3:$AL$1500, MATCH(0, IF(ISBLANK($AL$3:$AL$1500), 1, COUNTIF(AM$3:AM360, $AL$3:$AL$1500)), 0))","v":{"$error":"#N/A"}},""]
[{"$f":"IF(E364=\"\",\"\",GetAddress(E364))","v":""},{"$f":"IF(E364=\"\",\"\",GetAddress(E364))","v":""},null,null,null,null,null,null,null,null,null,null,null,null,null,null,null,null,null,null,null,null,null,null,null,null,null,null,null,0,0,0,0,0,0,0,"","",{"$f":"INDEX($AL$3:$AL$1500, MATCH(0, IF(ISBLANK($AL$3:$AL$1500), 1, COUNTIF(AM$3:AM361, $AL$3:$AL$1500)), 0))","v":{"$error":"#N/A"}},""]
[{"$f":"IF(E365=\"\",\"\",GetAddress(E365))","v":""},{"$f":"IF(E365=\"\",\"\",GetAddress(E365))","v":""},null,null,null,null,null,null,null,null,null,null,null,null,null,null,null,null,null,null,null,null,null,null,null,null,null,null,null,0,0,0,0,0,0,0,"","",{"$f":"INDEX($AL$3:$AL$1500, MATCH(0, IF(ISBLANK($AL$3:$AL$1500), 1, COUNTIF(AM$3:AM362, $AL$3:$AL$1500)), 0))","v":{"$error":"#N/A"}},""]
[{"$f":"IF(E366=\"\",\"\",GetAddress(E366))","v":""},{"$f":"IF(E366=\"\",\"\",GetAddress(E366))","v":""},null,null,null,null,null,null,null,null,null,null,null,null,null,null,null,null,null,null,null,null,null,null,null,null,null,null,null,0,0,0,0,0,0,0,"","",{"$f":"INDEX($AL$3:$AL$1500, MATCH(0, IF(ISBLANK($AL$3:$AL$1500), 1, COUNTIF(AM$3:AM363, $AL$3:$AL$1500)), 0))","v":{"$error":"#N/A"}},""]
[{"$f":"IF(E367=\"\",\"\",GetAddress(E367))","v":""},{"$f":"IF(E367=\"\",\"\",GetAddress(E367))","v":""},null,null,null,null,null,null,null,null,null,null,null,null,null,null,null,null,null,null,null,null,null,null,null,null,null,null,null,0,0,0,0,0,0,0,"","",{"$f":"INDEX($AL$3:$AL$1500, MATCH(0, IF(ISBLANK($AL$3:$AL$1500), 1, COUNTIF(AM$3:AM364, $AL$3:$AL$1500)), 0))","v":{"$error":"#N/A"}},""]
[{"$f":"IF(E368=\"\",\"\",GetAddress(E368))","v":""},{"$f":"IF(E368=\"\",\"\",GetAddress(E368))","v":""},null,null,null,null,null,null,null,null,null,null,null,null,null,null,null,null,null,null,null,null,null,null,null,null,null,null,null,0,0,0,0,0,0,0,"","",{"$f":"INDEX($AL$3:$AL$1500, MATCH(0, IF(ISBLANK($AL$3:$AL$1500), 1, COUNTIF(AM$3:AM365, $AL$3:$AL$1500)), 0))","v":{"$error":"#N/A"}},""]
[{"$f":"IF(E369=\"\",\"\",GetAddress(E369))","v":""},{"$f":"IF(E369=\"\",\"\",GetAddress(E369))","v":""},null,null,null,null,null,null,null,null,null,null,null,null,null,null,null,null,null,null,null,null,null,null,null,null,null,null,null,0,0,0,0,0,0,0,"","",{"$f":"INDEX($AL$3:$AL$1500, MATCH(0, IF(ISBLANK($AL$3:$AL$1500), 1, COUNTIF(AM$3:AM366, $AL$3:$AL$1500)), 0))","v":{"$error":"#N/A"}},""]
[{"$f":"IF(E370=\"\",\"\",GetAddress(E370))","v":""},{"$f":"IF(E370=\"\",\"\",GetAddress(E370))","v":""},null,null,null,null,null,null,null,null,null,null,null,null,null,null,null,null,null,null,null,null,null,null,null,null,null,null,null,0,0,0,0,0,0,0,"","",{"$f":"INDEX($AL$3:$AL$1500, MATCH(0, IF(ISBLANK($AL$3:$AL$1500), 1, COUNTIF(AM$3:AM367, $AL$3:$AL$1500)), 0))","v":{"$error":"#N/A"}},""]
[{"$f":"IF(E371=\"\",\"\",GetAddress(E371))","v":""},{"$f":"IF(E371=\"\",\"\",GetAddress(E371))","v":""},null,null,null,null,null,null,null,null,null,null,null,null,null,null,null,null,null,null,null,null,null,null,null,null,null,null,null,0,0,0,0,0,0,0,"","",{"$f":"INDEX($AL$3:$AL$1500, MATCH(0, IF(ISBLANK($AL$3:$AL$1500), 1, COUNTIF(AM$3:AM368, $AL$3:$AL$1500)), 0))","v":{"$error":"#N/A"}},""]
[{"$f":"IF(E372=\"\",\"\",GetAddress(E372))","v":""},{"$f":"IF(E372=\"\",\"\",GetAddress(E372))","v":""},null,null,null,null,null,null,null,null,null,null,null,null,null,null,null,null,null,null,null,null,null,null,null,null,null,null,null,0,0,0,0,0,0,0,"","",{"$f":"INDEX($AL$3:$AL$1500, MATCH(0, IF(ISBLANK($AL$3:$AL$1500), 1, COUNTIF(AM$3:AM369, $AL$3:$AL$1500)), 0))","v":{"$error":"#N/A"}},""]
[{"$f":"IF(E373=\"\",\"\",GetAddress(E373))","v":""},{"$f":"IF(E373=\"\",\"\",GetAddress(E373))","v":""},null,null,null,null,null,null,null,null,null,null,null,null,null,null,null,null,null,null,null,null,null,null,null,null,null,null,null,0,0,0,0,0,0,0,"","",{"$f":"INDEX($AL$3:$AL$1500, MATCH(0, IF(ISBLANK($AL$3:$AL$1500), 1, COUNTIF(AM$3:AM370, $AL$3:$AL$1500)), 0))","v":{"$error":"#N/A"}},""]
[{"$f":"IF(E374=\"\",\"\",GetAddress(E374))","v":""},{"$f":"IF(E374=\"\",\"\",GetAddress(E374))","v":""},null,null,null,null,null,null,null,null,null,null,null,null,null,null,null,null,null,null,null,null,null,null,null,null,null,null,null,0,0,0,0,0,0,0,"","",{"$f":"INDEX($AL$3:$AL$1500, MATCH(0, IF(ISBLANK($AL$3:$AL$1500), 1, COUNTIF(AM$3:AM371, $AL$3:$AL$1500)), 0))","v":{"$error":"#N/A"}},""]
[{"$f":"IF(E375=\"\",\"\",GetAddress(E375))","v":""},{"$f":"IF(E375=\"\",\"\",GetAddress(E375))","v":""},null,null,null,null,null,null,null,null,null,null,null,null,null,null,null,null,null,null,null,null,null,null,null,null,null,null,null,0,0,0,0,0,0,0,"","",{"$f":"INDEX($AL$3:$AL$1500, MATCH(0, IF(ISBLANK($AL$3:$AL$1500), 1, COUNTIF(AM$3:AM372, $AL$3:$AL$1500)), 0))","v":{"$error":"#N/A"}},""]
[{"$f":"IF(E376=\"\",\"\",GetAddress(E376))","v":""},{"$f":"IF(E376=\"\",\"\",GetAddress(E376))","v":""},null,null,null,null,null,null,null,null,null,null,null,null,null,null,null,null,null,null,null,null,null,null,null,null,null,null,null,0,0,0,0,0,0,0,"","",{"$f":"INDEX($AL$3:$AL$1500, MATCH(0, IF(ISBLANK($AL$3:$AL$1500), 1, COUNTIF(AM$3:AM373, $AL$3:$AL$1500)), 0))","v":{"$error":"#N/A"}},""]
[{"$f":"IF(E377=\"\",\"\",GetAddress(E377))","v":""},{"$f":"IF(E377=\"\",\"\",GetAddress(E377))","v":""},null,null,null,null,null,null,null,null,null,null,null,null,null,null,null,null,null,null,null,null,null,null,null,null,null,null,null,0,0,0,0,0,0,0,"","",{"$f":"INDEX($AL$3:$AL$1500, MATCH(0, IF(ISBLANK($AL$3:$AL$1500), 1, COUNTIF(AM$3:AM374, $AL$3:$AL$1500)), 0))","v":{"$error":"#N/A"}},""]
[{"$f":"IF(E378=\"\",\"\",GetAddress(E378))","v":""},{"$f":"IF(E378=\"\",\"\",GetAddress(E378))","v":""},null,null,null,null,null,null,null,null,null,null,null,null,null,null,null,null,null,null,null,null,null,null,null,null,null,null,null,0,0,0,0,0,0,0,"","",{"$f":"INDEX($AL$3:$AL$1500, MATCH(0, IF(ISBLANK($AL$3:$AL$1500), 1, COUNTIF(AM$3:AM375, $AL$3:$AL$1500)), 0))","v":{"$error":"#N/A"}},""]
[{"$f":"IF(E379=\"\",\"\",GetAddress(E379))","v":""},{"$f":"IF(E379=\"\",\"\",GetAddress(E379))","v":""},null,null,null,null,null,null,null,null,null,null,null,null,null,null,null,null,null,null,null,null,null,null,null,null,null,null,null,0,0,0,0,0,0,0,"","",{"$f":"INDEX($AL$3:$AL$1500, MATCH(0, IF(ISBLANK($AL$3:$AL$1500), 1, COUNTIF(AM$3:AM376, $AL$3:$AL$1500)), 0))","v":{"$error":"#N/A"}},""]
[{"$f":"IF(E380=\"\",\"\",GetAddress(E380))","v":""},{"$f":"IF(E380=\"\",\"\",GetAddress(E380))","v":""},null,null,null,null,null,null,null,null,null,null,null,null,null,null,null,null,null,null,null,null,null,null,null,null,null,null,null,0,0,0,0,0,0,0,"","",{"$f":"INDEX($AL$3:$AL$1500, MATCH(0, IF(ISBLANK($AL$3:$AL$1500), 1, COUNTIF(AM$3:AM377, $AL$3:$AL$1500)), 0))","v":{"$error":"#N/A"}},""]
[{"$f":"IF(E381=\"\",\"\",GetAddress(E381))","v":""},{"$f":"IF(E381=\"\",\"\",GetAddress(E381))","v":""},null,null,null,null,null,null,null,null,null,null,null,null,null,null,null,null,null,null,null,null,null,null,null,null,null,null,null,0,0,0,0,0,0,0,"","",{"$f":"INDEX($AL$3:$AL$1500, MATCH(0, IF(ISBLANK($AL$3:$AL$1500), 1, COUNTIF(AM$3:AM378, $AL$3:$AL$1500)), 0))","v":{"$error":"#N/A"}},""]
[{"$f":"IF(E382=\"\",\"\",GetAddress(E382))","v":""},{"$f":"IF(E382=\"\",\"\",GetAddress(E382))","v":""},null,null,null,null,null,null,null,null,null,null,null,null,null,null,null,null,null,null,null,null,null,null,null,null,null,null,null,0,0,0,0,0,0,0,"","",{"$f":"INDEX($AL$3:$AL$1500, MATCH(0, IF(ISBLANK($AL$3:$AL$1500), 1, COUNTIF(AM$3:AM379, $AL$3:$AL$1500)), 0))","v":{"$error":"#N/A"}},""]
[{"$f":"IF(E383=\"\",\"\",GetAddress(E383))","v":""},{"$f":"IF(E383=\"\",\"\",GetAddress(E383))","v":""},null,null,null,null,null,null,null,null,null,null,null,null,null,null,null,null,null,null,null,null,null,null,null,null,null,null,null,0,0,0,0,0,0,0,"","",{"$f":"INDEX($AL$3:$AL$1500, MATCH(0, IF(ISBLANK($AL$3:$AL$1500), 1, COUNTIF(AM$3:AM380, $AL$3:$AL$1500)), 0))","v":{"$error":"#N/A"}},""]
[{"$f":"IF(E384=\"\",\"\",GetAddress(E384))","v":""},{"$f":"IF(E384=\"\",\"\",GetAddress(E384))","v":""},null,null,null,null,null,null,null,null,null,null,null,null,null,null,null,null,null,null,null,null,null,null,null,null,null,null,null,0,0,0,0,0,0,0,"","",{"$f":"INDEX($AL$3:$AL$1500, MATCH(0, IF(ISBLANK($AL$3:$AL$1500), 1, COUNTIF(AM$3:AM381, $AL$3:$AL$1500)), 0))","v":{"$error":"#N/A"}},""]
[{"$f":"IF(E385=\"\",\"\",GetAddress(E385))","v":""},{"$f":"IF(E385=\"\",\"\",GetAddress(E385))","v":""},null,null,null,null,null,null,null,null,null,null,null,null,null,null,null,null,null,null,null,null,null,null,null,null,null,null,null,0,0,0,0,0,0,0,"","",{"$f":"INDEX($AL$3:$AL$1500, MATCH(0, IF(ISBLANK($AL$3:$AL$1500), 1, COUNTIF(AM$3:AM382, $AL$3:$AL$1500)), 0))","v":{"$error":"#N/A"}},""]
[{"$f":"IF(E386=\"\",\"\",GetAddress(E386))","v":""},{"$f":"IF(E386=\"\",\"\",GetAddress(E386))","v":""},null,null,null,null,null,null,null,null,null,null,null,null,null,null,null,null,null,null,null,null,null,null,null,null,null,null,null,0,0,0,0,0,0,0,"","",{"$f":"INDEX($AL$3:$AL$1500, MATCH(0, IF(ISBLANK($AL$3:$AL$1500), 1, COUNTIF(AM$3:AM383, $AL$3:$AL$1500)), 0))","v":{"$error":"#N/A"}},""]
[{"$f":"IF(E387=\"\",\"\",GetAddress(E387))","v":""},{"$f":"IF(E387=\"\",\"\",GetAddress(E387))","v":""},null,null,null,null,null,null,null,null,null,null,null,null,null,null,null,null,null,null,null,null,null,null,null,null,null,null,null,0,0,0,0,0,0,0,"","",{"$f":"INDEX($AL$3:$AL$1500, MATCH(0, IF(ISBLANK($AL$3:$AL$1500), 1, COUNTIF(AM$3:AM384, $AL$3:$AL$1500)), 0))","v":{"$error":"#N/A"}},""]
[{"$f":"IF(E388=\"\",\"\",GetAddress(E388))","v":""},{"$f":"IF(E388=\"\",\"\",GetAddress(E388))","v":""},null,null,null,null,null,null,null,null,null,null,null,null,null,null,null,null,null,null,null,null,null,null,null,null,null,null,null,0,0,0,0,0,0,0,"","",{"$f":"INDEX($AL$3:$AL$1500, MATCH(0, IF(ISBLANK($AL$3:$AL$1500), 1, COUNTIF(AM$3:AM385, $AL$3:$AL$1500)), 0))","v":{"$error":"#N/A"}},""]
[{"$f":"IF(E389=\"\",\"\",GetAddress(E389))","v":""},{"$f":"IF(E389=\"\",\"\",GetAddress(E389))","v":""},null,null,null,null,null,null,null,null,null,null,null,null,null,null,null,null,null,null,null,null,null,null,null,null,null,null,null,0,0,0,0,0,0,{"$f":"IF(AI387=\"Free A\",\"\",AI387)","v":0},{"$f":"IF(AJ387=0,\"\",AJ387)","v":""},{"$f":"IF(AK387=\"Free Agent\",\"\",AK387)","v":""},{"$f":"INDEX($AL$3:$AL$1500, MATCH(0, IF(ISBLANK($AL$3:$AL$1500), 1, COUNTIF(AM$3:AM386, $AL$3:$AL$1500)), 0))","v":{"$error":"#N/A"}},{"$f":"IF(ISERROR(AM387),\"\",AM387)","v":""}]
[{"$f":"IF(E390=\"\",\"\",GetAddress(E390))","v":""},{"$f":"IF(E390=\"\",\"\",GetAddress(E390))","v":""},null,null,null,null,null,null,null,null,null,null,null,null,null,null,null,null,null,null,null,null,null,null,null,null,null,null,null,0,0,0,0,0,0,0,"","",{"$f":"INDEX($AL$3:$AL$1500, MATCH(0, IF(ISBLANK($AL$3:$AL$1500), 1, COUNTIF(AM$3:AM387, $AL$3:$AL$1500)), 0))","v":{"$error":"#N/A"}},""]
[{"$f":"IF(E391=\"\",\"\",GetAddress(E391))","v":""},{"$f":"IF(E391=\"\",\"\",GetAddress(E391))","v":""},null,null,null,null,null,null,null,null,null,null,null,null,null,null,null,null,null,null,null,null,null,null,null,null,null,null,null,{"$f":"VALUE(IF(ISNUMBER(SEARCH(\"(P)\",Y389)),\"1\", \"0\"))","v":0},{"$f":"VALUE(IF(ISNUMBER(SEARCH(\"(Q)\",Y389)),\"1\", \"0\"))","v":0},{"$f":"VALUE(IF(ISNUMBER(SEARCH(\"(O)\",Y389)),\"1\", \"0\"))","v":0},{"$f":"VALUE(IF(ISNUMBER(SEARCH(\"(S)\",Y389)),\"1\", \"0\"))","v":0},{"$f":"VALUE(IF(ISNUMBER(SEARCH(\"Free Agent\",Y389)),\"1\", \"0\"))","v":0},{"$f":"IF(SUM(AD389:AH389)=0,Y389,LEFT(Y389,LEN(Y389)-4))","v":0},0,"","",{"$f":"INDEX($AL$3:$AL$1500, MATCH(0, IF(ISBLANK($AL$3:$AL$1500), 1, COUNTIF(AM$3:AM388, $AL$3:$AL$1500)), 0))","v":{"$error":"#N/A"}},""]
[{"$f":"IF(E392=\"\",\"\",GetAddress(E392))","v":""},{"$f":"IF(E392=\"\",\"\",GetAddress(E392))","v":""},null,null,null,null,null,null,null,null,null,null,null,null,null,null,null,null,null,null,null,null,null,null,null,null,null,null,null,0,0,0,0,0,0,0,"","",{"$f":"INDEX($AL$3:$AL$1500, MATCH(0, IF(ISBLANK($AL$3:$AL$1500), 1, COUNTIF(AM$3:AM389, $AL$3:$AL$1500)), 0))","v":{"$error":"#N/A"}},""]
[{"$f":"IF(E393=\"\",\"\",GetAddress(E393))","v":""},{"$f":"IF(E393=\"\",\"\",GetAddress(E393))","v":""},null,null,null,null,null,null,null,null,null,null,null,null,null,null,null,null,null,null,null,null,null,null,null,null,null,null,null,0,0,0,0,0,0,0,"","",{"$f":"INDEX($AL$3:$AL$1500, MATCH(0, IF(ISBLANK($AL$3:$AL$1500), 1, COUNTIF(AM$3:AM390, $AL$3:$AL$1500)), 0))","v":{"$error":"#N/A"}},""]
[{"$f":"IF(E394=\"\",\"\",GetAddress(E394))","v":""},{"$f":"IF(E394=\"\",\"\",GetAddress(E394))","v":""},null,null,null,null,null,null,null,null,null,null,null,null,null,null,null,null,null,null,null,null,null,null,null,null,null,null,null,0,0,0,0,0,0,0,"","",{"$f":"INDEX($AL$3:$AL$1500, MATCH(0, IF(ISBLANK($AL$3:$AL$1500), 1, COUNTIF(AM$3:AM391, $AL$3:$AL$1500)), 0))","v":{"$error":"#N/A"}},""]
[{"$f":"IF(E395=\"\",\"\",GetAddress(E395))","v":""},{"$f":"IF(E395=\"\",\"\",GetAddress(E395))","v":""},null,null,null,null,null,null,null,null,null,null,null,null,null,null,null,null,null,null,null,null,null,null,null,null,null,null,null,0,0,0,0,0,0,0,"","",{"$f":"INDEX($AL$3:$AL$1500, MATCH(0, IF(ISBLANK($AL$3:$AL$1500), 1, COUNTIF(AM$3:AM392, $AL$3:$AL$1500)), 0))","v":{"$error":"#N/A"}},""]
[{"$f":"IF(E396=\"\",\"\",GetAddress(E396))","v":""},{"$f":"IF(E396=\"\",\"\",GetAddress(E396))","v":""},null,null,null,null,null,null,null,null,null,null,null,null,null,null,null,null,null,null,null,null,null,null,null,null,null,null,null,0,0,0,0,0,0,0,"","",{"$f":"INDEX($AL$3:$AL$1500, MATCH(0, IF(ISBLANK($AL$3:$AL$1500), 1, COUNTIF(AM$3:AM393, $AL$3:$AL$1500)), 0))","v":{"$error":"#N/A"}},""]
[{"$f":"IF(E397=\"\",\"\",GetAddress(E397))","v":""},{"$f":"IF(E397=\"\",\"\",GetAddress(E397))","v":""},null,null,null,null,null,null,null,null,null,null,null,null,null,null,null,null,null,null,null,null,null,null,null,null,null,null,null,0,0,0,0,0,0,0,"","",{"$f":"INDEX($AL$3:$AL$1500, MATCH(0, IF(ISBLANK($AL$3:$AL$1500), 1, COUNTIF(AM$3:AM394, $AL$3:$AL$1500)), 0))","v":{"$error":"#N/A"}},""]
[{"$f":"IF(E398=\"\",\"\",GetAddress(E398))","v":""},{"$f":"IF(E398=\"\",\"\",GetAddress(E398))","v":""},null,null,null,null,null,null,null,null,null,null,null,null,null,null,null,null,null,null,null,null,null,null,null,null,null,null,null,0,0,0,0,0,0,0,"","",{"$f":"INDEX($AL$3:$AL$1500, MATCH(0, IF(ISBLANK($AL$3:$AL$1500), 1, COUNTIF(AM$3:AM395, $AL$3:$AL$1500)), 0))","v":{"$error":"#N/A"}},""]
[{"$f":"IF(E399=\"\",\"\",GetAddress(E399))","v":""},{"$f":"IF(E399=\"\",\"\",GetAddress(E399))","v":""},null,null,null,null,null,null,null,null,null,null,null,null,null,null,null,null,null,null,null,null,null,null,null,null,null,null,null,0,0,0,0,0,0,0,"","",{"$f":"INDEX($AL$3:$AL$1500, MATCH(0, IF(ISBLANK($AL$3:$AL$1500), 1, COUNTIF(AM$3:AM396, $AL$3:$AL$1500)), 0))","v":{"$error":"#N/A"}},""]
[{"$f":"IF(E400=\"\",\"\",GetAddress(E400))","v":""},{"$f":"IF(E400=\"\",\"\",GetAddress(E400))","v":""},null,null,null,null,null,null,null,null,null,null,null,null,null,null,null,null,null,null,null,null,null,null,null,null,null,null,null,0,0,0,0,0,0,0,"","",{"$f":"INDEX($AL$3:$AL$1500, MATCH(0, IF(ISBLANK($AL$3:$AL$1500), 1, COUNTIF(AM$3:AM397, $AL$3:$AL$1500)), 0))","v":{"$error":"#N/A"}},""]
[{"$f":"IF(E401=\"\",\"\",GetAddress(E401))","v":""},{"$f":"IF(E401=\"\",\"\",GetAddress(E401))","v":""},null,null,null,null,null,null,null,null,null,null,null,null,null,null,null,null,null,null,null,null,null,null,null,null,null,null,null,0,0,0,0,0,0,0,"","",{"$f":"INDEX($AL$3:$AL$1500, MATCH(0, IF(ISBLANK($AL$3:$AL$1500), 1, COUNTIF(AM$3:AM398, $AL$3:$AL$1500)), 0))","v":{"$error":"#N/A"}},""]
[{"$f":"IF(E402=\"\",\"\",GetAddress(E402))","v":""},{"$f":"IF(E402=\"\",\"\",GetAddress(E402))","v":""},null,null,null,null,null,null,null,null,null,null,null,null,null,null,null,null,null,null,null,null,null,null,null,null,null,null,null,0,0,0,0,0,0,0,"","",{"$f":"INDEX($AL$3:$AL$1500, MATCH(0, IF(ISBLANK($AL$3:$AL$1500), 1, COUNTIF(AM$3:AM399, $AL$3:$AL$1500)), 0))","v":{"$error":"#N/A"}},""]
[{"$f":"IF(E403=\"\",\"\",GetAddress(E403))","v":""},{"$f":"IF(E403=\"\",\"\",GetAddress(E403))","v":""},null,null,null,null,null,null,null,null,null,null,null,null,null,null,null,null,null,null,null,null,null,null,null,null,null,null,null,0,0,0,0,0,0,0,"","",{"$f":"INDEX($AL$3:$AL$1500, MATCH(0, IF(ISBLANK($AL$3:$AL$1500), 1, COUNTIF(AM$3:AM400, $AL$3:$AL$1500)), 0))","v":{"$error":"#N/A"}},""]
[{"$f":"IF(E404=\"\",\"\",GetAddress(E404))","v":""},{"$f":"IF(E404=\"\",\"\",GetAddress(E404))","v":""},null,null,null,null,null,null,null,null,null,null,null,null,null,null,null,null,null,null,null,null,null,null,null,null,null,null,null,0,0,0,0,0,0,0,"","",{"$f":"INDEX($AL$3:$AL$1500, MATCH(0, IF(ISBLANK($AL$3:$AL$1500), 1, COUNTIF(AM$3:AM401, $AL$3:$AL$1500)), 0))","v":{"$error":"#N/A"}},""]
[{"$f":"IF(E405=\"\",\"\",GetAddress(E405))","v":""},{"$f":"IF(E405=\"\",\"\",GetAddress(E405))","v":""},null,null,null,null,null,null,null,null,null,null,null,null,null,null,null,null,null,null,null,null,null,null,null,null,null,null,null,0,0,0,0,0,0,0,"","",{"$f":"INDEX($AL$3:$AL$1500, MATCH(0, IF(ISBLANK($AL$3:$AL$1500), 1, COUNTIF(AM$3:AM402, $AL$3:$AL$1500)), 0))","v":{"$error":"#N/A"}},""]
[{"$f":"IF(E406=\"\",\"\",GetAddress(E406))","v":""},{"$f":"IF(E406=\"\",\"\",GetAddress(E406))","v":""},null,null,null,null,null,null,null,null,null,null,null,null,null,null,null,null,null,null,null,null,null,null,null,null,null,null,null,0,0,0,0,0,0,0,"","",{"$f":"INDEX($AL$3:$AL$1500, MATCH(0, IF(ISBLANK($AL$3:$AL$1500), 1, COUNTIF(AM$3:AM403, $AL$3:$AL$1500)), 0))","v":{"$error":"#N/A"}},""]
[{"$f":"IF(E407=\"\",\"\",GetAddress(E407))","v":""},{"$f":"IF(E407=\"\",\"\",GetAddress(E407))","v":""},null,null,null,null,null,null,null,null,null,null,null,null,null,null,null,null,null,null,null,null,null,null,null,null,null,null,null,0,0,0,0,0,0,0,"","",{"$f":"INDEX($AL$3:$AL$1500, MATCH(0, IF(ISBLANK($AL$3:$AL$1500), 1, COUNTIF(AM$3:AM404, $AL$3:$AL$1500)), 0))","v":{"$error":"#N/A"}},""]
[{"$f":"IF(E408=\"\",\"\",GetAddress(E408))","v":""},{"$f":"IF(E408=\"\",\"\",GetAddress(E408))","v":""},null,null,null,null,null,null,null,null,null,null,null,null,null,null,null,null,null,null,null,null,null,null,null,null,null,null,null,0,0,0,0,0,0,0,"","",{"$f":"INDEX($AL$3:$AL$1500, MATCH(0, IF(ISBLANK($AL$3:$AL$1500), 1, COUNTIF(AM$3:AM405, $AL$3:$AL$1500)), 0))","v":{"$error":"#N/A"}},""]
[{"$f":"IF(E409=\"\",\"\",GetAddress(E409))","v":""},{"$f":"IF(E409=\"\",\"\",GetAddress(E409))","v":""},null,null,null,null,null,null,null,null,null,null,null,null,null,null,null,null,null,null,null,null,null,null,null,null,null,null,null,0,0,0,0,0,0,0,"","",{"$f":"INDEX($AL$3:$AL$1500, MATCH(0, IF(ISBLANK($AL$3:$AL$1500), 1, COUNTIF(AM$3:AM406, $AL$3:$AL$1500)), 0))","v":{"$error":"#N/A"}},""]
[{"$f":"IF(E410=\"\",\"\",GetAddress(E410))","v":""},{"$f":"IF(E410=\"\",\"\",GetAddress(E410))","v":""},null,null,null,null,null,null,null,null,null,null,null,null,null,null,null,null,null,null,null,null,null,null,null,null,null,null,null,0,0,0,0,0,0,0,"","",{"$f":"INDEX($AL$3:$AL$1500, MATCH(0, IF(ISBLANK($AL$3:$AL$1500), 1, COUNTIF(AM$3:AM407, $AL$3:$AL$1500)), 0))","v":{"$error":"#N/A"}},""]
[{"$f":"IF(E411=\"\",\"\",GetAddress(E411))","v":""},{"$f":"IF(E411=\"\",\"\",GetAddress(E411))","v":""},null,null,null,null,null,null,null,null,null,null,null,null,null,null,null,null,null,null,null,null,null,null,null,null,null,null,null,0,0,0,0,0,0,0,"","",{"$f":"INDEX($AL$3:$AL$1500, MATCH(0, IF(ISBLANK($AL$3:$AL$1500), 1, COUNTIF(AM$3:AM408, $AL$3:$AL$1500)), 0))","v":{"$error":"#N/A"}},""]
[{"$f":"IF(E412=\"\",\"\",GetAddress(E412))","v":""},{"$f":"IF(E412=\"\",\"\",GetAddress(E412))","v":""},null,null,null,null,null,null,null,null,null,null,null,null,null,null,null,null,null,null,null,null,null,null,null,null,null,null,null,0,0,0,0,0,0,0,"","",{"$f":"INDEX($AL$3:$AL$1500, MATCH(0, IF(ISBLANK($AL$3:$AL$1500), 1, COUNTIF(AM$3:AM409, $AL$3:$AL$1500)), 0))","v":{"$error":"#N/A"}},""]
[{"$f":"IF(E413=\"\",\"\",GetAddress(E413))","v":""},{"$f":"IF(E413=\"\",\"\",GetAddress(E413))","v":""},null,null,null,null,null,null,null,null,null,null,null,null,null,null,null,null,null,null,null,null,null,null,null,null,null,null,null,0,0,0,0,0,0,0,"","",{"$f":"INDEX($AL$3:$AL$1500, MATCH(0, IF(ISBLANK($AL$3:$AL$1500), 1, COUNTIF(AM$3:AM410, $AL$3:$AL$1500)), 0))","v":{"$error":"#N/A"}},""]
[{"$f":"IF(E414=\"\",\"\",GetAddress(E414))","v":""},{"$f":"IF(E414=\"\",\"\",GetAddress(E414))","v":""},null,null,null,null,null,null,null,null,null,null,null,null,null,null,null,null,null,null,null,null,null,null,null,null,null,null,null,0,0,0,0,0,0,0,"","",{"$f":"INDEX($AL$3:$AL$1500, MATCH(0, IF(ISBLANK($AL$3:$AL$1500), 1, COUNTIF(AM$3:AM411, $AL$3:$AL$1500)), 0))","v":{"$error":"#N/A"}},""]
[{"$f":"IF(E415=\"\",\"\",GetAddress(E415))","v":""},{"$f":"IF(E415=\"\",\"\",GetAddress(E415))","v":""},null,null,null,null,null,null,null,null,null,null,null,null,null,null,null,null,null,null,null,null,null,null,null,null,null,null,null,0,0,0,0,0,0,0,"","",{"$f":"INDEX($AL$3:$AL$1500, MATCH(0, IF(ISBLANK($AL$3:$AL$1500), 1, COUNTIF(AM$3:AM412, $AL$3:$AL$1500)), 0))","v":{"$error":"#N/A"}},""]
[{"$f":"IF(E416=\"\",\"\",GetAddress(E416))","v":""},{"$f":"IF(E416=\"\",\"\",GetAddress(E416))","v":""},null,null,null,null,null,null,null,null,null,null,null,null,null,null,null,null,null,null,null,null,null,null,null,null,null,null,null,0,0,0,0,0,0,0,"","",{"$f":"INDEX($AL$3:$AL$1500, MATCH(0, IF(ISBLANK($AL$3:$AL$1500), 1, COUNTIF(AM$3:AM413, $AL$3:$AL$1500)), 0))","v":{"$error":"#N/A"}},""]
[{"$f":"IF(E417=\"\",\"\",GetAddress(E417))","v":""},{"$f":"IF(E417=\"\",\"\",GetAddress(E417))","v":""},null,null,null,null,null,null,null,null,null,null,null,null,null,null,null,null,null,null,null,null,null,null,null,null,null,null,null,0,0,0,0,0,0,0,"","",{"$f":"INDEX($AL$3:$AL$1500, MATCH(0, IF(ISBLANK($AL$3:$AL$1500), 1, COUNTIF(AM$3:AM414, $AL$3:$AL$1500)), 0))","v":{"$error":"#N/A"}},""]
[{"$f":"IF(E418=\"\",\"\",GetAddress(E418))","v":""},{"$f":"IF(E418=\"\",\"\",GetAddress(E418))","v":""},null,null,null,null,null,null,null,null,null,null,null,null,null,null,null,null,null,null,null,null,null,null,null,null,null,null,null,0,0,0,0,0,0,0,"","",{"$f":"INDEX($AL$3:$AL$1500, MATCH(0, IF(ISBLANK($AL$3:$AL$1500), 1, COUNTIF(AM$3:AM415, $AL$3:$AL$1500)), 0))","v":{"$error":"#N/A"}},""]
[{"$f":"IF(E419=\"\",\"\",GetAddress(E419))","v":""},{"$f":"IF(E419=\"\",\"\",GetAddress(E419))","v":""},null,null,null,null,null,null,null,null,null,null,null,null,null,null,null,null,null,null,null,null,null,null,null,null,null,null,null,0,0,0,0,0,0,0,"","",{"$f":"INDEX($AL$3:$AL$1500, MATCH(0, IF(ISBLANK($AL$3:$AL$1500), 1, COUNTIF(AM$3:AM416, $AL$3:$AL$1500)), 0))","v":{"$error":"#N/A"}},""]
[{"$f":"IF(E420=\"\",\"\",GetAddress(E420))","v":""},{"$f":"IF(E420=\"\",\"\",GetAddress(E420))","v":""},null,null,null,null,null,null,null,null,null,null,null,null,null,null,null,null,null,null,null,null,null,null,null,null,null,null,null,0,0,0,0,0,0,0,"","",{"$f":"INDEX($AL$3:$AL$1500, MATCH(0, IF(ISBLANK($AL$3:$AL$1500), 1, COUNTIF(AM$3:AM417, $AL$3:$AL$1500)), 0))","v":{"$error":"#N/A"}},""]
[{"$f":"IF(E421=\"\",\"\",GetAddress(E421))","v":""},{"$f":"IF(E421=\"\",\"\",GetAddress(E421))","v":""},null,null,null,null,null,null,null,null,null,null,null,null,null,null,null,null,null,null,null,null,null,null,null,null,null,null,null,0,0,0,0,0,0,0,"","",{"$f":"INDEX($AL$3:$AL$1500, MATCH(0, IF(ISBLANK($AL$3:$AL$1500), 1, COUNTIF(AM$3:AM418, $AL$3:$AL$1500)), 0))","v":{"$error":"#N/A"}},""]
[{"$f":"IF(E422=\"\",\"\",GetAddress(E422))","v":""},{"$f":"IF(E422=\"\",\"\",GetAddress(E422))","v":""},null,null,null,null,null,null,null,null,null,null,null,null,null,null,null,null,null,null,null,null,null,null,null,null,null,null,null,0,0,0,0,0,0,0,"","",{"$f":"INDEX($AL$3:$AL$1500, MATCH(0, IF(ISBLANK($AL$3:$AL$1500), 1, COUNTIF(AM$3:AM419, $AL$3:$AL$1500)), 0))","v":{"$error":"#N/A"}},""]
[{"$f":"IF(E423=\"\",\"\",GetAddress(E423))","v":""},{"$f":"IF(E423=\"\",\"\",GetAddress(E423))","v":""},null,null,null,null,null,null,null,null,null,null,null,null,null,null,null,null,null,null,null,null,null,null,null,null,null,null,null,0,0,0,0,0,0,0,"","",{"$f":"INDEX($AL$3:$AL$1500, MATCH(0, IF(ISBLANK($AL$3:$AL$1500), 1, COUNTIF(AM$3:AM420, $AL$3:$AL$1500)), 0))","v":{"$error":"#N/A"}},""]
[{"$f":"IF(E424=\"\",\"\",GetAddress(E424))","v":""},{"$f":"IF(E424=\"\",\"\",GetAddress(E424))","v":""},null,null,null,null,null,null,null,null,null,null,null,null,null,null,null,null,null,null,null,null,null,null,null,null,null,null,null,0,0,0,0,0,0,0,"","",{"$f":"INDEX($AL$3:$AL$1500, MATCH(0, IF(ISBLANK($AL$3:$AL$1500), 1, COUNTIF(AM$3:AM421, $AL$3:$AL$1500)), 0))","v":{"$error":"#N/A"}},""]
[{"$f":"IF(E425=\"\",\"\",GetAddress(E425))","v":""},{"$f":"IF(E425=\"\",\"\",GetAddress(E425))","v":""},null,null,null,null,null,null,null,null,null,null,null,null,null,null,null,null,null,null,null,null,null,null,null,null,null,null,null,0,0,0,0,0,0,0,"","",{"$f":"INDEX($AL$3:$AL$1500, MATCH(0, IF(ISBLANK($AL$3:$AL$1500), 1, COUNTIF(AM$3:AM422, $AL$3:$AL$1500)), 0))","v":{"$error":"#N/A"}},""]
[{"$f":"IF(E426=\"\",\"\",GetAddress(E426))","v":""},{"$f":"IF(E426=\"\",\"\",GetAddress(E426))","v":""},null,null,null,null,null,null,null,null,null,null,null,null,null,null,null,null,null,null,null,null,null,null,null,null,null,null,null,0,0,0,0,0,0,0,"","",{"$f":"INDEX($AL$3:$AL$1500, MATCH(0, IF(ISBLANK($AL$3:$AL$1500), 1, COUNTIF(AM$3:AM423, $AL$3:$AL$1500)), 0))","v":{"$error":"#N/A"}},""]
[{"$f":"IF(E427=\"\",\"\",GetAddress(E427))","v":""},{"$f":"IF(E427=\"\",\"\",GetAddress(E427))","v":""},null,null,null,null,null,null,null,null,null,null,null,null,null,null,null,null,null,null,null,null,null,null,null,null,null,null,null,0,0,0,0,0,0,0,"","",{"$f":"INDEX($AL$3:$AL$1500, MATCH(0, IF(ISBLANK($AL$3:$AL$1500), 1, COUNTIF(AM$3:AM424, $AL$3:$AL$1500)), 0))","v":{"$error":"#N/A"}},""]
[{"$f":"IF(E428=\"\",\"\",GetAddress(E428))","v":""},{"$f":"IF(E428=\"\",\"\",GetAddress(E428))","v":""},null,null,null,null,null,null,null,null,null,null,null,null,null,null,null,null,null,null,null,null,null,null,null,null,null,null,null,0,0,0,0,0,0,0,"","",{"$f":"INDEX($AL$3:$AL$1500, MATCH(0, IF(ISBLANK($AL$3:$AL$1500), 1, COUNTIF(AM$3:AM425, $AL$3:$AL$1500)), 0))","v":{"$error":"#N/A"}},""]
[{"$f":"IF(E429=\"\",\"\",GetAddress(E429))","v":""},{"$f":"IF(E429=\"\",\"\",GetAddress(E429))","v":""},null,null,null,null,null,null,null,null,null,null,null,null,null,null,null,null,null,null,null,null,null,null,null,null,null,null,null,0,0,0,0,0,0,0,"","",{"$f":"INDEX($AL$3:$AL$1500, MATCH(0, IF(ISBLANK($AL$3:$AL$1500), 1, COUNTIF(AM$3:AM426, $AL$3:$AL$1500)), 0))","v":{"$error":"#N/A"}},""]
[{"$f":"IF(E430=\"\",\"\",GetAddress(E430))","v":""},{"$f":"IF(E430=\"\",\"\",GetAddress(E430))","v":""},null,null,null,null,null,null,null,null,null,null,null,null,null,null,null,null,null,null,null,null,null,null,null,null,null,null,null,0,0,0,0,0,0,0,"","",{"$f":"INDEX($AL$3:$AL$1500, MATCH(0, IF(ISBLANK($AL$3:$AL$1500), 1, COUNTIF(AM$3:AM427, $AL$3:$AL$1500)), 0))","v":{"$error":"#N/A"}},""]
[{"$f":"IF(E431=\"\",\"\",GetAddress(E431))","v":""},{"$f":"IF(E431=\"\",\"\",GetAddress(E431))","v":""},null,null,null,null,null,null,null,null,null,null,null,null,null,null,null,null,null,null,null,null,null,null,null,null,null,null,null,0,0,0,0,0,0,0,"","",{"$f":"INDEX($AL$3:$AL$1500, MATCH(0, IF(ISBLANK($AL$3:$AL$1500), 1, COUNTIF(AM$3:AM428, $AL$3:$AL$1500)), 0))","v":{"$error":"#N/A"}},""]
[{"$f":"IF(E432=\"\",\"\",GetAddress(E432))","v":""},{"$f":"IF(E432=\"\",\"\",GetAddress(E432))","v":""},null,null,null,null,null,null,null,null,null,null,null,null,null,null,null,null,null,null,null,null,null,null,null,null,null,null,null,0,0,0,0,0,0,0,"","",{"$f":"INDEX($AL$3:$AL$1500, MATCH(0, IF(ISBLANK($AL$3:$AL$1500), 1, COUNTIF(AM$3:AM429, $AL$3:$AL$1500)), 0))","v":{"$error":"#N/A"}},""]
[{"$f":"IF(E433=\"\",\"\",GetAddress(E433))","v":""},{"$f":"IF(E433=\"\",\"\",GetAddress(E433))","v":""},null,null,null,null,null,null,null,null,null,null,null,null,null,null,null,null,null,null,null,null,null,null,null,null,null,null,null,0,0,0,0,0,0,0,"","",{"$f":"INDEX($AL$3:$AL$1500, MATCH(0, IF(ISBLANK($AL$3:$AL$1500), 1, COUNTIF(AM$3:AM430, $AL$3:$AL$1500)), 0))","v":{"$error":"#N/A"}},""]
[{"$f":"IF(E434=\"\",\"\",GetAddress(E434))","v":""},{"$f":"IF(E434=\"\",\"\",GetAddress(E434))","v":""},null,null,null,null,null,null,null,null,null,null,null,null,null,null,null,null,null,null,null,null,null,null,null,null,null,null,null,0,0,0,0,0,0,0,"","",{"$f":"INDEX($AL$3:$AL$1500, MATCH(0, IF(ISBLANK($AL$3:$AL$1500), 1, COUNTIF(AM$3:AM431, $AL$3:$AL$1500)), 0))","v":{"$error":"#N/A"}},""]
[{"$f":"IF(E435=\"\",\"\",GetAddress(E435))","v":""},{"$f":"IF(E435=\"\",\"\",GetAddress(E435))","v":""},null,null,null,null,null,null,null,null,null,null,null,null,null,null,null,null,null,null,null,null,null,null,null,null,null,null,null,0,0,0,0,0,0,0,"","",{"$f":"INDEX($AL$3:$AL$1500, MATCH(0, IF(ISBLANK($AL$3:$AL$1500), 1, COUNTIF(AM$3:AM432, $AL$3:$AL$1500)), 0))","v":{"$error":"#N/A"}},""]
[{"$f":"IF(E436=\"\",\"\",GetAddress(E436))","v":""},{"$f":"IF(E436=\"\",\"\",GetAddress(E436))","v":""},null,null,null,null,null,null,null,null,null,null,null,null,null,null,null,null,null,null,null,null,null,null,null,null,null,null,null,0,0,0,0,0,0,0,"","",{"$f":"INDEX($AL$3:$AL$1500, MATCH(0, IF(ISBLANK($AL$3:$AL$1500), 1, COUNTIF(AM$3:AM433, $AL$3:$AL$1500)), 0))","v":{"$error":"#N/A"}},""]
[{"$f":"IF(E437=\"\",\"\",GetAddress(E437))","v":""},{"$f":"IF(E437=\"\",\"\",GetAddress(E437))","v":""},null,null,null,null,null,null,null,null,null,null,null,null,null,null,null,null,null,null,null,null,null,null,null,null,null,null,null,0,0,0,0,0,0,0,"","",{"$f":"INDEX($AL$3:$AL$1500, MATCH(0, IF(ISBLANK($AL$3:$AL$1500), 1, COUNTIF(AM$3:AM434, $AL$3:$AL$1500)), 0))","v":{"$error":"#N/A"}},""]
[{"$f":"IF(E438=\"\",\"\",GetAddress(E438))","v":""},{"$f":"IF(E438=\"\",\"\",GetAddress(E438))","v":""},null,null,null,null,null,null,null,null,null,null,null,null,null,null,null,null,null,null,null,null,null,null,null,null,null,null,null,0,0,0,0,0,0,0,"","",{"$f":"INDEX($AL$3:$AL$1500, MATCH(0, IF(ISBLANK($AL$3:$AL$1500), 1, COUNTIF(AM$3:AM435, $AL$3:$AL$1500)), 0))","v":{"$error":"#N/A"}},""]
[{"$f":"IF(E439=\"\",\"\",GetAddress(E439))","v":""},{"$f":"IF(E439=\"\",\"\",GetAddress(E439))","v":""},null,null,null,null,null,null,null,null,null,null,null,null,null,null,null,null,null,null,null,null,null,null,null,null,null,null,null,0,0,0,0,0,0,0,"","",{"$f":"INDEX($AL$3:$AL$1500, MATCH(0, IF(ISBLANK($AL$3:$AL$1500), 1, COUNTIF(AM$3:AM436, $AL$3:$AL$1500)), 0))","v":{"$error":"#N/A"}},""]
[{"$f":"IF(E440=\"\",\"\",GetAddress(E440))","v":""},{"$f":"IF(E440=\"\",\"\",GetAddress(E440))","v":""},null,null,null,null,null,null,null,null,null,null,null,null,null,null,null,null,null,null,null,null,null,null,null,null,null,null,null,0,0,0,0,0,0,0,"","",{"$f":"INDEX($AL$3:$AL$1500, MATCH(0, IF(ISBLANK($AL$3:$AL$1500), 1, COUNTIF(AM$3:AM437, $AL$3:$AL$1500)), 0))","v":{"$error":"#N/A"}},""]
[{"$f":"IF(E441=\"\",\"\",GetAddress(E441))","v":""},{"$f":"IF(E441=\"\",\"\",GetAddress(E441))","v":""},null,null,null,null,null,null,null,null,null,null,null,null,null,null,null,null,null,null,null,null,null,null,null,null,null,null,null,0,0,0,0,0,0,0,"","",{"$f":"INDEX($AL$3:$AL$1500, MATCH(0, IF(ISBLANK($AL$3:$AL$1500), 1, COUNTIF(AM$3:AM438, $AL$3:$AL$1500)), 0))","v":{"$error":"#N/A"}},""]
[{"$f":"IF(E442=\"\",\"\",GetAddress(E442))","v":""},{"$f":"IF(E442=\"\",\"\",GetAddress(E442))","v":""},null,null,null,null,null,null,null,null,null,null,null,null,null,null,null,null,null,null,null,null,null,null,null,null,null,null,null,0,0,0,0,0,0,0,"","",{"$f":"INDEX($AL$3:$AL$1500, MATCH(0, IF(ISBLANK($AL$3:$AL$1500), 1, COUNTIF(AM$3:AM439, $AL$3:$AL$1500)), 0))","v":{"$error":"#N/A"}},""]
[{"$f":"IF(E443=\"\",\"\",GetAddress(E443))","v":""},{"$f":"IF(E443=\"\",\"\",GetAddress(E443))","v":""},null,null,null,null,null,null,null,null,null,null,null,null,null,null,null,null,null,null,null,null,null,null,null,null,null,null,null,0,0,0,0,0,0,0,"","",{"$f":"INDEX($AL$3:$AL$1500, MATCH(0, IF(ISBLANK($AL$3:$AL$1500), 1, COUNTIF(AM$3:AM440, $AL$3:$AL$1500)), 0))","v":{"$error":"#N/A"}},""]
[{"$f":"IF(E444=\"\",\"\",GetAddress(E444))","v":""},{"$f":"IF(E444=\"\",\"\",GetAddress(E444))","v":""},null,null,null,null,null,null,null,null,null,null,null,null,null,null,null,null,null,null,null,null,null,null,null,null,null,null,null,0,0,0,0,0,0,0,"","",{"$f":"INDEX($AL$3:$AL$1500, MATCH(0, IF(ISBLANK($AL$3:$AL$1500), 1, COUNTIF(AM$3:AM441, $AL$3:$AL$1500)), 0))","v":{"$error":"#N/A"}},""]
[{"$f":"IF(E445=\"\",\"\",GetAddress(E445))","v":""},{"$f":"IF(E445=\"\",\"\",GetAddress(E445))","v":""},null,null,null,null,null,null,null,null,null,null,null,null,null,null,null,null,null,null,null,null,null,null,null,null,null,null,null,0,0,0,0,0,0,0,"","",{"$f":"INDEX($AL$3:$AL$1500, MATCH(0, IF(ISBLANK($AL$3:$AL$1500), 1, COUNTIF(AM$3:AM442, $AL$3:$AL$1500)), 0))","v":{"$error":"#N/A"}},""]
[{"$f":"IF(E446=\"\",\"\",GetAddress(E446))","v":""},{"$f":"IF(E446=\"\",\"\",GetAddress(E446))","v":""},null,null,null,null,null,null,null,null,null,null,null,null,null,null,null,null,null,null,null,null,null,null,null,null,null,null,null,0,0,0,0,0,0,0,"","",{"$f":"INDEX($AL$3:$AL$1500, MATCH(0, IF(ISBLANK($AL$3:$AL$1500), 1, COUNTIF(AM$3:AM443, $AL$3:$AL$1500)), 0))","v":{"$error":"#N/A"}},""]
[{"$f":"IF(E447=\"\",\"\",GetAddress(E447))","v":""},{"$f":"IF(E447=\"\",\"\",GetAddress(E447))","v":""},null,null,null,null,null,null,null,null,null,null,null,null,null,null,null,null,null,null,null,null,null,null,null,null,null,null,null,0,0,0,0,0,0,0,"","",{"$f":"INDEX($AL$3:$AL$1500, MATCH(0, IF(ISBLANK($AL$3:$AL$1500), 1, COUNTIF(AM$3:AM444, $AL$3:$AL$1500)), 0))","v":{"$error":"#N/A"}},""]
[{"$f":"IF(E448=\"\",\"\",GetAddress(E448))","v":""},{"$f":"IF(E448=\"\",\"\",GetAddress(E448))","v":""},null,null,null,null,null,null,null,null,null,null,null,null,null,null,null,null,null,null,null,null,null,null,null,null,null,null,null,0,0,0,0,0,0,0,"","",{"$f":"INDEX($AL$3:$AL$1500, MATCH(0, IF(ISBLANK($AL$3:$AL$1500), 1, COUNTIF(AM$3:AM445, $AL$3:$AL$1500)), 0))","v":{"$error":"#N/A"}},""]
[{"$f":"IF(E449=\"\",\"\",GetAddress(E449))","v":""},{"$f":"IF(E449=\"\",\"\",GetAddress(E449))","v":""},null,null,null,null,null,null,null,null,null,null,null,null,null,null,null,null,null,null,null,null,null,null,null,null,null,null,null,0,0,0,0,0,0,0,"","",{"$f":"INDEX($AL$3:$AL$1500, MATCH(0, IF(ISBLANK($AL$3:$AL$1500), 1, COUNTIF(AM$3:AM446, $AL$3:$AL$1500)), 0))","v":{"$error":"#N/A"}},""]
[{"$f":"IF(E450=\"\",\"\",GetAddress(E450))","v":""},{"$f":"IF(E450=\"\",\"\",GetAddress(E450))","v":""},null,null,null,null,null,null,null,null,null,null,null,null,null,null,null,null,null,null,null,null,null,null,null,null,null,null,null,0,0,0,0,0,0,0,"","",{"$f":"INDEX($AL$3:$AL$1500, MATCH(0, IF(ISBLANK($AL$3:$AL$1500), 1, COUNTIF(AM$3:AM447, $AL$3:$AL$1500)), 0))","v":{"$error":"#N/A"}},""]
[{"$f":"IF(E451=\"\",\"\",GetAddress(E451))","v":""},{"$f":"IF(E451=\"\",\"\",GetAddress(E451))","v":""},null,null,null,null,null,null,null,null,null,null,null,null,null,null,null,null,null,null,null,null,null,null,null,null,null,null,null,0,0,0,0,0,0,0,"","",{"$f":"INDEX($AL$3:$AL$1500, MATCH(0, IF(ISBLANK($AL$3:$AL$1500), 1, COUNTIF(AM$3:AM448, $AL$3:$AL$1500)), 0))","v":{"$error":"#N/A"}},""]
[{"$f":"IF(E452=\"\",\"\",GetAddress(E452))","v":""},{"$f":"IF(E452=\"\",\"\",GetAddress(E452))","v":""},null,null,null,null,null,null,null,null,null,null,null,null,null,null,null,null,null,null,null,null,null,null,null,null,null,null,null,0,0,0,0,0,0,0,"","",{"$f":"INDEX($AL$3:$AL$1500, MATCH(0, IF(ISBLANK($AL$3:$AL$1500), 1, COUNTIF(AM$3:AM449, $AL$3:$AL$1500)), 0))","v":{"$error":"#N/A"}},""]
[{"$f":"IF(E453=\"\",\"\",GetAddress(E453))","v":""},{"$f":"IF(E453=\"\",\"\",GetAddress(E453))","v":""},null,null,null,null,null,null,null,null,null,null,null,null,null,null,null,null,null,null,null,null,null,null,null,null,null,null,null,0,0,0,0,0,0,{"$f":"IF(AI451=\"Free A\",\"\",AI451)","v":0},{"$f":"IF(AJ451=0,\"\",AJ451)","v":""},{"$f":"IF(AK451=\"Free Agent\",\"\",AK451)","v":""},{"$f":"INDEX($AL$3:$AL$1500, MATCH(0, IF(ISBLANK($AL$3:$AL$1500), 1, COUNTIF(AM$3:AM450, $AL$3:$AL$1500)), 0))","v":{"$error":"#N/A"}},{"$f":"IF(ISERROR(AM451),\"\",AM451)","v":""}]
[{"$f":"IF(E454=\"\",\"\",GetAddress(E454))","v":""},{"$f":"IF(E454=\"\",\"\",GetAddress(E454))","v":""},null,null,null,null,null,null,null,null,null,null,null,null,null,null,null,null,null,null,null,null,null,null,null,null,null,null,null,0,0,0,0,0,0,0,"","",{"$f":"INDEX($AL$3:$AL$1500, MATCH(0, IF(ISBLANK($AL$3:$AL$1500), 1, COUNTIF(AM$3:AM451, $AL$3:$AL$1500)), 0))","v":{"$error":"#N/A"}},""]
[{"$f":"IF(E455=\"\",\"\",GetAddress(E455))","v":""},{"$f":"IF(E455=\"\",\"\",GetAddress(E455))","v":""},null,null,null,null,null,null,null,null,null,null,null,null,null,null,null,null,null,null,null,null,null,null,null,null,null,null,null,{"$f":"VALUE(IF(ISNUMBER(SEARCH(\"(P)\",Y453)),\"1\", \"0\"))","v":0},{"$f":"VALUE(IF(ISNUMBER(SEARCH(\"(Q)\",Y453)),\"1\", \"0\"))","v":0},{"$f":"VALUE(IF(ISNUMBER(SEARCH(\"(O)\",Y453)),\"1\", \"0\"))","v":0},{"$f":"VALUE(IF(ISNUMBER(SEARCH(\"(S)\",Y453)),\"1\", \"0\"))","v":0},{"$f":"VALUE(IF(ISNUMBER(SEARCH(\"Free Agent\",Y453)),\"1\", \"0\"))","v":0},{"$f":"IF(SUM(AD453:AH453)=0,Y453,LEFT(Y453,LEN(Y453)-4))","v":0},0,"","",{"$f":"INDEX($AL$3:$AL$1500, MATCH(0, IF(ISBLANK($AL$3:$AL$1500), 1, COUNTIF(AM$3:AM452, $AL$3:$AL$1500)), 0))","v":{"$error":"#N/A"}},""]
[{"$f":"IF(E456=\"\",\"\",GetAddress(E456))","v":""},{"$f":"IF(E456=\"\",\"\",GetAddress(E456))","v":""},null,null,null,null,null,null,null,null,null,null,null,null,null,null,null,null,null,null,null,null,null,null,null,null,null,null,null,0,0,0,0,0,0,0,"","",{"$f":"INDEX($AL$3:$AL$1500, MATCH(0, IF(ISBLANK($AL$3:$AL$1500), 1, COUNTIF(AM$3:AM453, $AL$3:$AL$1500)), 0))","v":{"$error":"#N/A"}},""]
[{"$f":"IF(E457=\"\",\"\",GetAddress(E457))","v":""},{"$f":"IF(E457=\"\",\"\",GetAddress(E457))","v":""},null,null,null,null,null,null,null,null,null,null,null,null,null,null,null,null,null,null,null,null,null,null,null,null,null,null,null,0,0,0,0,0,0,0,"","",{"$f":"INDEX($AL$3:$AL$1500, MATCH(0, IF(ISBLANK($AL$3:$AL$1500), 1, COUNTIF(AM$3:AM454, $AL$3:$AL$1500)), 0))","v":{"$error":"#N/A"}},""]
[{"$f":"IF(E458=\"\",\"\",GetAddress(E458))","v":""},{"$f":"IF(E458=\"\",\"\",GetAddress(E458))","v":""},null,null,null,null,null,null,null,null,null,null,null,null,null,null,null,null,null,null,null,null,null,null,null,null,null,null,null,0,0,0,0,0,0,0,"","",{"$f":"INDEX($AL$3:$AL$1500, MATCH(0, IF(ISBLANK($AL$3:$AL$1500), 1, COUNTIF(AM$3:AM455, $AL$3:$AL$1500)), 0))","v":{"$error":"#N/A"}},""]
[{"$f":"IF(E459=\"\",\"\",GetAddress(E459))","v":""},{"$f":"IF(E459=\"\",\"\",GetAddress(E459))","v":""},null,null,null,null,null,null,null,null,null,null,null,null,null,null,null,null,null,null,null,null,null,null,null,null,null,null,null,0,0,0,0,0,0,0,"","",{"$f":"INDEX($AL$3:$AL$1500, MATCH(0, IF(ISBLANK($AL$3:$AL$1500), 1, COUNTIF(AM$3:AM456, $AL$3:$AL$1500)), 0))","v":{"$error":"#N/A"}},""]
[{"$f":"IF(E460=\"\",\"\",GetAddress(E460))","v":""},{"$f":"IF(E460=\"\",\"\",GetAddress(E460))","v":""},null,null,null,null,null,null,null,null,null,null,null,null,null,null,null,null,null,null,null,null,null,null,null,null,null,null,null,0,0,0,0,0,0,0,"","",{"$f":"INDEX($AL$3:$AL$1500, MATCH(0, IF(ISBLANK($AL$3:$AL$1500), 1, COUNTIF(AM$3:AM457, $AL$3:$AL$1500)), 0))","v":{"$error":"#N/A"}},""]
[{"$f":"IF(E461=\"\",\"\",GetAddress(E461))","v":""},{"$f":"IF(E461=\"\",\"\",GetAddress(E461))","v":""},null,null,null,null,null,null,null,null,null,null,null,null,null,null,null,null,null,null,null,null,null,null,null,null,null,null,null,0,0,0,0,0,0,0,"","",{"$f":"INDEX($AL$3:$AL$1500, MATCH(0, IF(ISBLANK($AL$3:$AL$1500), 1, COUNTIF(AM$3:AM458, $AL$3:$AL$1500)), 0))","v":{"$error":"#N/A"}},""]
[{"$f":"IF(E462=\"\",\"\",GetAddress(E462))","v":""},{"$f":"IF(E462=\"\",\"\",GetAddress(E462))","v":""},null,null,null,null,null,null,null,null,null,null,null,null,null,null,null,null,null,null,null,null,null,null,null,null,null,null,null,0,0,0,0,0,0,0,"","",{"$f":"INDEX($AL$3:$AL$1500, MATCH(0, IF(ISBLANK($AL$3:$AL$1500), 1, COUNTIF(AM$3:AM459, $AL$3:$AL$1500)), 0))","v":{"$error":"#N/A"}},""]
[{"$f":"IF(E463=\"\",\"\",GetAddress(E463))","v":""},{"$f":"IF(E463=\"\",\"\",GetAddress(E463))","v":""},null,null,null,null,null,null,null,null,null,null,null,null,null,null,null,null,null,null,null,null,null,null,null,null,null,null,null,0,0,0,0,0,0,0,"","",{"$f":"INDEX($AL$3:$AL$1500, MATCH(0, IF(ISBLANK($AL$3:$AL$1500), 1, COUNTIF(AM$3:AM460, $AL$3:$AL$1500)), 0))","v":{"$error":"#N/A"}},""]
[{"$f":"IF(E464=\"\",\"\",GetAddress(E464))","v":""},{"$f":"IF(E464=\"\",\"\",GetAddress(E464))","v":""},null,null,null,null,null,null,null,null,null,null,null,null,null,null,null,null,null,null,null,null,null,null,null,null,null,null,null,0,0,0,0,0,0,0,"","",{"$f":"INDEX($AL$3:$AL$1500, MATCH(0, IF(ISBLANK($AL$3:$AL$1500), 1, COUNTIF(AM$3:AM461, $AL$3:$AL$1500)), 0))","v":{"$error":"#N/A"}},""]
[{"$f":"IF(E465=\"\",\"\",GetAddress(E465))","v":""},{"$f":"IF(E465=\"\",\"\",GetAddress(E465))","v":""},null,null,null,null,null,null,null,null,null,null,null,null,null,null,null,null,null,null,null,null,null,null,null,null,null,null,null,0,0,0,0,0,0,0,"","",{"$f":"INDEX($AL$3:$AL$1500, MATCH(0, IF(ISBLANK($AL$3:$AL$1500), 1, COUNTIF(AM$3:AM462, $AL$3:$AL$1500)), 0))","v":{"$error":"#N/A"}},""]
[{"$f":"IF(E466=\"\",\"\",GetAddress(E466))","v":""},{"$f":"IF(E466=\"\",\"\",GetAddress(E466))","v":""},null,null,null,null,null,null,null,null,null,null,null,null,null,null,null,null,null,null,null,null,null,null,null,null,null,null,null,0,0,0,0,0,0,0,"","",{"$f":"INDEX($AL$3:$AL$1500, MATCH(0, IF(ISBLANK($AL$3:$AL$1500), 1, COUNTIF(AM$3:AM463, $AL$3:$AL$1500)), 0))","v":{"$error":"#N/A"}},""]
[{"$f":"IF(E467=\"\",\"\",GetAddress(E467))","v":""},{"$f":"IF(E467=\"\",\"\",GetAddress(E467))","v":""},null,null,null,null,null,null,null,null,null,null,null,null,null,null,null,null,null,null,null,null,null,null,null,null,null,null,null,0,0,0,0,0,0,0,"","",{"$f":"INDEX($AL$3:$AL$1500, MATCH(0, IF(ISBLANK($AL$3:$AL$1500), 1, COUNTIF(AM$3:AM464, $AL$3:$AL$1500)), 0))","v":{"$error":"#N/A"}},""]
[{"$f":"IF(E468=\"\",\"\",GetAddress(E468))","v":""},{"$f":"IF(E468=\"\",\"\",GetAddress(E468))","v":""},null,null,null,null,null,null,null,null,null,null,null,null,null,null,null,null,null,null,null,null,null,null,null,null,null,null,null,0,0,0,0,0,0,0,"","",{"$f":"INDEX($AL$3:$AL$1500, MATCH(0, IF(ISBLANK($AL$3:$AL$1500), 1, COUNTIF(AM$3:AM465, $AL$3:$AL$1500)), 0))","v":{"$error":"#N/A"}},""]
[{"$f":"IF(E469=\"\",\"\",GetAddress(E469))","v":""},{"$f":"IF(E469=\"\",\"\",GetAddress(E469))","v":""},null,null,null,null,null,null,null,null,null,null,null,null,null,null,null,null,null,null,null,null,null,null,null,null,null,null,null,0,0,0,0,0,0,0,"","",{"$f":"INDEX($AL$3:$AL$1500, MATCH(0, IF(ISBLANK($AL$3:$AL$1500), 1, COUNTIF(AM$3:AM466, $AL$3:$AL$1500)), 0))","v":{"$error":"#N/A"}},""]
[{"$f":"IF(E470=\"\",\"\",GetAddress(E470))","v":""},{"$f":"IF(E470=\"\",\"\",GetAddress(E470))","v":""},null,null,null,null,null,null,null,null,null,null,null,null,null,null,null,null,null,null,null,null,null,null,null,null,null,null,null,0,0,0,0,0,0,0,"","",{"$f":"INDEX($AL$3:$AL$1500, MATCH(0, IF(ISBLANK($AL$3:$AL$1500), 1, COUNTIF(AM$3:AM467, $AL$3:$AL$1500)), 0))","v":{"$error":"#N/A"}},""]
[{"$f":"IF(E471=\"\",\"\",GetAddress(E471))","v":""},{"$f":"IF(E471=\"\",\"\",GetAddress(E471))","v":""},null,null,null,null,null,null,null,null,null,null,null,null,null,null,null,null,null,null,null,null,null,null,null,null,null,null,null,0,0,0,0,0,0,0,"","",{"$f":"INDEX($AL$3:$AL$1500, MATCH(0, IF(ISBLANK($AL$3:$AL$1500), 1, COUNTIF(AM$3:AM468, $AL$3:$AL$1500)), 0))","v":{"$error":"#N/A"}},""]
[{"$f":"IF(E472=\"\",\"\",GetAddress(E472))","v":""},{"$f":"IF(E472=\"\",\"\",GetAddress(E472))","v":""},null,null,null,null,null,null,null,null,null,null,null,null,null,null,null,null,null,null,null,null,null,null,null,null,null,null,null,0,0,0,0,0,0,0,"","",{"$f":"INDEX($AL$3:$AL$1500, MATCH(0, IF(ISBLANK($AL$3:$AL$1500), 1, COUNTIF(AM$3:AM469, $AL$3:$AL$1500)), 0))","v":{"$error":"#N/A"}},""]
[{"$f":"IF(E473=\"\",\"\",GetAddress(E473))","v":""},{"$f":"IF(E473=\"\",\"\",GetAddress(E473))","v":""},null,null,null,null,null,null,null,null,null,null,null,null,null,null,null,null,null,null,null,null,null,null,null,null,null,null,null,0,0,0,0,0,0,0,"","",{"$f":"INDEX($AL$3:$AL$1500, MATCH(0, IF(ISBLANK($AL$3:$AL$1500), 1, COUNTIF(AM$3:AM470, $AL$3:$AL$1500)), 0))","v":{"$error":"#N/A"}},""]
[{"$f":"IF(E474=\"\",\"\",GetAddress(E474))","v":""},{"$f":"IF(E474=\"\",\"\",GetAddress(E474))","v":""},null,null,null,null,null,null,null,null,null,null,null,null,null,null,null,null,null,null,null,null,null,null,null,null,null,null,null,0,0,0,0,0,0,0,"","",{"$f":"INDEX($AL$3:$AL$1500, MATCH(0, IF(ISBLANK($AL$3:$AL$1500), 1, COUNTIF(AM$3:AM471, $AL$3:$AL$1500)), 0))","v":{"$error":"#N/A"}},""]
[{"$f":"IF(E475=\"\",\"\",GetAddress(E475))","v":""},{"$f":"IF(E475=\"\",\"\",GetAddress(E475))","v":""},null,null,null,null,null,null,null,null,null,null,null,null,null,null,null,null,null,null,null,null,null,null,null,null,null,null,null,0,0,0,0,0,0,0,"","",{"$f":"INDEX($AL$3:$AL$1500, MATCH(0, IF(ISBLANK($AL$3:$AL$1500), 1, COUNTIF(AM$3:AM472, $AL$3:$AL$1500)), 0))","v":{"$error":"#N/A"}},""]
[{"$f":"IF(E476=\"\",\"\",GetAddress(E476))","v":""},{"$f":"IF(E476=\"\",\"\",GetAddress(E476))","v":""},null,null,null,null,null,null,null,null,null,null,null,null,null,null,null,null,null,null,null,null,null,null,null,null,null,null,null,0,0,0,0,0,0,0,"","",{"$f":"INDEX($AL$3:$AL$1500, MATCH(0, IF(ISBLANK($AL$3:$AL$1500), 1, COUNTIF(AM$3:AM473, $AL$3:$AL$1500)), 0))","v":{"$error":"#N/A"}},""]
[{"$f":"IF(E477=\"\",\"\",GetAddress(E477))","v":""},{"$f":"IF(E477=\"\",\"\",GetAddress(E477))","v":""},null,null,null,null,null,null,null,null,null,null,null,null,null,null,null,null,null,null,null,null,null,null,null,null,null,null,null,0,0,0,0,0,0,0,"","",{"$f":"INDEX($AL$3:$AL$1500, MATCH(0, IF(ISBLANK($AL$3:$AL$1500), 1, COUNTIF(AM$3:AM474, $AL$3:$AL$1500)), 0))","v":{"$error":"#N/A"}},""]
[{"$f":"IF(E478=\"\",\"\",GetAddress(E478))","v":""},{"$f":"IF(E478=\"\",\"\",GetAddress(E478))","v":""},null,null,null,null,null,null,null,null,null,null,null,null,null,null,null,null,null,null,null,null,null,null,null,null,null,null,null,0,0,0,0,0,0,0,"","",{"$f":"INDEX($AL$3:$AL$1500, MATCH(0, IF(ISBLANK($AL$3:$AL$1500), 1, COUNTIF(AM$3:AM475, $AL$3:$AL$1500)), 0))","v":{"$error":"#N/A"}},""]
[{"$f":"IF(E479=\"\",\"\",GetAddress(E479))","v":""},{"$f":"IF(E479=\"\",\"\",GetAddress(E479))","v":""},null,null,null,null,null,null,null,null,null,null,null,null,null,null,null,null,null,null,null,null,null,null,null,null,null,null,null,0,0,0,0,0,0,0,"","",{"$f":"INDEX($AL$3:$AL$1500, MATCH(0, IF(ISBLANK($AL$3:$AL$1500), 1, COUNTIF(AM$3:AM476, $AL$3:$AL$1500)), 0))","v":{"$error":"#N/A"}},""]
[{"$f":"IF(E480=\"\",\"\",GetAddress(E480))","v":""},{"$f":"IF(E480=\"\",\"\",GetAddress(E480))","v":""},null,null,null,null,null,null,null,null,null,null,null,null,null,null,null,null,null,null,null,null,null,null,null,null,null,null,null,0,0,0,0,0,0,0,"","",{"$f":"INDEX($AL$3:$AL$1500, MATCH(0, IF(ISBLANK($AL$3:$AL$1500), 1, COUNTIF(AM$3:AM477, $AL$3:$AL$1500)), 0))","v":{"$error":"#N/A"}},""]
[{"$f":"IF(E481=\"\",\"\",GetAddress(E481))","v":""},{"$f":"IF(E481=\"\",\"\",GetAddress(E481))","v":""},null,null,null,null,null,null,null,null,null,null,null,null,null,null,null,null,null,null,null,null,null,null,null,null,null,null,null,0,0,0,0,0,0,0,"","",{"$f":"INDEX($AL$3:$AL$1500, MATCH(0, IF(ISBLANK($AL$3:$AL$1500), 1, COUNTIF(AM$3:AM478, $AL$3:$AL$1500)), 0))","v":{"$error":"#N/A"}},""]
[{"$f":"IF(E482=\"\",\"\",GetAddress(E482))","v":""},{"$f":"IF(E482=\"\",\"\",GetAddress(E482))","v":""},null,null,null,null,null,null,null,null,null,null,null,null,null,null,null,null,null,null,null,null,null,null,null,null,null,null,null,0,0,0,0,0,0,0,"","",{"$f":"INDEX($AL$3:$AL$1500, MATCH(0, IF(ISBLANK($AL$3:$AL$1500), 1, COUNTIF(AM$3:AM479, $AL$3:$AL$1500)), 0))","v":{"$error":"#N/A"}},""]
[{"$f":"IF(E483=\"\",\"\",GetAddress(E483))","v":""},{"$f":"IF(E483=\"\",\"\",GetAddress(E483))","v":""},null,null,null,null,null,null,null,null,null,null,null,null,null,null,null,null,null,null,null,null,null,null,null,null,null,null,null,0,0,0,0,0,0,0,"","",{"$f":"INDEX($AL$3:$AL$1500, MATCH(0, IF(ISBLANK($AL$3:$AL$1500), 1, COUNTIF(AM$3:AM480, $AL$3:$AL$1500)), 0))","v":{"$error":"#N/A"}},""]
[{"$f":"IF(E484=\"\",\"\",GetAddress(E484))","v":""},{"$f":"IF(E484=\"\",\"\",GetAddress(E484))","v":""},null,null,null,null,null,null,null,null,null,null,null,null,null,null,null,null,null,null,null,null,null,null,null,null,null,null,null,0,0,0,0,0,0,0,"","",{"$f":"INDEX($AL$3:$AL$1500, MATCH(0, IF(ISBLANK($AL$3:$AL$1500), 1, COUNTIF(AM$3:AM481, $AL$3:$AL$1500)), 0))","v":{"$error":"#N/A"}},""]
[{"$f":"IF(E485=\"\",\"\",GetAddress(E485))","v":""},{"$f":"IF(E485=\"\",\"\",GetAddress(E485))","v":""},null,null,null,null,null,null,null,null,null,null,null,null,null,null,null,null,null,null,null,null,null,null,null,null,null,null,null,0,0,0,0,0,0,0,"","",{"$f":"INDEX($AL$3:$AL$1500, MATCH(0, IF(ISBLANK($AL$3:$AL$1500), 1, COUNTIF(AM$3:AM482, $AL$3:$AL$1500)), 0))","v":{"$error":"#N/A"}},""]
[{"$f":"IF(E486=\"\",\"\",GetAddress(E486))","v":""},{"$f":"IF(E486=\"\",\"\",GetAddress(E486))","v":""},null,null,null,null,null,null,null,null,null,null,null,null,null,null,null,null,null,null,null,null,null,null,null,null,null,null,null,0,0,0,0,0,0,0,"","",{"$f":"INDEX($AL$3:$AL$1500, MATCH(0, IF(ISBLANK($AL$3:$AL$1500), 1, COUNTIF(AM$3:AM483, $AL$3:$AL$1500)), 0))","v":{"$error":"#N/A"}},""]
[{"$f":"IF(E487=\"\",\"\",GetAddress(E487))","v":""},{"$f":"IF(E487=\"\",\"\",GetAddress(E487))","v":""},null,null,null,null,null,null,null,null,null,null,null,null,null,null,null,null,null,null,null,null,null,null,null,null,null,null,null,0,0,0,0,0,0,0,"","",{"$f":"INDEX($AL$3:$AL$1500, MATCH(0, IF(ISBLANK($AL$3:$AL$1500), 1, COUNTIF(AM$3:AM484, $AL$3:$AL$1500)), 0))","v":{"$error":"#N/A"}},""]
[{"$f":"IF(E488=\"\",\"\",GetAddress(E488))","v":""},{"$f":"IF(E488=\"\",\"\",GetAddress(E488))","v":""},null,null,null,null,null,null,null,null,null,null,null,null,null,null,null,null,null,null,null,null,null,null,null,null,null,null,null,0,0,0,0,0,0,0,"","",{"$f":"INDEX($AL$3:$AL$1500, MATCH(0, IF(ISBLANK($AL$3:$AL$1500), 1, COUNTIF(AM$3:AM485, $AL$3:$AL$1500)), 0))","v":{"$error":"#N/A"}},""]
[{"$f":"IF(E489=\"\",\"\",GetAddress(E489))","v":""},{"$f":"IF(E489=\"\",\"\",GetAddress(E489))","v":""},null,null,null,null,null,null,null,null,null,null,null,null,null,null,null,null,null,null,null,null,null,null,null,null,null,null,null,0,0,0,0,0,0,0,"","",{"$f":"INDEX($AL$3:$AL$1500, MATCH(0, IF(ISBLANK($AL$3:$AL$1500), 1, COUNTIF(AM$3:AM486, $AL$3:$AL$1500)), 0))","v":{"$error":"#N/A"}},""]
[{"$f":"IF(E490=\"\",\"\",GetAddress(E490))","v":""},{"$f":"IF(E490=\"\",\"\",GetAddress(E490))","v":""},null,null,null,null,null,null,null,null,null,null,null,null,null,null,null,null,null,null,null,null,null,null,null,null,null,null,null,0,0,0,0,0,0,0,"","",{"$f":"INDEX($AL$3:$AL$1500, MATCH(0, IF(ISBLANK($AL$3:$AL$1500), 1, COUNTIF(AM$3:AM487, $AL$3:$AL$1500)), 0))","v":{"$error":"#N/A"}},""]
[{"$f":"IF(E491=\"\",\"\",GetAddress(E491))","v":""},{"$f":"IF(E491=\"\",\"\",GetAddress(E491))","v":""},null,null,null,null,null,null,null,null,null,null,null,null,null,null,null,null,null,null,null,null,null,null,null,null,null,null,null,0,0,0,0,0,0,0,"","",{"$f":"INDEX($AL$3:$AL$1500, MATCH(0, IF(ISBLANK($AL$3:$AL$1500), 1, COUNTIF(AM$3:AM488, $AL$3:$AL$1500)), 0))","v":{"$error":"#N/A"}},""]
[{"$f":"IF(E492=\"\",\"\",GetAddress(E492))","v":""},{"$f":"IF(E492=\"\",\"\",GetAddress(E492))","v":""},null,null,null,null,null,null,null,null,null,null,null,null,null,null,null,null,null,null,null,null,null,null,null,null,null,null,null,0,0,0,0,0,0,0,"","",{"$f":"INDEX($AL$3:$AL$1500, MATCH(0, IF(ISBLANK($AL$3:$AL$1500), 1, COUNTIF(AM$3:AM489, $AL$3:$AL$1500)), 0))","v":{"$error":"#N/A"}},""]
[{"$f":"IF(E493=\"\",\"\",GetAddress(E493))","v":""},{"$f":"IF(E493=\"\",\"\",GetAddress(E493))","v":""},null,null,null,null,null,null,null,null,null,null,null,null,null,null,null,null,null,null,null,null,null,null,null,null,null,null,null,0,0,0,0,0,0,0,"","",{"$f":"INDEX($AL$3:$AL$1500, MATCH(0, IF(ISBLANK($AL$3:$AL$1500), 1, COUNTIF(AM$3:AM490, $AL$3:$AL$1500)), 0))","v":{"$error":"#N/A"}},""]
[{"$f":"IF(E494=\"\",\"\",GetAddress(E494))","v":""},{"$f":"IF(E494=\"\",\"\",GetAddress(E494))","v":""},null,null,null,null,null,null,null,null,null,null,null,null,null,null,null,null,null,null,null,null,null,null,null,null,null,null,null,0,0,0,0,0,0,0,"","",{"$f":"INDEX($AL$3:$AL$1500, MATCH(0, IF(ISBLANK($AL$3:$AL$1500), 1, COUNTIF(AM$3:AM491, $AL$3:$AL$1500)), 0))","v":{"$error":"#N/A"}},""]
[{"$f":"IF(E495=\"\",\"\",GetAddress(E495))","v":""},{"$f":"IF(E495=\"\",\"\",GetAddress(E495))","v":""},null,null,null,null,null,null,null,null,null,null,null,null,null,null,null,null,null,null,null,null,null,null,null,null,null,null,null,0,0,0,0,0,0,0,"","",{"$f":"INDEX($AL$3:$AL$1500, MATCH(0, IF(ISBLANK($AL$3:$AL$1500), 1, COUNTIF(AM$3:AM492, $AL$3:$AL$1500)), 0))","v":{"$error":"#N/A"}},""]
[{"$f":"IF(E496=\"\",\"\",GetAddress(E496))","v":""},{"$f":"IF(E496=\"\",\"\",GetAddress(E496))","v":""},null,null,null,null,null,null,null,null,null,null,null,null,null,null,null,null,null,null,null,null,null,null,null,null,null,null,null,0,0,0,0,0,0,0,"","",{"$f":"INDEX($AL$3:$AL$1500, MATCH(0, IF(ISBLANK($AL$3:$AL$1500), 1, COUNTIF(AM$3:AM493, $AL$3:$AL$1500)), 0))","v":{"$error":"#N/A"}},""]
[{"$f":"IF(E497=\"\",\"\",GetAddress(E497))","v":""},{"$f":"IF(E497=\"\",\"\",GetAddress(E497))","v":""},null,null,null,null,null,null,null,null,null,null,null,null,null,null,null,null,null,null,null,null,null,null,null,null,null,null,null,0,0,0,0,0,0,0,"","",{"$f":"INDEX($AL$3:$AL$1500, MATCH(0, IF(ISBLANK($AL$3:$AL$1500), 1, COUNTIF(AM$3:AM494, $AL$3:$AL$1500)), 0))","v":{"$error":"#N/A"}},""]
[{"$f":"IF(E498=\"\",\"\",GetAddress(E498))","v":""},{"$f":"IF(E498=\"\",\"\",GetAddress(E498))","v":""},null,null,null,null,null,null,null,null,null,null,null,null,null,null,null,null,null,null,null,null,null,null,null,null,null,null,null,0,0,0,0,0,0,0,"","",{"$f":"INDEX($AL$3:$AL$1500, MATCH(0, IF(ISBLANK($AL$3:$AL$1500), 1, COUNTIF(AM$3:AM495, $AL$3:$AL$1500)), 0))","v":{"$error":"#N/A"}},""]
[{"$f":"IF(E499=\"\",\"\",GetAddress(E499))","v":""},{"$f":"IF(E499=\"\",\"\",GetAddress(E499))","v":""},null,null,null,null,null,null,null,null,null,null,null,null,null,null,null,null,null,null,null,null,null,null,null,null,null,null,null,0,0,0,0,0,0,0,"","",{"$f":"INDEX($AL$3:$AL$1500, MATCH(0, IF(ISBLANK($AL$3:$AL$1500), 1, COUNTIF(AM$3:AM496, $AL$3:$AL$1500)), 0))","v":{"$error":"#N/A"}},""]
[{"$f":"IF(E500=\"\",\"\",GetAddress(E500))","v":""},{"$f":"IF(E500=\"\",\"\",GetAddress(E500))","v":""},null,null,null,null,null,null,null,null,null,null,null,null,null,null,null,null,null,null,null,null,null,null,null,null,null,null,null,0,0,0,0,0,0,0,"","",{"$f":"INDEX($AL$3:$AL$1500, MATCH(0, IF(ISBLANK($AL$3:$AL$1500), 1, COUNTIF(AM$3:AM497, $AL$3:$AL$1500)), 0))","v":{"$error":"#N/A"}},""]
[{"$f":"IF(E501=\"\",\"\",GetAddress(E501))","v":""},{"$f":"IF(E501=\"\",\"\",GetAddress(E501))","v":""},null,null,null,null,null,null,null,null,null,null,null,null,null,null,null,null,null,null,null,null,null,null,null,null,null,null,null,0,0,0,0,0,0,0,"","",{"$f":"INDEX($AL$3:$AL$1500, MATCH(0, IF(ISBLANK($AL$3:$AL$1500), 1, COUNTIF(AM$3:AM498, $AL$3:$AL$1500)), 0))","v":{"$error":"#N/A"}},""]
[{"$f":"IF(E502=\"\",\"\",GetAddress(E502))","v":""},{"$f":"IF(E502=\"\",\"\",GetAddress(E502))","v":""},null,null,null,null,null,null,null,null,null,null,null,null,null,null,null,null,null,null,null,null,null,null,null,null,null,null,null,0,0,0,0,0,0,0,"","",{"$f":"INDEX($AL$3:$AL$1500, MATCH(0, IF(ISBLANK($AL$3:$AL$1500), 1, COUNTIF(AM$3:AM499, $AL$3:$AL$1500)), 0))","v":{"$error":"#N/A"}},""]
[{"$f":"IF(E503=\"\",\"\",GetAddress(E503))","v":""},{"$f":"IF(E503=\"\",\"\",GetAddress(E503))","v":""},null,null,null,null,null,null,null,null,null,null,null,null,null,null,null,null,null,null,null,null,null,null,null,null,null,null,null,0,0,0,0,0,0,0,"","",{"$f":"INDEX($AL$3:$AL$1500, MATCH(0, IF(ISBLANK($AL$3:$AL$1500), 1, COUNTIF(AM$3:AM500, $AL$3:$AL$1500)), 0))","v":{"$error":"#N/A"}},""]
[{"$f":"IF(E504=\"\",\"\",GetAddress(E504))","v":""},{"$f":"IF(E504=\"\",\"\",GetAddress(E504))","v":""},null,null,null,null,null,null,null,null,null,null,null,null,null,null,null,null,null,null,null,null,null,null,null,null,null,null,null,0,0,0,0,0,0,0,"","",{"$f":"INDEX($AL$3:$AL$1500, MATCH(0, IF(ISBLANK($AL$3:$AL$1500), 1, COUNTIF(AM$3:AM501, $AL$3:$AL$1500)), 0))","v":{"$error":"#N/A"}},""]
[{"$f":"IF(E505=\"\",\"\",GetAddress(E505))","v":""},{"$f":"IF(E505=\"\",\"\",GetAddress(E505))","v":""},null,null,null,null,null,null,null,null,null,null,null,null,null,null,null,null,null,null,null,null,null,null,null,null,null,null,null,0,0,0,0,0,0,0,"","",{"$f":"INDEX($AL$3:$AL$1500, MATCH(0, IF(ISBLANK($AL$3:$AL$1500), 1, COUNTIF(AM$3:AM502, $AL$3:$AL$1500)), 0))","v":{"$error":"#N/A"}},""]
[{"$f":"IF(E506=\"\",\"\",GetAddress(E506))","v":""},{"$f":"IF(E506=\"\",\"\",GetAddress(E506))","v":""},null,null,null,null,null,null,null,null,null,null,null,null,null,null,null,null,null,null,null,null,null,null,null,null,null,null,null,0,0,0,0,0,0,0,"","",{"$f":"INDEX($AL$3:$AL$1500, MATCH(0, IF(ISBLANK($AL$3:$AL$1500), 1, COUNTIF(AM$3:AM503, $AL$3:$AL$1500)), 0))","v":{"$error":"#N/A"}},""]
[{"$f":"IF(E507=\"\",\"\",GetAddress(E507))","v":""},{"$f":"IF(E507=\"\",\"\",GetAddress(E507))","v":""},null,null,null,null,null,null,null,null,null,null,null,null,null,null,null,null,null,null,null,null,null,null,null,null,null,null,null,0,0,0,0,0,0,0,"","",{"$f":"INDEX($AL$3:$AL$1500, MATCH(0, IF(ISBLANK($AL$3:$AL$1500), 1, COUNTIF(AM$3:AM504, $AL$3:$AL$1500)), 0))","v":{"$error":"#N/A"}},""]
[{"$f":"IF(E508=\"\",\"\",GetAddress(E508))","v":""},{"$f":"IF(E508=\"\",\"\",GetAddress(E508))","v":""},null,null,null,null,null,null,null,null,null,null,null,null,null,null,null,null,null,null,null,null,null,null,null,null,null,null,null,0,0,0,0,0,0,0,"","",{"$f":"INDEX($AL$3:$AL$1500, MATCH(0, IF(ISBLANK($AL$3:$AL$1500), 1, COUNTIF(AM$3:AM505, $AL$3:$AL$1500)), 0))","v":{"$error":"#N/A"}},""]
[{"$f":"IF(E509=\"\",\"\",GetAddress(E509))","v":""},{"$f":"IF(E509=\"\",\"\",GetAddress(E509))","v":""},null,null,null,null,null,null,null,null,null,null,null,null,null,null,null,null,null,null,null,null,null,null,null,null,null,null,null,0,0,0,0,0,0,0,"","",{"$f":"INDEX($AL$3:$AL$1500, MATCH(0, IF(ISBLANK($AL$3:$AL$1500), 1, COUNTIF(AM$3:AM506, $AL$3:$AL$1500)), 0))","v":{"$error":"#N/A"}},""]
[{"$f":"IF(E510=\"\",\"\",GetAddress(E510))","v":""},{"$f":"IF(E510=\"\",\"\",GetAddress(E510))","v":""},null,null,null,null,null,null,null,null,null,null,null,null,null,null,null,null,null,null,null,null,null,null,null,null,null,null,null,0,0,0,0,0,0,0,"","",{"$f":"INDEX($AL$3:$AL$1500, MATCH(0, IF(ISBLANK($AL$3:$AL$1500), 1, COUNTIF(AM$3:AM507, $AL$3:$AL$1500)), 0))","v":{"$error":"#N/A"}},""]
[{"$f":"IF(E511=\"\",\"\",GetAddress(E511))","v":""},{"$f":"IF(E511=\"\",\"\",GetAddress(E511))","v":""},null,null,null,null,null,null,null,null,null,null,null,null,null,null,null,null,null,null,null,null,null,null,null,null,null,null,null,0,0,0,0,0,0,0,"","",{"$f":"INDEX($AL$3:$AL$1500, MATCH(0, IF(ISBLANK($AL$3:$AL$1500), 1, COUNTIF(AM$3:AM508, $AL$3:$AL$1500)), 0))","v":{"$error":"#N/A"}},""]
[{"$f":"IF(E512=\"\",\"\",GetAddress(E512))","v":""},{"$f":"IF(E512=\"\",\"\",GetAddress(E512))","v":""},null,null,null,null,null,null,null,null,null,null,null,null,null,null,null,null,null,null,null,null,null,null,null,null,null,null,null,0,0,0,0,0,0,0,"","",{"$f":"INDEX($AL$3:$AL$1500, MATCH(0, IF(ISBLANK($AL$3:$AL$1500), 1, COUNTIF(AM$3:AM509, $AL$3:$AL$1500)), 0))","v":{"$error":"#N/A"}},""]
[{"$f":"IF(E513=\"\",\"\",GetAddress(E513))","v":""},{"$f":"IF(E513=\"\",\"\",GetAddress(E513))","v":""},null,null,null,null,null,null,null,null,null,null,null,null,null,null,null,null,null,null,null,null,null,null,null,null,null,null,null,0,0,0,0,0,0,0,"","",{"$f":"INDEX($AL$3:$AL$1500, MATCH(0, IF(ISBLANK($AL$3:$AL$1500), 1, COUNTIF(AM$3:AM510, $AL$3:$AL$1500)), 0))","v":{"$error":"#N/A"}},""]
[{"$f":"IF(E514=\"\",\"\",GetAddress(E514))","v":""},{"$f":"IF(E514=\"\",\"\",GetAddress(E514))","v":""},null,null,null,null,null,null,null,null,null,null,null,null,null,null,null,null,null,null,null,null,null,null,null,null,null,null,null,0,0,0,0,0,0,0,"","",{"$f":"INDEX($AL$3:$AL$1500, MATCH(0, IF(ISBLANK($AL$3:$AL$1500), 1, COUNTIF(AM$3:AM511, $AL$3:$AL$1500)), 0))","v":{"$error":"#N/A"}},""]
[{"$f":"IF(E515=\"\",\"\",GetAddress(E515))","v":""},{"$f":"IF(E515=\"\",\"\",GetAddress(E515))","v":""},null,null,null,null,null,null,null,null,null,null,null,null,null,null,null,null,null,null,null,null,null,null,null,null,null,null,null,0,0,0,0,0,0,0,"","",{"$f":"INDEX($AL$3:$AL$1500, MATCH(0, IF(ISBLANK($AL$3:$AL$1500), 1, COUNTIF(AM$3:AM512, $AL$3:$AL$1500)), 0))","v":{"$error":"#N/A"}},""]
[{"$f":"IF(E516=\"\",\"\",GetAddress(E516))","v":""},{"$f":"IF(E516=\"\",\"\",GetAddress(E516))","v":""},null,null,null,null,null,null,null,null,null,null,null,null,null,null,null,null,null,null,null,null,null,null,null,null,null,null,null,0,0,0,0,0,0,0,"","",{"$f":"INDEX($AL$3:$AL$1500, MATCH(0, IF(ISBLANK($AL$3:$AL$1500), 1, COUNTIF(AM$3:AM513, $AL$3:$AL$1500)), 0))","v":{"$error":"#N/A"}},""]
[{"$f":"IF(E517=\"\",\"\",GetAddress(E517))","v":""},{"$f":"IF(E517=\"\",\"\",GetAddress(E517))","v":""},null,null,null,null,null,null,null,null,null,null,null,null,null,null,null,null,null,null,null,null,null,null,null,null,null,null,null,0,0,0,0,0,0,{"$f":"IF(AI515=\"Free A\",\"\",AI515)","v":0},{"$f":"IF(AJ515=0,\"\",AJ515)","v":""},{"$f":"IF(AK515=\"Free Agent\",\"\",AK515)","v":""},{"$f":"INDEX($AL$3:$AL$1500, MATCH(0, IF(ISBLANK($AL$3:$AL$1500), 1, COUNTIF(AM$3:AM514, $AL$3:$AL$1500)), 0))","v":{"$error":"#N/A"}},{"$f":"IF(ISERROR(AM515),\"\",AM515)","v":""}]
[{"$f":"IF(E518=\"\",\"\",GetAddress(E518))","v":""},{"$f":"IF(E518=\"\",\"\",GetAddress(E518))","v":""},null,null,null,null,null,null,null,null,null,null,null,null,null,null,null,null,null,null,null,null,null,null,null,null,null,null,null,0,0,0,0,0,0,0,"","",{"$f":"INDEX($AL$3:$AL$1500, MATCH(0, IF(ISBLANK($AL$3:$AL$1500), 1, COUNTIF(AM$3:AM515, $AL$3:$AL$1500)), 0))","v":{"$error":"#N/A"}},""]
[{"$f":"IF(E519=\"\",\"\",GetAddress(E519))","v":""},{"$f":"IF(E519=\"\",\"\",GetAddress(E519))","v":""},null,null,null,null,null,null,null,null,null,null,null,null,null,null,null,null,null,null,null,null,null,null,null,null,null,null,null,{"$f":"VALUE(IF(ISNUMBER(SEARCH(\"(P)\",Y517)),\"1\", \"0\"))","v":0},{"$f":"VALUE(IF(ISNUMBER(SEARCH(\"(Q)\",Y517)),\"1\", \"0\"))","v":0},{"$f":"VALUE(IF(ISNUMBER(SEARCH(\"(O)\",Y517)),\"1\", \"0\"))","v":0},{"$f":"VALUE(IF(ISNUMBER(SEARCH(\"(S)\",Y517)),\"1\", \"0\"))","v":0},{"$f":"VALUE(IF(ISNUMBER(SEARCH(\"Free Agent\",Y517)),\"1\", \"0\"))","v":0},{"$f":"IF(SUM(AD517:AH517)=0,Y517,LEFT(Y517,LEN(Y517)-4))","v":0},0,"","",{"$f":"INDEX($AL$3:$AL$1500, MATCH(0, IF(ISBLANK($AL$3:$AL$1500), 1, COUNTIF(AM$3:AM516, $AL$3:$AL$1500)), 0))","v":{"$error":"#N/A"}},""]
[{"$f":"IF(E520=\"\",\"\",GetAddress(E520))","v":""},{"$f":"IF(E520=\"\",\"\",GetAddress(E520))","v":""},null,null,null,null,null,null,null,null,null,null,null,null,null,null,null,null,null,null,null,null,null,null,null,null,null,null,null,0,0,0,0,0,0,0,"","",{"$f":"INDEX($AL$3:$AL$1500, MATCH(0, IF(ISBLANK($AL$3:$AL$1500), 1, COUNTIF(AM$3:AM517, $AL$3:$AL$1500)), 0))","v":{"$error":"#N/A"}},""]
[{"$f":"IF(E521=\"\",\"\",GetAddress(E521))","v":""},{"$f":"IF(E521=\"\",\"\",GetAddress(E521))","v":""},null,null,null,null,null,null,null,null,null,null,null,null,null,null,null,null,null,null,null,null,null,null,null,null,null,null,null,0,0,0,0,0,0,0,"","",{"$f":"INDEX($AL$3:$AL$1500, MATCH(0, IF(ISBLANK($AL$3:$AL$1500), 1, COUNTIF(AM$3:AM518, $AL$3:$AL$1500)), 0))","v":{"$error":"#N/A"}},""]
[{"$f":"IF(E522=\"\",\"\",GetAddress(E522))","v":""},{"$f":"IF(E522=\"\",\"\",GetAddress(E522))","v":""},null,null,null,null,null,null,null,null,null,null,null,null,null,null,null,null,null,null,null,null,null,null,null,null,null,null,null,0,0,0,0,0,0,0,"","",{"$f":"INDEX($AL$3:$AL$1500, MATCH(0, IF(ISBLANK($AL$3:$AL$1500), 1, COUNTIF(AM$3:AM519, $AL$3:$AL$1500)), 0))","v":{"$error":"#N/A"}},""]
[{"$f":"IF(E523=\"\",\"\",GetAddress(E523))","v":""},{"$f":"IF(E523=\"\",\"\",GetAddress(E523))","v":""},null,null,null,null,null,null,null,null,null,null,null,null,null,null,null,null,null,null,null,null,null,null,null,null,null,null,null,0,0,0,0,0,0,0,"","",{"$f":"INDEX($AL$3:$AL$1500, MATCH(0, IF(ISBLANK($AL$3:$AL$1500), 1, COUNTIF(AM$3:AM520, $AL$3:$AL$1500)), 0))","v":{"$error":"#N/A"}},""]
[{"$f":"IF(E524=\"\",\"\",GetAddress(E524))","v":""},{"$f":"IF(E524=\"\",\"\",GetAddress(E524))","v":""},null,null,null,null,null,null,null,null,null,null,null,null,null,null,null,null,null,null,null,null,null,null,null,null,null,null,null,0,0,0,0,0,0,0,"","",{"$f":"INDEX($AL$3:$AL$1500, MATCH(0, IF(ISBLANK($AL$3:$AL$1500), 1, COUNTIF(AM$3:AM521, $AL$3:$AL$1500)), 0))","v":{"$error":"#N/A"}},""]
[{"$f":"IF(E525=\"\",\"\",GetAddress(E525))","v":""},{"$f":"IF(E525=\"\",\"\",GetAddress(E525))","v":""},null,null,null,null,null,null,null,null,null,null,null,null,null,null,null,null,null,null,null,null,null,null,null,null,null,null,null,0,0,0,0,0,0,0,"","",{"$f":"INDEX($AL$3:$AL$1500, MATCH(0, IF(ISBLANK($AL$3:$AL$1500), 1, COUNTIF(AM$3:AM522, $AL$3:$AL$1500)), 0))","v":{"$error":"#N/A"}},""]
[{"$f":"IF(E526=\"\",\"\",GetAddress(E526))","v":""},{"$f":"IF(E526=\"\",\"\",GetAddress(E526))","v":""},null,null,null,null,null,null,null,null,null,null,null,null,null,null,null,null,null,null,null,null,null,null,null,null,null,null,null,0,0,0,0,0,0,0,"","",{"$f":"INDEX($AL$3:$AL$1500, MATCH(0, IF(ISBLANK($AL$3:$AL$1500), 1, COUNTIF(AM$3:AM523, $AL$3:$AL$1500)), 0))","v":{"$error":"#N/A"}},""]
[{"$f":"IF(E527=\"\",\"\",GetAddress(E527))","v":""},{"$f":"IF(E527=\"\",\"\",GetAddress(E527))","v":""},null,null,null,null,null,null,null,null,null,null,null,null,null,null,null,null,null,null,null,null,null,null,null,null,null,null,null,0,0,0,0,0,0,0,"","",{"$f":"INDEX($AL$3:$AL$1500, MATCH(0, IF(ISBLANK($AL$3:$AL$1500), 1, COUNTIF(AM$3:AM524, $AL$3:$AL$1500)), 0))","v":{"$error":"#N/A"}},""]
[{"$f":"IF(E528=\"\",\"\",GetAddress(E528))","v":""},{"$f":"IF(E528=\"\",\"\",GetAddress(E528))","v":""},null,null,null,null,null,null,null,null,null,null,null,null,null,null,null,null,null,null,null,null,null,null,null,null,null,null,null,0,0,0,0,0,0,0,"","",{"$f":"INDEX($AL$3:$AL$1500, MATCH(0, IF(ISBLANK($AL$3:$AL$1500), 1, COUNTIF(AM$3:AM525, $AL$3:$AL$1500)), 0))","v":{"$error":"#N/A"}},""]
[{"$f":"IF(E529=\"\",\"\",GetAddress(E529))","v":""},{"$f":"IF(E529=\"\",\"\",GetAddress(E529))","v":""},null,null,null,null,null,null,null,null,null,null,null,null,null,null,null,null,null,null,null,null,null,null,null,null,null,null,null,0,0,0,0,0,0,0,"","",{"$f":"INDEX($AL$3:$AL$1500, MATCH(0, IF(ISBLANK($AL$3:$AL$1500), 1, COUNTIF(AM$3:AM526, $AL$3:$AL$1500)), 0))","v":{"$error":"#N/A"}},""]
[{"$f":"IF(E530=\"\",\"\",GetAddress(E530))","v":""},{"$f":"IF(E530=\"\",\"\",GetAddress(E530))","v":""},null,null,null,null,null,null,null,null,null,null,null,null,null,null,null,null,null,null,null,null,null,null,null,null,null,null,null,0,0,0,0,0,0,0,"","",{"$f":"INDEX($AL$3:$AL$1500, MATCH(0, IF(ISBLANK($AL$3:$AL$1500), 1, COUNTIF(AM$3:AM527, $AL$3:$AL$1500)), 0))","v":{"$error":"#N/A"}},""]
[{"$f":"IF(E531=\"\",\"\",GetAddress(E531))","v":""},{"$f":"IF(E531=\"\",\"\",GetAddress(E531))","v":""},null,null,null,null,null,null,null,null,null,null,null,null,null,null,null,null,null,null,null,null,null,null,null,null,null,null,null,0,0,0,0,0,0,0,"","",{"$f":"INDEX($AL$3:$AL$1500, MATCH(0, IF(ISBLANK($AL$3:$AL$1500), 1, COUNTIF(AM$3:AM528, $AL$3:$AL$1500)), 0))","v":{"$error":"#N/A"}},""]
[{"$f":"IF(E532=\"\",\"\",GetAddress(E532))","v":""},{"$f":"IF(E532=\"\",\"\",GetAddress(E532))","v":""},null,null,null,null,null,null,null,null,null,null,null,null,null,null,null,null,null,null,null,null,null,null,null,null,null,null,null,0,0,0,0,0,0,0,"","",{"$f":"INDEX($AL$3:$AL$1500, MATCH(0, IF(ISBLANK($AL$3:$AL$1500), 1, COUNTIF(AM$3:AM529, $AL$3:$AL$1500)), 0))","v":{"$error":"#N/A"}},""]
[{"$f":"IF(E533=\"\",\"\",GetAddress(E533))","v":""},{"$f":"IF(E533=\"\",\"\",GetAddress(E533))","v":""},null,null,null,null,null,null,null,null,null,null,null,null,null,null,null,null,null,null,null,null,null,null,null,null,null,null,null,0,0,0,0,0,0,0,"","",{"$f":"INDEX($AL$3:$AL$1500, MATCH(0, IF(ISBLANK($AL$3:$AL$1500), 1, COUNTIF(AM$3:AM530, $AL$3:$AL$1500)), 0))","v":{"$error":"#N/A"}},""]
[{"$f":"IF(E534=\"\",\"\",GetAddress(E534))","v":""},{"$f":"IF(E534=\"\",\"\",GetAddress(E534))","v":""},null,null,null,null,null,null,null,null,null,null,null,null,null,null,null,null,null,null,null,null,null,null,null,null,null,null,null,0,0,0,0,0,0,0,"","",{"$f":"INDEX($AL$3:$AL$1500, MATCH(0, IF(ISBLANK($AL$3:$AL$1500), 1, COUNTIF(AM$3:AM531, $AL$3:$AL$1500)), 0))","v":{"$error":"#N/A"}},""]
[{"$f":"IF(E535=\"\",\"\",GetAddress(E535))","v":""},{"$f":"IF(E535=\"\",\"\",GetAddress(E535))","v":""},null,null,null,null,null,null,null,null,null,null,null,null,null,null,null,null,null,null,null,null,null,null,null,null,null,null,null,0,0,0,0,0,0,0,"","",{"$f":"INDEX($AL$3:$AL$1500, MATCH(0, IF(ISBLANK($AL$3:$AL$1500), 1, COUNTIF(AM$3:AM532, $AL$3:$AL$1500)), 0))","v":{"$error":"#N/A"}},""]
[{"$f":"IF(E536=\"\",\"\",GetAddress(E536))","v":""},{"$f":"IF(E536=\"\",\"\",GetAddress(E536))","v":""},null,null,null,null,null,null,null,null,null,null,null,null,null,null,null,null,null,null,null,null,null,null,null,null,null,null,null,0,0,0,0,0,0,0,"","",{"$f":"INDEX($AL$3:$AL$1500, MATCH(0, IF(ISBLANK($AL$3:$AL$1500), 1, COUNTIF(AM$3:AM533, $AL$3:$AL$1500)), 0))","v":{"$error":"#N/A"}},""]
[{"$f":"IF(E537=\"\",\"\",GetAddress(E537))","v":""},{"$f":"IF(E537=\"\",\"\",GetAddress(E537))","v":""},null,null,null,null,null,null,null,null,null,null,null,null,null,null,null,null,null,null,null,null,null,null,null,null,null,null,null,0,0,0,0,0,0,0,"","",{"$f":"INDEX($AL$3:$AL$1500, MATCH(0, IF(ISBLANK($AL$3:$AL$1500), 1, COUNTIF(AM$3:AM534, $AL$3:$AL$1500)), 0))","v":{"$error":"#N/A"}},""]
[{"$f":"IF(E538=\"\",\"\",GetAddress(E538))","v":""},{"$f":"IF(E538=\"\",\"\",GetAddress(E538))","v":""},null,null,null,null,null,null,null,null,null,null,null,null,null,null,null,null,null,null,null,null,null,null,null,null,null,null,null,0,0,0,0,0,0,0,"","",{"$f":"INDEX($AL$3:$AL$1500, MATCH(0, IF(ISBLANK($AL$3:$AL$1500), 1, COUNTIF(AM$3:AM535, $AL$3:$AL$1500)), 0))","v":{"$error":"#N/A"}},""]
[{"$f":"IF(E539=\"\",\"\",GetAddress(E539))","v":""},{"$f":"IF(E539=\"\",\"\",GetAddress(E539))","v":""},null,null,null,null,null,null,null,null,null,null,null,null,null,null,null,null,null,null,null,null,null,null,null,null,null,null,null,0,0,0,0,0,0,0,"","",{"$f":"INDEX($AL$3:$AL$1500, MATCH(0, IF(ISBLANK($AL$3:$AL$1500), 1, COUNTIF(AM$3:AM536, $AL$3:$AL$1500)), 0))","v":{"$error":"#N/A"}},""]
[{"$f":"IF(E540=\"\",\"\",GetAddress(E540))","v":""},{"$f":"IF(E540=\"\",\"\",GetAddress(E540))","v":""},null,null,null,null,null,null,null,null,null,null,null,null,null,null,null,null,null,null,null,null,null,null,null,null,null,null,null,0,0,0,0,0,0,0,"","",{"$f":"INDEX($AL$3:$AL$1500, MATCH(0, IF(ISBLANK($AL$3:$AL$1500), 1, COUNTIF(AM$3:AM537, $AL$3:$AL$1500)), 0))","v":{"$error":"#N/A"}},""]
[{"$f":"IF(E541=\"\",\"\",GetAddress(E541))","v":""},{"$f":"IF(E541=\"\",\"\",GetAddress(E541))","v":""},null,null,null,null,null,null,null,null,null,null,null,null,null,null,null,null,null,null,null,null,null,null,null,null,null,null,null,0,0,0,0,0,0,0,"","",{"$f":"INDEX($AL$3:$AL$1500, MATCH(0, IF(ISBLANK($AL$3:$AL$1500), 1, COUNTIF(AM$3:AM538, $AL$3:$AL$1500)), 0))","v":{"$error":"#N/A"}},""]
[{"$f":"IF(E542=\"\",\"\",GetAddress(E542))","v":""},{"$f":"IF(E542=\"\",\"\",GetAddress(E542))","v":""},null,null,null,null,null,null,null,null,null,null,null,null,null,null,null,null,null,null,null,null,null,null,null,null,null,null,null,0,0,0,0,0,0,0,"","",{"$f":"INDEX($AL$3:$AL$1500, MATCH(0, IF(ISBLANK($AL$3:$AL$1500), 1, COUNTIF(AM$3:AM539, $AL$3:$AL$1500)), 0))","v":{"$error":"#N/A"}},""]
[{"$f":"IF(E543=\"\",\"\",GetAddress(E543))","v":""},{"$f":"IF(E543=\"\",\"\",GetAddress(E543))","v":""},null,null,null,null,null,null,null,null,null,null,null,null,null,null,null,null,null,null,null,null,null,null,null,null,null,null,null,0,0,0,0,0,0,0,"","",{"$f":"INDEX($AL$3:$AL$1500, MATCH(0, IF(ISBLANK($AL$3:$AL$1500), 1, COUNTIF(AM$3:AM540, $AL$3:$AL$1500)), 0))","v":{"$error":"#N/A"}},""]
[{"$f":"IF(E544=\"\",\"\",GetAddress(E544))","v":""},{"$f":"IF(E544=\"\",\"\",GetAddress(E544))","v":""},null,null,null,null,null,null,null,null,null,null,null,null,null,null,null,null,null,null,null,null,null,null,null,null,null,null,null,0,0,0,0,0,0,0,"","",{"$f":"INDEX($AL$3:$AL$1500, MATCH(0, IF(ISBLANK($AL$3:$AL$1500), 1, COUNTIF(AM$3:AM541, $AL$3:$AL$1500)), 0))","v":{"$error":"#N/A"}},""]
[{"$f":"IF(E545=\"\",\"\",GetAddress(E545))","v":""},{"$f":"IF(E545=\"\",\"\",GetAddress(E545))","v":""},null,null,null,null,null,null,null,null,null,null,null,null,null,null,null,null,null,null,null,null,null,null,null,null,null,null,null,0,0,0,0,0,0,0,"","",{"$f":"INDEX($AL$3:$AL$1500, MATCH(0, IF(ISBLANK($AL$3:$AL$1500), 1, COUNTIF(AM$3:AM542, $AL$3:$AL$1500)), 0))","v":{"$error":"#N/A"}},""]
[{"$f":"IF(E546=\"\",\"\",GetAddress(E546))","v":""},{"$f":"IF(E546=\"\",\"\",GetAddress(E546))","v":""},null,null,null,null,null,null,null,null,null,null,null,null,null,null,null,null,null,null,null,null,null,null,null,null,null,null,null,0,0,0,0,0,0,0,"","",{"$f":"INDEX($AL$3:$AL$1500, MATCH(0, IF(ISBLANK($AL$3:$AL$1500), 1, COUNTIF(AM$3:AM543, $AL$3:$AL$1500)), 0))","v":{"$error":"#N/A"}},""]
[{"$f":"IF(E547=\"\",\"\",GetAddress(E547))","v":""},{"$f":"IF(E547=\"\",\"\",GetAddress(E547))","v":""},null,null,null,null,null,null,null,null,null,null,null,null,null,null,null,null,null,null,null,null,null,null,null,null,null,null,null,0,0,0,0,0,0,0,"","",{"$f":"INDEX($AL$3:$AL$1500, MATCH(0, IF(ISBLANK($AL$3:$AL$1500), 1, COUNTIF(AM$3:AM544, $AL$3:$AL$1500)), 0))","v":{"$error":"#N/A"}},""]
[{"$f":"IF(E548=\"\",\"\",GetAddress(E548))","v":""},{"$f":"IF(E548=\"\",\"\",GetAddress(E548))","v":""},null,null,null,null,null,null,null,null,null,null,null,null,null,null,null,null,null,null,null,null,null,null,null,null,null,null,null,0,0,0,0,0,0,0,"","",{"$f":"INDEX($AL$3:$AL$1500, MATCH(0, IF(ISBLANK($AL$3:$AL$1500), 1, COUNTIF(AM$3:AM545, $AL$3:$AL$1500)), 0))","v":{"$error":"#N/A"}},""]
[{"$f":"IF(E549=\"\",\"\",GetAddress(E549))","v":""},{"$f":"IF(E549=\"\",\"\",GetAddress(E549))","v":""},null,null,null,null,null,null,null,null,null,null,null,null,null,null,null,null,null,null,null,null,null,null,null,null,null,null,null,0,0,0,0,0,0,0,"","",{"$f":"INDEX($AL$3:$AL$1500, MATCH(0, IF(ISBLANK($AL$3:$AL$1500), 1, COUNTIF(AM$3:AM546, $AL$3:$AL$1500)), 0))","v":{"$error":"#N/A"}},""]
[{"$f":"IF(E550=\"\",\"\",GetAddress(E550))","v":""},{"$f":"IF(E550=\"\",\"\",GetAddress(E550))","v":""},null,null,null,null,null,null,null,null,null,null,null,null,null,null,null,null,null,null,null,null,null,null,null,null,null,null,null,0,0,0,0,0,0,0,"","",{"$f":"INDEX($AL$3:$AL$1500, MATCH(0, IF(ISBLANK($AL$3:$AL$1500), 1, COUNTIF(AM$3:AM547, $AL$3:$AL$1500)), 0))","v":{"$error":"#N/A"}},""]
[{"$f":"IF(E551=\"\",\"\",GetAddress(E551))","v":""},{"$f":"IF(E551=\"\",\"\",GetAddress(E551))","v":""},null,null,null,null,null,null,null,null,null,null,null,null,null,null,null,null,null,null,null,null,null,null,null,null,null,null,null,0,0,0,0,0,0,0,"","",{"$f":"INDEX($AL$3:$AL$1500, MATCH(0, IF(ISBLANK($AL$3:$AL$1500), 1, COUNTIF(AM$3:AM548, $AL$3:$AL$1500)), 0))","v":{"$error":"#N/A"}},""]
[{"$f":"IF(E552=\"\",\"\",GetAddress(E552))","v":""},{"$f":"IF(E552=\"\",\"\",GetAddress(E552))","v":""},null,null,null,null,null,null,null,null,null,null,null,null,null,null,null,null,null,null,null,null,null,null,null,null,null,null,null,0,0,0,0,0,0,0,"","",{"$f":"INDEX($AL$3:$AL$1500, MATCH(0, IF(ISBLANK($AL$3:$AL$1500), 1, COUNTIF(AM$3:AM549, $AL$3:$AL$1500)), 0))","v":{"$error":"#N/A"}},""]
[{"$f":"IF(E553=\"\",\"\",GetAddress(E553))","v":""},{"$f":"IF(E553=\"\",\"\",GetAddress(E553))","v":""},null,null,null,null,null,null,null,null,null,null,null,null,null,null,null,null,null,null,null,null,null,null,null,null,null,null,null,0,0,0,0,0,0,0,"","",{"$f":"INDEX($AL$3:$AL$1500, MATCH(0, IF(ISBLANK($AL$3:$AL$1500), 1, COUNTIF(AM$3:AM550, $AL$3:$AL$1500)), 0))","v":{"$error":"#N/A"}},""]
[{"$f":"IF(E554=\"\",\"\",GetAddress(E554))","v":""},{"$f":"IF(E554=\"\",\"\",GetAddress(E554))","v":""},null,null,null,null,null,null,null,null,null,null,null,null,null,null,null,null,null,null,null,null,null,null,null,null,null,null,null,0,0,0,0,0,0,0,"","",{"$f":"INDEX($AL$3:$AL$1500, MATCH(0, IF(ISBLANK($AL$3:$AL$1500), 1, COUNTIF(AM$3:AM551, $AL$3:$AL$1500)), 0))","v":{"$error":"#N/A"}},""]
[{"$f":"IF(E555=\"\",\"\",GetAddress(E555))","v":""},{"$f":"IF(E555=\"\",\"\",GetAddress(E555))","v":""},null,null,null,null,null,null,null,null,null,null,null,null,null,null,null,null,null,null,null,null,null,null,null,null,null,null,null,0,0,0,0,0,0,0,"","",{"$f":"INDEX($AL$3:$AL$1500, MATCH(0, IF(ISBLANK($AL$3:$AL$1500), 1, COUNTIF(AM$3:AM552, $AL$3:$AL$1500)), 0))","v":{"$error":"#N/A"}},""]
[{"$f":"IF(E556=\"\",\"\",GetAddress(E556))","v":""},{"$f":"IF(E556=\"\",\"\",GetAddress(E556))","v":""},null,null,null,null,null,null,null,null,null,null,null,null,null,null,null,null,null,null,null,null,null,null,null,null,null,null,null,0,0,0,0,0,0,0,"","",{"$f":"INDEX($AL$3:$AL$1500, MATCH(0, IF(ISBLANK($AL$3:$AL$1500), 1, COUNTIF(AM$3:AM553, $AL$3:$AL$1500)), 0))","v":{"$error":"#N/A"}},""]
[{"$f":"IF(E557=\"\",\"\",GetAddress(E557))","v":""},{"$f":"IF(E557=\"\",\"\",GetAddress(E557))","v":""},null,null,null,null,null,null,null,null,null,null,null,null,null,null,null,null,null,null,null,null,null,null,null,null,null,null,null,0,0,0,0,0,0,0,"","",{"$f":"INDEX($AL$3:$AL$1500, MATCH(0, IF(ISBLANK($AL$3:$AL$1500), 1, COUNTIF(AM$3:AM554, $AL$3:$AL$1500)), 0))","v":{"$error":"#N/A"}},""]
[{"$f":"IF(E558=\"\",\"\",GetAddress(E558))","v":""},{"$f":"IF(E558=\"\",\"\",GetAddress(E558))","v":""},null,null,null,null,null,null,null,null,null,null,null,null,null,null,null,null,null,null,null,null,null,null,null,null,null,null,null,0,0,0,0,0,0,0,"","",{"$f":"INDEX($AL$3:$AL$1500, MATCH(0, IF(ISBLANK($AL$3:$AL$1500), 1, COUNTIF(AM$3:AM555, $AL$3:$AL$1500)), 0))","v":{"$error":"#N/A"}},""]
[{"$f":"IF(E559=\"\",\"\",GetAddress(E559))","v":""},{"$f":"IF(E559=\"\",\"\",GetAddress(E559))","v":""},null,null,null,null,null,null,null,null,null,null,null,null,null,null,null,null,null,null,null,null,null,null,null,null,null,null,null,0,0,0,0,0,0,0,"","",{"$f":"INDEX($AL$3:$AL$1500, MATCH(0, IF(ISBLANK($AL$3:$AL$1500), 1, COUNTIF(AM$3:AM556, $AL$3:$AL$1500)), 0))","v":{"$error":"#N/A"}},""]
[{"$f":"IF(E560=\"\",\"\",GetAddress(E560))","v":""},{"$f":"IF(E560=\"\",\"\",GetAddress(E560))","v":""},null,null,null,null,null,null,null,null,null,null,null,null,null,null,null,null,null,null,null,null,null,null,null,null,null,null,null,0,0,0,0,0,0,0,"","",{"$f":"INDEX($AL$3:$AL$1500, MATCH(0, IF(ISBLANK($AL$3:$AL$1500), 1, COUNTIF(AM$3:AM557, $AL$3:$AL$1500)), 0))","v":{"$error":"#N/A"}},""]
[{"$f":"IF(E561=\"\",\"\",GetAddress(E561))","v":""},{"$f":"IF(E561=\"\",\"\",GetAddress(E561))","v":""},null,null,null,null,null,null,null,null,null,null,null,null,null,null,null,null,null,null,null,null,null,null,null,null,null,null,null,0,0,0,0,0,0,0,"","",{"$f":"INDEX($AL$3:$AL$1500, MATCH(0, IF(ISBLANK($AL$3:$AL$1500), 1, COUNTIF(AM$3:AM558, $AL$3:$AL$1500)), 0))","v":{"$error":"#N/A"}},""]
[{"$f":"IF(E562=\"\",\"\",GetAddress(E562))","v":""},{"$f":"IF(E562=\"\",\"\",GetAddress(E562))","v":""},null,null,null,null,null,null,null,null,null,null,null,null,null,null,null,null,null,null,null,null,null,null,null,null,null,null,null,0,0,0,0,0,0,0,"","",{"$f":"INDEX($AL$3:$AL$1500, MATCH(0, IF(ISBLANK($AL$3:$AL$1500), 1, COUNTIF(AM$3:AM559, $AL$3:$AL$1500)), 0))","v":{"$error":"#N/A"}},""]
[{"$f":"IF(E563=\"\",\"\",GetAddress(E563))","v":""},{"$f":"IF(E563=\"\",\"\",GetAddress(E563))","v":""},null,null,null,null,null,null,null,null,null,null,null,null,null,null,null,null,null,null,null,null,null,null,null,null,null,null,null,0,0,0,0,0,0,0,"","",{"$f":"INDEX($AL$3:$AL$1500, MATCH(0, IF(ISBLANK($AL$3:$AL$1500), 1, COUNTIF(AM$3:AM560, $AL$3:$AL$1500)), 0))","v":{"$error":"#N/A"}},""]
[{"$f":"IF(E564=\"\",\"\",GetAddress(E564))","v":""},{"$f":"IF(E564=\"\",\"\",GetAddress(E564))","v":""},null,null,null,null,null,null,null,null,null,null,null,null,null,null,null,null,null,null,null,null,null,null,null,null,null,null,null,0,0,0,0,0,0,0,"","",{"$f":"INDEX($AL$3:$AL$1500, MATCH(0, IF(ISBLANK($AL$3:$AL$1500), 1, COUNTIF(AM$3:AM561, $AL$3:$AL$1500)), 0))","v":{"$error":"#N/A"}},""]
[{"$f":"IF(E565=\"\",\"\",GetAddress(E565))","v":""},{"$f":"IF(E565=\"\",\"\",GetAddress(E565))","v":""},null,null,null,null,null,null,null,null,null,null,null,null,null,null,null,null,null,null,null,null,null,null,null,null,null,null,null,0,0,0,0,0,0,0,"","",{"$f":"INDEX($AL$3:$AL$1500, MATCH(0, IF(ISBLANK($AL$3:$AL$1500), 1, COUNTIF(AM$3:AM562, $AL$3:$AL$1500)), 0))","v":{"$error":"#N/A"}},""]
[{"$f":"IF(E566=\"\",\"\",GetAddress(E566))","v":""},{"$f":"IF(E566=\"\",\"\",GetAddress(E566))","v":""},null,null,null,null,null,null,null,null,null,null,null,null,null,null,null,null,null,null,null,null,null,null,null,null,null,null,null,0,0,0,0,0,0,0,"","",{"$f":"INDEX($AL$3:$AL$1500, MATCH(0, IF(ISBLANK($AL$3:$AL$1500), 1, COUNTIF(AM$3:AM563, $AL$3:$AL$1500)), 0))","v":{"$error":"#N/A"}},""]
[{"$f":"IF(E567=\"\",\"\",GetAddress(E567))","v":""},{"$f":"IF(E567=\"\",\"\",GetAddress(E567))","v":""},null,null,null,null,null,null,null,null,null,null,null,null,null,null,null,null,null,null,null,null,null,null,null,null,null,null,null,0,0,0,0,0,0,0,"","",{"$f":"INDEX($AL$3:$AL$1500, MATCH(0, IF(ISBLANK($AL$3:$AL$1500), 1, COUNTIF(AM$3:AM564, $AL$3:$AL$1500)), 0))","v":{"$error":"#N/A"}},""]
[{"$f":"IF(E568=\"\",\"\",GetAddress(E568))","v":""},{"$f":"IF(E568=\"\",\"\",GetAddress(E568))","v":""},null,null,null,null,null,null,null,null,null,null,null,null,null,null,null,null,null,null,null,null,null,null,null,null,null,null,null,0,0,0,0,0,0,0,"","",{"$f":"INDEX($AL$3:$AL$1500, MATCH(0, IF(ISBLANK($AL$3:$AL$1500), 1, COUNTIF(AM$3:AM565, $AL$3:$AL$1500)), 0))","v":{"$error":"#N/A"}},""]
[{"$f":"IF(E569=\"\",\"\",GetAddress(E569))","v":""},{"$f":"IF(E569=\"\",\"\",GetAddress(E569))","v":""},null,null,null,null,null,null,null,null,null,null,null,null,null,null,null,null,null,null,null,null,null,null,null,null,null,null,null,0,0,0,0,0,0,0,"","",{"$f":"INDEX($AL$3:$AL$1500, MATCH(0, IF(ISBLANK($AL$3:$AL$1500), 1, COUNTIF(AM$3:AM566, $AL$3:$AL$1500)), 0))","v":{"$error":"#N/A"}},""]
[{"$f":"IF(E570=\"\",\"\",GetAddress(E570))","v":""},{"$f":"IF(E570=\"\",\"\",GetAddress(E570))","v":""},null,null,null,null,null,null,null,null,null,null,null,null,null,null,null,null,null,null,null,null,null,null,null,null,null,null,null,0,0,0,0,0,0,0,"","",{"$f":"INDEX($AL$3:$AL$1500, MATCH(0, IF(ISBLANK($AL$3:$AL$1500), 1, COUNTIF(AM$3:AM567, $AL$3:$AL$1500)), 0))","v":{"$error":"#N/A"}},""]
[{"$f":"IF(E571=\"\",\"\",GetAddress(E571))","v":""},{"$f":"IF(E571=\"\",\"\",GetAddress(E571))","v":""},null,null,null,null,null,null,null,null,null,null,null,null,null,null,null,null,null,null,null,null,null,null,null,null,null,null,null,0,0,0,0,0,0,0,"","",{"$f":"INDEX($AL$3:$AL$1500, MATCH(0, IF(ISBLANK($AL$3:$AL$1500), 1, COUNTIF(AM$3:AM568, $AL$3:$AL$1500)), 0))","v":{"$error":"#N/A"}},""]
[{"$f":"IF(E572=\"\",\"\",GetAddress(E572))","v":""},{"$f":"IF(E572=\"\",\"\",GetAddress(E572))","v":""},null,null,null,null,null,null,null,null,null,null,null,null,null,null,null,null,null,null,null,null,null,null,null,null,null,null,null,0,0,0,0,0,0,0,"","",{"$f":"INDEX($AL$3:$AL$1500, MATCH(0, IF(ISBLANK($AL$3:$AL$1500), 1, COUNTIF(AM$3:AM569, $AL$3:$AL$1500)), 0))","v":{"$error":"#N/A"}},""]
[{"$f":"IF(E573=\"\",\"\",GetAddress(E573))","v":""},{"$f":"IF(E573=\"\",\"\",GetAddress(E573))","v":""},null,null,null,null,null,null,null,null,null,null,null,null,null,null,null,null,null,null,null,null,null,null,null,null,null,null,null,0,0,0,0,0,0,0,"","",{"$f":"INDEX($AL$3:$AL$1500, MATCH(0, IF(ISBLANK($AL$3:$AL$1500), 1, COUNTIF(AM$3:AM570, $AL$3:$AL$1500)), 0))","v":{"$error":"#N/A"}},""]
[{"$f":"IF(E574=\"\",\"\",GetAddress(E574))","v":""},{"$f":"IF(E574=\"\",\"\",GetAddress(E574))","v":""},null,null,null,null,null,null,null,null,null,null,null,null,null,null,null,null,null,null,null,null,null,null,null,null,null,null,null,0,0,0,0,0,0,0,"","",{"$f":"INDEX($AL$3:$AL$1500, MATCH(0, IF(ISBLANK($AL$3:$AL$1500), 1, COUNTIF(AM$3:AM571, $AL$3:$AL$1500)), 0))","v":{"$error":"#N/A"}},""]
[{"$f":"IF(E575=\"\",\"\",GetAddress(E575))","v":""},{"$f":"IF(E575=\"\",\"\",GetAddress(E575))","v":""},null,null,null,null,null,null,null,null,null,null,null,null,null,null,null,null,null,null,null,null,null,null,null,null,null,null,null,0,0,0,0,0,0,0,"","",{"$f":"INDEX($AL$3:$AL$1500, MATCH(0, IF(ISBLANK($AL$3:$AL$1500), 1, COUNTIF(AM$3:AM572, $AL$3:$AL$1500)), 0))","v":{"$error":"#N/A"}},""]
[{"$f":"IF(E576=\"\",\"\",GetAddress(E576))","v":""},{"$f":"IF(E576=\"\",\"\",GetAddress(E576))","v":""},null,null,null,null,null,null,null,null,null,null,null,null,null,null,null,null,null,null,null,null,null,null,null,null,null,null,null,0,0,0,0,0,0,0,"","",{"$f":"INDEX($AL$3:$AL$1500, MATCH(0, IF(ISBLANK($AL$3:$AL$1500), 1, COUNTIF(AM$3:AM573, $AL$3:$AL$1500)), 0))","v":{"$error":"#N/A"}},""]
[{"$f":"IF(E577=\"\",\"\",GetAddress(E577))","v":""},{"$f":"IF(E577=\"\",\"\",GetAddress(E577))","v":""},null,null,null,null,null,null,null,null,null,null,null,null,null,null,null,null,null,null,null,null,null,null,null,null,null,null,null,0,0,0,0,0,0,0,"","",{"$f":"INDEX($AL$3:$AL$1500, MATCH(0, IF(ISBLANK($AL$3:$AL$1500), 1, COUNTIF(AM$3:AM574, $AL$3:$AL$1500)), 0))","v":{"$error":"#N/A"}},""]
[{"$f":"IF(E578=\"\",\"\",GetAddress(E578))","v":""},{"$f":"IF(E578=\"\",\"\",GetAddress(E578))","v":""},null,null,null,null,null,null,null,null,null,null,null,null,null,null,null,null,null,null,null,null,null,null,null,null,null,null,null,0,0,0,0,0,0,0,"","",{"$f":"INDEX($AL$3:$AL$1500, MATCH(0, IF(ISBLANK($AL$3:$AL$1500), 1, COUNTIF(AM$3:AM575, $AL$3:$AL$1500)), 0))","v":{"$error":"#N/A"}},""]
[{"$f":"IF(E579=\"\",\"\",GetAddress(E579))","v":""},{"$f":"IF(E579=\"\",\"\",GetAddress(E579))","v":""},null,null,null,null,null,null,null,null,null,null,null,null,null,null,null,null,null,null,null,null,null,null,null,null,null,null,null,0,0,0,0,0,0,0,"","",{"$f":"INDEX($AL$3:$AL$1500, MATCH(0, IF(ISBLANK($AL$3:$AL$1500), 1, COUNTIF(AM$3:AM576, $AL$3:$AL$1500)), 0))","v":{"$error":"#N/A"}},""]
[{"$f":"IF(E580=\"\",\"\",GetAddress(E580))","v":""},{"$f":"IF(E580=\"\",\"\",GetAddress(E580))","v":""},null,null,null,null,null,null,null,null,null,null,null,null,null,null,null,null,null,null,null,null,null,null,null,null,null,null,null,0,0,0,0,0,0,0,"","",{"$f":"INDEX($AL$3:$AL$1500, MATCH(0, IF(ISBLANK($AL$3:$AL$1500), 1, COUNTIF(AM$3:AM577, $AL$3:$AL$1500)), 0))","v":{"$error":"#N/A"}},""]
[{"$f":"IF(E581=\"\",\"\",GetAddress(E581))","v":""},{"$f":"IF(E581=\"\",\"\",GetAddress(E581))","v":""},null,null,null,null,null,null,null,null,null,null,null,null,null,null,null,null,null,null,null,null,null,null,null,null,null,null,null,0,0,0,0,0,0,{"$f":"IF(AI579=\"Free A\",\"\",AI579)","v":0},{"$f":"IF(AJ579=0,\"\",AJ579)","v":""},{"$f":"IF(AK579=\"Free Agent\",\"\",AK579)","v":""},{"$f":"INDEX($AL$3:$AL$1500, MATCH(0, IF(ISBLANK($AL$3:$AL$1500), 1, COUNTIF(AM$3:AM578, $AL$3:$AL$1500)), 0))","v":{"$error":"#N/A"}},{"$f":"IF(ISERROR(AM579),\"\",AM579)","v":""}]
[{"$f":"IF(E582=\"\",\"\",GetAddress(E582))","v":""},{"$f":"IF(E582=\"\",\"\",GetAddress(E582))","v":""},null,null,null,null,null,null,null,null,null,null,null,null,null,null,null,null,null,null,null,null,null,null,null,null,null,null,null,0,0,0,0,0,0,0,"","",{"$f":"INDEX($AL$3:$AL$1500, MATCH(0, IF(ISBLANK($AL$3:$AL$1500), 1, COUNTIF(AM$3:AM579, $AL$3:$AL$1500)), 0))","v":{"$error":"#N/A"}},""]
[{"$f":"IF(E583=\"\",\"\",GetAddress(E583))","v":""},{"$f":"IF(E583=\"\",\"\",GetAddress(E583))","v":""},null,null,null,null,null,null,null,null,null,null,null,null,null,null,null,null,null,null,null,null,null,null,null,null,null,null,null,{"$f":"VALUE(IF(ISNUMBER(SEARCH(\"(P)\",Y581)),\"1\", \"0\"))","v":0},{"$f":"VALUE(IF(ISNUMBER(SEARCH(\"(Q)\",Y581)),\"1\", \"0\"))","v":0},{"$f":"VALUE(IF(ISNUMBER(SEARCH(\"(O)\",Y581)),\"1\", \"0\"))","v":0},{"$f":"VALUE(IF(ISNUMBER(SEARCH(\"(S)\",Y581)),\"1\", \"0\"))","v":0},{"$f":"VALUE(IF(ISNUMBER(SEARCH(\"Free Agent\",Y581)),\"1\", \"0\"))","v":0},{"$f":"IF(SUM(AD581:AH581)=0,Y581,LEFT(Y581,LEN(Y581)-4))","v":0},0,"","",{"$f":"INDEX($AL$3:$AL$1500, MATCH(0, IF(ISBLANK($AL$3:$AL$1500), 1, COUNTIF(AM$3:AM580, $AL$3:$AL$1500)), 0))","v":{"$error":"#N/A"}},""]
[{"$f":"IF(E584=\"\",\"\",GetAddress(E584))","v":""},{"$f":"IF(E584=\"\",\"\",GetAddress(E584))","v":""},null,null,null,null,null,null,null,null,null,null,null,null,null,null,null,null,null,null,null,null,null,null,null,null,null,null,null,0,0,0,0,0,0,0,"","",{"$f":"INDEX($AL$3:$AL$1500, MATCH(0, IF(ISBLANK($AL$3:$AL$1500), 1, COUNTIF(AM$3:AM581, $AL$3:$AL$1500)), 0))","v":{"$error":"#N/A"}},""]
[{"$f":"IF(E585=\"\",\"\",GetAddress(E585))","v":""},{"$f":"IF(E585=\"\",\"\",GetAddress(E585))","v":""},null,null,null,null,null,null,null,null,null,null,null,null,null,null,null,null,null,null,null,null,null,null,null,null,null,null,null,0,0,0,0,0,0,0,"","",{"$f":"INDEX($AL$3:$AL$1500, MATCH(0, IF(ISBLANK($AL$3:$AL$1500), 1, COUNTIF(AM$3:AM582, $AL$3:$AL$1500)), 0))","v":{"$error":"#N/A"}},""]
[{"$f":"IF(E586=\"\",\"\",GetAddress(E586))","v":""},{"$f":"IF(E586=\"\",\"\",GetAddress(E586))","v":""},null,null,null,null,null,null,null,null,null,null,null,null,null,null,null,null,null,null,null,null,null,null,null,null,null,null,null,0,0,0,0,0,0,0,"","",{"$f":"INDEX($AL$3:$AL$1500, MATCH(0, IF(ISBLANK($AL$3:$AL$1500), 1, COUNTIF(AM$3:AM583, $AL$3:$AL$1500)), 0))","v":{"$error":"#N/A"}},""]
[{"$f":"IF(E587=\"\",\"\",GetAddress(E587))","v":""},{"$f":"IF(E587=\"\",\"\",GetAddress(E587))","v":""},null,null,null,null,null,null,null,null,null,null,null,null,null,null,null,null,null,null,null,null,null,null,null,null,null,null,null,0,0,0,0,0,0,0,"","",{"$f":"INDEX($AL$3:$AL$1500, MATCH(0, IF(ISBLANK($AL$3:$AL$1500), 1, COUNTIF(AM$3:AM584, $AL$3:$AL$1500)), 0))","v":{"$error":"#N/A"}},""]
[{"$f":"IF(E588=\"\",\"\",GetAddress(E588))","v":""},{"$f":"IF(E588=\"\",\"\",GetAddress(E588))","v":""},null,null,null,null,null,null,null,null,null,null,null,null,null,null,null,null,null,null,null,null,null,null,null,null,null,null,null,0,0,0,0,0,0,0,"","",{"$f":"INDEX($AL$3:$AL$1500, MATCH(0, IF(ISBLANK($AL$3:$AL$1500), 1, COUNTIF(AM$3:AM585, $AL$3:$AL$1500)), 0))","v":{"$error":"#N/A"}},""]
[{"$f":"IF(E589=\"\",\"\",GetAddress(E589))","v":""},{"$f":"IF(E589=\"\",\"\",GetAddress(E589))","v":""},null,null,null,null,null,null,null,null,null,null,null,null,null,null,null,null,null,null,null,null,null,null,null,null,null,null,null,0,0,0,0,0,0,0,"","",{"$f":"INDEX($AL$3:$AL$1500, MATCH(0, IF(ISBLANK($AL$3:$AL$1500), 1, COUNTIF(AM$3:AM586, $AL$3:$AL$1500)), 0))","v":{"$error":"#N/A"}},""]
[{"$f":"IF(E590=\"\",\"\",GetAddress(E590))","v":""},{"$f":"IF(E590=\"\",\"\",GetAddress(E590))","v":""},null,null,null,null,null,null,null,null,null,null,null,null,null,null,null,null,null,null,null,null,null,null,null,null,null,null,null,0,0,0,0,0,0,0,"","",{"$f":"INDEX($AL$3:$AL$1500, MATCH(0, IF(ISBLANK($AL$3:$AL$1500), 1, COUNTIF(AM$3:AM587, $AL$3:$AL$1500)), 0))","v":{"$error":"#N/A"}},""]
[{"$f":"IF(E591=\"\",\"\",GetAddress(E591))","v":""},{"$f":"IF(E591=\"\",\"\",GetAddress(E591))","v":""},null,null,null,null,null,null,null,null,null,null,null,null,null,null,null,null,null,null,null,null,null,null,null,null,null,null,null,0,0,0,0,0,0,0,"","",{"$f":"INDEX($AL$3:$AL$1500, MATCH(0, IF(ISBLANK($AL$3:$AL$1500), 1, COUNTIF(AM$3:AM588, $AL$3:$AL$1500)), 0))","v":{"$error":"#N/A"}},""]
[{"$f":"IF(E592=\"\",\"\",GetAddress(E592))","v":""},{"$f":"IF(E592=\"\",\"\",GetAddress(E592))","v":""},null,null,null,null,null,null,null,null,null,null,null,null,null,null,null,null,null,null,null,null,null,null,null,null,null,null,null,0,0,0,0,0,0,0,"","",{"$f":"INDEX($AL$3:$AL$1500, MATCH(0, IF(ISBLANK($AL$3:$AL$1500), 1, COUNTIF(AM$3:AM589, $AL$3:$AL$1500)), 0))","v":{"$error":"#N/A"}},""]
[{"$f":"IF(E593=\"\",\"\",GetAddress(E593))","v":""},{"$f":"IF(E593=\"\",\"\",GetAddress(E593))","v":""},null,null,null,null,null,null,null,null,null,null,null,null,null,null,null,null,null,null,null,null,null,null,null,null,null,null,null,0,0,0,0,0,0,0,"","",{"$f":"INDEX($AL$3:$AL$1500, MATCH(0, IF(ISBLANK($AL$3:$AL$1500), 1, COUNTIF(AM$3:AM590, $AL$3:$AL$1500)), 0))","v":{"$error":"#N/A"}},""]
[{"$f":"IF(E594=\"\",\"\",GetAddress(E594))","v":""},{"$f":"IF(E594=\"\",\"\",GetAddress(E594))","v":""},null,null,null,null,null,null,null,null,null,null,null,null,null,null,null,null,null,null,null,null,null,null,null,null,null,null,null,0,0,0,0,0,0,0,"","",{"$f":"INDEX($AL$3:$AL$1500, MATCH(0, IF(ISBLANK($AL$3:$AL$1500), 1, COUNTIF(AM$3:AM591, $AL$3:$AL$1500)), 0))","v":{"$error":"#N/A"}},""]
[{"$f":"IF(E595=\"\",\"\",GetAddress(E595))","v":""},{"$f":"IF(E595=\"\",\"\",GetAddress(E595))","v":""},null,null,null,null,null,null,null,null,null,null,null,null,null,null,null,null,null,null,null,null,null,null,null,null,null,null,null,0,0,0,0,0,0,0,"","",{"$f":"INDEX($AL$3:$AL$1500, MATCH(0, IF(ISBLANK($AL$3:$AL$1500), 1, COUNTIF(AM$3:AM592, $AL$3:$AL$1500)), 0))","v":{"$error":"#N/A"}},""]
[{"$f":"IF(E596=\"\",\"\",GetAddress(E596))","v":""},{"$f":"IF(E596=\"\",\"\",GetAddress(E596))","v":""},null,null,null,null,null,null,null,null,null,null,null,null,null,null,null,null,null,null,null,null,null,null,null,null,null,null,null,0,0,0,0,0,0,0,"","",{"$f":"INDEX($AL$3:$AL$1500, MATCH(0, IF(ISBLANK($AL$3:$AL$1500), 1, COUNTIF(AM$3:AM593, $AL$3:$AL$1500)), 0))","v":{"$error":"#N/A"}},""]
[{"$f":"IF(E597=\"\",\"\",GetAddress(E597))","v":""},{"$f":"IF(E597=\"\",\"\",GetAddress(E597))","v":""},null,null,null,null,null,null,null,null,null,null,null,null,null,null,null,null,null,null,null,null,null,null,null,null,null,null,null,0,0,0,0,0,0,0,"","",{"$f":"INDEX($AL$3:$AL$1500, MATCH(0, IF(ISBLANK($AL$3:$AL$1500), 1, COUNTIF(AM$3:AM594, $AL$3:$AL$1500)), 0))","v":{"$error":"#N/A"}},""]
[{"$f":"IF(E598=\"\",\"\",GetAddress(E598))","v":""},{"$f":"IF(E598=\"\",\"\",GetAddress(E598))","v":""},null,null,null,null,null,null,null,null,null,null,null,null,null,null,null,null,null,null,null,null,null,null,null,null,null,null,null,0,0,0,0,0,0,0,"","",{"$f":"INDEX($AL$3:$AL$1500, MATCH(0, IF(ISBLANK($AL$3:$AL$1500), 1, COUNTIF(AM$3:AM595, $AL$3:$AL$1500)), 0))","v":{"$error":"#N/A"}},""]
[{"$f":"IF(E599=\"\",\"\",GetAddress(E599))","v":""},{"$f":"IF(E599=\"\",\"\",GetAddress(E599))","v":""},null,null,null,null,null,null,null,null,null,null,null,null,null,null,null,null,null,null,null,null,null,null,null,null,null,null,null,0,0,0,0,0,0,0,"","",{"$f":"INDEX($AL$3:$AL$1500, MATCH(0, IF(ISBLANK($AL$3:$AL$1500), 1, COUNTIF(AM$3:AM596, $AL$3:$AL$1500)), 0))","v":{"$error":"#N/A"}},""]
[{"$f":"IF(E600=\"\",\"\",GetAddress(E600))","v":""},{"$f":"IF(E600=\"\",\"\",GetAddress(E600))","v":""},null,null,null,null,null,null,null,null,null,null,null,null,null,null,null,null,null,null,null,null,null,null,null,null,null,null,null,0,0,0,0,0,0,0,"","",{"$f":"INDEX($AL$3:$AL$1500, MATCH(0, IF(ISBLANK($AL$3:$AL$1500), 1, COUNTIF(AM$3:AM597, $AL$3:$AL$1500)), 0))","v":{"$error":"#N/A"}},""]
[{"$f":"IF(E601=\"\",\"\",GetAddress(E601))","v":""},{"$f":"IF(E601=\"\",\"\",GetAddress(E601))","v":""},null,null,null,null,null,null,null,null,null,null,null,null,null,null,null,null,null,null,null,null,null,null,null,null,null,null,null,0,0,0,0,0,0,0,"","",{"$f":"INDEX($AL$3:$AL$1500, MATCH(0, IF(ISBLANK($AL$3:$AL$1500), 1, COUNTIF(AM$3:AM598, $AL$3:$AL$1500)), 0))","v":{"$error":"#N/A"}},""]
[{"$f":"IF(E602=\"\",\"\",GetAddress(E602))","v":""},{"$f":"IF(E602=\"\",\"\",GetAddress(E602))","v":""},null,null,null,null,null,null,null,null,null,null,null,null,null,null,null,null,null,null,null,null,null,null,null,null,null,null,null,0,0,0,0,0,0,0,"","",{"$f":"INDEX($AL$3:$AL$1500, MATCH(0, IF(ISBLANK($AL$3:$AL$1500), 1, COUNTIF(AM$3:AM599, $AL$3:$AL$1500)), 0))","v":{"$error":"#N/A"}},""]
[{"$f":"IF(E603=\"\",\"\",GetAddress(E603))","v":""},{"$f":"IF(E603=\"\",\"\",GetAddress(E603))","v":""},null,null,null,null,null,null,null,null,null,null,null,null,null,null,null,null,null,null,null,null,null,null,null,null,null,null,null,0,0,0,0,0,0,0,"","",{"$f":"INDEX($AL$3:$AL$1500, MATCH(0, IF(ISBLANK($AL$3:$AL$1500), 1, COUNTIF(AM$3:AM600, $AL$3:$AL$1500)), 0))","v":{"$error":"#N/A"}},""]
[{"$f":"IF(E604=\"\",\"\",GetAddress(E604))","v":""},{"$f":"IF(E604=\"\",\"\",GetAddress(E604))","v":""},null,null,null,null,null,null,null,null,null,null,null,null,null,null,null,null,null,null,null,null,null,null,null,null,null,null,null,0,0,0,0,0,0,0,"","",{"$f":"INDEX($AL$3:$AL$1500, MATCH(0, IF(ISBLANK($AL$3:$AL$1500), 1, COUNTIF(AM$3:AM601, $AL$3:$AL$1500)), 0))","v":{"$error":"#N/A"}},""]
[{"$f":"IF(E605=\"\",\"\",GetAddress(E605))","v":""},{"$f":"IF(E605=\"\",\"\",GetAddress(E605))","v":""},null,null,null,null,null,null,null,null,null,null,null,null,null,null,null,null,null,null,null,null,null,null,null,null,null,null,null,0,0,0,0,0,0,0,"","",{"$f":"INDEX($AL$3:$AL$1500, MATCH(0, IF(ISBLANK($AL$3:$AL$1500), 1, COUNTIF(AM$3:AM602, $AL$3:$AL$1500)), 0))","v":{"$error":"#N/A"}},""]
[{"$f":"IF(E606=\"\",\"\",GetAddress(E606))","v":""},{"$f":"IF(E606=\"\",\"\",GetAddress(E606))","v":""},null,null,null,null,null,null,null,null,null,null,null,null,null,null,null,null,null,null,null,null,null,null,null,null,null,null,null,0,0,0,0,0,0,0,"","",{"$f":"INDEX($AL$3:$AL$1500, MATCH(0, IF(ISBLANK($AL$3:$AL$1500), 1, COUNTIF(AM$3:AM603, $AL$3:$AL$1500)), 0))","v":{"$error":"#N/A"}},""]
[{"$f":"IF(E607=\"\",\"\",GetAddress(E607))","v":""},{"$f":"IF(E607=\"\",\"\",GetAddress(E607))","v":""},null,null,null,null,null,null,null,null,null,null,null,null,null,null,null,null,null,null,null,null,null,null,null,null,null,null,null,0,0,0,0,0,0,0,"","",{"$f":"INDEX($AL$3:$AL$1500, MATCH(0, IF(ISBLANK($AL$3:$AL$1500), 1, COUNTIF(AM$3:AM604, $AL$3:$AL$1500)), 0))","v":{"$error":"#N/A"}},""]
[{"$f":"IF(E608=\"\",\"\",GetAddress(E608))","v":""},{"$f":"IF(E608=\"\",\"\",GetAddress(E608))","v":""},null,null,null,null,null,null,null,null,null,null,null,null,null,null,null,null,null,null,null,null,null,null,null,null,null,null,null,0,0,0,0,0,0,0,"","",{"$f":"INDEX($AL$3:$AL$1500, MATCH(0, IF(ISBLANK($AL$3:$AL$1500), 1, COUNTIF(AM$3:AM605, $AL$3:$AL$1500)), 0))","v":{"$error":"#N/A"}},""]
[{"$f":"IF(E609=\"\",\"\",GetAddress(E609))","v":""},{"$f":"IF(E609=\"\",\"\",GetAddress(E609))","v":""},null,null,null,null,null,null,null,null,null,null,null,null,null,null,null,null,null,null,null,null,null,null,null,null,null,null,null,0,0,0,0,0,0,0,"","",{"$f":"INDEX($AL$3:$AL$1500, MATCH(0, IF(ISBLANK($AL$3:$AL$1500), 1, COUNTIF(AM$3:AM606, $AL$3:$AL$1500)), 0))","v":{"$error":"#N/A"}},""]
[{"$f":"IF(E610=\"\",\"\",GetAddress(E610))","v":""},{"$f":"IF(E610=\"\",\"\",GetAddress(E610))","v":""},null,null,null,null,null,null,null,null,null,null,null,null,null,null,null,null,null,null,null,null,null,null,null,null,null,null,null,0,0,0,0,0,0,0,"","",{"$f":"INDEX($AL$3:$AL$1500, MATCH(0, IF(ISBLANK($AL$3:$AL$1500), 1, COUNTIF(AM$3:AM607, $AL$3:$AL$1500)), 0))","v":{"$error":"#N/A"}},""]
[{"$f":"IF(E611=\"\",\"\",GetAddress(E611))","v":""},{"$f":"IF(E611=\"\",\"\",GetAddress(E611))","v":""},null,null,null,null,null,null,null,null,null,null,null,null,null,null,null,null,null,null,null,null,null,null,null,null,null,null,null,0,0,0,0,0,0,0,"","",{"$f":"INDEX($AL$3:$AL$1500, MATCH(0, IF(ISBLANK($AL$3:$AL$1500), 1, COUNTIF(AM$3:AM608, $AL$3:$AL$1500)), 0))","v":{"$error":"#N/A"}},""]
[{"$f":"IF(E612=\"\",\"\",GetAddress(E612))","v":""},{"$f":"IF(E612=\"\",\"\",GetAddress(E612))","v":""},null,null,null,null,null,null,null,null,null,null,null,null,null,null,null,null,null,null,null,null,null,null,null,null,null,null,null,0,0,0,0,0,0,0,"","",{"$f":"INDEX($AL$3:$AL$1500, MATCH(0, IF(ISBLANK($AL$3:$AL$1500), 1, COUNTIF(AM$3:AM609, $AL$3:$AL$1500)), 0))","v":{"$error":"#N/A"}},""]
[{"$f":"IF(E613=\"\",\"\",GetAddress(E613))","v":""},{"$f":"IF(E613=\"\",\"\",GetAddress(E613))","v":""},null,null,null,null,null,null,null,null,null,null,null,null,null,null,null,null,null,null,null,null,null,null,null,null,null,null,null,0,0,0,0,0,0,0,"","",{"$f":"INDEX($AL$3:$AL$1500, MATCH(0, IF(ISBLANK($AL$3:$AL$1500), 1, COUNTIF(AM$3:AM610, $AL$3:$AL$1500)), 0))","v":{"$error":"#N/A"}},""]
[{"$f":"IF(E614=\"\",\"\",GetAddress(E614))","v":""},{"$f":"IF(E614=\"\",\"\",GetAddress(E614))","v":""},null,null,null,null,null,null,null,null,null,null,null,null,null,null,null,null,null,null,null,null,null,null,null,null,null,null,null,0,0,0,0,0,0,0,"","",{"$f":"INDEX($AL$3:$AL$1500, MATCH(0, IF(ISBLANK($AL$3:$AL$1500), 1, COUNTIF(AM$3:AM611, $AL$3:$AL$1500)), 0))","v":{"$error":"#N/A"}},""]
[{"$f":"IF(E615=\"\",\"\",GetAddress(E615))","v":""},{"$f":"IF(E615=\"\",\"\",GetAddress(E615))","v":""},null,null,null,null,null,null,null,null,null,null,null,null,null,null,null,null,null,null,null,null,null,null,null,null,null,null,null,0,0,0,0,0,0,0,"","",{"$f":"INDEX($AL$3:$AL$1500, MATCH(0, IF(ISBLANK($AL$3:$AL$1500), 1, COUNTIF(AM$3:AM612, $AL$3:$AL$1500)), 0))","v":{"$error":"#N/A"}},""]
[{"$f":"IF(E616=\"\",\"\",GetAddress(E616))","v":""},{"$f":"IF(E616=\"\",\"\",GetAddress(E616))","v":""},null,null,null,null,null,null,null,null,null,null,null,null,null,null,null,null,null,null,null,null,null,null,null,null,null,null,null,0,0,0,0,0,0,0,"","",{"$f":"INDEX($AL$3:$AL$1500, MATCH(0, IF(ISBLANK($AL$3:$AL$1500), 1, COUNTIF(AM$3:AM613, $AL$3:$AL$1500)), 0))","v":{"$error":"#N/A"}},""]
[{"$f":"IF(E617=\"\",\"\",GetAddress(E617))","v":""},{"$f":"IF(E617=\"\",\"\",GetAddress(E617))","v":""},null,null,null,null,null,null,null,null,null,null,null,null,null,null,null,null,null,null,null,null,null,null,null,null,null,null,null,0,0,0,0,0,0,0,"","",{"$f":"INDEX($AL$3:$AL$1500, MATCH(0, IF(ISBLANK($AL$3:$AL$1500), 1, COUNTIF(AM$3:AM614, $AL$3:$AL$1500)), 0))","v":{"$error":"#N/A"}},""]
[{"$f":"IF(E618=\"\",\"\",GetAddress(E618))","v":""},{"$f":"IF(E618=\"\",\"\",GetAddress(E618))","v":""},null,null,null,null,null,null,null,null,null,null,null,null,null,null,null,null,null,null,null,null,null,null,null,null,null,null,null,0,0,0,0,0,0,0,"","",{"$f":"INDEX($AL$3:$AL$1500, MATCH(0, IF(ISBLANK($AL$3:$AL$1500), 1, COUNTIF(AM$3:AM615, $AL$3:$AL$1500)), 0))","v":{"$error":"#N/A"}},""]
[{"$f":"IF(E619=\"\",\"\",GetAddress(E619))","v":""},{"$f":"IF(E619=\"\",\"\",GetAddress(E619))","v":""},null,null,null,null,null,null,null,null,null,null,null,null,null,null,null,null,null,null,null,null,null,null,null,null,null,null,null,0,0,0,0,0,0,0,"","",{"$f":"INDEX($AL$3:$AL$1500, MATCH(0, IF(ISBLANK($AL$3:$AL$1500), 1, COUNTIF(AM$3:AM616, $AL$3:$AL$1500)), 0))","v":{"$error":"#N/A"}},""]
[{"$f":"IF(E620=\"\",\"\",GetAddress(E620))","v":""},{"$f":"IF(E620=\"\",\"\",GetAddress(E620))","v":""},null,null,null,null,null,null,null,null,null,null,null,null,null,null,null,null,null,null,null,null,null,null,null,null,null,null,null,0,0,0,0,0,0,0,"","",{"$f":"INDEX($AL$3:$AL$1500, MATCH(0, IF(ISBLANK($AL$3:$AL$1500), 1, COUNTIF(AM$3:AM617, $AL$3:$AL$1500)), 0))","v":{"$error":"#N/A"}},""]
[{"$f":"IF(E621=\"\",\"\",GetAddress(E621))","v":""},{"$f":"IF(E621=\"\",\"\",GetAddress(E621))","v":""},null,null,null,null,null,null,null,null,null,null,null,null,null,null,null,null,null,null,null,null,null,null,null,null,null,null,null,0,0,0,0,0,0,0,"","",{"$f":"INDEX($AL$3:$AL$1500, MATCH(0, IF(ISBLANK($AL$3:$AL$1500), 1, COUNTIF(AM$3:AM618, $AL$3:$AL$1500)), 0))","v":{"$error":"#N/A"}},""]
[{"$f":"IF(E622=\"\",\"\",GetAddress(E622))","v":""},{"$f":"IF(E622=\"\",\"\",GetAddress(E622))","v":""},null,null,null,null,null,null,null,null,null,null,null,null,null,null,null,null,null,null,null,null,null,null,null,null,null,null,null,0,0,0,0,0,0,0,"","",{"$f":"INDEX($AL$3:$AL$1500, MATCH(0, IF(ISBLANK($AL$3:$AL$1500), 1, COUNTIF(AM$3:AM619, $AL$3:$AL$1500)), 0))","v":{"$error":"#N/A"}},""]
[{"$f":"IF(E623=\"\",\"\",GetAddress(E623))","v":""},{"$f":"IF(E623=\"\",\"\",GetAddress(E623))","v":""},null,null,null,null,null,null,null,null,null,null,null,null,null,null,null,null,null,null,null,null,null,null,null,null,null,null,null,0,0,0,0,0,0,0,"","",{"$f":"INDEX($AL$3:$AL$1500, MATCH(0, IF(ISBLANK($AL$3:$AL$1500), 1, COUNTIF(AM$3:AM620, $AL$3:$AL$1500)), 0))","v":{"$error":"#N/A"}},""]
[{"$f":"IF(E624=\"\",\"\",GetAddress(E624))","v":""},{"$f":"IF(E624=\"\",\"\",GetAddress(E624))","v":""},null,null,null,null,null,null,null,null,null,null,null,null,null,null,null,null,null,null,null,null,null,null,null,null,null,null,null,0,0,0,0,0,0,0,"","",{"$f":"INDEX($AL$3:$AL$1500, MATCH(0, IF(ISBLANK($AL$3:$AL$1500), 1, COUNTIF(AM$3:AM621, $AL$3:$AL$1500)), 0))","v":{"$error":"#N/A"}},""]
[{"$f":"IF(E625=\"\",\"\",GetAddress(E625))","v":""},{"$f":"IF(E625=\"\",\"\",GetAddress(E625))","v":""},null,null,null,null,null,null,null,null,null,null,null,null,null,null,null,null,null,null,null,null,null,null,null,null,null,null,null,0,0,0,0,0,0,0,"","",{"$f":"INDEX($AL$3:$AL$1500, MATCH(0, IF(ISBLANK($AL$3:$AL$1500), 1, COUNTIF(AM$3:AM622, $AL$3:$AL$1500)), 0))","v":{"$error":"#N/A"}},""]
[{"$f":"IF(E626=\"\",\"\",GetAddress(E626))","v":""},{"$f":"IF(E626=\"\",\"\",GetAddress(E626))","v":""},null,null,null,null,null,null,null,null,null,null,null,null,null,null,null,null,null,null,null,null,null,null,null,null,null,null,null,0,0,0,0,0,0,0,"","",{"$f":"INDEX($AL$3:$AL$1500, MATCH(0, IF(ISBLANK($AL$3:$AL$1500), 1, COUNTIF(AM$3:AM623, $AL$3:$AL$1500)), 0))","v":{"$error":"#N/A"}},""]
[{"$f":"IF(E627=\"\",\"\",GetAddress(E627))","v":""},{"$f":"IF(E627=\"\",\"\",GetAddress(E627))","v":""},null,null,null,null,null,null,null,null,null,null,null,null,null,null,null,null,null,null,null,null,null,null,null,null,null,null,null,0,0,0,0,0,0,0,"","",{"$f":"INDEX($AL$3:$AL$1500, MATCH(0, IF(ISBLANK($AL$3:$AL$1500), 1, COUNTIF(AM$3:AM624, $AL$3:$AL$1500)), 0))","v":{"$error":"#N/A"}},""]
[{"$f":"IF(E628=\"\",\"\",GetAddress(E628))","v":""},{"$f":"IF(E628=\"\",\"\",GetAddress(E628))","v":""},null,null,null,null,null,null,null,null,null,null,null,null,null,null,null,null,null,null,null,null,null,null,null,null,null,null,null,0,0,0,0,0,0,0,"","",{"$f":"INDEX($AL$3:$AL$1500, MATCH(0, IF(ISBLANK($AL$3:$AL$1500), 1, COUNTIF(AM$3:AM625, $AL$3:$AL$1500)), 0))","v":{"$error":"#N/A"}},""]
[{"$f":"IF(E629=\"\",\"\",GetAddress(E629))","v":""},{"$f":"IF(E629=\"\",\"\",GetAddress(E629))","v":""},null,null,null,null,null,null,null,null,null,null,null,null,null,null,null,null,null,null,null,null,null,null,null,null,null,null,null,0,0,0,0,0,0,0,"","",{"$f":"INDEX($AL$3:$AL$1500, MATCH(0, IF(ISBLANK($AL$3:$AL$1500), 1, COUNTIF(AM$3:AM626, $AL$3:$AL$1500)), 0))","v":{"$error":"#N/A"}},""]
[{"$f":"IF(E630=\"\",\"\",GetAddress(E630))","v":""},{"$f":"IF(E630=\"\",\"\",GetAddress(E630))","v":""},null,null,null,null,null,null,null,null,null,null,null,null,null,null,null,null,null,null,null,null,null,null,null,null,null,null,null,0,0,0,0,0,0,0,"","",{"$f":"INDEX($AL$3:$AL$1500, MATCH(0, IF(ISBLANK($AL$3:$AL$1500), 1, COUNTIF(AM$3:AM627, $AL$3:$AL$1500)), 0))","v":{"$error":"#N/A"}},""]
[{"$f":"IF(E631=\"\",\"\",GetAddress(E631))","v":""},{"$f":"IF(E631=\"\",\"\",GetAddress(E631))","v":""},null,null,null,null,null,null,null,null,null,null,null,null,null,null,null,null,null,null,null,null,null,null,null,null,null,null,null,0,0,0,0,0,0,0,"","",{"$f":"INDEX($AL$3:$AL$1500, MATCH(0, IF(ISBLANK($AL$3:$AL$1500), 1, COUNTIF(AM$3:AM628, $AL$3:$AL$1500)), 0))","v":{"$error":"#N/A"}},""]
[{"$f":"IF(E632=\"\",\"\",GetAddress(E632))","v":""},{"$f":"IF(E632=\"\",\"\",GetAddress(E632))","v":""},null,null,null,null,null,null,null,null,null,null,null,null,null,null,null,null,null,null,null,null,null,null,null,null,null,null,null,0,0,0,0,0,0,0,"","",{"$f":"INDEX($AL$3:$AL$1500, MATCH(0, IF(ISBLANK($AL$3:$AL$1500), 1, COUNTIF(AM$3:AM629, $AL$3:$AL$1500)), 0))","v":{"$error":"#N/A"}},""]
[{"$f":"IF(E633=\"\",\"\",GetAddress(E633))","v":""},{"$f":"IF(E633=\"\",\"\",GetAddress(E633))","v":""},null,null,null,null,null,null,null,null,null,null,null,null,null,null,null,null,null,null,null,null,null,null,null,null,null,null,null,0,0,0,0,0,0,0,"","",{"$f":"INDEX($AL$3:$AL$1500, MATCH(0, IF(ISBLANK($AL$3:$AL$1500), 1, COUNTIF(AM$3:AM630, $AL$3:$AL$1500)), 0))","v":{"$error":"#N/A"}},""]
[{"$f":"IF(E634=\"\",\"\",GetAddress(E634))","v":""},{"$f":"IF(E634=\"\",\"\",GetAddress(E634))","v":""},null,null,null,null,null,null,null,null,null,null,null,null,null,null,null,null,null,null,null,null,null,null,null,null,null,null,null,0,0,0,0,0,0,0,"","",{"$f":"INDEX($AL$3:$AL$1500, MATCH(0, IF(ISBLANK($AL$3:$AL$1500), 1, COUNTIF(AM$3:AM631, $AL$3:$AL$1500)), 0))","v":{"$error":"#N/A"}},""]
[{"$f":"IF(E635=\"\",\"\",GetAddress(E635))","v":""},{"$f":"IF(E635=\"\",\"\",GetAddress(E635))","v":""},null,null,null,null,null,null,null,null,null,null,null,null,null,null,null,null,null,null,null,null,null,null,null,null,null,null,null,0,0,0,0,0,0,0,"","",{"$f":"INDEX($AL$3:$AL$1500, MATCH(0, IF(ISBLANK($AL$3:$AL$1500), 1, COUNTIF(AM$3:AM632, $AL$3:$AL$1500)), 0))","v":{"$error":"#N/A"}},""]
[{"$f":"IF(E636=\"\",\"\",GetAddress(E636))","v":""},{"$f":"IF(E636=\"\",\"\",GetAddress(E636))","v":""},null,null,null,null,null,null,null,null,null,null,null,null,null,null,null,null,null,null,null,null,null,null,null,null,null,null,null,0,0,0,0,0,0,0,"","",{"$f":"INDEX($AL$3:$AL$1500, MATCH(0, IF(ISBLANK($AL$3:$AL$1500), 1, COUNTIF(AM$3:AM633, $AL$3:$AL$1500)), 0))","v":{"$error":"#N/A"}},""]
[{"$f":"IF(E637=\"\",\"\",GetAddress(E637))","v":""},{"$f":"IF(E637=\"\",\"\",GetAddress(E637))","v":""},null,null,null,null,null,null,null,null,null,null,null,null,null,null,null,null,null,null,null,null,null,null,null,null,null,null,null,0,0,0,0,0,0,0,"","",{"$f":"INDEX($AL$3:$AL$1500, MATCH(0, IF(ISBLANK($AL$3:$AL$1500), 1, COUNTIF(AM$3:AM634, $AL$3:$AL$1500)), 0))","v":{"$error":"#N/A"}},""]
[{"$f":"IF(E638=\"\",\"\",GetAddress(E638))","v":""},{"$f":"IF(E638=\"\",\"\",GetAddress(E638))","v":""},null,null,null,null,null,null,null,null,null,null,null,null,null,null,null,null,null,null,null,null,null,null,null,null,null,null,null,0,0,0,0,0,0,0,"","",{"$f":"INDEX($AL$3:$AL$1500, MATCH(0, IF(ISBLANK($AL$3:$AL$1500), 1, COUNTIF(AM$3:AM635, $AL$3:$AL$1500)), 0))","v":{"$error":"#N/A"}},""]
[{"$f":"IF(E639=\"\",\"\",GetAddress(E639))","v":""},{"$f":"IF(E639=\"\",\"\",GetAddress(E639))","v":""},null,null,null,null,null,null,null,null,null,null,null,null,null,null,null,null,null,null,null,null,null,null,null,null,null,null,null,0,0,0,0,0,0,0,"","",{"$f":"INDEX($AL$3:$AL$1500, MATCH(0, IF(ISBLANK($AL$3:$AL$1500), 1, COUNTIF(AM$3:AM636, $AL$3:$AL$1500)), 0))","v":{"$error":"#N/A"}},""]
[{"$f":"IF(E640=\"\",\"\",GetAddress(E640))","v":""},{"$f":"IF(E640=\"\",\"\",GetAddress(E640))","v":""},null,null,null,null,null,null,null,null,null,null,null,null,null,null,null,null,null,null,null,null,null,null,null,null,null,null,null,0,0,0,0,0,0,0,"","",{"$f":"INDEX($AL$3:$AL$1500, MATCH(0, IF(ISBLANK($AL$3:$AL$1500), 1, COUNTIF(AM$3:AM637, $AL$3:$AL$1500)), 0))","v":{"$error":"#N/A"}},""]
[{"$f":"IF(E641=\"\",\"\",GetAddress(E641))","v":""},{"$f":"IF(E641=\"\",\"\",GetAddress(E641))","v":""},null,null,null,null,null,null,null,null,null,null,null,null,null,null,null,null,null,null,null,null,null,null,null,null,null,null,null,0,0,0,0,0,0,0,"","",{"$f":"INDEX($AL$3:$AL$1500, MATCH(0, IF(ISBLANK($AL$3:$AL$1500), 1, COUNTIF(AM$3:AM638, $AL$3:$AL$1500)), 0))","v":{"$error":"#N/A"}},""]
[{"$f":"IF(E642=\"\",\"\",GetAddress(E642))","v":""},{"$f":"IF(E642=\"\",\"\",GetAddress(E642))","v":""},null,null,null,null,null,null,null,null,null,null,null,null,null,null,null,null,null,null,null,null,null,null,null,null,null,null,null,0,0,0,0,0,0,0,"","",{"$f":"INDEX($AL$3:$AL$1500, MATCH(0, IF(ISBLANK($AL$3:$AL$1500), 1, COUNTIF(AM$3:AM639, $AL$3:$AL$1500)), 0))","v":{"$error":"#N/A"}},""]
[{"$f":"IF(E643=\"\",\"\",GetAddress(E643))","v":""},{"$f":"IF(E643=\"\",\"\",GetAddress(E643))","v":""},null,null,null,null,null,null,null,null,null,null,null,null,null,null,null,null,null,null,null,null,null,null,null,null,null,null,null,0,0,0,0,0,0,0,"","",{"$f":"INDEX($AL$3:$AL$1500, MATCH(0, IF(ISBLANK($AL$3:$AL$1500), 1, COUNTIF(AM$3:AM640, $AL$3:$AL$1500)), 0))","v":{"$error":"#N/A"}},""]
[{"$f":"IF(E644=\"\",\"\",GetAddress(E644))","v":""},{"$f":"IF(E644=\"\",\"\",GetAddress(E644))","v":""},null,null,null,null,null,null,null,null,null,null,null,null,null,null,null,null,null,null,null,null,null,null,null,null,null,null,null,0,0,0,0,0,0,0,"","",{"$f":"INDEX($AL$3:$AL$1500, MATCH(0, IF(ISBLANK($AL$3:$AL$1500), 1, COUNTIF(AM$3:AM641, $AL$3:$AL$1500)), 0))","v":{"$error":"#N/A"}},""]
[{"$f":"IF(E645=\"\",\"\",GetAddress(E645))","v":""},{"$f":"IF(E645=\"\",\"\",GetAddress(E645))","v":""},null,null,null,null,null,null,null,null,null,null,null,null,null,null,null,null,null,null,null,null,null,null,null,null,null,null,null,0,0,0,0,0,0,{"$f":"IF(AI643=\"Free A\",\"\",AI643)","v":0},{"$f":"IF(AJ643=0,\"\",AJ643)","v":""},{"$f":"IF(AK643=\"Free Agent\",\"\",AK643)","v":""},{"$f":"INDEX($AL$3:$AL$1500, MATCH(0, IF(ISBLANK($AL$3:$AL$1500), 1, COUNTIF(AM$3:AM642, $AL$3:$AL$1500)), 0))","v":{"$error":"#N/A"}},{"$f":"IF(ISERROR(AM643),\"\",AM643)","v":""}]
[{"$f":"IF(E646=\"\",\"\",GetAddress(E646))","v":""},{"$f":"IF(E646=\"\",\"\",GetAddress(E646))","v":""},null,null,null,null,null,null,null,null,null,null,null,null,null,null,null,null,null,null,null,null,null,null,null,null,null,null,null,0,0,0,0,0,0,0,"","",{"$f":"INDEX($AL$3:$AL$1500, MATCH(0, IF(ISBLANK($AL$3:$AL$1500), 1, COUNTIF(AM$3:AM643, $AL$3:$AL$1500)), 0))","v":{"$error":"#N/A"}},""]
[{"$f":"IF(E647=\"\",\"\",GetAddress(E647))","v":""},{"$f":"IF(E647=\"\",\"\",GetAddress(E647))","v":""},null,null,null,null,null,null,null,null,null,null,null,null,null,null,null,null,null,null,null,null,null,null,null,null,null,null,null,{"$f":"VALUE(IF(ISNUMBER(SEARCH(\"(P)\",Y645)),\"1\", \"0\"))","v":0},{"$f":"VALUE(IF(ISNUMBER(SEARCH(\"(Q)\",Y645)),\"1\", \"0\"))","v":0},{"$f":"VALUE(IF(ISNUMBER(SEARCH(\"(O)\",Y645)),\"1\", \"0\"))","v":0},{"$f":"VALUE(IF(ISNUMBER(SEARCH(\"(S)\",Y645)),\"1\", \"0\"))","v":0},{"$f":"VALUE(IF(ISNUMBER(SEARCH(\"Free Agent\",Y645)),\"1\", \"0\"))","v":0},{"$f":"IF(SUM(AD645:AH645)=0,Y645,LEFT(Y645,LEN(Y645)-4))","v":0},0,"","",{"$f":"INDEX($AL$3:$AL$1500, MATCH(0, IF(ISBLANK($AL$3:$AL$1500), 1, COUNTIF(AM$3:AM644, $AL$3:$AL$1500)), 0))","v":{"$error":"#N/A"}},""]
[{"$f":"IF(E648=\"\",\"\",GetAddress(E648))","v":""},{"$f":"IF(E648=\"\",\"\",GetAddress(E648))","v":""},null,null,null,null,null,null,null,null,null,null,null,null,null,null,null,null,null,null,null,null,null,null,null,null,null,null,null,0,0,0,0,0,0,0,"","",{"$f":"INDEX($AL$3:$AL$1500, MATCH(0, IF(ISBLANK($AL$3:$AL$1500), 1, COUNTIF(AM$3:AM645, $AL$3:$AL$1500)), 0))","v":{"$error":"#N/A"}},""]
[{"$f":"IF(E649=\"\",\"\",GetAddress(E649))","v":""},{"$f":"IF(E649=\"\",\"\",GetAddress(E649))","v":""},null,null,null,null,null,null,null,null,null,null,null,null,null,null,null,null,null,null,null,null,null,null,null,null,null,null,null,0,0,0,0,0,0,0,"","",{"$f":"INDEX($AL$3:$AL$1500, MATCH(0, IF(ISBLANK($AL$3:$AL$1500), 1, COUNTIF(AM$3:AM646, $AL$3:$AL$1500)), 0))","v":{"$error":"#N/A"}},""]
[{"$f":"IF(E650=\"\",\"\",GetAddress(E650))","v":""},{"$f":"IF(E650=\"\",\"\",GetAddress(E650))","v":""},null,null,null,null,null,null,null,null,null,null,null,null,null,null,null,null,null,null,null,null,null,null,null,null,null,null,null,0,0,0,0,0,0,0,"","",{"$f":"INDEX($AL$3:$AL$1500, MATCH(0, IF(ISBLANK($AL$3:$AL$1500), 1, COUNTIF(AM$3:AM647, $AL$3:$AL$1500)), 0))","v":{"$error":"#N/A"}},""]
[{"$f":"IF(E651=\"\",\"\",GetAddress(E651))","v":""},{"$f":"IF(E651=\"\",\"\",GetAddress(E651))","v":""},null,null,null,null,null,null,null,null,null,null,null,null,null,null,null,null,null,null,null,null,null,null,null,null,null,null,null,0,0,0,0,0,0,0,"","",{"$f":"INDEX($AL$3:$AL$1500, MATCH(0, IF(ISBLANK($AL$3:$AL$1500), 1, COUNTIF(AM$3:AM648, $AL$3:$AL$1500)), 0))","v":{"$error":"#N/A"}},""]
[{"$f":"IF(E652=\"\",\"\",GetAddress(E652))","v":""},{"$f":"IF(E652=\"\",\"\",GetAddress(E652))","v":""},null,null,null,null,null,null,null,null,null,null,null,null,null,null,null,null,null,null,null,null,null,null,null,null,null,null,null,0,0,0,0,0,0,0,"","",{"$f":"INDEX($AL$3:$AL$1500, MATCH(0, IF(ISBLANK($AL$3:$AL$1500), 1, COUNTIF(AM$3:AM649, $AL$3:$AL$1500)), 0))","v":{"$error":"#N/A"}},""]
[{"$f":"IF(E653=\"\",\"\",GetAddress(E653))","v":""},{"$f":"IF(E653=\"\",\"\",GetAddress(E653))","v":""},null,null,null,null,null,null,null,null,null,null,null,null,null,null,null,null,null,null,null,null,null,null,null,null,null,null,null,0,0,0,0,0,0,0,"","",{"$f":"INDEX($AL$3:$AL$1500, MATCH(0, IF(ISBLANK($AL$3:$AL$1500), 1, COUNTIF(AM$3:AM650, $AL$3:$AL$1500)), 0))","v":{"$error":"#N/A"}},""]
[{"$f":"IF(E654=\"\",\"\",GetAddress(E654))","v":""},{"$f":"IF(E654=\"\",\"\",GetAddress(E654))","v":""},null,null,null,null,null,null,null,null,null,null,null,null,null,null,null,null,null,null,null,null,null,null,null,null,null,null,null,0,0,0,0,0,0,0,"","",{"$f":"INDEX($AL$3:$AL$1500, MATCH(0, IF(ISBLANK($AL$3:$AL$1500), 1, COUNTIF(AM$3:AM651, $AL$3:$AL$1500)), 0))","v":{"$error":"#N/A"}},""]
[{"$f":"IF(E655=\"\",\"\",GetAddress(E655))","v":""},{"$f":"IF(E655=\"\",\"\",GetAddress(E655))","v":""},null,null,null,null,null,null,null,null,null,null,null,null,null,null,null,null,null,null,null,null,null,null,null,null,null,null,null,0,0,0,0,0,0,0,"","",{"$f":"INDEX($AL$3:$AL$1500, MATCH(0, IF(ISBLANK($AL$3:$AL$1500), 1, COUNTIF(AM$3:AM652, $AL$3:$AL$1500)), 0))","v":{"$error":"#N/A"}},""]
[{"$f":"IF(E656=\"\",\"\",GetAddress(E656))","v":""},{"$f":"IF(E656=\"\",\"\",GetAddress(E656))","v":""},null,null,null,null,null,null,null,null,null,null,null,null,null,null,null,null,null,null,null,null,null,null,null,null,null,null,null,0,0,0,0,0,0,0,"","",{"$f":"INDEX($AL$3:$AL$1500, MATCH(0, IF(ISBLANK($AL$3:$AL$1500), 1, COUNTIF(AM$3:AM653, $AL$3:$AL$1500)), 0))","v":{"$error":"#N/A"}},""]
[{"$f":"IF(E657=\"\",\"\",GetAddress(E657))","v":""},{"$f":"IF(E657=\"\",\"\",GetAddress(E657))","v":""},null,null,null,null,null,null,null,null,null,null,null,null,null,null,null,null,null,null,null,null,null,null,null,null,null,null,null,0,0,0,0,0,0,0,"","",{"$f":"INDEX($AL$3:$AL$1500, MATCH(0, IF(ISBLANK($AL$3:$AL$1500), 1, COUNTIF(AM$3:AM654, $AL$3:$AL$1500)), 0))","v":{"$error":"#N/A"}},""]
[{"$f":"IF(E658=\"\",\"\",GetAddress(E658))","v":""},{"$f":"IF(E658=\"\",\"\",GetAddress(E658))","v":""},null,null,null,null,null,null,null,null,null,null,null,null,null,null,null,null,null,null,null,null,null,null,null,null,null,null,null,0,0,0,0,0,0,0,"","",{"$f":"INDEX($AL$3:$AL$1500, MATCH(0, IF(ISBLANK($AL$3:$AL$1500), 1, COUNTIF(AM$3:AM655, $AL$3:$AL$1500)), 0))","v":{"$error":"#N/A"}},""]
[{"$f":"IF(E659=\"\",\"\",GetAddress(E659))","v":""},{"$f":"IF(E659=\"\",\"\",GetAddress(E659))","v":""},null,null,null,null,null,null,null,null,null,null,null,null,null,null,null,null,null,null,null,null,null,null,null,null,null,null,null,0,0,0,0,0,0,0,"","",{"$f":"INDEX($AL$3:$AL$1500, MATCH(0, IF(ISBLANK($AL$3:$AL$1500), 1, COUNTIF(AM$3:AM656, $AL$3:$AL$1500)), 0))","v":{"$error":"#N/A"}},""]
[{"$f":"IF(E660=\"\",\"\",GetAddress(E660))","v":""},{"$f":"IF(E660=\"\",\"\",GetAddress(E660))","v":""},null,null,null,null,null,null,null,null,null,null,null,null,null,null,null,null,null,null,null,null,null,null,null,null,null,null,null,0,0,0,0,0,0,0,"","",{"$f":"INDEX($AL$3:$AL$1500, MATCH(0, IF(ISBLANK($AL$3:$AL$1500), 1, COUNTIF(AM$3:AM657, $AL$3:$AL$1500)), 0))","v":{"$error":"#N/A"}},""]
[{"$f":"IF(E661=\"\",\"\",GetAddress(E661))","v":""},{"$f":"IF(E661=\"\",\"\",GetAddress(E661))","v":""},null,null,null,null,null,null,null,null,null,null,null,null,null,null,null,null,null,null,null,null,null,null,null,null,null,null,null,0,0,0,0,0,0,0,"","",{"$f":"INDEX($AL$3:$AL$1500, MATCH(0, IF(ISBLANK($AL$3:$AL$1500), 1, COUNTIF(AM$3:AM658, $AL$3:$AL$1500)), 0))","v":{"$error":"#N/A"}},""]
[{"$f":"IF(E662=\"\",\"\",GetAddress(E662))","v":""},{"$f":"IF(E662=\"\",\"\",GetAddress(E662))","v":""},null,null,null,null,null,null,null,null,null,null,null,null,null,null,null,null,null,null,null,null,null,null,null,null,null,null,null,0,0,0,0,0,0,0,"","",{"$f":"INDEX($AL$3:$AL$1500, MATCH(0, IF(ISBLANK($AL$3:$AL$1500), 1, COUNTIF(AM$3:AM659, $AL$3:$AL$1500)), 0))","v":{"$error":"#N/A"}},""]
[{"$f":"IF(E663=\"\",\"\",GetAddress(E663))","v":""},{"$f":"IF(E663=\"\",\"\",GetAddress(E663))","v":""},null,null,null,null,null,null,null,null,null,null,null,null,null,null,null,null,null,null,null,null,null,null,null,null,null,null,null,0,0,0,0,0,0,0,"","",{"$f":"INDEX($AL$3:$AL$1500, MATCH(0, IF(ISBLANK($AL$3:$AL$1500), 1, COUNTIF(AM$3:AM660, $AL$3:$AL$1500)), 0))","v":{"$error":"#N/A"}},""]
[{"$f":"IF(E664=\"\",\"\",GetAddress(E664))","v":""},{"$f":"IF(E664=\"\",\"\",GetAddress(E664))","v":""},null,null,null,null,null,null,null,null,null,null,null,null,null,null,null,null,null,null,null,null,null,null,null,null,null,null,null,0,0,0,0,0,0,0,"","",{"$f":"INDEX($AL$3:$AL$1500, MATCH(0, IF(ISBLANK($AL$3:$AL$1500), 1, COUNTIF(AM$3:AM661, $AL$3:$AL$1500)), 0))","v":{"$error":"#N/A"}},""]
[{"$f":"IF(E665=\"\",\"\",GetAddress(E665))","v":""},{"$f":"IF(E665=\"\",\"\",GetAddress(E665))","v":""},null,null,null,null,null,null,null,null,null,null,null,null,null,null,null,null,null,null,null,null,null,null,null,null,null,null,null,0,0,0,0,0,0,0,"","",{"$f":"INDEX($AL$3:$AL$1500, MATCH(0, IF(ISBLANK($AL$3:$AL$1500), 1, COUNTIF(AM$3:AM662, $AL$3:$AL$1500)), 0))","v":{"$error":"#N/A"}},""]
[{"$f":"IF(E666=\"\",\"\",GetAddress(E666))","v":""},{"$f":"IF(E666=\"\",\"\",GetAddress(E666))","v":""},null,null,null,null,null,null,null,null,null,null,null,null,null,null,null,null,null,null,null,null,null,null,null,null,null,null,null,0,0,0,0,0,0,0,"","",{"$f":"INDEX($AL$3:$AL$1500, MATCH(0, IF(ISBLANK($AL$3:$AL$1500), 1, COUNTIF(AM$3:AM663, $AL$3:$AL$1500)), 0))","v":{"$error":"#N/A"}},""]
[{"$f":"IF(E667=\"\",\"\",GetAddress(E667))","v":""},{"$f":"IF(E667=\"\",\"\",GetAddress(E667))","v":""},null,null,null,null,null,null,null,null,null,null,null,null,null,null,null,null,null,null,null,null,null,null,null,null,null,null,null,0,0,0,0,0,0,0,"","",{"$f":"INDEX($AL$3:$AL$1500, MATCH(0, IF(ISBLANK($AL$3:$AL$1500), 1, COUNTIF(AM$3:AM664, $AL$3:$AL$1500)), 0))","v":{"$error":"#N/A"}},""]
[{"$f":"IF(E668=\"\",\"\",GetAddress(E668))","v":""},{"$f":"IF(E668=\"\",\"\",GetAddress(E668))","v":""},null,null,null,null,null,null,null,null,null,null,null,null,null,null,null,null,null,null,null,null,null,null,null,null,null,null,null,0,0,0,0,0,0,0,"","",{"$f":"INDEX($AL$3:$AL$1500, MATCH(0, IF(ISBLANK($AL$3:$AL$1500), 1, COUNTIF(AM$3:AM665, $AL$3:$AL$1500)), 0))","v":{"$error":"#N/A"}},""]
[{"$f":"IF(E669=\"\",\"\",GetAddress(E669))","v":""},{"$f":"IF(E669=\"\",\"\",GetAddress(E669))","v":""},null,null,null,null,null,null,null,null,null,null,null,null,null,null,null,null,null,null,null,null,null,null,null,null,null,null,null,0,0,0,0,0,0,0,"","",{"$f":"INDEX($AL$3:$AL$1500, MATCH(0, IF(ISBLANK($AL$3:$AL$1500), 1, COUNTIF(AM$3:AM666, $AL$3:$AL$1500)), 0))","v":{"$error":"#N/A"}},""]
[{"$f":"IF(E670=\"\",\"\",GetAddress(E670))","v":""},{"$f":"IF(E670=\"\",\"\",GetAddress(E670))","v":""},null,null,null,null,null,null,null,null,null,null,null,null,null,null,null,null,null,null,null,null,null,null,null,null,null,null,null,0,0,0,0,0,0,0,"","",{"$f":"INDEX($AL$3:$AL$1500, MATCH(0, IF(ISBLANK($AL$3:$AL$1500), 1, COUNTIF(AM$3:AM667, $AL$3:$AL$1500)), 0))","v":{"$error":"#N/A"}},""]
[{"$f":"IF(E671=\"\",\"\",GetAddress(E671))","v":""},{"$f":"IF(E671=\"\",\"\",GetAddress(E671))","v":""},null,null,null,null,null,null,null,null,null,null,null,null,null,null,null,null,null,null,null,null,null,null,null,null,null,null,null,0,0,0,0,0,0,0,"","",{"$f":"INDEX($AL$3:$AL$1500, MATCH(0, IF(ISBLANK($AL$3:$AL$1500), 1, COUNTIF(AM$3:AM668, $AL$3:$AL$1500)), 0))","v":{"$error":"#N/A"}},""]
[{"$f":"IF(E672=\"\",\"\",GetAddress(E672))","v":""},{"$f":"IF(E672=\"\",\"\",GetAddress(E672))","v":""},null,null,null,null,null,null,null,null,null,null,null,null,null,null,null,null,null,null,null,null,null,null,null,null,null,null,null,0,0,0,0,0,0,0,"","",{"$f":"INDEX($AL$3:$AL$1500, MATCH(0, IF(ISBLANK($AL$3:$AL$1500), 1, COUNTIF(AM$3:AM669, $AL$3:$AL$1500)), 0))","v":{"$error":"#N/A"}},""]
[{"$f":"IF(E673=\"\",\"\",GetAddress(E673))","v":""},{"$f":"IF(E673=\"\",\"\",GetAddress(E673))","v":""},null,null,null,null,null,null,null,null,null,null,null,null,null,null,null,null,null,null,null,null,null,null,null,null,null,null,null,0,0,0,0,0,0,0,"","",{"$f":"INDEX($AL$3:$AL$1500, MATCH(0, IF(ISBLANK($AL$3:$AL$1500), 1, COUNTIF(AM$3:AM670, $AL$3:$AL$1500)), 0))","v":{"$error":"#N/A"}},""]
[{"$f":"IF(E674=\"\",\"\",GetAddress(E674))","v":""},{"$f":"IF(E674=\"\",\"\",GetAddress(E674))","v":""},null,null,null,null,null,null,null,null,null,null,null,null,null,null,null,null,null,null,null,null,null,null,null,null,null,null,null,0,0,0,0,0,0,0,"","",{"$f":"INDEX($AL$3:$AL$1500, MATCH(0, IF(ISBLANK($AL$3:$AL$1500), 1, COUNTIF(AM$3:AM671, $AL$3:$AL$1500)), 0))","v":{"$error":"#N/A"}},""]
[{"$f":"IF(E675=\"\",\"\",GetAddress(E675))","v":""},{"$f":"IF(E675=\"\",\"\",GetAddress(E675))","v":""},null,null,null,null,null,null,null,null,null,null,null,null,null,null,null,null,null,null,null,null,null,null,null,null,null,null,null,0,0,0,0,0,0,0,"","",{"$f":"INDEX($AL$3:$AL$1500, MATCH(0, IF(ISBLANK($AL$3:$AL$1500), 1, COUNTIF(AM$3:AM672, $AL$3:$AL$1500)), 0))","v":{"$error":"#N/A"}},""]
[{"$f":"IF(E676=\"\",\"\",GetAddress(E676))","v":""},{"$f":"IF(E676=\"\",\"\",GetAddress(E676))","v":""},null,null,null,null,null,null,null,null,null,null,null,null,null,null,null,null,null,null,null,null,null,null,null,null,null,null,null,0,0,0,0,0,0,0,"","",{"$f":"INDEX($AL$3:$AL$1500, MATCH(0, IF(ISBLANK($AL$3:$AL$1500), 1, COUNTIF(AM$3:AM673, $AL$3:$AL$1500)), 0))","v":{"$error":"#N/A"}},""]
[{"$f":"IF(E677=\"\",\"\",GetAddress(E677))","v":""},{"$f":"IF(E677=\"\",\"\",GetAddress(E677))","v":""},null,null,null,null,null,null,null,null,null,null,null,null,null,null,null,null,null,null,null,null,null,null,null,null,null,null,null,0,0,0,0,0,0,0,"","",{"$f":"INDEX($AL$3:$AL$1500, MATCH(0, IF(ISBLANK($AL$3:$AL$1500), 1, COUNTIF(AM$3:AM674, $AL$3:$AL$1500)), 0))","v":{"$error":"#N/A"}},""]
[{"$f":"IF(E678=\"\",\"\",GetAddress(E678))","v":""},{"$f":"IF(E678=\"\",\"\",GetAddress(E678))","v":""},null,null,null,null,null,null,null,null,null,null,null,null,null,null,null,null,null,null,null,null,null,null,null,null,null,null,null,0,0,0,0,0,0,0,"","",{"$f":"INDEX($AL$3:$AL$1500, MATCH(0, IF(ISBLANK($AL$3:$AL$1500), 1, COUNTIF(AM$3:AM675, $AL$3:$AL$1500)), 0))","v":{"$error":"#N/A"}},""]
[{"$f":"IF(E679=\"\",\"\",GetAddress(E679))","v":""},{"$f":"IF(E679=\"\",\"\",GetAddress(E679))","v":""},null,null,null,null,null,null,null,null,null,null,null,null,null,null,null,null,null,null,null,null,null,null,null,null,null,null,null,0,0,0,0,0,0,0,"","",{"$f":"INDEX($AL$3:$AL$1500, MATCH(0, IF(ISBLANK($AL$3:$AL$1500), 1, COUNTIF(AM$3:AM676, $AL$3:$AL$1500)), 0))","v":{"$error":"#N/A"}},""]
[{"$f":"IF(E680=\"\",\"\",GetAddress(E680))","v":""},{"$f":"IF(E680=\"\",\"\",GetAddress(E680))","v":""},null,null,null,null,null,null,null,null,null,null,null,null,null,null,null,null,null,null,null,null,null,null,null,null,null,null,null,0,0,0,0,0,0,0,"","",{"$f":"INDEX($AL$3:$AL$1500, MATCH(0, IF(ISBLANK($AL$3:$AL$1500), 1, COUNTIF(AM$3:AM677, $AL$3:$AL$1500)), 0))","v":{"$error":"#N/A"}},""]
[{"$f":"IF(E681=\"\",\"\",GetAddress(E681))","v":""},{"$f":"IF(E681=\"\",\"\",GetAddress(E681))","v":""},null,null,null,null,null,null,null,null,null,null,null,null,null,null,null,null,null,null,null,null,null,null,null,null,null,null,null,0,0,0,0,0,0,0,"","",{"$f":"INDEX($AL$3:$AL$1500, MATCH(0, IF(ISBLANK($AL$3:$AL$1500), 1, COUNTIF(AM$3:AM678, $AL$3:$AL$1500)), 0))","v":{"$error":"#N/A"}},""]
[{"$f":"IF(E682=\"\",\"\",GetAddress(E682))","v":""},{"$f":"IF(E682=\"\",\"\",GetAddress(E682))","v":""},null,null,null,null,null,null,null,null,null,null,null,null,null,null,null,null,null,null,null,null,null,null,null,null,null,null,null,0,0,0,0,0,0,0,"","",{"$f":"INDEX($AL$3:$AL$1500, MATCH(0, IF(ISBLANK($AL$3:$AL$1500), 1, COUNTIF(AM$3:AM679, $AL$3:$AL$1500)), 0))","v":{"$error":"#N/A"}},""]
[{"$f":"IF(E683=\"\",\"\",GetAddress(E683))","v":""},{"$f":"IF(E683=\"\",\"\",GetAddress(E683))","v":""},null,null,null,null,null,null,null,null,null,null,null,null,null,null,null,null,null,null,null,null,null,null,null,null,null,null,null,0,0,0,0,0,0,0,"","",{"$f":"INDEX($AL$3:$AL$1500, MATCH(0, IF(ISBLANK($AL$3:$AL$1500), 1, COUNTIF(AM$3:AM680, $AL$3:$AL$1500)), 0))","v":{"$error":"#N/A"}},""]
[{"$f":"IF(E684=\"\",\"\",GetAddress(E684))","v":""},{"$f":"IF(E684=\"\",\"\",GetAddress(E684))","v":""},null,null,null,null,null,null,null,null,null,null,null,null,null,null,null,null,null,null,null,null,null,null,null,null,null,null,null,0,0,0,0,0,0,0,"","",{"$f":"INDEX($AL$3:$AL$1500, MATCH(0, IF(ISBLANK($AL$3:$AL$1500), 1, COUNTIF(AM$3:AM681, $AL$3:$AL$1500)), 0))","v":{"$error":"#N/A"}},""]
[{"$f":"IF(E685=\"\",\"\",GetAddress(E685))","v":""},{"$f":"IF(E685=\"\",\"\",GetAddress(E685))","v":""},null,null,null,null,null,null,null,null,null,null,null,null,null,null,null,null,null,null,null,null,null,null,null,null,null,null,null,0,0,0,0,0,0,0,"","",{"$f":"INDEX($AL$3:$AL$1500, MATCH(0, IF(ISBLANK($AL$3:$AL$1500), 1, COUNTIF(AM$3:AM682, $AL$3:$AL$1500)), 0))","v":{"$error":"#N/A"}},""]
[{"$f":"IF(E686=\"\",\"\",GetAddress(E686))","v":""},{"$f":"IF(E686=\"\",\"\",GetAddress(E686))","v":""},null,null,null,null,null,null,null,null,null,null,null,null,null,null,null,null,null,null,null,null,null,null,null,null,null,null,null,0,0,0,0,0,0,0,"","",{"$f":"INDEX($AL$3:$AL$1500, MATCH(0, IF(ISBLANK($AL$3:$AL$1500), 1, COUNTIF(AM$3:AM683, $AL$3:$AL$1500)), 0))","v":{"$error":"#N/A"}},""]
[{"$f":"IF(E687=\"\",\"\",GetAddress(E687))","v":""},{"$f":"IF(E687=\"\",\"\",GetAddress(E687))","v":""},null,null,null,null,null,null,null,null,null,null,null,null,null,null,null,null,null,null,null,null,null,null,null,null,null,null,null,0,0,0,0,0,0,0,"","",{"$f":"INDEX($AL$3:$AL$1500, MATCH(0, IF(ISBLANK($AL$3:$AL$1500), 1, COUNTIF(AM$3:AM684, $AL$3:$AL$1500)), 0))","v":{"$error":"#N/A"}},""]
[{"$f":"IF(E688=\"\",\"\",GetAddress(E688))","v":""},{"$f":"IF(E688=\"\",\"\",GetAddress(E688))","v":""},null,null,null,null,null,null,null,null,null,null,null,null,null,null,null,null,null,null,null,null,null,null,null,null,null,null,null,0,0,0,0,0,0,0,"","",{"$f":"INDEX($AL$3:$AL$1500, MATCH(0, IF(ISBLANK($AL$3:$AL$1500), 1, COUNTIF(AM$3:AM685, $AL$3:$AL$1500)), 0))","v":{"$error":"#N/A"}},""]
[{"$f":"IF(E689=\"\",\"\",GetAddress(E689))","v":""},{"$f":"IF(E689=\"\",\"\",GetAddress(E689))","v":""},null,null,null,null,null,null,null,null,null,null,null,null,null,null,null,null,null,null,null,null,null,null,null,null,null,null,null,0,0,0,0,0,0,0,"","",{"$f":"INDEX($AL$3:$AL$1500, MATCH(0, IF(ISBLANK($AL$3:$AL$1500), 1, COUNTIF(AM$3:AM686, $AL$3:$AL$1500)), 0))","v":{"$error":"#N/A"}},""]
[{"$f":"IF(E690=\"\",\"\",GetAddress(E690))","v":""},{"$f":"IF(E690=\"\",\"\",GetAddress(E690))","v":""},null,null,null,null,null,null,null,null,null,null,null,null,null,null,null,null,null,null,null,null,null,null,null,null,null,null,null,0,0,0,0,0,0,0,"","",{"$f":"INDEX($AL$3:$AL$1500, MATCH(0, IF(ISBLANK($AL$3:$AL$1500), 1, COUNTIF(AM$3:AM687, $AL$3:$AL$1500)), 0))","v":{"$error":"#N/A"}},""]
[{"$f":"IF(E691=\"\",\"\",GetAddress(E691))","v":""},{"$f":"IF(E691=\"\",\"\",GetAddress(E691))","v":""},null,null,null,null,null,null,null,null,null,null,null,null,null,null,null,null,null,null,null,null,null,null,null,null,null,null,null,0,0,0,0,0,0,0,"","",{"$f":"INDEX($AL$3:$AL$1500, MATCH(0, IF(ISBLANK($AL$3:$AL$1500), 1, COUNTIF(AM$3:AM688, $AL$3:$AL$1500)), 0))","v":{"$error":"#N/A"}},""]
[{"$f":"IF(E692=\"\",\"\",GetAddress(E692))","v":""},{"$f":"IF(E692=\"\",\"\",GetAddress(E692))","v":""},null,null,null,null,null,null,null,null,null,null,null,null,null,null,null,null,null,null,null,null,null,null,null,null,null,null,null,0,0,0,0,0,0,0,"","",{"$f":"INDEX($AL$3:$AL$1500, MATCH(0, IF(ISBLANK($AL$3:$AL$1500), 1, COUNTIF(AM$3:AM689, $AL$3:$AL$1500)), 0))","v":{"$error":"#N/A"}},""]
[{"$f":"IF(E693=\"\",\"\",GetAddress(E693))","v":""},{"$f":"IF(E693=\"\",\"\",GetAddress(E693))","v":""},null,null,null,null,null,null,null,null,null,null,null,null,null,null,null,null,null,null,null,null,null,null,null,null,null,null,null,0,0,0,0,0,0,0,"","",{"$f":"INDEX($AL$3:$AL$1500, MATCH(0, IF(ISBLANK($AL$3:$AL$1500), 1, COUNTIF(AM$3:AM690, $AL$3:$AL$1500)), 0))","v":{"$error":"#N/A"}},""]
[{"$f":"IF(E694=\"\",\"\",GetAddress(E694))","v":""},{"$f":"IF(E694=\"\",\"\",GetAddress(E694))","v":""},null,null,null,null,null,null,null,null,null,null,null,null,null,null,null,null,null,null,null,null,null,null,null,null,null,null,null,0,0,0,0,0,0,0,"","",{"$f":"INDEX($AL$3:$AL$1500, MATCH(0, IF(ISBLANK($AL$3:$AL$1500), 1, COUNTIF(AM$3:AM691, $AL$3:$AL$1500)), 0))","v":{"$error":"#N/A"}},""]
[{"$f":"IF(E695=\"\",\"\",GetAddress(E695))","v":""},{"$f":"IF(E695=\"\",\"\",GetAddress(E695))","v":""},null,null,null,null,null,null,null,null,null,null,null,null,null,null,null,null,null,null,null,null,null,null,null,null,null,null,null,0,0,0,0,0,0,0,"","",{"$f":"INDEX($AL$3:$AL$1500, MATCH(0, IF(ISBLANK($AL$3:$AL$1500), 1, COUNTIF(AM$3:AM692, $AL$3:$AL$1500)), 0))","v":{"$error":"#N/A"}},""]
[{"$f":"IF(E696=\"\",\"\",GetAddress(E696))","v":""},{"$f":"IF(E696=\"\",\"\",GetAddress(E696))","v":""},null,null,null,null,null,null,null,null,null,null,null,null,null,null,null,null,null,null,null,null,null,null,null,null,null,null,null,0,0,0,0,0,0,0,"","",{"$f":"INDEX($AL$3:$AL$1500, MATCH(0, IF(ISBLANK($AL$3:$AL$1500), 1, COUNTIF(AM$3:AM693, $AL$3:$AL$1500)), 0))","v":{"$error":"#N/A"}},""]
[{"$f":"IF(E697=\"\",\"\",GetAddress(E697))","v":""},{"$f":"IF(E697=\"\",\"\",GetAddress(E697))","v":""},null,null,null,null,null,null,null,null,null,null,null,null,null,null,null,null,null,null,null,null,null,null,null,null,null,null,null,0,0,0,0,0,0,0,"","",{"$f":"INDEX($AL$3:$AL$1500, MATCH(0, IF(ISBLANK($AL$3:$AL$1500), 1, COUNTIF(AM$3:AM694, $AL$3:$AL$1500)), 0))","v":{"$error":"#N/A"}},""]
[{"$f":"IF(E698=\"\",\"\",GetAddress(E698))","v":""},{"$f":"IF(E698=\"\",\"\",GetAddress(E698))","v":""},null,null,null,null,null,null,null,null,null,null,null,null,null,null,null,null,null,null,null,null,null,null,null,null,null,null,null,0,0,0,0,0,0,0,"","",{"$f":"INDEX($AL$3:$AL$1500, MATCH(0, IF(ISBLANK($AL$3:$AL$1500), 1, COUNTIF(AM$3:AM695, $AL$3:$AL$1500)), 0))","v":{"$error":"#N/A"}},""]
[{"$f":"IF(E699=\"\",\"\",GetAddress(E699))","v":""},{"$f":"IF(E699=\"\",\"\",GetAddress(E699))","v":""},null,null,null,null,null,null,null,null,null,null,null,null,null,null,null,null,null,null,null,null,null,null,null,null,null,null,null,0,0,0,0,0,0,0,"","",{"$f":"INDEX($AL$3:$AL$1500, MATCH(0, IF(ISBLANK($AL$3:$AL$1500), 1, COUNTIF(AM$3:AM696, $AL$3:$AL$1500)), 0))","v":{"$error":"#N/A"}},""]
[{"$f":"IF(E700=\"\",\"\",GetAddress(E700))","v":""},{"$f":"IF(E700=\"\",\"\",GetAddress(E700))","v":""},null,null,null,null,null,null,null,null,null,null,null,null,null,null,null,null,null,null,null,null,null,null,null,null,null,null,null,0,0,0,0,0,0,0,"","",{"$f":"INDEX($AL$3:$AL$1500, MATCH(0, IF(ISBLANK($AL$3:$AL$1500), 1, COUNTIF(AM$3:AM697, $AL$3:$AL$1500)), 0))","v":{"$error":"#N/A"}},""]
[{"$f":"IF(E701=\"\",\"\",GetAddress(E701))","v":""},{"$f":"IF(E701=\"\",\"\",GetAddress(E701))","v":""},null,null,null,null,null,null,null,null,null,null,null,null,null,null,null,null,null,null,null,null,null,null,null,null,null,null,null,0,0,0,0,0,0,0,"","",{"$f":"INDEX($AL$3:$AL$1500, MATCH(0, IF(ISBLANK($AL$3:$AL$1500), 1, COUNTIF(AM$3:AM698, $AL$3:$AL$1500)), 0))","v":{"$error":"#N/A"}},""]
[{"$f":"IF(E702=\"\",\"\",GetAddress(E702))","v":""},{"$f":"IF(E702=\"\",\"\",GetAddress(E702))","v":""},null,null,null,null,null,null,null,null,null,null,null,null,null,null,null,null,null,null,null,null,null,null,null,null,null,null,null,0,0,0,0,0,0,0,"","",{"$f":"INDEX($AL$3:$AL$1500, MATCH(0, IF(ISBLANK($AL$3:$AL$1500), 1, COUNTIF(AM$3:AM699, $AL$3:$AL$1500)), 0))","v":{"$error":"#N/A"}},""]
[{"$f":"IF(E703=\"\",\"\",GetAddress(E703))","v":""},{"$f":"IF(E703=\"\",\"\",GetAddress(E703))","v":""},null,null,null,null,null,null,null,null,null,null,null,null,null,null,null,null,null,null,null,null,null,null,null,null,null,null,null,0,0,0,0,0,0,0,"","",{"$f":"INDEX($AL$3:$AL$1500, MATCH(0, IF(ISBLANK($AL$3:$AL$1500), 1, COUNTIF(AM$3:AM700, $AL$3:$AL$1500)), 0))","v":{"$error":"#N/A"}},""]
[{"$f":"IF(E704=\"\",\"\",GetAddress(E704))","v":""},{"$f":"IF(E704=\"\",\"\",GetAddress(E704))","v":""},null,null,null,null,null,null,null,null,null,null,null,null,null,null,null,null,null,null,null,null,null,null,null,null,null,null,null,0,0,0,0,0,0,0,"","",{"$f":"INDEX($AL$3:$AL$1500, MATCH(0, IF(ISBLANK($AL$3:$AL$1500), 1, COUNTIF(AM$3:AM701, $AL$3:$AL$1500)), 0))","v":{"$error":"#N/A"}},""]
[{"$f":"IF(E705=\"\",\"\",GetAddress(E705))","v":""},{"$f":"IF(E705=\"\",\"\",GetAddress(E705))","v":""},null,null,null,null,null,null,null,null,null,null,null,null,null,null,null,null,null,null,null,null,null,null,null,null,null,null,null,0,0,0,0,0,0,0,"","",{"$f":"INDEX($AL$3:$AL$1500, MATCH(0, IF(ISBLANK($AL$3:$AL$1500), 1, COUNTIF(AM$3:AM702, $AL$3:$AL$1500)), 0))","v":{"$error":"#N/A"}},""]
[{"$f":"IF(E706=\"\",\"\",GetAddress(E706))","v":""},{"$f":"IF(E706=\"\",\"\",GetAddress(E706))","v":""},null,null,null,null,null,null,null,null,null,null,null,null,null,null,null,null,null,null,null,null,null,null,null,null,null,null,null,0,0,0,0,0,0,0,"","",{"$f":"INDEX($AL$3:$AL$1500, MATCH(0, IF(ISBLANK($AL$3:$AL$1500), 1, COUNTIF(AM$3:AM703, $AL$3:$AL$1500)), 0))","v":{"$error":"#N/A"}},""]
[{"$f":"IF(E707=\"\",\"\",GetAddress(E707))","v":""},{"$f":"IF(E707=\"\",\"\",GetAddress(E707))","v":""},null,null,null,null,null,null,null,null,null,null,null,null,null,null,null,null,null,null,null,null,null,null,null,null,null,null,null,0,0,0,0,0,0,0,"","",{"$f":"INDEX($AL$3:$AL$1500, MATCH(0, IF(ISBLANK($AL$3:$AL$1500), 1, COUNTIF(AM$3:AM704, $AL$3:$AL$1500)), 0))","v":{"$error":"#N/A"}},""]
[{"$f":"IF(E708=\"\",\"\",GetAddress(E708))","v":""},{"$f":"IF(E708=\"\",\"\",GetAddress(E708))","v":""},null,null,null,null,null,null,null,null,null,null,null,null,null,null,null,null,null,null,null,null,null,null,null,null,null,null,null,0,0,0,0,0,0,0,"","",{"$f":"INDEX($AL$3:$AL$1500, MATCH(0, IF(ISBLANK($AL$3:$AL$1500), 1, COUNTIF(AM$3:AM705, $AL$3:$AL$1500)), 0))","v":{"$error":"#N/A"}},""]
[{"$f":"IF(E709=\"\",\"\",GetAddress(E709))","v":""},{"$f":"IF(E709=\"\",\"\",GetAddress(E709))","v":""},null,null,null,null,null,null,null,null,null,null,null,null,null,null,null,null,null,null,null,null,null,null,null,null,null,null,null,0,0,0,0,0,0,{"$f":"IF(AI707=\"Free A\",\"\",AI707)","v":0},{"$f":"IF(AJ707=0,\"\",AJ707)","v":""},{"$f":"IF(AK707=\"Free Agent\",\"\",AK707)","v":""},{"$f":"INDEX($AL$3:$AL$1500, MATCH(0, IF(ISBLANK($AL$3:$AL$1500), 1, COUNTIF(AM$3:AM706, $AL$3:$AL$1500)), 0))","v":{"$error":"#N/A"}},{"$f":"IF(ISERROR(AM707),\"\",AM707)","v":""}]
[{"$f":"IF(E710=\"\",\"\",GetAddress(E710))","v":""},{"$f":"IF(E710=\"\",\"\",GetAddress(E710))","v":""},null,null,null,null,null,null,null,null,null,null,null,null,null,null,null,null,null,null,null,null,null,null,null,null,null,null,null,0,0,0,0,0,0,0,"","",{"$f":"INDEX($AL$3:$AL$1500, MATCH(0, IF(ISBLANK($AL$3:$AL$1500), 1, COUNTIF(AM$3:AM707, $AL$3:$AL$1500)), 0))","v":{"$error":"#N/A"}},""]
[{"$f":"IF(E711=\"\",\"\",GetAddress(E711))","v":""},{"$f":"IF(E711=\"\",\"\",GetAddress(E711))","v":""},null,null,null,null,null,null,null,null,null,null,null,null,null,null,null,null,null,null,null,null,null,null,null,null,null,null,null,{"$f":"VALUE(IF(ISNUMBER(SEARCH(\"(P)\",Y709)),\"1\", \"0\"))","v":0},{"$f":"VALUE(IF(ISNUMBER(SEARCH(\"(Q)\",Y709)),\"1\", \"0\"))","v":0},{"$f":"VALUE(IF(ISNUMBER(SEARCH(\"(O)\",Y709)),\"1\", \"0\"))","v":0},{"$f":"VALUE(IF(ISNUMBER(SEARCH(\"(S)\",Y709)),\"1\", \"0\"))","v":0},{"$f":"VALUE(IF(ISNUMBER(SEARCH(\"Free Agent\",Y709)),\"1\", \"0\"))","v":0},{"$f":"IF(SUM(AD709:AH709)=0,Y709,LEFT(Y709,LEN(Y709)-4))","v":0},0,"","",{"$f":"INDEX($AL$3:$AL$1500, MATCH(0, IF(ISBLANK($AL$3:$AL$1500), 1, COUNTIF(AM$3:AM708, $AL$3:$AL$1500)), 0))","v":{"$error":"#N/A"}},""]
[{"$f":"IF(E712=\"\",\"\",GetAddress(E712))","v":""},{"$f":"IF(E712=\"\",\"\",GetAddress(E712))","v":""},null,null,null,null,null,null,null,null,null,null,null,null,null,null,null,null,null,null,null,null,null,null,null,null,null,null,null,0,0,0,0,0,0,0,"","",{"$f":"INDEX($AL$3:$AL$1500, MATCH(0, IF(ISBLANK($AL$3:$AL$1500), 1, COUNTIF(AM$3:AM709, $AL$3:$AL$1500)), 0))","v":{"$error":"#N/A"}},""]
[{"$f":"IF(E713=\"\",\"\",GetAddress(E713))","v":""},{"$f":"IF(E713=\"\",\"\",GetAddress(E713))","v":""},null,null,null,null,null,null,null,null,null,null,null,null,null,null,null,null,null,null,null,null,null,null,null,null,null,null,null,0,0,0,0,0,0,0,"","",{"$f":"INDEX($AL$3:$AL$1500, MATCH(0, IF(ISBLANK($AL$3:$AL$1500), 1, COUNTIF(AM$3:AM710, $AL$3:$AL$1500)), 0))","v":{"$error":"#N/A"}},""]
[{"$f":"IF(E714=\"\",\"\",GetAddress(E714))","v":""},{"$f":"IF(E714=\"\",\"\",GetAddress(E714))","v":""},null,null,null,null,null,null,null,null,null,null,null,null,null,null,null,null,null,null,null,null,null,null,null,null,null,null,null,0,0,0,0,0,0,0,"","",{"$f":"INDEX($AL$3:$AL$1500, MATCH(0, IF(ISBLANK($AL$3:$AL$1500), 1, COUNTIF(AM$3:AM711, $AL$3:$AL$1500)), 0))","v":{"$error":"#N/A"}},""]
[{"$f":"IF(E715=\"\",\"\",GetAddress(E715))","v":""},{"$f":"IF(E715=\"\",\"\",GetAddress(E715))","v":""},null,null,null,null,null,null,null,null,null,null,null,null,null,null,null,null,null,null,null,null,null,null,null,null,null,null,null,0,0,0,0,0,0,0,"","",{"$f":"INDEX($AL$3:$AL$1500, MATCH(0, IF(ISBLANK($AL$3:$AL$1500), 1, COUNTIF(AM$3:AM712, $AL$3:$AL$1500)), 0))","v":{"$error":"#N/A"}},""]
[{"$f":"IF(E716=\"\",\"\",GetAddress(E716))","v":""},{"$f":"IF(E716=\"\",\"\",GetAddress(E716))","v":""},null,null,null,null,null,null,null,null,null,null,null,null,null,null,null,null,null,null,null,null,null,null,null,null,null,null,null,0,0,0,0,0,0,0,"","",{"$f":"INDEX($AL$3:$AL$1500, MATCH(0, IF(ISBLANK($AL$3:$AL$1500), 1, COUNTIF(AM$3:AM713, $AL$3:$AL$1500)), 0))","v":{"$error":"#N/A"}},""]
[{"$f":"IF(E717=\"\",\"\",GetAddress(E717))","v":""},{"$f":"IF(E717=\"\",\"\",GetAddress(E717))","v":""},null,null,null,null,null,null,null,null,null,null,null,null,null,null,null,null,null,null,null,null,null,null,null,null,null,null,null,0,0,0,0,0,0,0,"","",{"$f":"INDEX($AL$3:$AL$1500, MATCH(0, IF(ISBLANK($AL$3:$AL$1500), 1, COUNTIF(AM$3:AM714, $AL$3:$AL$1500)), 0))","v":{"$error":"#N/A"}},""]
[{"$f":"IF(E718=\"\",\"\",GetAddress(E718))","v":""},{"$f":"IF(E718=\"\",\"\",GetAddress(E718))","v":""},null,null,null,null,null,null,null,null,null,null,null,null,null,null,null,null,null,null,null,null,null,null,null,null,null,null,null,0,0,0,0,0,0,0,"","",{"$f":"INDEX($AL$3:$AL$1500, MATCH(0, IF(ISBLANK($AL$3:$AL$1500), 1, COUNTIF(AM$3:AM715, $AL$3:$AL$1500)), 0))","v":{"$error":"#N/A"}},""]
[{"$f":"IF(E719=\"\",\"\",GetAddress(E719))","v":""},{"$f":"IF(E719=\"\",\"\",GetAddress(E719))","v":""},null,null,null,null,null,null,null,null,null,null,null,null,null,null,null,null,null,null,null,null,null,null,null,null,null,null,null,0,0,0,0,0,0,0,"","",{"$f":"INDEX($AL$3:$AL$1500, MATCH(0, IF(ISBLANK($AL$3:$AL$1500), 1, COUNTIF(AM$3:AM716, $AL$3:$AL$1500)), 0))","v":{"$error":"#N/A"}},""]
[{"$f":"IF(E720=\"\",\"\",GetAddress(E720))","v":""},{"$f":"IF(E720=\"\",\"\",GetAddress(E720))","v":""},null,null,null,null,null,null,null,null,null,null,null,null,null,null,null,null,null,null,null,null,null,null,null,null,null,null,null,0,0,0,0,0,0,0,"","",{"$f":"INDEX($AL$3:$AL$1500, MATCH(0, IF(ISBLANK($AL$3:$AL$1500), 1, COUNTIF(AM$3:AM717, $AL$3:$AL$1500)), 0))","v":{"$error":"#N/A"}},""]
[{"$f":"IF(E721=\"\",\"\",GetAddress(E721))","v":""},{"$f":"IF(E721=\"\",\"\",GetAddress(E721))","v":""},null,null,null,null,null,null,null,null,null,null,null,null,null,null,null,null,null,null,null,null,null,null,null,null,null,null,null,0,0,0,0,0,0,0,"","",{"$f":"INDEX($AL$3:$AL$1500, MATCH(0, IF(ISBLANK($AL$3:$AL$1500), 1, COUNTIF(AM$3:AM718, $AL$3:$AL$1500)), 0))","v":{"$error":"#N/A"}},""]
[{"$f":"IF(E722=\"\",\"\",GetAddress(E722))","v":""},{"$f":"IF(E722=\"\",\"\",GetAddress(E722))","v":""},null,null,null,null,null,null,null,null,null,null,null,null,null,null,null,null,null,null,null,null,null,null,null,null,null,null,null,0,0,0,0,0,0,0,"","",{"$f":"INDEX($AL$3:$AL$1500, MATCH(0, IF(ISBLANK($AL$3:$AL$1500), 1, COUNTIF(AM$3:AM719, $AL$3:$AL$1500)), 0))","v":{"$error":"#N/A"}},""]
[{"$f":"IF(E723=\"\",\"\",GetAddress(E723))","v":""},{"$f":"IF(E723=\"\",\"\",GetAddress(E723))","v":""},null,null,null,null,null,null,null,null,null,null,null,null,null,null,null,null,null,null,null,null,null,null,null,null,null,null,null,0,0,0,0,0,0,0,"","",{"$f":"INDEX($AL$3:$AL$1500, MATCH(0, IF(ISBLANK($AL$3:$AL$1500), 1, COUNTIF(AM$3:AM720, $AL$3:$AL$1500)), 0))","v":{"$error":"#N/A"}},""]
[{"$f":"IF(E724=\"\",\"\",GetAddress(E724))","v":""},{"$f":"IF(E724=\"\",\"\",GetAddress(E724))","v":""},null,null,null,null,null,null,null,null,null,null,null,null,null,null,null,null,null,null,null,null,null,null,null,null,null,null,null,0,0,0,0,0,0,0,"","",{"$f":"INDEX($AL$3:$AL$1500, MATCH(0, IF(ISBLANK($AL$3:$AL$1500), 1, COUNTIF(AM$3:AM721, $AL$3:$AL$1500)), 0))","v":{"$error":"#N/A"}},""]
[{"$f":"IF(E725=\"\",\"\",GetAddress(E725))","v":""},{"$f":"IF(E725=\"\",\"\",GetAddress(E725))","v":""},null,null,null,null,null,null,null,null,null,null,null,null,null,null,null,null,null,null,null,null,null,null,null,null,null,null,null,0,0,0,0,0,0,0,"","",{"$f":"INDEX($AL$3:$AL$1500, MATCH(0, IF(ISBLANK($AL$3:$AL$1500), 1, COUNTIF(AM$3:AM722, $AL$3:$AL$1500)), 0))","v":{"$error":"#N/A"}},""]
[{"$f":"IF(E726=\"\",\"\",GetAddress(E726))","v":""},{"$f":"IF(E726=\"\",\"\",GetAddress(E726))","v":""},null,null,null,null,null,null,null,null,null,null,null,null,null,null,null,null,null,null,null,null,null,null,null,null,null,null,null,0,0,0,0,0,0,0,"","",{"$f":"INDEX($AL$3:$AL$1500, MATCH(0, IF(ISBLANK($AL$3:$AL$1500), 1, COUNTIF(AM$3:AM723, $AL$3:$AL$1500)), 0))","v":{"$error":"#N/A"}},""]
[{"$f":"IF(E727=\"\",\"\",GetAddress(E727))","v":""},{"$f":"IF(E727=\"\",\"\",GetAddress(E727))","v":""},null,null,null,null,null,null,null,null,null,null,null,null,null,null,null,null,null,null,null,null,null,null,null,null,null,null,null,0,0,0,0,0,0,0,"","",{"$f":"INDEX($AL$3:$AL$1500, MATCH(0, IF(ISBLANK($AL$3:$AL$1500), 1, COUNTIF(AM$3:AM724, $AL$3:$AL$1500)), 0))","v":{"$error":"#N/A"}},""]
[{"$f":"IF(E728=\"\",\"\",GetAddress(E728))","v":""},{"$f":"IF(E728=\"\",\"\",GetAddress(E728))","v":""},null,null,null,null,null,null,null,null,null,null,null,null,null,null,null,null,null,null,null,null,null,null,null,null,null,null,null,0,0,0,0,0,0,0,"","",{"$f":"INDEX($AL$3:$AL$1500, MATCH(0, IF(ISBLANK($AL$3:$AL$1500), 1, COUNTIF(AM$3:AM725, $AL$3:$AL$1500)), 0))","v":{"$error":"#N/A"}},""]
[{"$f":"IF(E729=\"\",\"\",GetAddress(E729))","v":""},{"$f":"IF(E729=\"\",\"\",GetAddress(E729))","v":""},null,null,null,null,null,null,null,null,null,null,null,null,null,null,null,null,null,null,null,null,null,null,null,null,null,null,null,0,0,0,0,0,0,0,"","",{"$f":"INDEX($AL$3:$AL$1500, MATCH(0, IF(ISBLANK($AL$3:$AL$1500), 1, COUNTIF(AM$3:AM726, $AL$3:$AL$1500)), 0))","v":{"$error":"#N/A"}},""]
[{"$f":"IF(E730=\"\",\"\",GetAddress(E730))","v":""},{"$f":"IF(E730=\"\",\"\",GetAddress(E730))","v":""},null,null,null,null,null,null,null,null,null,null,null,null,null,null,null,null,null,null,null,null,null,null,null,null,null,null,null,0,0,0,0,0,0,0,"","",{"$f":"INDEX($AL$3:$AL$1500, MATCH(0, IF(ISBLANK($AL$3:$AL$1500), 1, COUNTIF(AM$3:AM727, $AL$3:$AL$1500)), 0))","v":{"$error":"#N/A"}},""]
[{"$f":"IF(E731=\"\",\"\",GetAddress(E731))","v":""},{"$f":"IF(E731=\"\",\"\",GetAddress(E731))","v":""},null,null,null,null,null,null,null,null,null,null,null,null,null,null,null,null,null,null,null,null,null,null,null,null,null,null,null,0,0,0,0,0,0,0,"","",{"$f":"INDEX($AL$3:$AL$1500, MATCH(0, IF(ISBLANK($AL$3:$AL$1500), 1, COUNTIF(AM$3:AM728, $AL$3:$AL$1500)), 0))","v":{"$error":"#N/A"}},""]
[{"$f":"IF(E732=\"\",\"\",GetAddress(E732))","v":""},{"$f":"IF(E732=\"\",\"\",GetAddress(E732))","v":""},null,null,null,null,null,null,null,null,null,null,null,null,null,null,null,null,null,null,null,null,null,null,null,null,null,null,null,0,0,0,0,0,0,0,"","",{"$f":"INDEX($AL$3:$AL$1500, MATCH(0, IF(ISBLANK($AL$3:$AL$1500), 1, COUNTIF(AM$3:AM729, $AL$3:$AL$1500)), 0))","v":{"$error":"#N/A"}},""]
[{"$f":"IF(E733=\"\",\"\",GetAddress(E733))","v":""},{"$f":"IF(E733=\"\",\"\",GetAddress(E733))","v":""},null,null,null,null,null,null,null,null,null,null,null,null,null,null,null,null,null,null,null,null,null,null,null,null,null,null,null,0,0,0,0,0,0,0,"","",{"$f":"INDEX($AL$3:$AL$1500, MATCH(0, IF(ISBLANK($AL$3:$AL$1500), 1, COUNTIF(AM$3:AM730, $AL$3:$AL$1500)), 0))","v":{"$error":"#N/A"}},""]
[{"$f":"IF(E734=\"\",\"\",GetAddress(E734))","v":""},{"$f":"IF(E734=\"\",\"\",GetAddress(E734))","v":""},null,null,null,null,null,null,null,null,null,null,null,null,null,null,null,null,null,null,null,null,null,null,null,null,null,null,null,0,0,0,0,0,0,0,"","",{"$f":"INDEX($AL$3:$AL$1500, MATCH(0, IF(ISBLANK($AL$3:$AL$1500), 1, COUNTIF(AM$3:AM731, $AL$3:$AL$1500)), 0))","v":{"$error":"#N/A"}},""]
[{"$f":"IF(E735=\"\",\"\",GetAddress(E735))","v":""},{"$f":"IF(E735=\"\",\"\",GetAddress(E735))","v":""},null,null,null,null,null,null,null,null,null,null,null,null,null,null,null,null,null,null,null,null,null,null,null,null,null,null,null,0,0,0,0,0,0,0,"","",{"$f":"INDEX($AL$3:$AL$1500, MATCH(0, IF(ISBLANK($AL$3:$AL$1500), 1, COUNTIF(AM$3:AM732, $AL$3:$AL$1500)), 0))","v":{"$error":"#N/A"}},""]
[{"$f":"IF(E736=\"\",\"\",GetAddress(E736))","v":""},{"$f":"IF(E736=\"\",\"\",GetAddress(E736))","v":""},null,null,null,null,null,null,null,null,null,null,null,null,null,null,null,null,null,null,null,null,null,null,null,null,null,null,null,0,0,0,0,0,0,0,"","",{"$f":"INDEX($AL$3:$AL$1500, MATCH(0, IF(ISBLANK($AL$3:$AL$1500), 1, COUNTIF(AM$3:AM733, $AL$3:$AL$1500)), 0))","v":{"$error":"#N/A"}},""]
[{"$f":"IF(E737=\"\",\"\",GetAddress(E737))","v":""},{"$f":"IF(E737=\"\",\"\",GetAddress(E737))","v":""},null,null,null,null,null,null,null,null,null,null,null,null,null,null,null,null,null,null,null,null,null,null,null,null,null,null,null,0,0,0,0,0,0,0,"","",{"$f":"INDEX($AL$3:$AL$1500, MATCH(0, IF(ISBLANK($AL$3:$AL$1500), 1, COUNTIF(AM$3:AM734, $AL$3:$AL$1500)), 0))","v":{"$error":"#N/A"}},""]
[{"$f":"IF(E738=\"\",\"\",GetAddress(E738))","v":""},{"$f":"IF(E738=\"\",\"\",GetAddress(E738))","v":""},null,null,null,null,null,null,null,null,null,null,null,null,null,null,null,null,null,null,null,null,null,null,null,null,null,null,null,0,0,0,0,0,0,0,"","",{"$f":"INDEX($AL$3:$AL$1500, MATCH(0, IF(ISBLANK($AL$3:$AL$1500), 1, COUNTIF(AM$3:AM735, $AL$3:$AL$1500)), 0))","v":{"$error":"#N/A"}},""]
[{"$f":"IF(E739=\"\",\"\",GetAddress(E739))","v":""},{"$f":"IF(E739=\"\",\"\",GetAddress(E739))","v":""},null,null,null,null,null,null,null,null,null,null,null,null,null,null,null,null,null,null,null,null,null,null,null,null,null,null,null,0,0,0,0,0,0,0,"","",{"$f":"INDEX($AL$3:$AL$1500, MATCH(0, IF(ISBLANK($AL$3:$AL$1500), 1, COUNTIF(AM$3:AM736, $AL$3:$AL$1500)), 0))","v":{"$error":"#N/A"}},""]
[{"$f":"IF(E740=\"\",\"\",GetAddress(E740))","v":""},{"$f":"IF(E740=\"\",\"\",GetAddress(E740))","v":""},null,null,null,null,null,null,null,null,null,null,null,null,null,null,null,null,null,null,null,null,null,null,null,null,null,null,null,0,0,0,0,0,0,0,"","",{"$f":"INDEX($AL$3:$AL$1500, MATCH(0, IF(ISBLANK($AL$3:$AL$1500), 1, COUNTIF(AM$3:AM737, $AL$3:$AL$1500)), 0))","v":{"$error":"#N/A"}},""]
[{"$f":"IF(E741=\"\",\"\",GetAddress(E741))","v":""},{"$f":"IF(E741=\"\",\"\",GetAddress(E741))","v":""},null,null,null,null,null,null,null,null,null,null,null,null,null,null,null,null,null,null,null,null,null,null,null,null,null,null,null,0,0,0,0,0,0,0,"","",{"$f":"INDEX($AL$3:$AL$1500, MATCH(0, IF(ISBLANK($AL$3:$AL$1500), 1, COUNTIF(AM$3:AM738, $AL$3:$AL$1500)), 0))","v":{"$error":"#N/A"}},""]
[{"$f":"IF(E742=\"\",\"\",GetAddress(E742))","v":""},{"$f":"IF(E742=\"\",\"\",GetAddress(E742))","v":""},null,null,null,null,null,null,null,null,null,null,null,null,null,null,null,null,null,null,null,null,null,null,null,null,null,null,null,0,0,0,0,0,0,0,"","",{"$f":"INDEX($AL$3:$AL$1500, MATCH(0, IF(ISBLANK($AL$3:$AL$1500), 1, COUNTIF(AM$3:AM739, $AL$3:$AL$1500)), 0))","v":{"$error":"#N/A"}},""]
[{"$f":"IF(E743=\"\",\"\",GetAddress(E743))","v":""},{"$f":"IF(E743=\"\",\"\",GetAddress(E743))","v":""},null,null,null,null,null,null,null,null,null,null,null,null,null,null,null,null,null,null,null,null,null,null,null,null,null,null,null,0,0,0,0,0,0,0,"","",{"$f":"INDEX($AL$3:$AL$1500, MATCH(0, IF(ISBLANK($AL$3:$AL$1500), 1, COUNTIF(AM$3:AM740, $AL$3:$AL$1500)), 0))","v":{"$error":"#N/A"}},""]
[{"$f":"IF(E744=\"\",\"\",GetAddress(E744))","v":""},{"$f":"IF(E744=\"\",\"\",GetAddress(E744))","v":""},null,null,null,null,null,null,null,null,null,null,null,null,null,null,null,null,null,null,null,null,null,null,null,null,null,null,null,0,0,0,0,0,0,0,"","",{"$f":"INDEX($AL$3:$AL$1500, MATCH(0, IF(ISBLANK($AL$3:$AL$1500), 1, COUNTIF(AM$3:AM741, $AL$3:$AL$1500)), 0))","v":{"$error":"#N/A"}},""]
[{"$f":"IF(E745=\"\",\"\",GetAddress(E745))","v":""},{"$f":"IF(E745=\"\",\"\",GetAddress(E745))","v":""},null,null,null,null,null,null,null,null,null,null,null,null,null,null,null,null,null,null,null,null,null,null,null,null,null,null,null,0,0,0,0,0,0,0,"","",{"$f":"INDEX($AL$3:$AL$1500, MATCH(0, IF(ISBLANK($AL$3:$AL$1500), 1, COUNTIF(AM$3:AM742, $AL$3:$AL$1500)), 0))","v":{"$error":"#N/A"}},""]
[{"$f":"IF(E746=\"\",\"\",GetAddress(E746))","v":""},{"$f":"IF(E746=\"\",\"\",GetAddress(E746))","v":""},null,null,null,null,null,null,null,null,null,null,null,null,null,null,null,null,null,null,null,null,null,null,null,null,null,null,null,0,0,0,0,0,0,0,"","",{"$f":"INDEX($AL$3:$AL$1500, MATCH(0, IF(ISBLANK($AL$3:$AL$1500), 1, COUNTIF(AM$3:AM743, $AL$3:$AL$1500)), 0))","v":{"$error":"#N/A"}},""]
[{"$f":"IF(E747=\"\",\"\",GetAddress(E747))","v":""},{"$f":"IF(E747=\"\",\"\",GetAddress(E747))","v":""},null,null,null,null,null,null,null,null,null,null,null,null,null,null,null,null,null,null,null,null,null,null,null,null,null,null,null,0,0,0,0,0,0,0,"","",{"$f":"INDEX($AL$3:$AL$1500, MATCH(0, IF(ISBLANK($AL$3:$AL$1500), 1, COUNTIF(AM$3:AM744, $AL$3:$AL$1500)), 0))","v":{"$error":"#N/A"}},""]
[{"$f":"IF(E748=\"\",\"\",GetAddress(E748))","v":""},{"$f":"IF(E748=\"\",\"\",GetAddress(E748))","v":""},null,null,null,null,null,null,null,null,null,null,null,null,null,null,null,null,null,null,null,null,null,null,null,null,null,null,null,0,0,0,0,0,0,0,"","",{"$f":"INDEX($AL$3:$AL$1500, MATCH(0, IF(ISBLANK($AL$3:$AL$1500), 1, COUNTIF(AM$3:AM745, $AL$3:$AL$1500)), 0))","v":{"$error":"#N/A"}},""]
[{"$f":"IF(E749=\"\",\"\",GetAddress(E749))","v":""},{"$f":"IF(E749=\"\",\"\",GetAddress(E749))","v":""},null,null,null,null,null,null,null,null,null,null,null,null,null,null,null,null,null,null,null,null,null,null,null,null,null,null,null,0,0,0,0,0,0,0,"","",{"$f":"INDEX($AL$3:$AL$1500, MATCH(0, IF(ISBLANK($AL$3:$AL$1500), 1, COUNTIF(AM$3:AM746, $AL$3:$AL$1500)), 0))","v":{"$error":"#N/A"}},""]
[{"$f":"IF(E750=\"\",\"\",GetAddress(E750))","v":""},{"$f":"IF(E750=\"\",\"\",GetAddress(E750))","v":""},null,null,null,null,null,null,null,null,null,null,null,null,null,null,null,null,null,null,null,null,null,null,null,null,null,null,null,0,0,0,0,0,0,0,"","",{"$f":"INDEX($AL$3:$AL$1500, MATCH(0, IF(ISBLANK($AL$3:$AL$1500), 1, COUNTIF(AM$3:AM747, $AL$3:$AL$1500)), 0))","v":{"$error":"#N/A"}},""]
[{"$f":"IF(E751=\"\",\"\",GetAddress(E751))","v":""},{"$f":"IF(E751=\"\",\"\",GetAddress(E751))","v":""},null,null,null,null,null,null,null,null,null,null,null,null,null,null,null,null,null,null,null,null,null,null,null,null,null,null,null,0,0,0,0,0,0,0,"","",{"$f":"INDEX($AL$3:$AL$1500, MATCH(0, IF(ISBLANK($AL$3:$AL$1500), 1, COUNTIF(AM$3:AM748, $AL$3:$AL$1500)), 0))","v":{"$error":"#N/A"}},""]
[{"$f":"IF(E752=\"\",\"\",GetAddress(E752))","v":""},{"$f":"IF(E752=\"\",\"\",GetAddress(E752))","v":""},null,null,null,null,null,null,null,null,null,null,null,null,null,null,null,null,null,null,null,null,null,null,null,null,null,null,null,0,0,0,0,0,0,0,"","",{"$f":"INDEX($AL$3:$AL$1500, MATCH(0, IF(ISBLANK($AL$3:$AL$1500), 1, COUNTIF(AM$3:AM749, $AL$3:$AL$1500)), 0))","v":{"$error":"#N/A"}},""]
[{"$f":"IF(E753=\"\",\"\",GetAddress(E753))","v":""},{"$f":"IF(E753=\"\",\"\",GetAddress(E753))","v":""},null,null,null,null,null,null,null,null,null,null,null,null,null,null,null,null,null,null,null,null,null,null,null,null,null,null,null,0,0,0,0,0,0,0,"","",{"$f":"INDEX($AL$3:$AL$1500, MATCH(0, IF(ISBLANK($AL$3:$AL$1500), 1, COUNTIF(AM$3:AM750, $AL$3:$AL$1500)), 0))","v":{"$error":"#N/A"}},""]
[{"$f":"IF(E754=\"\",\"\",GetAddress(E754))","v":""},{"$f":"IF(E754=\"\",\"\",GetAddress(E754))","v":""},null,null,null,null,null,null,null,null,null,null,null,null,null,null,null,null,null,null,null,null,null,null,null,null,null,null,null,0,0,0,0,0,0,0,"","",{"$f":"INDEX($AL$3:$AL$1500, MATCH(0, IF(ISBLANK($AL$3:$AL$1500), 1, COUNTIF(AM$3:AM751, $AL$3:$AL$1500)), 0))","v":{"$error":"#N/A"}},""]
[{"$f":"IF(E755=\"\",\"\",GetAddress(E755))","v":""},{"$f":"IF(E755=\"\",\"\",GetAddress(E755))","v":""},null,null,null,null,null,null,null,null,null,null,null,null,null,null,null,null,null,null,null,null,null,null,null,null,null,null,null,0,0,0,0,0,0,0,"","",{"$f":"INDEX($AL$3:$AL$1500, MATCH(0, IF(ISBLANK($AL$3:$AL$1500), 1, COUNTIF(AM$3:AM752, $AL$3:$AL$1500)), 0))","v":{"$error":"#N/A"}},""]
[{"$f":"IF(E756=\"\",\"\",GetAddress(E756))","v":""},{"$f":"IF(E756=\"\",\"\",GetAddress(E756))","v":""},null,null,null,null,null,null,null,null,null,null,null,null,null,null,null,null,null,null,null,null,null,null,null,null,null,null,null,0,0,0,0,0,0,0,"","",{"$f":"INDEX($AL$3:$AL$1500, MATCH(0, IF(ISBLANK($AL$3:$AL$1500), 1, COUNTIF(AM$3:AM753, $AL$3:$AL$1500)), 0))","v":{"$error":"#N/A"}},""]
[{"$f":"IF(E757=\"\",\"\",GetAddress(E757))","v":""},{"$f":"IF(E757=\"\",\"\",GetAddress(E757))","v":""},null,null,null,null,null,null,null,null,null,null,null,null,null,null,null,null,null,null,null,null,null,null,null,null,null,null,null,0,0,0,0,0,0,0,"","",{"$f":"INDEX($AL$3:$AL$1500, MATCH(0, IF(ISBLANK($AL$3:$AL$1500), 1, COUNTIF(AM$3:AM754, $AL$3:$AL$1500)), 0))","v":{"$error":"#N/A"}},""]
[{"$f":"IF(E758=\"\",\"\",GetAddress(E758))","v":""},{"$f":"IF(E758=\"\",\"\",GetAddress(E758))","v":""},null,null,null,null,null,null,null,null,null,null,null,null,null,null,null,null,null,null,null,null,null,null,null,null,null,null,null,0,0,0,0,0,0,0,"","",{"$f":"INDEX($AL$3:$AL$1500, MATCH(0, IF(ISBLANK($AL$3:$AL$1500), 1, COUNTIF(AM$3:AM755, $AL$3:$AL$1500)), 0))","v":{"$error":"#N/A"}},""]
[{"$f":"IF(E759=\"\",\"\",GetAddress(E759))","v":""},{"$f":"IF(E759=\"\",\"\",GetAddress(E759))","v":""},null,null,null,null,null,null,null,null,null,null,null,null,null,null,null,null,null,null,null,null,null,null,null,null,null,null,null,0,0,0,0,0,0,0,"","",{"$f":"INDEX($AL$3:$AL$1500, MATCH(0, IF(ISBLANK($AL$3:$AL$1500), 1, COUNTIF(AM$3:AM756, $AL$3:$AL$1500)), 0))","v":{"$error":"#N/A"}},""]
[{"$f":"IF(E760=\"\",\"\",GetAddress(E760))","v":""},{"$f":"IF(E760=\"\",\"\",GetAddress(E760))","v":""},null,null,null,null,null,null,null,null,null,null,null,null,null,null,null,null,null,null,null,null,null,null,null,null,null,null,null,0,0,0,0,0,0,0,"","",{"$f":"INDEX($AL$3:$AL$1500, MATCH(0, IF(ISBLANK($AL$3:$AL$1500), 1, COUNTIF(AM$3:AM757, $AL$3:$AL$1500)), 0))","v":{"$error":"#N/A"}},""]
[{"$f":"IF(E761=\"\",\"\",GetAddress(E761))","v":""},{"$f":"IF(E761=\"\",\"\",GetAddress(E761))","v":""},null,null,null,null,null,null,null,null,null,null,null,null,null,null,null,null,null,null,null,null,null,null,null,null,null,null,null,0,0,0,0,0,0,0,"","",{"$f":"INDEX($AL$3:$AL$1500, MATCH(0, IF(ISBLANK($AL$3:$AL$1500), 1, COUNTIF(AM$3:AM758, $AL$3:$AL$1500)), 0))","v":{"$error":"#N/A"}},""]
[{"$f":"IF(E762=\"\",\"\",GetAddress(E762))","v":""},{"$f":"IF(E762=\"\",\"\",GetAddress(E762))","v":""},null,null,null,null,null,null,null,null,null,null,null,null,null,null,null,null,null,null,null,null,null,null,null,null,null,null,null,0,0,0,0,0,0,0,"","",{"$f":"INDEX($AL$3:$AL$1500, MATCH(0, IF(ISBLANK($AL$3:$AL$1500), 1, COUNTIF(AM$3:AM759, $AL$3:$AL$1500)), 0))","v":{"$error":"#N/A"}},""]
[{"$f":"IF(E763=\"\",\"\",GetAddress(E763))","v":""},{"$f":"IF(E763=\"\",\"\",GetAddress(E763))","v":""},null,null,null,null,null,null,null,null,null,null,null,null,null,null,null,null,null,null,null,null,null,null,null,null,null,null,null,0,0,0,0,0,0,0,"","",{"$f":"INDEX($AL$3:$AL$1500, MATCH(0, IF(ISBLANK($AL$3:$AL$1500), 1, COUNTIF(AM$3:AM760, $AL$3:$AL$1500)), 0))","v":{"$error":"#N/A"}},""]
[{"$f":"IF(E764=\"\",\"\",GetAddress(E764))","v":""},{"$f":"IF(E764=\"\",\"\",GetAddress(E764))","v":""},null,null,null,null,null,null,null,null,null,null,null,null,null,null,null,null,null,null,null,null,null,null,null,null,null,null,null,0,0,0,0,0,0,0,"","",{"$f":"INDEX($AL$3:$AL$1500, MATCH(0, IF(ISBLANK($AL$3:$AL$1500), 1, COUNTIF(AM$3:AM761, $AL$3:$AL$1500)), 0))","v":{"$error":"#N/A"}},""]
[{"$f":"IF(E765=\"\",\"\",GetAddress(E765))","v":""},{"$f":"IF(E765=\"\",\"\",GetAddress(E765))","v":""},null,null,null,null,null,null,null,null,null,null,null,null,null,null,null,null,null,null,null,null,null,null,null,null,null,null,null,0,0,0,0,0,0,0,"","",{"$f":"INDEX($AL$3:$AL$1500, MATCH(0, IF(ISBLANK($AL$3:$AL$1500), 1, COUNTIF(AM$3:AM762, $AL$3:$AL$1500)), 0))","v":{"$error":"#N/A"}},""]
[{"$f":"IF(E766=\"\",\"\",GetAddress(E766))","v":""},{"$f":"IF(E766=\"\",\"\",GetAddress(E766))","v":""},null,null,null,null,null,null,null,null,null,null,null,null,null,null,null,null,null,null,null,null,null,null,null,null,null,null,null,0,0,0,0,0,0,0,"","",{"$f":"INDEX($AL$3:$AL$1500, MATCH(0, IF(ISBLANK($AL$3:$AL$1500), 1, COUNTIF(AM$3:AM763, $AL$3:$AL$1500)), 0))","v":{"$error":"#N/A"}},""]
[{"$f":"IF(E767=\"\",\"\",GetAddress(E767))","v":""},{"$f":"IF(E767=\"\",\"\",GetAddress(E767))","v":""},null,null,null,null,null,null,null,null,null,null,null,null,null,null,null,null,null,null,null,null,null,null,null,null,null,null,null,0,0,0,0,0,0,0,"","",{"$f":"INDEX($AL$3:$AL$1500, MATCH(0, IF(ISBLANK($AL$3:$AL$1500), 1, COUNTIF(AM$3:AM764, $AL$3:$AL$1500)), 0))","v":{"$error":"#N/A"}},""]
[{"$f":"IF(E768=\"\",\"\",GetAddress(E768))","v":""},{"$f":"IF(E768=\"\",\"\",GetAddress(E768))","v":""},null,null,null,null,null,null,null,null,null,null,null,null,null,null,null,null,null,null,null,null,null,null,null,null,null,null,null,0,0,0,0,0,0,0,"","",{"$f":"INDEX($AL$3:$AL$1500, MATCH(0, IF(ISBLANK($AL$3:$AL$1500), 1, COUNTIF(AM$3:AM765, $AL$3:$AL$1500)), 0))","v":{"$error":"#N/A"}},""]
[{"$f":"IF(E769=\"\",\"\",GetAddress(E769))","v":""},{"$f":"IF(E769=\"\",\"\",GetAddress(E769))","v":""},null,null,null,null,null,null,null,null,null,null,null,null,null,null,null,null,null,null,null,null,null,null,null,null,null,null,null,0,0,0,0,0,0,0,"","",{"$f":"INDEX($AL$3:$AL$1500, MATCH(0, IF(ISBLANK($AL$3:$AL$1500), 1, COUNTIF(AM$3:AM766, $AL$3:$AL$1500)), 0))","v":{"$error":"#N/A"}},""]
[{"$f":"IF(E770=\"\",\"\",GetAddress(E770))","v":""},{"$f":"IF(E770=\"\",\"\",GetAddress(E770))","v":""},null,null,null,null,null,null,null,null,null,null,null,null,null,null,null,null,null,null,null,null,null,null,null,null,null,null,null,0,0,0,0,0,0,0,"","",{"$f":"INDEX($AL$3:$AL$1500, MATCH(0, IF(ISBLANK($AL$3:$AL$1500), 1, COUNTIF(AM$3:AM767, $AL$3:$AL$1500)), 0))","v":{"$error":"#N/A"}},""]
[{"$f":"IF(E771=\"\",\"\",GetAddress(E771))","v":""},{"$f":"IF(E771=\"\",\"\",GetAddress(E771))","v":""},null,null,null,null,null,null,null,null,null,null,null,null,null,null,null,null,null,null,null,null,null,null,null,null,null,null,null,0,0,0,0,0,0,0,"","",{"$f":"INDEX($AL$3:$AL$1500, MATCH(0, IF(ISBLANK($AL$3:$AL$1500), 1, COUNTIF(AM$3:AM768, $AL$3:$AL$1500)), 0))","v":{"$error":"#N/A"}},""]
[{"$f":"IF(E772=\"\",\"\",GetAddress(E772))","v":""},{"$f":"IF(E772=\"\",\"\",GetAddress(E772))","v":""},null,null,null,null,null,null,null,null,null,null,null,null,null,null,null,null,null,null,null,null,null,null,null,null,null,null,null,0,0,0,0,0,0,0,"","",{"$f":"INDEX($AL$3:$AL$1500, MATCH(0, IF(ISBLANK($AL$3:$AL$1500), 1, COUNTIF(AM$3:AM769, $AL$3:$AL$1500)), 0))","v":{"$error":"#N/A"}},""]
[{"$f":"IF(E773=\"\",\"\",GetAddress(E773))","v":""},{"$f":"IF(E773=\"\",\"\",GetAddress(E773))","v":""},null,null,null,null,null,null,null,null,null,null,null,null,null,null,null,null,null,null,null,null,null,null,null,null,null,null,null,0,0,0,0,0,0,{"$f":"IF(AI771=\"Free A\",\"\",AI771)","v":0},{"$f":"IF(AJ771=0,\"\",AJ771)","v":""},{"$f":"IF(AK771=\"Free Agent\",\"\",AK771)","v":""},{"$f":"INDEX($AL$3:$AL$1500, MATCH(0, IF(ISBLANK($AL$3:$AL$1500), 1, COUNTIF(AM$3:AM770, $AL$3:$AL$1500)), 0))","v":{"$error":"#N/A"}},{"$f":"IF(ISERROR(AM771),\"\",AM771)","v":""}]
[{"$f":"IF(E774=\"\",\"\",GetAddress(E774))","v":""},{"$f":"IF(E774=\"\",\"\",GetAddress(E774))","v":""},null,null,null,null,null,null,null,null,null,null,null,null,null,null,null,null,null,null,null,null,null,null,null,null,null,null,null,0,0,0,0,0,0,0,"","",{"$f":"INDEX($AL$3:$AL$1500, MATCH(0, IF(ISBLANK($AL$3:$AL$1500), 1, COUNTIF(AM$3:AM771, $AL$3:$AL$1500)), 0))","v":{"$error":"#N/A"}},""]
[{"$f":"IF(E775=\"\",\"\",GetAddress(E775))","v":""},{"$f":"IF(E775=\"\",\"\",GetAddress(E775))","v":""},null,null,null,null,null,null,null,null,null,null,null,null,null,null,null,null,null,null,null,null,null,null,null,null,null,null,null,{"$f":"VALUE(IF(ISNUMBER(SEARCH(\"(P)\",Y773)),\"1\", \"0\"))","v":0},{"$f":"VALUE(IF(ISNUMBER(SEARCH(\"(Q)\",Y773)),\"1\", \"0\"))","v":0},{"$f":"VALUE(IF(ISNUMBER(SEARCH(\"(O)\",Y773)),\"1\", \"0\"))","v":0},{"$f":"VALUE(IF(ISNUMBER(SEARCH(\"(S)\",Y773)),\"1\", \"0\"))","v":0},{"$f":"VALUE(IF(ISNUMBER(SEARCH(\"Free Agent\",Y773)),\"1\", \"0\"))","v":0},{"$f":"IF(SUM(AD773:AH773)=0,Y773,LEFT(Y773,LEN(Y773)-4))","v":0},0,"","",{"$f":"INDEX($AL$3:$AL$1500, MATCH(0, IF(ISBLANK($AL$3:$AL$1500), 1, COUNTIF(AM$3:AM772, $AL$3:$AL$1500)), 0))","v":{"$error":"#N/A"}},""]
[{"$f":"IF(E776=\"\",\"\",GetAddress(E776))","v":""},{"$f":"IF(E776=\"\",\"\",GetAddress(E776))","v":""},null,null,null,null,null,null,null,null,null,null,null,null,null,null,null,null,null,null,null,null,null,null,null,null,null,null,null,0,0,0,0,0,0,0,"","",{"$f":"INDEX($AL$3:$AL$1500, MATCH(0, IF(ISBLANK($AL$3:$AL$1500), 1, COUNTIF(AM$3:AM773, $AL$3:$AL$1500)), 0))","v":{"$error":"#N/A"}},""]
[{"$f":"IF(E777=\"\",\"\",GetAddress(E777))","v":""},{"$f":"IF(E777=\"\",\"\",GetAddress(E777))","v":""},null,null,null,null,null,null,null,null,null,null,null,null,null,null,null,null,null,null,null,null,null,null,null,null,null,null,null,0,0,0,0,0,0,0,"","",{"$f":"INDEX($AL$3:$AL$1500, MATCH(0, IF(ISBLANK($AL$3:$AL$1500), 1, COUNTIF(AM$3:AM774, $AL$3:$AL$1500)), 0))","v":{"$error":"#N/A"}},""]
[{"$f":"IF(E778=\"\",\"\",GetAddress(E778))","v":""},{"$f":"IF(E778=\"\",\"\",GetAddress(E778))","v":""},null,null,null,null,null,null,null,null,null,null,null,null,null,null,null,null,null,null,null,null,null,null,null,null,null,null,null,0,0,0,0,0,0,0,"","",{"$f":"INDEX($AL$3:$AL$1500, MATCH(0, IF(ISBLANK($AL$3:$AL$1500), 1, COUNTIF(AM$3:AM775, $AL$3:$AL$1500)), 0))","v":{"$error":"#N/A"}},""]
[{"$f":"IF(E779=\"\",\"\",GetAddress(E779))","v":""},{"$f":"IF(E779=\"\",\"\",GetAddress(E779))","v":""},null,null,null,null,null,null,null,null,null,null,null,null,null,null,null,null,null,null,null,null,null,null,null,null,null,null,null,0,0,0,0,0,0,0,"","",{"$f":"INDEX($AL$3:$AL$1500, MATCH(0, IF(ISBLANK($AL$3:$AL$1500), 1, COUNTIF(AM$3:AM776, $AL$3:$AL$1500)), 0))","v":{"$error":"#N/A"}},""]
[{"$f":"IF(E780=\"\",\"\",GetAddress(E780))","v":""},{"$f":"IF(E780=\"\",\"\",GetAddress(E780))","v":""},null,null,null,null,null,null,null,null,null,null,null,null,null,null,null,null,null,null,null,null,null,null,null,null,null,null,null,0,0,0,0,0,0,0,"","",{"$f":"INDEX($AL$3:$AL$1500, MATCH(0, IF(ISBLANK($AL$3:$AL$1500), 1, COUNTIF(AM$3:AM777, $AL$3:$AL$1500)), 0))","v":{"$error":"#N/A"}},""]
[{"$f":"IF(E781=\"\",\"\",GetAddress(E781))","v":""},{"$f":"IF(E781=\"\",\"\",GetAddress(E781))","v":""},null,null,null,null,null,null,null,null,null,null,null,null,null,null,null,null,null,null,null,null,null,null,null,null,null,null,null,0,0,0,0,0,0,0,"","",{"$f":"INDEX($AL$3:$AL$1500, MATCH(0, IF(ISBLANK($AL$3:$AL$1500), 1, COUNTIF(AM$3:AM778, $AL$3:$AL$1500)), 0))","v":{"$error":"#N/A"}},""]
[{"$f":"IF(E782=\"\",\"\",GetAddress(E782))","v":""},{"$f":"IF(E782=\"\",\"\",GetAddress(E782))","v":""},null,null,null,null,null,null,null,null,null,null,null,null,null,null,null,null,null,null,null,null,null,null,null,null,null,null,null,0,0,0,0,0,0,0,"","",{"$f":"INDEX($AL$3:$AL$1500, MATCH(0, IF(ISBLANK($AL$3:$AL$1500), 1, COUNTIF(AM$3:AM779, $AL$3:$AL$1500)), 0))","v":{"$error":"#N/A"}},""]
[{"$f":"IF(E783=\"\",\"\",GetAddress(E783))","v":""},{"$f":"IF(E783=\"\",\"\",GetAddress(E783))","v":""},null,null,null,null,null,null,null,null,null,null,null,null,null,null,null,null,null,null,null,null,null,null,null,null,null,null,null,0,0,0,0,0,0,0,"","",{"$f":"INDEX($AL$3:$AL$1500, MATCH(0, IF(ISBLANK($AL$3:$AL$1500), 1, COUNTIF(AM$3:AM780, $AL$3:$AL$1500)), 0))","v":{"$error":"#N/A"}},""]
[{"$f":"IF(E784=\"\",\"\",GetAddress(E784))","v":""},{"$f":"IF(E784=\"\",\"\",GetAddress(E784))","v":""},null,null,null,null,null,null,null,null,null,null,null,null,null,null,null,null,null,null,null,null,null,null,null,null,null,null,null,0,0,0,0,0,0,0,"","",{"$f":"INDEX($AL$3:$AL$1500, MATCH(0, IF(ISBLANK($AL$3:$AL$1500), 1, COUNTIF(AM$3:AM781, $AL$3:$AL$1500)), 0))","v":{"$error":"#N/A"}},""]
[{"$f":"IF(E785=\"\",\"\",GetAddress(E785))","v":""},{"$f":"IF(E785=\"\",\"\",GetAddress(E785))","v":""},null,null,null,null,null,null,null,null,null,null,null,null,null,null,null,null,null,null,null,null,null,null,null,null,null,null,null,0,0,0,0,0,0,0,"","",{"$f":"INDEX($AL$3:$AL$1500, MATCH(0, IF(ISBLANK($AL$3:$AL$1500), 1, COUNTIF(AM$3:AM782, $AL$3:$AL$1500)), 0))","v":{"$error":"#N/A"}},""]
[{"$f":"IF(E786=\"\",\"\",GetAddress(E786))","v":""},{"$f":"IF(E786=\"\",\"\",GetAddress(E786))","v":""},null,null,null,null,null,null,null,null,null,null,null,null,null,null,null,null,null,null,null,null,null,null,null,null,null,null,null,0,0,0,0,0,0,0,"","",{"$f":"INDEX($AL$3:$AL$1500, MATCH(0, IF(ISBLANK($AL$3:$AL$1500), 1, COUNTIF(AM$3:AM783, $AL$3:$AL$1500)), 0))","v":{"$error":"#N/A"}},""]
[{"$f":"IF(E787=\"\",\"\",GetAddress(E787))","v":""},{"$f":"IF(E787=\"\",\"\",GetAddress(E787))","v":""},null,null,null,null,null,null,null,null,null,null,null,null,null,null,null,null,null,null,null,null,null,null,null,null,null,null,null,0,0,0,0,0,0,0,"","",{"$f":"INDEX($AL$3:$AL$1500, MATCH(0, IF(ISBLANK($AL$3:$AL$1500), 1, COUNTIF(AM$3:AM784, $AL$3:$AL$1500)), 0))","v":{"$error":"#N/A"}},""]
[{"$f":"IF(E788=\"\",\"\",GetAddress(E788))","v":""},{"$f":"IF(E788=\"\",\"\",GetAddress(E788))","v":""},null,null,null,null,null,null,null,null,null,null,null,null,null,null,null,null,null,null,null,null,null,null,null,null,null,null,null,0,0,0,0,0,0,0,"","",{"$f":"INDEX($AL$3:$AL$1500, MATCH(0, IF(ISBLANK($AL$3:$AL$1500), 1, COUNTIF(AM$3:AM785, $AL$3:$AL$1500)), 0))","v":{"$error":"#N/A"}},""]
[{"$f":"IF(E789=\"\",\"\",GetAddress(E789))","v":""},{"$f":"IF(E789=\"\",\"\",GetAddress(E789))","v":""},null,null,null,null,null,null,null,null,null,null,null,null,null,null,null,null,null,null,null,null,null,null,null,null,null,null,null,0,0,0,0,0,0,0,"","",{"$f":"INDEX($AL$3:$AL$1500, MATCH(0, IF(ISBLANK($AL$3:$AL$1500), 1, COUNTIF(AM$3:AM786, $AL$3:$AL$1500)), 0))","v":{"$error":"#N/A"}},""]
[{"$f":"IF(E790=\"\",\"\",GetAddress(E790))","v":""},{"$f":"IF(E790=\"\",\"\",GetAddress(E790))","v":""},null,null,null,null,null,null,null,null,null,null,null,null,null,null,null,null,null,null,null,null,null,null,null,null,null,null,null,0,0,0,0,0,0,0,"","",{"$f":"INDEX($AL$3:$AL$1500, MATCH(0, IF(ISBLANK($AL$3:$AL$1500), 1, COUNTIF(AM$3:AM787, $AL$3:$AL$1500)), 0))","v":{"$error":"#N/A"}},""]
[{"$f":"IF(E791=\"\",\"\",GetAddress(E791))","v":""},{"$f":"IF(E791=\"\",\"\",GetAddress(E791))","v":""},null,null,null,null,null,null,null,null,null,null,null,null,null,null,null,null,null,null,null,null,null,null,null,null,null,null,null,0,0,0,0,0,0,0,"","",{"$f":"INDEX($AL$3:$AL$1500, MATCH(0, IF(ISBLANK($AL$3:$AL$1500), 1, COUNTIF(AM$3:AM788, $AL$3:$AL$1500)), 0))","v":{"$error":"#N/A"}},""]
[{"$f":"IF(E792=\"\",\"\",GetAddress(E792))","v":""},{"$f":"IF(E792=\"\",\"\",GetAddress(E792))","v":""},null,null,null,null,null,null,null,null,null,null,null,null,null,null,null,null,null,null,null,null,null,null,null,null,null,null,null,0,0,0,0,0,0,0,"","",{"$f":"INDEX($AL$3:$AL$1500, MATCH(0, IF(ISBLANK($AL$3:$AL$1500), 1, COUNTIF(AM$3:AM789, $AL$3:$AL$1500)), 0))","v":{"$error":"#N/A"}},""]
[{"$f":"IF(E793=\"\",\"\",GetAddress(E793))","v":""},{"$f":"IF(E793=\"\",\"\",GetAddress(E793))","v":""},null,null,null,null,null,null,null,null,null,null,null,null,null,null,null,null,null,null,null,null,null,null,null,null,null,null,null,0,0,0,0,0,0,0,"","",{"$f":"INDEX($AL$3:$AL$1500, MATCH(0, IF(ISBLANK($AL$3:$AL$1500), 1, COUNTIF(AM$3:AM790, $AL$3:$AL$1500)), 0))","v":{"$error":"#N/A"}},""]
[{"$f":"IF(E794=\"\",\"\",GetAddress(E794))","v":""},{"$f":"IF(E794=\"\",\"\",GetAddress(E794))","v":""},null,null,null,null,null,null,null,null,null,null,null,null,null,null,null,null,null,null,null,null,null,null,null,null,null,null,null,0,0,0,0,0,0,0,"","",{"$f":"INDEX($AL$3:$AL$1500, MATCH(0, IF(ISBLANK($AL$3:$AL$1500), 1, COUNTIF(AM$3:AM791, $AL$3:$AL$1500)), 0))","v":{"$error":"#N/A"}},""]
[{"$f":"IF(E795=\"\",\"\",GetAddress(E795))","v":""},{"$f":"IF(E795=\"\",\"\",GetAddress(E795))","v":""},null,null,null,null,null,null,null,null,null,null,null,null,null,null,null,null,null,null,null,null,null,null,null,null,null,null,null,0,0,0,0,0,0,0,"","",{"$f":"INDEX($AL$3:$AL$1500, MATCH(0, IF(ISBLANK($AL$3:$AL$1500), 1, COUNTIF(AM$3:AM792, $AL$3:$AL$1500)), 0))","v":{"$error":"#N/A"}},""]
[{"$f":"IF(E796=\"\",\"\",GetAddress(E796))","v":""},{"$f":"IF(E796=\"\",\"\",GetAddress(E796))","v":""},null,null,null,null,null,null,null,null,null,null,null,null,null,null,null,null,null,null,null,null,null,null,null,null,null,null,null,0,0,0,0,0,0,0,"","",{"$f":"INDEX($AL$3:$AL$1500, MATCH(0, IF(ISBLANK($AL$3:$AL$1500), 1, COUNTIF(AM$3:AM793, $AL$3:$AL$1500)), 0))","v":{"$error":"#N/A"}},""]
[{"$f":"IF(E797=\"\",\"\",GetAddress(E797))","v":""},{"$f":"IF(E797=\"\",\"\",GetAddress(E797))","v":""},null,null,null,null,null,null,null,null,null,null,null,null,null,null,null,null,null,null,null,null,null,null,null,null,null,null,null,0,0,0,0,0,0,0,"","",{"$f":"INDEX($AL$3:$AL$1500, MATCH(0, IF(ISBLANK($AL$3:$AL$1500), 1, COUNTIF(AM$3:AM794, $AL$3:$AL$1500)), 0))","v":{"$error":"#N/A"}},""]
[{"$f":"IF(E798=\"\",\"\",GetAddress(E798))","v":""},{"$f":"IF(E798=\"\",\"\",GetAddress(E798))","v":""},null,null,null,null,null,null,null,null,null,null,null,null,null,null,null,null,null,null,null,null,null,null,null,null,null,null,null,0,0,0,0,0,0,0,"","",{"$f":"INDEX($AL$3:$AL$1500, MATCH(0, IF(ISBLANK($AL$3:$AL$1500), 1, COUNTIF(AM$3:AM795, $AL$3:$AL$1500)), 0))","v":{"$error":"#N/A"}},""]
[{"$f":"IF(E799=\"\",\"\",GetAddress(E799))","v":""},{"$f":"IF(E799=\"\",\"\",GetAddress(E799))","v":""},null,null,null,null,null,null,null,null,null,null,null,null,null,null,null,null,null,null,null,null,null,null,null,null,null,null,null,0,0,0,0,0,0,0,"","",{"$f":"INDEX($AL$3:$AL$1500, MATCH(0, IF(ISBLANK($AL$3:$AL$1500), 1, COUNTIF(AM$3:AM796, $AL$3:$AL$1500)), 0))","v":{"$error":"#N/A"}},""]
[{"$f":"IF(E800=\"\",\"\",GetAddress(E800))","v":""},{"$f":"IF(E800=\"\",\"\",GetAddress(E800))","v":""},null,null,null,null,null,null,null,null,null,null,null,null,null,null,null,null,null,null,null,null,null,null,null,null,null,null,null,0,0,0,0,0,0,0,"","",{"$f":"INDEX($AL$3:$AL$1500, MATCH(0, IF(ISBLANK($AL$3:$AL$1500), 1, COUNTIF(AM$3:AM797, $AL$3:$AL$1500)), 0))","v":{"$error":"#N/A"}},""]
[{"$f":"IF(E801=\"\",\"\",GetAddress(E801))","v":""},{"$f":"IF(E801=\"\",\"\",GetAddress(E801))","v":""},null,null,null,null,null,null,null,null,null,null,null,null,null,null,null,null,null,null,null,null,null,null,null,null,null,null,null,0,0,0,0,0,0,0,"","",{"$f":"INDEX($AL$3:$AL$1500, MATCH(0, IF(ISBLANK($AL$3:$AL$1500), 1, COUNTIF(AM$3:AM798, $AL$3:$AL$1500)), 0))","v":{"$error":"#N/A"}},""]
[{"$f":"IF(E802=\"\",\"\",GetAddress(E802))","v":""},{"$f":"IF(E802=\"\",\"\",GetAddress(E802))","v":""},null,null,null,null,null,null,null,null,null,null,null,null,null,null,null,null,null,null,null,null,null,null,null,null,null,null,null,0,0,0,0,0,0,0,"","",{"$f":"INDEX($AL$3:$AL$1500, MATCH(0, IF(ISBLANK($AL$3:$AL$1500), 1, COUNTIF(AM$3:AM799, $AL$3:$AL$1500)), 0))","v":{"$error":"#N/A"}},""]
[{"$f":"IF(E803=\"\",\"\",GetAddress(E803))","v":""},{"$f":"IF(E803=\"\",\"\",GetAddress(E803))","v":""},null,null,null,null,null,null,null,null,null,null,null,null,null,null,null,null,null,null,null,null,null,null,null,null,null,null,null,0,0,0,0,0,0,0,"","",{"$f":"INDEX($AL$3:$AL$1500, MATCH(0, IF(ISBLANK($AL$3:$AL$1500), 1, COUNTIF(AM$3:AM800, $AL$3:$AL$1500)), 0))","v":{"$error":"#N/A"}},""]
[{"$f":"IF(E804=\"\",\"\",GetAddress(E804))","v":""},{"$f":"IF(E804=\"\",\"\",GetAddress(E804))","v":""},null,null,null,null,null,null,null,null,null,null,null,null,null,null,null,null,null,null,null,null,null,null,null,null,null,null,null,0,0,0,0,0,0,0,"","",{"$f":"INDEX($AL$3:$AL$1500, MATCH(0, IF(ISBLANK($AL$3:$AL$1500), 1, COUNTIF(AM$3:AM801, $AL$3:$AL$1500)), 0))","v":{"$error":"#N/A"}},""]
[{"$f":"IF(E805=\"\",\"\",GetAddress(E805))","v":""},{"$f":"IF(E805=\"\",\"\",GetAddress(E805))","v":""},null,null,null,null,null,null,null,null,null,null,null,null,null,null,null,null,null,null,null,null,null,null,null,null,null,null,null,0,0,0,0,0,0,0,"","",{"$f":"INDEX($AL$3:$AL$1500, MATCH(0, IF(ISBLANK($AL$3:$AL$1500), 1, COUNTIF(AM$3:AM802, $AL$3:$AL$1500)), 0))","v":{"$error":"#N/A"}},""]
[{"$f":"IF(E806=\"\",\"\",GetAddress(E806))","v":""},{"$f":"IF(E806=\"\",\"\",GetAddress(E806))","v":""},null,null,null,null,null,null,null,null,null,null,null,null,null,null,null,null,null,null,null,null,null,null,null,null,null,null,null,0,0,0,0,0,0,0,"","",{"$f":"INDEX($AL$3:$AL$1500, MATCH(0, IF(ISBLANK($AL$3:$AL$1500), 1, COUNTIF(AM$3:AM803, $AL$3:$AL$1500)), 0))","v":{"$error":"#N/A"}},""]
[{"$f":"IF(E807=\"\",\"\",GetAddress(E807))","v":""},{"$f":"IF(E807=\"\",\"\",GetAddress(E807))","v":""},null,null,null,null,null,null,null,null,null,null,null,null,null,null,null,null,null,null,null,null,null,null,null,null,null,null,null,0,0,0,0,0,0,0,"","",{"$f":"INDEX($AL$3:$AL$1500, MATCH(0, IF(ISBLANK($AL$3:$AL$1500), 1, COUNTIF(AM$3:AM804, $AL$3:$AL$1500)), 0))","v":{"$error":"#N/A"}},""]
[{"$f":"IF(E808=\"\",\"\",GetAddress(E808))","v":""},{"$f":"IF(E808=\"\",\"\",GetAddress(E808))","v":""},null,null,null,null,null,null,null,null,null,null,null,null,null,null,null,null,null,null,null,null,null,null,null,null,null,null,null,0,0,0,0,0,0,0,"","",{"$f":"INDEX($AL$3:$AL$1500, MATCH(0, IF(ISBLANK($AL$3:$AL$1500), 1, COUNTIF(AM$3:AM805, $AL$3:$AL$1500)), 0))","v":{"$error":"#N/A"}},""]
[{"$f":"IF(E809=\"\",\"\",GetAddress(E809))","v":""},{"$f":"IF(E809=\"\",\"\",GetAddress(E809))","v":""},null,null,null,null,null,null,null,null,null,null,null,null,null,null,null,null,null,null,null,null,null,null,null,null,null,null,null,0,0,0,0,0,0,0,"","",{"$f":"INDEX($AL$3:$AL$1500, MATCH(0, IF(ISBLANK($AL$3:$AL$1500), 1, COUNTIF(AM$3:AM806, $AL$3:$AL$1500)), 0))","v":{"$error":"#N/A"}},""]
[{"$f":"IF(E810=\"\",\"\",GetAddress(E810))","v":""},{"$f":"IF(E810=\"\",\"\",GetAddress(E810))","v":""},null,null,null,null,null,null,null,null,null,null,null,null,null,null,null,null,null,null,null,null,null,null,null,null,null,null,null,0,0,0,0,0,0,0,"","",{"$f":"INDEX($AL$3:$AL$1500, MATCH(0, IF(ISBLANK($AL$3:$AL$1500), 1, COUNTIF(AM$3:AM807, $AL$3:$AL$1500)), 0))","v":{"$error":"#N/A"}},""]
[{"$f":"IF(E811=\"\",\"\",GetAddress(E811))","v":""},{"$f":"IF(E811=\"\",\"\",GetAddress(E811))","v":""},null,null,null,null,null,null,null,null,null,null,null,null,null,null,null,null,null,null,null,null,null,null,null,null,null,null,null,0,0,0,0,0,0,0,"","",{"$f":"INDEX($AL$3:$AL$1500, MATCH(0, IF(ISBLANK($AL$3:$AL$1500), 1, COUNTIF(AM$3:AM808, $AL$3:$AL$1500)), 0))","v":{"$error":"#N/A"}},""]
[{"$f":"IF(E812=\"\",\"\",GetAddress(E812))","v":""},{"$f":"IF(E812=\"\",\"\",GetAddress(E812))","v":""},null,null,null,null,null,null,null,null,null,null,null,null,null,null,null,null,null,null,null,null,null,null,null,null,null,null,null,0,0,0,0,0,0,0,"","",{"$f":"INDEX($AL$3:$AL$1500, MATCH(0, IF(ISBLANK($AL$3:$AL$1500), 1, COUNTIF(AM$3:AM809, $AL$3:$AL$1500)), 0))","v":{"$error":"#N/A"}},""]
[{"$f":"IF(E813=\"\",\"\",GetAddress(E813))","v":""},{"$f":"IF(E813=\"\",\"\",GetAddress(E813))","v":""},null,null,null,null,null,null,null,null,null,null,null,null,null,null,null,null,null,null,null,null,null,null,null,null,null,null,null,0,0,0,0,0,0,0,"","",{"$f":"INDEX($AL$3:$AL$1500, MATCH(0, IF(ISBLANK($AL$3:$AL$1500), 1, COUNTIF(AM$3:AM810, $AL$3:$AL$1500)), 0))","v":{"$error":"#N/A"}},""]
[{"$f":"IF(E814=\"\",\"\",GetAddress(E814))","v":""},{"$f":"IF(E814=\"\",\"\",GetAddress(E814))","v":""},null,null,null,null,null,null,null,null,null,null,null,null,null,null,null,null,null,null,null,null,null,null,null,null,null,null,null,0,0,0,0,0,0,0,"","",{"$f":"INDEX($AL$3:$AL$1500, MATCH(0, IF(ISBLANK($AL$3:$AL$1500), 1, COUNTIF(AM$3:AM811, $AL$3:$AL$1500)), 0))","v":{"$error":"#N/A"}},""]
[{"$f":"IF(E815=\"\",\"\",GetAddress(E815))","v":""},{"$f":"IF(E815=\"\",\"\",GetAddress(E815))","v":""},null,null,null,null,null,null,null,null,null,null,null,null,null,null,null,null,null,null,null,null,null,null,null,null,null,null,null,0,0,0,0,0,0,0,"","",{"$f":"INDEX($AL$3:$AL$1500, MATCH(0, IF(ISBLANK($AL$3:$AL$1500), 1, COUNTIF(AM$3:AM812, $AL$3:$AL$1500)), 0))","v":{"$error":"#N/A"}},""]
[{"$f":"IF(E816=\"\",\"\",GetAddress(E816))","v":""},{"$f":"IF(E816=\"\",\"\",GetAddress(E816))","v":""},null,null,null,null,null,null,null,null,null,null,null,null,null,null,null,null,null,null,null,null,null,null,null,null,null,null,null,0,0,0,0,0,0,0,"","",{"$f":"INDEX($AL$3:$AL$1500, MATCH(0, IF(ISBLANK($AL$3:$AL$1500), 1, COUNTIF(AM$3:AM813, $AL$3:$AL$1500)), 0))","v":{"$error":"#N/A"}},""]
[{"$f":"IF(E817=\"\",\"\",GetAddress(E817))","v":""},{"$f":"IF(E817=\"\",\"\",GetAddress(E817))","v":""},null,null,null,null,null,null,null,null,null,null,null,null,null,null,null,null,null,null,null,null,null,null,null,null,null,null,null,0,0,0,0,0,0,0,"","",{"$f":"INDEX($AL$3:$AL$1500, MATCH(0, IF(ISBLANK($AL$3:$AL$1500), 1, COUNTIF(AM$3:AM814, $AL$3:$AL$1500)), 0))","v":{"$error":"#N/A"}},""]
[{"$f":"IF(E818=\"\",\"\",GetAddress(E818))","v":""},{"$f":"IF(E818=\"\",\"\",GetAddress(E818))","v":""},null,null,null,null,null,null,null,null,null,null,null,null,null,null,null,null,null,null,null,null,null,null,null,null,null,null,null,0,0,0,0,0,0,0,"","",{"$f":"INDEX($AL$3:$AL$1500, MATCH(0, IF(ISBLANK($AL$3:$AL$1500), 1, COUNTIF(AM$3:AM815, $AL$3:$AL$1500)), 0))","v":{"$error":"#N/A"}},""]
[{"$f":"IF(E819=\"\",\"\",GetAddress(E819))","v":""},{"$f":"IF(E819=\"\",\"\",GetAddress(E819))","v":""},null,null,null,null,null,null,null,null,null,null,null,null,null,null,null,null,null,null,null,null,null,null,null,null,null,null,null,0,0,0,0,0,0,0,"","",{"$f":"INDEX($AL$3:$AL$1500, MATCH(0, IF(ISBLANK($AL$3:$AL$1500), 1, COUNTIF(AM$3:AM816, $AL$3:$AL$1500)), 0))","v":{"$error":"#N/A"}},""]
[{"$f":"IF(E820=\"\",\"\",GetAddress(E820))","v":""},{"$f":"IF(E820=\"\",\"\",GetAddress(E820))","v":""},null,null,null,null,null,null,null,null,null,null,null,null,null,null,null,null,null,null,null,null,null,null,null,null,null,null,null,0,0,0,0,0,0,0,"","",{"$f":"INDEX($AL$3:$AL$1500, MATCH(0, IF(ISBLANK($AL$3:$AL$1500), 1, COUNTIF(AM$3:AM817, $AL$3:$AL$1500)), 0))","v":{"$error":"#N/A"}},""]
[{"$f":"IF(E821=\"\",\"\",GetAddress(E821))","v":""},{"$f":"IF(E821=\"\",\"\",GetAddress(E821))","v":""},null,null,null,null,null,null,null,null,null,null,null,null,null,null,null,null,null,null,null,null,null,null,null,null,null,null,null,0,0,0,0,0,0,0,"","",{"$f":"INDEX($AL$3:$AL$1500, MATCH(0, IF(ISBLANK($AL$3:$AL$1500), 1, COUNTIF(AM$3:AM818, $AL$3:$AL$1500)), 0))","v":{"$error":"#N/A"}},""]
[{"$f":"IF(E822=\"\",\"\",GetAddress(E822))","v":""},{"$f":"IF(E822=\"\",\"\",GetAddress(E822))","v":""},null,null,null,null,null,null,null,null,null,null,null,null,null,null,null,null,null,null,null,null,null,null,null,null,null,null,null,0,0,0,0,0,0,0,"","",{"$f":"INDEX($AL$3:$AL$1500, MATCH(0, IF(ISBLANK($AL$3:$AL$1500), 1, COUNTIF(AM$3:AM819, $AL$3:$AL$1500)), 0))","v":{"$error":"#N/A"}},""]
[{"$f":"IF(E823=\"\",\"\",GetAddress(E823))","v":""},{"$f":"IF(E823=\"\",\"\",GetAddress(E823))","v":""},null,null,null,null,null,null,null,null,null,null,null,null,null,null,null,null,null,null,null,null,null,null,null,null,null,null,null,0,0,0,0,0,0,0,"","",{"$f":"INDEX($AL$3:$AL$1500, MATCH(0, IF(ISBLANK($AL$3:$AL$1500), 1, COUNTIF(AM$3:AM820, $AL$3:$AL$1500)), 0))","v":{"$error":"#N/A"}},""]
[{"$f":"IF(E824=\"\",\"\",GetAddress(E824))","v":""},{"$f":"IF(E824=\"\",\"\",GetAddress(E824))","v":""},null,null,null,null,null,null,null,null,null,null,null,null,null,null,null,null,null,null,null,null,null,null,null,null,null,null,null,0,0,0,0,0,0,0,"","",{"$f":"INDEX($AL$3:$AL$1500, MATCH(0, IF(ISBLANK($AL$3:$AL$1500), 1, COUNTIF(AM$3:AM821, $AL$3:$AL$1500)), 0))","v":{"$error":"#N/A"}},""]
[{"$f":"IF(E825=\"\",\"\",GetAddress(E825))","v":""},{"$f":"IF(E825=\"\",\"\",GetAddress(E825))","v":""},null,null,null,null,null,null,null,null,null,null,null,null,null,null,null,null,null,null,null,null,null,null,null,null,null,null,null,0,0,0,0,0,0,0,"","",{"$f":"INDEX($AL$3:$AL$1500, MATCH(0, IF(ISBLANK($AL$3:$AL$1500), 1, COUNTIF(AM$3:AM822, $AL$3:$AL$1500)), 0))","v":{"$error":"#N/A"}},""]
[{"$f":"IF(E826=\"\",\"\",GetAddress(E826))","v":""},{"$f":"IF(E826=\"\",\"\",GetAddress(E826))","v":""},null,null,null,null,null,null,null,null,null,null,null,null,null,null,null,null,null,null,null,null,null,null,null,null,null,null,null,0,0,0,0,0,0,0,"","",{"$f":"INDEX($AL$3:$AL$1500, MATCH(0, IF(ISBLANK($AL$3:$AL$1500), 1, COUNTIF(AM$3:AM823, $AL$3:$AL$1500)), 0))","v":{"$error":"#N/A"}},""]
[{"$f":"IF(E827=\"\",\"\",GetAddress(E827))","v":""},{"$f":"IF(E827=\"\",\"\",GetAddress(E827))","v":""},null,null,null,null,null,null,null,null,null,null,null,null,null,null,null,null,null,null,null,null,null,null,null,null,null,null,null,0,0,0,0,0,0,0,"","",{"$f":"INDEX($AL$3:$AL$1500, MATCH(0, IF(ISBLANK($AL$3:$AL$1500), 1, COUNTIF(AM$3:AM824, $AL$3:$AL$1500)), 0))","v":{"$error":"#N/A"}},""]
[{"$f":"IF(E828=\"\",\"\",GetAddress(E828))","v":""},{"$f":"IF(E828=\"\",\"\",GetAddress(E828))","v":""},null,null,null,null,null,null,null,null,null,null,null,null,null,null,null,null,null,null,null,null,null,null,null,null,null,null,null,0,0,0,0,0,0,0,"","",{"$f":"INDEX($AL$3:$AL$1500, MATCH(0, IF(ISBLANK($AL$3:$AL$1500), 1, COUNTIF(AM$3:AM825, $AL$3:$AL$1500)), 0))","v":{"$error":"#N/A"}},""]
[{"$f":"IF(E829=\"\",\"\",GetAddress(E829))","v":""},{"$f":"IF(E829=\"\",\"\",GetAddress(E829))","v":""},null,null,null,null,null,null,null,null,null,null,null,null,null,null,null,null,null,null,null,null,null,null,null,null,null,null,null,0,0,0,0,0,0,0,"","",{"$f":"INDEX($AL$3:$AL$1500, MATCH(0, IF(ISBLANK($AL$3:$AL$1500), 1, COUNTIF(AM$3:AM826, $AL$3:$AL$1500)), 0))","v":{"$error":"#N/A"}},""]
[{"$f":"IF(E830=\"\",\"\",GetAddress(E830))","v":""},{"$f":"IF(E830=\"\",\"\",GetAddress(E830))","v":""},null,null,null,null,null,null,null,null,null,null,null,null,null,null,null,null,null,null,null,null,null,null,null,null,null,null,null,0,0,0,0,0,0,0,"","",{"$f":"INDEX($AL$3:$AL$1500, MATCH(0, IF(ISBLANK($AL$3:$AL$1500), 1, COUNTIF(AM$3:AM827, $AL$3:$AL$1500)), 0))","v":{"$error":"#N/A"}},""]
[{"$f":"IF(E831=\"\",\"\",GetAddress(E831))","v":""},{"$f":"IF(E831=\"\",\"\",GetAddress(E831))","v":""},null,null,null,null,null,null,null,null,null,null,null,null,null,null,null,null,null,null,null,null,null,null,null,null,null,null,null,0,0,0,0,0,0,0,"","",{"$f":"INDEX($AL$3:$AL$1500, MATCH(0, IF(ISBLANK($AL$3:$AL$1500), 1, COUNTIF(AM$3:AM828, $AL$3:$AL$1500)), 0))","v":{"$error":"#N/A"}},""]
[{"$f":"IF(E832=\"\",\"\",GetAddress(E832))","v":""},{"$f":"IF(E832=\"\",\"\",GetAddress(E832))","v":""},null,null,null,null,null,null,null,null,null,null,null,null,null,null,null,null,null,null,null,null,null,null,null,null,null,null,null,0,0,0,0,0,0,0,"","",{"$f":"INDEX($AL$3:$AL$1500, MATCH(0, IF(ISBLANK($AL$3:$AL$1500), 1, COUNTIF(AM$3:AM829, $AL$3:$AL$1500)), 0))","v":{"$error":"#N/A"}},""]
[{"$f":"IF(E833=\"\",\"\",GetAddress(E833))","v":""},{"$f":"IF(E833=\"\",\"\",GetAddress(E833))","v":""},null,null,null,null,null,null,null,null,null,null,null,null,null,null,null,null,null,null,null,null,null,null,null,null,null,null,null,0,0,0,0,0,0,0,"","",{"$f":"INDEX($AL$3:$AL$1500, MATCH(0, IF(ISBLANK($AL$3:$AL$1500), 1, COUNTIF(AM$3:AM830, $AL$3:$AL$1500)), 0))","v":{"$error":"#N/A"}},""]
[{"$f":"IF(E834=\"\",\"\",GetAddress(E834))","v":""},{"$f":"IF(E834=\"\",\"\",GetAddress(E834))","v":""},null,null,null,null,null,null,null,null,null,null,null,null,null,null,null,null,null,null,null,null,null,null,null,null,null,null,null,0,0,0,0,0,0,0,"","",{"$f":"INDEX($AL$3:$AL$1500, MATCH(0, IF(ISBLANK($AL$3:$AL$1500), 1, COUNTIF(AM$3:AM831, $AL$3:$AL$1500)), 0))","v":{"$error":"#N/A"}},""]
[{"$f":"IF(E835=\"\",\"\",GetAddress(E835))","v":""},{"$f":"IF(E835=\"\",\"\",GetAddress(E835))","v":""},null,null,null,null,null,null,null,null,null,null,null,null,null,null,null,null,null,null,null,null,null,null,null,null,null,null,null,0,0,0,0,0,0,0,"","",{"$f":"INDEX($AL$3:$AL$1500, MATCH(0, IF(ISBLANK($AL$3:$AL$1500), 1, COUNTIF(AM$3:AM832, $AL$3:$AL$1500)), 0))","v":{"$error":"#N/A"}},""]
[{"$f":"IF(E836=\"\",\"\",GetAddress(E836))","v":""},{"$f":"IF(E836=\"\",\"\",GetAddress(E836))","v":""},null,null,null,null,null,null,null,null,null,null,null,null,null,null,null,null,null,null,null,null,null,null,null,null,null,null,null,0,0,0,0,0,0,0,"","",{"$f":"INDEX($AL$3:$AL$1500, MATCH(0, IF(ISBLANK($AL$3:$AL$1500), 1, COUNTIF(AM$3:AM833, $AL$3:$AL$1500)), 0))","v":{"$error":"#N/A"}},""]
[{"$f":"IF(E837=\"\",\"\",GetAddress(E837))","v":""},{"$f":"IF(E837=\"\",\"\",GetAddress(E837))","v":""},null,null,null,null,null,null,null,null,null,null,null,null,null,null,null,null,null,null,null,null,null,null,null,null,null,null,null,0,0,0,0,0,0,{"$f":"IF(AI835=\"Free A\",\"\",AI835)","v":0},{"$f":"IF(AJ835=0,\"\",AJ835)","v":""},{"$f":"IF(AK835=\"Free Agent\",\"\",AK835)","v":""},{"$f":"INDEX($AL$3:$AL$1500, MATCH(0, IF(ISBLANK($AL$3:$AL$1500), 1, COUNTIF(AM$3:AM834, $AL$3:$AL$1500)), 0))","v":{"$error":"#N/A"}},{"$f":"IF(ISERROR(AM835),\"\",AM835)","v":""}]
[{"$f":"IF(E838=\"\",\"\",GetAddress(E838))","v":""},{"$f":"IF(E838=\"\",\"\",GetAddress(E838))","v":""},null,null,null,null,null,null,null,null,null,null,null,null,null,null,null,null,null,null,null,null,null,null,null,null,null,null,null,0,0,0,0,0,0,0,"","",{"$f":"INDEX($AL$3:$AL$1500, MATCH(0, IF(ISBLANK($AL$3:$AL$1500), 1, COUNTIF(AM$3:AM835, $AL$3:$AL$1500)), 0))","v":{"$error":"#N/A"}},""]
[{"$f":"IF(E839=\"\",\"\",GetAddress(E839))","v":""},{"$f":"IF(E839=\"\",\"\",GetAddress(E839))","v":""},null,null,null,null,null,null,null,null,null,null,null,null,null,null,null,null,null,null,null,null,null,null,null,null,null,null,null,{"$f":"VALUE(IF(ISNUMBER(SEARCH(\"(P)\",Y837)),\"1\", \"0\"))","v":0},{"$f":"VALUE(IF(ISNUMBER(SEARCH(\"(Q)\",Y837)),\"1\", \"0\"))","v":0},{"$f":"VALUE(IF(ISNUMBER(SEARCH(\"(O)\",Y837)),\"1\", \"0\"))","v":0},{"$f":"VALUE(IF(ISNUMBER(SEARCH(\"(S)\",Y837)),\"1\", \"0\"))","v":0},{"$f":"VALUE(IF(ISNUMBER(SEARCH(\"Free Agent\",Y837)),\"1\", \"0\"))","v":0},{"$f":"IF(SUM(AD837:AH837)=0,Y837,LEFT(Y837,LEN(Y837)-4))","v":0},0,"","",{"$f":"INDEX($AL$3:$AL$1500, MATCH(0, IF(ISBLANK($AL$3:$AL$1500), 1, COUNTIF(AM$3:AM836, $AL$3:$AL$1500)), 0))","v":{"$error":"#N/A"}},""]
[{"$f":"IF(E840=\"\",\"\",GetAddress(E840))","v":""},{"$f":"IF(E840=\"\",\"\",GetAddress(E840))","v":""},null,null,null,null,null,null,null,null,null,null,null,null,null,null,null,null,null,null,null,null,null,null,null,null,null,null,null,0,0,0,0,0,0,0,"","",{"$f":"INDEX($AL$3:$AL$1500, MATCH(0, IF(ISBLANK($AL$3:$AL$1500), 1, COUNTIF(AM$3:AM837, $AL$3:$AL$1500)), 0))","v":{"$error":"#N/A"}},""]
[{"$f":"IF(E841=\"\",\"\",GetAddress(E841))","v":""},{"$f":"IF(E841=\"\",\"\",GetAddress(E841))","v":""},null,null,null,null,null,null,null,null,null,null,null,null,null,null,null,null,null,null,null,null,null,null,null,null,null,null,null,0,0,0,0,0,0,0,"","",{"$f":"INDEX($AL$3:$AL$1500, MATCH(0, IF(ISBLANK($AL$3:$AL$1500), 1, COUNTIF(AM$3:AM838, $AL$3:$AL$1500)), 0))","v":{"$error":"#N/A"}},""]
[{"$f":"IF(E842=\"\",\"\",GetAddress(E842))","v":""},{"$f":"IF(E842=\"\",\"\",GetAddress(E842))","v":""},null,null,null,null,null,null,null,null,null,null,null,null,null,null,null,null,null,null,null,null,null,null,null,null,null,null,null,0,0,0,0,0,0,0,"","",{"$f":"INDEX($AL$3:$AL$1500, MATCH(0, IF(ISBLANK($AL$3:$AL$1500), 1, COUNTIF(AM$3:AM839, $AL$3:$AL$1500)), 0))","v":{"$error":"#N/A"}},""]
[{"$f":"IF(E843=\"\",\"\",GetAddress(E843))","v":""},{"$f":"IF(E843=\"\",\"\",GetAddress(E843))","v":""},null,null,null,null,null,null,null,null,null,null,null,null,null,null,null,null,null,null,null,null,null,null,null,null,null,null,null,0,0,0,0,0,0,0,"","",{"$f":"INDEX($AL$3:$AL$1500, MATCH(0, IF(ISBLANK($AL$3:$AL$1500), 1, COUNTIF(AM$3:AM840, $AL$3:$AL$1500)), 0))","v":{"$error":"#N/A"}},""]
[{"$f":"IF(E844=\"\",\"\",GetAddress(E844))","v":""},{"$f":"IF(E844=\"\",\"\",GetAddress(E844))","v":""},null,null,null,null,null,null,null,null,null,null,null,null,null,null,null,null,null,null,null,null,null,null,null,null,null,null,null,0,0,0,0,0,0,0,"","",{"$f":"INDEX($AL$3:$AL$1500, MATCH(0, IF(ISBLANK($AL$3:$AL$1500), 1, COUNTIF(AM$3:AM841, $AL$3:$AL$1500)), 0))","v":{"$error":"#N/A"}},""]
[{"$f":"IF(E845=\"\",\"\",GetAddress(E845))","v":""},{"$f":"IF(E845=\"\",\"\",GetAddress(E845))","v":""},null,null,null,null,null,null,null,null,null,null,null,null,null,null,null,null,null,null,null,null,null,null,null,null,null,null,null,0,0,0,0,0,0,0,"","",{"$f":"INDEX($AL$3:$AL$1500, MATCH(0, IF(ISBLANK($AL$3:$AL$1500), 1, COUNTIF(AM$3:AM842, $AL$3:$AL$1500)), 0))","v":{"$error":"#N/A"}},""]
[{"$f":"IF(E846=\"\",\"\",GetAddress(E846))","v":""},{"$f":"IF(E846=\"\",\"\",GetAddress(E846))","v":""},null,null,null,null,null,null,null,null,null,null,null,null,null,null,null,null,null,null,null,null,null,null,null,null,null,null,null,0,0,0,0,0,0,0,"","",{"$f":"INDEX($AL$3:$AL$1500, MATCH(0, IF(ISBLANK($AL$3:$AL$1500), 1, COUNTIF(AM$3:AM843, $AL$3:$AL$1500)), 0))","v":{"$error":"#N/A"}},""]
[{"$f":"IF(E847=\"\",\"\",GetAddress(E847))","v":""},{"$f":"IF(E847=\"\",\"\",GetAddress(E847))","v":""},null,null,null,null,null,null,null,null,null,null,null,null,null,null,null,null,null,null,null,null,null,null,null,null,null,null,null,0,0,0,0,0,0,0,"","",{"$f":"INDEX($AL$3:$AL$1500, MATCH(0, IF(ISBLANK($AL$3:$AL$1500), 1, COUNTIF(AM$3:AM844, $AL$3:$AL$1500)), 0))","v":{"$error":"#N/A"}},""]
[{"$f":"IF(E848=\"\",\"\",GetAddress(E848))","v":""},{"$f":"IF(E848=\"\",\"\",GetAddress(E848))","v":""},null,null,null,null,null,null,null,null,null,null,null,null,null,null,null,null,null,null,null,null,null,null,null,null,null,null,null,0,0,0,0,0,0,0,"","",{"$f":"INDEX($AL$3:$AL$1500, MATCH(0, IF(ISBLANK($AL$3:$AL$1500), 1, COUNTIF(AM$3:AM845, $AL$3:$AL$1500)), 0))","v":{"$error":"#N/A"}},""]
[{"$f":"IF(E849=\"\",\"\",GetAddress(E849))","v":""},{"$f":"IF(E849=\"\",\"\",GetAddress(E849))","v":""},null,null,null,null,null,null,null,null,null,null,null,null,null,null,null,null,null,null,null,null,null,null,null,null,null,null,null,0,0,0,0,0,0,0,"","",{"$f":"INDEX($AL$3:$AL$1500, MATCH(0, IF(ISBLANK($AL$3:$AL$1500), 1, COUNTIF(AM$3:AM846, $AL$3:$AL$1500)), 0))","v":{"$error":"#N/A"}},""]
[{"$f":"IF(E850=\"\",\"\",GetAddress(E850))","v":""},{"$f":"IF(E850=\"\",\"\",GetAddress(E850))","v":""},null,null,null,null,null,null,null,null,null,null,null,null,null,null,null,null,null,null,null,null,null,null,null,null,null,null,null,0,0,0,0,0,0,0,"","",{"$f":"INDEX($AL$3:$AL$1500, MATCH(0, IF(ISBLANK($AL$3:$AL$1500), 1, COUNTIF(AM$3:AM847, $AL$3:$AL$1500)), 0))","v":{"$error":"#N/A"}},""]
[{"$f":"IF(E851=\"\",\"\",GetAddress(E851))","v":""},{"$f":"IF(E851=\"\",\"\",GetAddress(E851))","v":""},null,null,null,null,null,null,null,null,null,null,null,null,null,null,null,null,null,null,null,null,null,null,null,null,null,null,null,0,0,0,0,0,0,0,"","",{"$f":"INDEX($AL$3:$AL$1500, MATCH(0, IF(ISBLANK($AL$3:$AL$1500), 1, COUNTIF(AM$3:AM848, $AL$3:$AL$1500)), 0))","v":{"$error":"#N/A"}},""]
[{"$f":"IF(E852=\"\",\"\",GetAddress(E852))","v":""},{"$f":"IF(E852=\"\",\"\",GetAddress(E852))","v":""},null,null,null,null,null,null,null,null,null,null,null,null,null,null,null,null,null,null,null,null,null,null,null,null,null,null,null,0,0,0,0,0,0,0,"","",{"$f":"INDEX($AL$3:$AL$1500, MATCH(0, IF(ISBLANK($AL$3:$AL$1500), 1, COUNTIF(AM$3:AM849, $AL$3:$AL$1500)), 0))","v":{"$error":"#N/A"}},""]
[{"$f":"IF(E853=\"\",\"\",GetAddress(E853))","v":""},{"$f":"IF(E853=\"\",\"\",GetAddress(E853))","v":""},null,null,null,null,null,null,null,null,null,null,null,null,null,null,null,null,null,null,null,null,null,null,null,null,null,null,null,0,0,0,0,0,0,0,"","",{"$f":"INDEX($AL$3:$AL$1500, MATCH(0, IF(ISBLANK($AL$3:$AL$1500), 1, COUNTIF(AM$3:AM850, $AL$3:$AL$1500)), 0))","v":{"$error":"#N/A"}},""]
[{"$f":"IF(E854=\"\",\"\",GetAddress(E854))","v":""},{"$f":"IF(E854=\"\",\"\",GetAddress(E854))","v":""},null,null,null,null,null,null,null,null,null,null,null,null,null,null,null,null,null,null,null,null,null,null,null,null,null,null,null,0,0,0,0,0,0,0,"","",{"$f":"INDEX($AL$3:$AL$1500, MATCH(0, IF(ISBLANK($AL$3:$AL$1500), 1, COUNTIF(AM$3:AM851, $AL$3:$AL$1500)), 0))","v":{"$error":"#N/A"}},""]
[{"$f":"IF(E855=\"\",\"\",GetAddress(E855))","v":""},{"$f":"IF(E855=\"\",\"\",GetAddress(E855))","v":""},null,null,null,null,null,null,null,null,null,null,null,null,null,null,null,null,null,null,null,null,null,null,null,null,null,null,null,0,0,0,0,0,0,0,"","",{"$f":"INDEX($AL$3:$AL$1500, MATCH(0, IF(ISBLANK($AL$3:$AL$1500), 1, COUNTIF(AM$3:AM852, $AL$3:$AL$1500)), 0))","v":{"$error":"#N/A"}},""]
[{"$f":"IF(E856=\"\",\"\",GetAddress(E856))","v":""},{"$f":"IF(E856=\"\",\"\",GetAddress(E856))","v":""},null,null,null,null,null,null,null,null,null,null,null,null,null,null,null,null,null,null,null,null,null,null,null,null,null,null,null,0,0,0,0,0,0,0,"","",{"$f":"INDEX($AL$3:$AL$1500, MATCH(0, IF(ISBLANK($AL$3:$AL$1500), 1, COUNTIF(AM$3:AM853, $AL$3:$AL$1500)), 0))","v":{"$error":"#N/A"}},""]
[{"$f":"IF(E857=\"\",\"\",GetAddress(E857))","v":""},{"$f":"IF(E857=\"\",\"\",GetAddress(E857))","v":""},null,null,null,null,null,null,null,null,null,null,null,null,null,null,null,null,null,null,null,null,null,null,null,null,null,null,null,0,0,0,0,0,0,0,"","",{"$f":"INDEX($AL$3:$AL$1500, MATCH(0, IF(ISBLANK($AL$3:$AL$1500), 1, COUNTIF(AM$3:AM854, $AL$3:$AL$1500)), 0))","v":{"$error":"#N/A"}},""]
[{"$f":"IF(E858=\"\",\"\",GetAddress(E858))","v":""},{"$f":"IF(E858=\"\",\"\",GetAddress(E858))","v":""},null,null,null,null,null,null,null,null,null,null,null,null,null,null,null,null,null,null,null,null,null,null,null,null,null,null,null,0,0,0,0,0,0,0,"","",{"$f":"INDEX($AL$3:$AL$1500, MATCH(0, IF(ISBLANK($AL$3:$AL$1500), 1, COUNTIF(AM$3:AM855, $AL$3:$AL$1500)), 0))","v":{"$error":"#N/A"}},""]
[{"$f":"IF(E859=\"\",\"\",GetAddress(E859))","v":""},{"$f":"IF(E859=\"\",\"\",GetAddress(E859))","v":""},null,null,null,null,null,null,null,null,null,null,null,null,null,null,null,null,null,null,null,null,null,null,null,null,null,null,null,0,0,0,0,0,0,0,"","",{"$f":"INDEX($AL$3:$AL$1500, MATCH(0, IF(ISBLANK($AL$3:$AL$1500), 1, COUNTIF(AM$3:AM856, $AL$3:$AL$1500)), 0))","v":{"$error":"#N/A"}},""]
[{"$f":"IF(E860=\"\",\"\",GetAddress(E860))","v":""},{"$f":"IF(E860=\"\",\"\",GetAddress(E860))","v":""},null,null,null,null,null,null,null,null,null,null,null,null,null,null,null,null,null,null,null,null,null,null,null,null,null,null,null,0,0,0,0,0,0,0,"","",{"$f":"INDEX($AL$3:$AL$1500, MATCH(0, IF(ISBLANK($AL$3:$AL$1500), 1, COUNTIF(AM$3:AM857, $AL$3:$AL$1500)), 0))","v":{"$error":"#N/A"}},""]
[{"$f":"IF(E861=\"\",\"\",GetAddress(E861))","v":""},{"$f":"IF(E861=\"\",\"\",GetAddress(E861))","v":""},null,null,null,null,null,null,null,null,null,null,null,null,null,null,null,null,null,null,null,null,null,null,null,null,null,null,null,0,0,0,0,0,0,0,"","",{"$f":"INDEX($AL$3:$AL$1500, MATCH(0, IF(ISBLANK($AL$3:$AL$1500), 1, COUNTIF(AM$3:AM858, $AL$3:$AL$1500)), 0))","v":{"$error":"#N/A"}},""]
[{"$f":"IF(E862=\"\",\"\",GetAddress(E862))","v":""},{"$f":"IF(E862=\"\",\"\",GetAddress(E862))","v":""},null,null,null,null,null,null,null,null,null,null,null,null,null,null,null,null,null,null,null,null,null,null,null,null,null,null,null,0,0,0,0,0,0,0,"","",{"$f":"INDEX($AL$3:$AL$1500, MATCH(0, IF(ISBLANK($AL$3:$AL$1500), 1, COUNTIF(AM$3:AM859, $AL$3:$AL$1500)), 0))","v":{"$error":"#N/A"}},""]
[{"$f":"IF(E863=\"\",\"\",GetAddress(E863))","v":""},{"$f":"IF(E863=\"\",\"\",GetAddress(E863))","v":""},null,null,null,null,null,null,null,null,null,null,null,null,null,null,null,null,null,null,null,null,null,null,null,null,null,null,null,0,0,0,0,0,0,0,"","",{"$f":"INDEX($AL$3:$AL$1500, MATCH(0, IF(ISBLANK($AL$3:$AL$1500), 1, COUNTIF(AM$3:AM860, $AL$3:$AL$1500)), 0))","v":{"$error":"#N/A"}},""]
[{"$f":"IF(E864=\"\",\"\",GetAddress(E864))","v":""},{"$f":"IF(E864=\"\",\"\",GetAddress(E864))","v":""},null,null,null,null,null,null,null,null,null,null,null,null,null,null,null,null,null,null,null,null,null,null,null,null,null,null,null,0,0,0,0,0,0,0,"","",{"$f":"INDEX($AL$3:$AL$1500, MATCH(0, IF(ISBLANK($AL$3:$AL$1500), 1, COUNTIF(AM$3:AM861, $AL$3:$AL$1500)), 0))","v":{"$error":"#N/A"}},""]
[{"$f":"IF(E865=\"\",\"\",GetAddress(E865))","v":""},{"$f":"IF(E865=\"\",\"\",GetAddress(E865))","v":""},null,null,null,null,null,null,null,null,null,null,null,null,null,null,null,null,null,null,null,null,null,null,null,null,null,null,null,0,0,0,0,0,0,0,"","",{"$f":"INDEX($AL$3:$AL$1500, MATCH(0, IF(ISBLANK($AL$3:$AL$1500), 1, COUNTIF(AM$3:AM862, $AL$3:$AL$1500)), 0))","v":{"$error":"#N/A"}},""]
[{"$f":"IF(E866=\"\",\"\",GetAddress(E866))","v":""},{"$f":"IF(E866=\"\",\"\",GetAddress(E866))","v":""},null,null,null,null,null,null,null,null,null,null,null,null,null,null,null,null,null,null,null,null,null,null,null,null,null,null,null,0,0,0,0,0,0,0,"","",{"$f":"INDEX($AL$3:$AL$1500, MATCH(0, IF(ISBLANK($AL$3:$AL$1500), 1, COUNTIF(AM$3:AM863, $AL$3:$AL$1500)), 0))","v":{"$error":"#N/A"}},""]
[{"$f":"IF(E867=\"\",\"\",GetAddress(E867))","v":""},{"$f":"IF(E867=\"\",\"\",GetAddress(E867))","v":""},null,null,null,null,null,null,null,null,null,null,null,null,null,null,null,null,null,null,null,null,null,null,null,null,null,null,null,0,0,0,0,0,0,0,"","",{"$f":"INDEX($AL$3:$AL$1500, MATCH(0, IF(ISBLANK($AL$3:$AL$1500), 1, COUNTIF(AM$3:AM864, $AL$3:$AL$1500)), 0))","v":{"$error":"#N/A"}},""]
[{"$f":"IF(E868=\"\",\"\",GetAddress(E868))","v":""},{"$f":"IF(E868=\"\",\"\",GetAddress(E868))","v":""},null,null,null,null,null,null,null,null,null,null,null,null,null,null,null,null,null,null,null,null,null,null,null,null,null,null,null,0,0,0,0,0,0,0,"","",{"$f":"INDEX($AL$3:$AL$1500, MATCH(0, IF(ISBLANK($AL$3:$AL$1500), 1, COUNTIF(AM$3:AM865, $AL$3:$AL$1500)), 0))","v":{"$error":"#N/A"}},""]
[{"$f":"IF(E869=\"\",\"\",GetAddress(E869))","v":""},{"$f":"IF(E869=\"\",\"\",GetAddress(E869))","v":""},null,null,null,null,null,null,null,null,null,null,null,null,null,null,null,null,null,null,null,null,null,null,null,null,null,null,null,0,0,0,0,0,0,0,"","",{"$f":"INDEX($AL$3:$AL$1500, MATCH(0, IF(ISBLANK($AL$3:$AL$1500), 1, COUNTIF(AM$3:AM866, $AL$3:$AL$1500)), 0))","v":{"$error":"#N/A"}},""]
[{"$f":"IF(E870=\"\",\"\",GetAddress(E870))","v":""},{"$f":"IF(E870=\"\",\"\",GetAddress(E870))","v":""},null,null,null,null,null,null,null,null,null,null,null,null,null,null,null,null,null,null,null,null,null,null,null,null,null,null,null,0,0,0,0,0,0,0,"","",{"$f":"INDEX($AL$3:$AL$1500, MATCH(0, IF(ISBLANK($AL$3:$AL$1500), 1, COUNTIF(AM$3:AM867, $AL$3:$AL$1500)), 0))","v":{"$error":"#N/A"}},""]
[{"$f":"IF(E871=\"\",\"\",GetAddress(E871))","v":""},{"$f":"IF(E871=\"\",\"\",GetAddress(E871))","v":""},null,null,null,null,null,null,null,null,null,null,null,null,null,null,null,null,null,null,null,null,null,null,null,null,null,null,null,0,0,0,0,0,0,0,"","",{"$f":"INDEX($AL$3:$AL$1500, MATCH(0, IF(ISBLANK($AL$3:$AL$1500), 1, COUNTIF(AM$3:AM868, $AL$3:$AL$1500)), 0))","v":{"$error":"#N/A"}},""]
[{"$f":"IF(E872=\"\",\"\",GetAddress(E872))","v":""},{"$f":"IF(E872=\"\",\"\",GetAddress(E872))","v":""},null,null,null,null,null,null,null,null,null,null,null,null,null,null,null,null,null,null,null,null,null,null,null,null,null,null,null,0,0,0,0,0,0,0,"","",{"$f":"INDEX($AL$3:$AL$1500, MATCH(0, IF(ISBLANK($AL$3:$AL$1500), 1, COUNTIF(AM$3:AM869, $AL$3:$AL$1500)), 0))","v":{"$error":"#N/A"}},""]
[{"$f":"IF(E873=\"\",\"\",GetAddress(E873))","v":""},{"$f":"IF(E873=\"\",\"\",GetAddress(E873))","v":""},null,null,null,null,null,null,null,null,null,null,null,null,null,null,null,null,null,null,null,null,null,null,null,null,null,null,null,0,0,0,0,0,0,0,"","",{"$f":"INDEX($AL$3:$AL$1500, MATCH(0, IF(ISBLANK($AL$3:$AL$1500), 1, COUNTIF(AM$3:AM870, $AL$3:$AL$1500)), 0))","v":{"$error":"#N/A"}},""]
[{"$f":"IF(E874=\"\",\"\",GetAddress(E874))","v":""},{"$f":"IF(E874=\"\",\"\",GetAddress(E874))","v":""},null,null,null,null,null,null,null,null,null,null,null,null,null,null,null,null,null,null,null,null,null,null,null,null,null,null,null,0,0,0,0,0,0,0,"","",{"$f":"INDEX($AL$3:$AL$1500, MATCH(0, IF(ISBLANK($AL$3:$AL$1500), 1, COUNTIF(AM$3:AM871, $AL$3:$AL$1500)), 0))","v":{"$error":"#N/A"}},""]
[{"$f":"IF(E875=\"\",\"\",GetAddress(E875))","v":""},{"$f":"IF(E875=\"\",\"\",GetAddress(E875))","v":""},null,null,null,null,null,null,null,null,null,null,null,null,null,null,null,null,null,null,null,null,null,null,null,null,null,null,null,0,0,0,0,0,0,0,"","",{"$f":"INDEX($AL$3:$AL$1500, MATCH(0, IF(ISBLANK($AL$3:$AL$1500), 1, COUNTIF(AM$3:AM872, $AL$3:$AL$1500)), 0))","v":{"$error":"#N/A"}},""]
[{"$f":"IF(E876=\"\",\"\",GetAddress(E876))","v":""},{"$f":"IF(E876=\"\",\"\",GetAddress(E876))","v":""},null,null,null,null,null,null,null,null,null,null,null,null,null,null,null,null,null,null,null,null,null,null,null,null,null,null,null,0,0,0,0,0,0,0,"","",{"$f":"INDEX($AL$3:$AL$1500, MATCH(0, IF(ISBLANK($AL$3:$AL$1500), 1, COUNTIF(AM$3:AM873, $AL$3:$AL$1500)), 0))","v":{"$error":"#N/A"}},""]
[{"$f":"IF(E877=\"\",\"\",GetAddress(E877))","v":""},{"$f":"IF(E877=\"\",\"\",GetAddress(E877))","v":""},null,null,null,null,null,null,null,null,null,null,null,null,null,null,null,null,null,null,null,null,null,null,null,null,null,null,null,0,0,0,0,0,0,0,"","",{"$f":"INDEX($AL$3:$AL$1500, MATCH(0, IF(ISBLANK($AL$3:$AL$1500), 1, COUNTIF(AM$3:AM874, $AL$3:$AL$1500)), 0))","v":{"$error":"#N/A"}},""]
[{"$f":"IF(E878=\"\",\"\",GetAddress(E878))","v":""},{"$f":"IF(E878=\"\",\"\",GetAddress(E878))","v":""},null,null,null,null,null,null,null,null,null,null,null,null,null,null,null,null,null,null,null,null,null,null,null,null,null,null,null,0,0,0,0,0,0,0,"","",{"$f":"INDEX($AL$3:$AL$1500, MATCH(0, IF(ISBLANK($AL$3:$AL$1500), 1, COUNTIF(AM$3:AM875, $AL$3:$AL$1500)), 0))","v":{"$error":"#N/A"}},""]
[{"$f":"IF(E879=\"\",\"\",GetAddress(E879))","v":""},{"$f":"IF(E879=\"\",\"\",GetAddress(E879))","v":""},null,null,null,null,null,null,null,null,null,null,null,null,null,null,null,null,null,null,null,null,null,null,null,null,null,null,null,0,0,0,0,0,0,0,"","",{"$f":"INDEX($AL$3:$AL$1500, MATCH(0, IF(ISBLANK($AL$3:$AL$1500), 1, COUNTIF(AM$3:AM876, $AL$3:$AL$1500)), 0))","v":{"$error":"#N/A"}},""]
[{"$f":"IF(E880=\"\",\"\",GetAddress(E880))","v":""},{"$f":"IF(E880=\"\",\"\",GetAddress(E880))","v":""},null,null,null,null,null,null,null,null,null,null,null,null,null,null,null,null,null,null,null,null,null,null,null,null,null,null,null,0,0,0,0,0,0,0,"","",{"$f":"INDEX($AL$3:$AL$1500, MATCH(0, IF(ISBLANK($AL$3:$AL$1500), 1, COUNTIF(AM$3:AM877, $AL$3:$AL$1500)), 0))","v":{"$error":"#N/A"}},""]
[{"$f":"IF(E881=\"\",\"\",GetAddress(E881))","v":""},{"$f":"IF(E881=\"\",\"\",GetAddress(E881))","v":""},null,null,null,null,null,null,null,null,null,null,null,null,null,null,null,null,null,null,null,null,null,null,null,null,null,null,null,0,0,0,0,0,0,0,"","",{"$f":"INDEX($AL$3:$AL$1500, MATCH(0, IF(ISBLANK($AL$3:$AL$1500), 1, COUNTIF(AM$3:AM878, $AL$3:$AL$1500)), 0))","v":{"$error":"#N/A"}},""]
[{"$f":"IF(E882=\"\",\"\",GetAddress(E882))","v":""},{"$f":"IF(E882=\"\",\"\",GetAddress(E882))","v":""},null,null,null,null,null,null,null,null,null,null,null,null,null,null,null,null,null,null,null,null,null,null,null,null,null,null,null,0,0,0,0,0,0,0,"","",{"$f":"INDEX($AL$3:$AL$1500, MATCH(0, IF(ISBLANK($AL$3:$AL$1500), 1, COUNTIF(AM$3:AM879, $AL$3:$AL$1500)), 0))","v":{"$error":"#N/A"}},""]
[{"$f":"IF(E883=\"\",\"\",GetAddress(E883))","v":""},{"$f":"IF(E883=\"\",\"\",GetAddress(E883))","v":""},null,null,null,null,null,null,null,null,null,null,null,null,null,null,null,null,null,null,null,null,null,null,null,null,null,null,null,0,0,0,0,0,0,0,"","",{"$f":"INDEX($AL$3:$AL$1500, MATCH(0, IF(ISBLANK($AL$3:$AL$1500), 1, COUNTIF(AM$3:AM880, $AL$3:$AL$1500)), 0))","v":{"$error":"#N/A"}},""]
[{"$f":"IF(E884=\"\",\"\",GetAddress(E884))","v":""},{"$f":"IF(E884=\"\",\"\",GetAddress(E884))","v":""},null,null,null,null,null,null,null,null,null,null,null,null,null,null,null,null,null,null,null,null,null,null,null,null,null,null,null,0,0,0,0,0,0,0,"","",{"$f":"INDEX($AL$3:$AL$1500, MATCH(0, IF(ISBLANK($AL$3:$AL$1500), 1, COUNTIF(AM$3:AM881, $AL$3:$AL$1500)), 0))","v":{"$error":"#N/A"}},""]
[{"$f":"IF(E885=\"\",\"\",GetAddress(E885))","v":""},{"$f":"IF(E885=\"\",\"\",GetAddress(E885))","v":""},null,null,null,null,null,null,null,null,null,null,null,null,null,null,null,null,null,null,null,null,null,null,null,null,null,null,null,0,0,0,0,0,0,0,"","",{"$f":"INDEX($AL$3:$AL$1500, MATCH(0, IF(ISBLANK($AL$3:$AL$1500), 1, COUNTIF(AM$3:AM882, $AL$3:$AL$1500)), 0))","v":{"$error":"#N/A"}},""]
[{"$f":"IF(E886=\"\",\"\",GetAddress(E886))","v":""},{"$f":"IF(E886=\"\",\"\",GetAddress(E886))","v":""},null,null,null,null,null,null,null,null,null,null,null,null,null,null,null,null,null,null,null,null,null,null,null,null,null,null,null,0,0,0,0,0,0,0,"","",{"$f":"INDEX($AL$3:$AL$1500, MATCH(0, IF(ISBLANK($AL$3:$AL$1500), 1, COUNTIF(AM$3:AM883, $AL$3:$AL$1500)), 0))","v":{"$error":"#N/A"}},""]
[{"$f":"IF(E887=\"\",\"\",GetAddress(E887))","v":""},{"$f":"IF(E887=\"\",\"\",GetAddress(E887))","v":""},null,null,null,null,null,null,null,null,null,null,null,null,null,null,null,null,null,null,null,null,null,null,null,null,null,null,null,0,0,0,0,0,0,0,"","",{"$f":"INDEX($AL$3:$AL$1500, MATCH(0, IF(ISBLANK($AL$3:$AL$1500), 1, COUNTIF(AM$3:AM884, $AL$3:$AL$1500)), 0))","v":{"$error":"#N/A"}},""]
[{"$f":"IF(E888=\"\",\"\",GetAddress(E888))","v":""},{"$f":"IF(E888=\"\",\"\",GetAddress(E888))","v":""},null,null,null,null,null,null,null,null,null,null,null,null,null,null,null,null,null,null,null,null,null,null,null,null,null,null,null,0,0,0,0,0,0,0,"","",{"$f":"INDEX($AL$3:$AL$1500, MATCH(0, IF(ISBLANK($AL$3:$AL$1500), 1, COUNTIF(AM$3:AM885, $AL$3:$AL$1500)), 0))","v":{"$error":"#N/A"}},""]
[{"$f":"IF(E889=\"\",\"\",GetAddress(E889))","v":""},{"$f":"IF(E889=\"\",\"\",GetAddress(E889))","v":""},null,null,null,null,null,null,null,null,null,null,null,null,null,null,null,null,null,null,null,null,null,null,null,null,null,null,null,0,0,0,0,0,0,0,"","",{"$f":"INDEX($AL$3:$AL$1500, MATCH(0, IF(ISBLANK($AL$3:$AL$1500), 1, COUNTIF(AM$3:AM886, $AL$3:$AL$1500)), 0))","v":{"$error":"#N/A"}},""]
[{"$f":"IF(E890=\"\",\"\",GetAddress(E890))","v":""},{"$f":"IF(E890=\"\",\"\",GetAddress(E890))","v":""},null,null,null,null,null,null,null,null,null,null,null,null,null,null,null,null,null,null,null,null,null,null,null,null,null,null,null,0,0,0,0,0,0,0,"","",{"$f":"INDEX($AL$3:$AL$1500, MATCH(0, IF(ISBLANK($AL$3:$AL$1500), 1, COUNTIF(AM$3:AM887, $AL$3:$AL$1500)), 0))","v":{"$error":"#N/A"}},""]
[{"$f":"IF(E891=\"\",\"\",GetAddress(E891))","v":""},{"$f":"IF(E891=\"\",\"\",GetAddress(E891))","v":""},null,null,null,null,null,null,null,null,null,null,null,null,null,null,null,null,null,null,null,null,null,null,null,null,null,null,null,0,0,0,0,0,0,0,"","",{"$f":"INDEX($AL$3:$AL$1500, MATCH(0, IF(ISBLANK($AL$3:$AL$1500), 1, COUNTIF(AM$3:AM888, $AL$3:$AL$1500)), 0))","v":{"$error":"#N/A"}},""]
[{"$f":"IF(E892=\"\",\"\",GetAddress(E892))","v":""},{"$f":"IF(E892=\"\",\"\",GetAddress(E892))","v":""},null,null,null,null,null,null,null,null,null,null,null,null,null,null,null,null,null,null,null,null,null,null,null,null,null,null,null,0,0,0,0,0,0,0,"","",{"$f":"INDEX($AL$3:$AL$1500, MATCH(0, IF(ISBLANK($AL$3:$AL$1500), 1, COUNTIF(AM$3:AM889, $AL$3:$AL$1500)), 0))","v":{"$error":"#N/A"}},""]
[{"$f":"IF(E893=\"\",\"\",GetAddress(E893))","v":""},{"$f":"IF(E893=\"\",\"\",GetAddress(E893))","v":""},null,null,null,null,null,null,null,null,null,null,null,null,null,null,null,null,null,null,null,null,null,null,null,null,null,null,null,0,0,0,0,0,0,0,"","",{"$f":"INDEX($AL$3:$AL$1500, MATCH(0, IF(ISBLANK($AL$3:$AL$1500), 1, COUNTIF(AM$3:AM890, $AL$3:$AL$1500)), 0))","v":{"$error":"#N/A"}},""]
[{"$f":"IF(E894=\"\",\"\",GetAddress(E894))","v":""},{"$f":"IF(E894=\"\",\"\",GetAddress(E894))","v":""},null,null,null,null,null,null,null,null,null,null,null,null,null,null,null,null,null,null,null,null,null,null,null,null,null,null,null,0,0,0,0,0,0,0,"","",{"$f":"INDEX($AL$3:$AL$1500, MATCH(0, IF(ISBLANK($AL$3:$AL$1500), 1, COUNTIF(AM$3:AM891, $AL$3:$AL$1500)), 0))","v":{"$error":"#N/A"}},""]
[{"$f":"IF(E895=\"\",\"\",GetAddress(E895))","v":""},{"$f":"IF(E895=\"\",\"\",GetAddress(E895))","v":""},null,null,null,null,null,null,null,null,null,null,null,null,null,null,null,null,null,null,null,null,null,null,null,null,null,null,null,0,0,0,0,0,0,0,"","",{"$f":"INDEX($AL$3:$AL$1500, MATCH(0, IF(ISBLANK($AL$3:$AL$1500), 1, COUNTIF(AM$3:AM892, $AL$3:$AL$1500)), 0))","v":{"$error":"#N/A"}},""]
[{"$f":"IF(E896=\"\",\"\",GetAddress(E896))","v":""},{"$f":"IF(E896=\"\",\"\",GetAddress(E896))","v":""},null,null,null,null,null,null,null,null,null,null,null,null,null,null,null,null,null,null,null,null,null,null,null,null,null,null,null,0,0,0,0,0,0,0,"","",{"$f":"INDEX($AL$3:$AL$1500, MATCH(0, IF(ISBLANK($AL$3:$AL$1500), 1, COUNTIF(AM$3:AM893, $AL$3:$AL$1500)), 0))","v":{"$error":"#N/A"}},""]
[{"$f":"IF(E897=\"\",\"\",GetAddress(E897))","v":""},{"$f":"IF(E897=\"\",\"\",GetAddress(E897))","v":""},null,null,null,null,null,null,null,null,null,null,null,null,null,null,null,null,null,null,null,null,null,null,null,null,null,null,null,0,0,0,0,0,0,0,"","",{"$f":"INDEX($AL$3:$AL$1500, MATCH(0, IF(ISBLANK($AL$3:$AL$1500), 1, COUNTIF(AM$3:AM894, $AL$3:$AL$1500)), 0))","v":{"$error":"#N/A"}},""]
[{"$f":"IF(E898=\"\",\"\",GetAddress(E898))","v":""},{"$f":"IF(E898=\"\",\"\",GetAddress(E898))","v":""},null,null,null,null,null,null,null,null,null,null,null,null,null,null,null,null,null,null,null,null,null,null,null,null,null,null,null,0,0,0,0,0,0,0,"","",{"$f":"INDEX($AL$3:$AL$1500, MATCH(0, IF(ISBLANK($AL$3:$AL$1500), 1, COUNTIF(AM$3:AM895, $AL$3:$AL$1500)), 0))","v":{"$error":"#N/A"}},""]
[{"$f":"IF(E899=\"\",\"\",GetAddress(E899))","v":""},{"$f":"IF(E899=\"\",\"\",GetAddress(E899))","v":""},null,null,null,null,null,null,null,null,null,null,null,null,null,null,null,null,null,null,null,null,null,null,null,null,null,null,null,0,0,0,0,0,0,0,"","",{"$f":"INDEX($AL$3:$AL$1500, MATCH(0, IF(ISBLANK($AL$3:$AL$1500), 1, COUNTIF(AM$3:AM896, $AL$3:$AL$1500)), 0))","v":{"$error":"#N/A"}},""]
[{"$f":"IF(E900=\"\",\"\",GetAddress(E900))","v":""},{"$f":"IF(E900=\"\",\"\",GetAddress(E900))","v":""},null,null,null,null,null,null,null,null,null,null,null,null,null,null,null,null,null,null,null,null,null,null,null,null,null,null,null,0,0,0,0,0,0,0,"","",{"$f":"INDEX($AL$3:$AL$1500, MATCH(0, IF(ISBLANK($AL$3:$AL$1500), 1, COUNTIF(AM$3:AM897, $AL$3:$AL$1500)), 0))","v":{"$error":"#N/A"}},""]
[{"$f":"IF(E901=\"\",\"\",GetAddress(E901))","v":""},{"$f":"IF(E901=\"\",\"\",GetAddress(E901))","v":""},null,null,null,null,null,null,null,null,null,null,null,null,null,null,null,null,null,null,null,null,null,null,null,null,null,null,null,0,0,0,0,0,0,{"$f":"IF(AI899=\"Free A\",\"\",AI899)","v":0},{"$f":"IF(AJ899=0,\"\",AJ899)","v":""},{"$f":"IF(AK899=\"Free Agent\",\"\",AK899)","v":""},{"$f":"INDEX($AL$3:$AL$1500, MATCH(0, IF(ISBLANK($AL$3:$AL$1500), 1, COUNTIF(AM$3:AM898, $AL$3:$AL$1500)), 0))","v":{"$error":"#N/A"}},{"$f":"IF(ISERROR(AM899),\"\",AM899)","v":""}]
[{"$f":"IF(E902=\"\",\"\",GetAddress(E902))","v":""},{"$f":"IF(E902=\"\",\"\",GetAddress(E902))","v":""},null,null,null,null,null,null,null,null,null,null,null,null,null,null,null,null,null,null,null,null,null,null,null,null,null,null,null,0,0,0,0,0,0,0,"","",{"$f":"INDEX($AL$3:$AL$1500, MATCH(0, IF(ISBLANK($AL$3:$AL$1500), 1, COUNTIF(AM$3:AM899, $AL$3:$AL$1500)), 0))","v":{"$error":"#N/A"}},""]
[{"$f":"IF(E903=\"\",\"\",GetAddress(E903))","v":""},{"$f":"IF(E903=\"\",\"\",GetAddress(E903))","v":""},null,null,null,null,null,null,null,null,null,null,null,null,null,null,null,null,null,null,null,null,null,null,null,null,null,null,null,{"$f":"VALUE(IF(ISNUMBER(SEARCH(\"(P)\",Y901)),\"1\", \"0\"))","v":0},{"$f":"VALUE(IF(ISNUMBER(SEARCH(\"(Q)\",Y901)),\"1\", \"0\"))","v":0},{"$f":"VALUE(IF(ISNUMBER(SEARCH(\"(O)\",Y901)),\"1\", \"0\"))","v":0},{"$f":"VALUE(IF(ISNUMBER(SEARCH(\"(S)\",Y901)),\"1\", \"0\"))","v":0},{"$f":"VALUE(IF(ISNUMBER(SEARCH(\"Free Agent\",Y901)),\"1\", \"0\"))","v":0},{"$f":"IF(SUM(AD901:AH901)=0,Y901,LEFT(Y901,LEN(Y901)-4))","v":0},0,"","",{"$f":"INDEX($AL$3:$AL$1500, MATCH(0, IF(ISBLANK($AL$3:$AL$1500), 1, COUNTIF(AM$3:AM900, $AL$3:$AL$1500)), 0))","v":{"$error":"#N/A"}},""]
[{"$f":"IF(E904=\"\",\"\",GetAddress(E904))","v":""},{"$f":"IF(E904=\"\",\"\",GetAddress(E904))","v":""},null,null,null,null,null,null,null,null,null,null,null,null,null,null,null,null,null,null,null,null,null,null,null,null,null,null,null,0,0,0,0,0,0,0,"","",{"$f":"INDEX($AL$3:$AL$1500, MATCH(0, IF(ISBLANK($AL$3:$AL$1500), 1, COUNTIF(AM$3:AM901, $AL$3:$AL$1500)), 0))","v":{"$error":"#N/A"}},""]
[{"$f":"IF(E905=\"\",\"\",GetAddress(E905))","v":""},{"$f":"IF(E905=\"\",\"\",GetAddress(E905))","v":""},null,null,null,null,null,null,null,null,null,null,null,null,null,null,null,null,null,null,null,null,null,null,null,null,null,null,null,0,0,0,0,0,0,0,"","",{"$f":"INDEX($AL$3:$AL$1500, MATCH(0, IF(ISBLANK($AL$3:$AL$1500), 1, COUNTIF(AM$3:AM902, $AL$3:$AL$1500)), 0))","v":{"$error":"#N/A"}},""]
[{"$f":"IF(E906=\"\",\"\",GetAddress(E906))","v":""},{"$f":"IF(E906=\"\",\"\",GetAddress(E906))","v":""},null,null,null,null,null,null,null,null,null,null,null,null,null,null,null,null,null,null,null,null,null,null,null,null,null,null,null,0,0,0,0,0,0,0,"","",{"$f":"INDEX($AL$3:$AL$1500, MATCH(0, IF(ISBLANK($AL$3:$AL$1500), 1, COUNTIF(AM$3:AM903, $AL$3:$AL$1500)), 0))","v":{"$error":"#N/A"}},""]
[{"$f":"IF(E907=\"\",\"\",GetAddress(E907))","v":""},{"$f":"IF(E907=\"\",\"\",GetAddress(E907))","v":""},null,null,null,null,null,null,null,null,null,null,null,null,null,null,null,null,null,null,null,null,null,null,null,null,null,null,null,0,0,0,0,0,0,0,"","",{"$f":"INDEX($AL$3:$AL$1500, MATCH(0, IF(ISBLANK($AL$3:$AL$1500), 1, COUNTIF(AM$3:AM904, $AL$3:$AL$1500)), 0))","v":{"$error":"#N/A"}},""]
[{"$f":"IF(E908=\"\",\"\",GetAddress(E908))","v":""},{"$f":"IF(E908=\"\",\"\",GetAddress(E908))","v":""},null,null,null,null,null,null,null,null,null,null,null,null,null,null,null,null,null,null,null,null,null,null,null,null,null,null,null,0,0,0,0,0,0,0,"","",{"$f":"INDEX($AL$3:$AL$1500, MATCH(0, IF(ISBLANK($AL$3:$AL$1500), 1, COUNTIF(AM$3:AM905, $AL$3:$AL$1500)), 0))","v":{"$error":"#N/A"}},""]
[{"$f":"IF(E909=\"\",\"\",GetAddress(E909))","v":""},{"$f":"IF(E909=\"\",\"\",GetAddress(E909))","v":""},null,null,null,null,null,null,null,null,null,null,null,null,null,null,null,null,null,null,null,null,null,null,null,null,null,null,null,0,0,0,0,0,0,0,"","",{"$f":"INDEX($AL$3:$AL$1500, MATCH(0, IF(ISBLANK($AL$3:$AL$1500), 1, COUNTIF(AM$3:AM906, $AL$3:$AL$1500)), 0))","v":{"$error":"#N/A"}},""]
[{"$f":"IF(E910=\"\",\"\",GetAddress(E910))","v":""},{"$f":"IF(E910=\"\",\"\",GetAddress(E910))","v":""},null,null,null,null,null,null,null,null,null,null,null,null,null,null,null,null,null,null,null,null,null,null,null,null,null,null,null,0,0,0,0,0,0,0,"","",{"$f":"INDEX($AL$3:$AL$1500, MATCH(0, IF(ISBLANK($AL$3:$AL$1500), 1, COUNTIF(AM$3:AM907, $AL$3:$AL$1500)), 0))","v":{"$error":"#N/A"}},""]
[{"$f":"IF(E911=\"\",\"\",GetAddress(E911))","v":""},{"$f":"IF(E911=\"\",\"\",GetAddress(E911))","v":""},null,null,null,null,null,null,null,null,null,null,null,null,null,null,null,null,null,null,null,null,null,null,null,null,null,null,null,0,0,0,0,0,0,0,"","",{"$f":"INDEX($AL$3:$AL$1500, MATCH(0, IF(ISBLANK($AL$3:$AL$1500), 1, COUNTIF(AM$3:AM908, $AL$3:$AL$1500)), 0))","v":{"$error":"#N/A"}},""]
[{"$f":"IF(E912=\"\",\"\",GetAddress(E912))","v":""},{"$f":"IF(E912=\"\",\"\",GetAddress(E912))","v":""},null,null,null,null,null,null,null,null,null,null,null,null,null,null,null,null,null,null,null,null,null,null,null,null,null,null,null,0,0,0,0,0,0,0,"","",{"$f":"INDEX($AL$3:$AL$1500, MATCH(0, IF(ISBLANK($AL$3:$AL$1500), 1, COUNTIF(AM$3:AM909, $AL$3:$AL$1500)), 0))","v":{"$error":"#N/A"}},""]
[{"$f":"IF(E913=\"\",\"\",GetAddress(E913))","v":""},{"$f":"IF(E913=\"\",\"\",GetAddress(E913))","v":""},null,null,null,null,null,null,null,null,null,null,null,null,null,null,null,null,null,null,null,null,null,null,null,null,null,null,null,0,0,0,0,0,0,0,"","",{"$f":"INDEX($AL$3:$AL$1500, MATCH(0, IF(ISBLANK($AL$3:$AL$1500), 1, COUNTIF(AM$3:AM910, $AL$3:$AL$1500)), 0))","v":{"$error":"#N/A"}},""]
[{"$f":"IF(E914=\"\",\"\",GetAddress(E914))","v":""},{"$f":"IF(E914=\"\",\"\",GetAddress(E914))","v":""},null,null,null,null,null,null,null,null,null,null,null,null,null,null,null,null,null,null,null,null,null,null,null,null,null,null,null,0,0,0,0,0,0,0,"","",{"$f":"INDEX($AL$3:$AL$1500, MATCH(0, IF(ISBLANK($AL$3:$AL$1500), 1, COUNTIF(AM$3:AM911, $AL$3:$AL$1500)), 0))","v":{"$error":"#N/A"}},""]
[{"$f":"IF(E915=\"\",\"\",GetAddress(E915))","v":""},{"$f":"IF(E915=\"\",\"\",GetAddress(E915))","v":""},null,null,null,null,null,null,null,null,null,null,null,null,null,null,null,null,null,null,null,null,null,null,null,null,null,null,null,0,0,0,0,0,0,0,"","",{"$f":"INDEX($AL$3:$AL$1500, MATCH(0, IF(ISBLANK($AL$3:$AL$1500), 1, COUNTIF(AM$3:AM912, $AL$3:$AL$1500)), 0))","v":{"$error":"#N/A"}},""]
[{"$f":"IF(E916=\"\",\"\",GetAddress(E916))","v":""},{"$f":"IF(E916=\"\",\"\",GetAddress(E916))","v":""},null,null,null,null,null,null,null,null,null,null,null,null,null,null,null,null,null,null,null,null,null,null,null,null,null,null,null,0,0,0,0,0,0,0,"","",{"$f":"INDEX($AL$3:$AL$1500, MATCH(0, IF(ISBLANK($AL$3:$AL$1500), 1, COUNTIF(AM$3:AM913, $AL$3:$AL$1500)), 0))","v":{"$error":"#N/A"}},""]
[{"$f":"IF(E917=\"\",\"\",GetAddress(E917))","v":""},{"$f":"IF(E917=\"\",\"\",GetAddress(E917))","v":""},null,null,null,null,null,null,null,null,null,null,null,null,null,null,null,null,null,null,null,null,null,null,null,null,null,null,null,0,0,0,0,0,0,0,"","",{"$f":"INDEX($AL$3:$AL$1500, MATCH(0, IF(ISBLANK($AL$3:$AL$1500), 1, COUNTIF(AM$3:AM914, $AL$3:$AL$1500)), 0))","v":{"$error":"#N/A"}},""]
[{"$f":"IF(E918=\"\",\"\",GetAddress(E918))","v":""},{"$f":"IF(E918=\"\",\"\",GetAddress(E918))","v":""},null,null,null,null,null,null,null,null,null,null,null,null,null,null,null,null,null,null,null,null,null,null,null,null,null,null,null,0,0,0,0,0,0,0,"","",{"$f":"INDEX($AL$3:$AL$1500, MATCH(0, IF(ISBLANK($AL$3:$AL$1500), 1, COUNTIF(AM$3:AM915, $AL$3:$AL$1500)), 0))","v":{"$error":"#N/A"}},""]
[{"$f":"IF(E919=\"\",\"\",GetAddress(E919))","v":""},{"$f":"IF(E919=\"\",\"\",GetAddress(E919))","v":""},null,null,null,null,null,null,null,null,null,null,null,null,null,null,null,null,null,null,null,null,null,null,null,null,null,null,null,0,0,0,0,0,0,0,"","",{"$f":"INDEX($AL$3:$AL$1500, MATCH(0, IF(ISBLANK($AL$3:$AL$1500), 1, COUNTIF(AM$3:AM916, $AL$3:$AL$1500)), 0))","v":{"$error":"#N/A"}},""]
[{"$f":"IF(E920=\"\",\"\",GetAddress(E920))","v":""},{"$f":"IF(E920=\"\",\"\",GetAddress(E920))","v":""},null,null,null,null,null,null,null,null,null,null,null,null,null,null,null,null,null,null,null,null,null,null,null,null,null,null,null,0,0,0,0,0,0,0,"","",{"$f":"INDEX($AL$3:$AL$1500, MATCH(0, IF(ISBLANK($AL$3:$AL$1500), 1, COUNTIF(AM$3:AM917, $AL$3:$AL$1500)), 0))","v":{"$error":"#N/A"}},""]
[{"$f":"IF(E921=\"\",\"\",GetAddress(E921))","v":""},{"$f":"IF(E921=\"\",\"\",GetAddress(E921))","v":""},null,null,null,null,null,null,null,null,null,null,null,null,null,null,null,null,null,null,null,null,null,null,null,null,null,null,null,0,0,0,0,0,0,0,"","",{"$f":"INDEX($AL$3:$AL$1500, MATCH(0, IF(ISBLANK($AL$3:$AL$1500), 1, COUNTIF(AM$3:AM918, $AL$3:$AL$1500)), 0))","v":{"$error":"#N/A"}},""]
[{"$f":"IF(E922=\"\",\"\",GetAddress(E922))","v":""},{"$f":"IF(E922=\"\",\"\",GetAddress(E922))","v":""},null,null,null,null,null,null,null,null,null,null,null,null,null,null,null,null,null,null,null,null,null,null,null,null,null,null,null,0,0,0,0,0,0,0,"","",{"$f":"INDEX($AL$3:$AL$1500, MATCH(0, IF(ISBLANK($AL$3:$AL$1500), 1, COUNTIF(AM$3:AM919, $AL$3:$AL$1500)), 0))","v":{"$error":"#N/A"}},""]
[{"$f":"IF(E923=\"\",\"\",GetAddress(E923))","v":""},{"$f":"IF(E923=\"\",\"\",GetAddress(E923))","v":""},null,null,null,null,null,null,null,null,null,null,null,null,null,null,null,null,null,null,null,null,null,null,null,null,null,null,null,0,0,0,0,0,0,0,"","",{"$f":"INDEX($AL$3:$AL$1500, MATCH(0, IF(ISBLANK($AL$3:$AL$1500), 1, COUNTIF(AM$3:AM920, $AL$3:$AL$1500)), 0))","v":{"$error":"#N/A"}},""]
[{"$f":"IF(E924=\"\",\"\",GetAddress(E924))","v":""},{"$f":"IF(E924=\"\",\"\",GetAddress(E924))","v":""},null,null,null,null,null,null,null,null,null,null,null,null,null,null,null,null,null,null,null,null,null,null,null,null,null,null,null,0,0,0,0,0,0,0,"","",{"$f":"INDEX($AL$3:$AL$1500, MATCH(0, IF(ISBLANK($AL$3:$AL$1500), 1, COUNTIF(AM$3:AM921, $AL$3:$AL$1500)), 0))","v":{"$error":"#N/A"}},""]
[{"$f":"IF(E925=\"\",\"\",GetAddress(E925))","v":""},{"$f":"IF(E925=\"\",\"\",GetAddress(E925))","v":""},null,null,null,null,null,null,null,null,null,null,null,null,null,null,null,null,null,null,null,null,null,null,null,null,null,null,null,0,0,0,0,0,0,0,"","",{"$f":"INDEX($AL$3:$AL$1500, MATCH(0, IF(ISBLANK($AL$3:$AL$1500), 1, COUNTIF(AM$3:AM922, $AL$3:$AL$1500)), 0))","v":{"$error":"#N/A"}},""]
[{"$f":"IF(E926=\"\",\"\",GetAddress(E926))","v":""},{"$f":"IF(E926=\"\",\"\",GetAddress(E926))","v":""},null,null,null,null,null,null,null,null,null,null,null,null,null,null,null,null,null,null,null,null,null,null,null,null,null,null,null,0,0,0,0,0,0,0,"","",{"$f":"INDEX($AL$3:$AL$1500, MATCH(0, IF(ISBLANK($AL$3:$AL$1500), 1, COUNTIF(AM$3:AM923, $AL$3:$AL$1500)), 0))","v":{"$error":"#N/A"}},""]
[{"$f":"IF(E927=\"\",\"\",GetAddress(E927))","v":""},{"$f":"IF(E927=\"\",\"\",GetAddress(E927))","v":""},null,null,null,null,null,null,null,null,null,null,null,null,null,null,null,null,null,null,null,null,null,null,null,null,null,null,null,0,0,0,0,0,0,0,"","",{"$f":"INDEX($AL$3:$AL$1500, MATCH(0, IF(ISBLANK($AL$3:$AL$1500), 1, COUNTIF(AM$3:AM924, $AL$3:$AL$1500)), 0))","v":{"$error":"#N/A"}},""]
[{"$f":"IF(E928=\"\",\"\",GetAddress(E928))","v":""},{"$f":"IF(E928=\"\",\"\",GetAddress(E928))","v":""},null,null,null,null,null,null,null,null,null,null,null,null,null,null,null,null,null,null,null,null,null,null,null,null,null,null,null,0,0,0,0,0,0,0,"","",{"$f":"INDEX($AL$3:$AL$1500, MATCH(0, IF(ISBLANK($AL$3:$AL$1500), 1, COUNTIF(AM$3:AM925, $AL$3:$AL$1500)), 0))","v":{"$error":"#N/A"}},""]
[{"$f":"IF(E929=\"\",\"\",GetAddress(E929))","v":""},{"$f":"IF(E929=\"\",\"\",GetAddress(E929))","v":""},null,null,null,null,null,null,null,null,null,null,null,null,null,null,null,null,null,null,null,null,null,null,null,null,null,null,null,0,0,0,0,0,0,0,"","",{"$f":"INDEX($AL$3:$AL$1500, MATCH(0, IF(ISBLANK($AL$3:$AL$1500), 1, COUNTIF(AM$3:AM926, $AL$3:$AL$1500)), 0))","v":{"$error":"#N/A"}},""]
[{"$f":"IF(E930=\"\",\"\",GetAddress(E930))","v":""},{"$f":"IF(E930=\"\",\"\",GetAddress(E930))","v":""},null,null,null,null,null,null,null,null,null,null,null,null,null,null,null,null,null,null,null,null,null,null,null,null,null,null,null,0,0,0,0,0,0,0,"","",{"$f":"INDEX($AL$3:$AL$1500, MATCH(0, IF(ISBLANK($AL$3:$AL$1500), 1, COUNTIF(AM$3:AM927, $AL$3:$AL$1500)), 0))","v":{"$error":"#N/A"}},""]
[{"$f":"IF(E931=\"\",\"\",GetAddress(E931))","v":""},{"$f":"IF(E931=\"\",\"\",GetAddress(E931))","v":""},null,null,null,null,null,null,null,null,null,null,null,null,null,null,null,null,null,null,null,null,null,null,null,null,null,null,null,0,0,0,0,0,0,0,"","",{"$f":"INDEX($AL$3:$AL$1500, MATCH(0, IF(ISBLANK($AL$3:$AL$1500), 1, COUNTIF(AM$3:AM928, $AL$3:$AL$1500)), 0))","v":{"$error":"#N/A"}},""]
[{"$f":"IF(E932=\"\",\"\",GetAddress(E932))","v":""},{"$f":"IF(E932=\"\",\"\",GetAddress(E932))","v":""},null,null,null,null,null,null,null,null,null,null,null,null,null,null,null,null,null,null,null,null,null,null,null,null,null,null,null,0,0,0,0,0,0,0,"","",{"$f":"INDEX($AL$3:$AL$1500, MATCH(0, IF(ISBLANK($AL$3:$AL$1500), 1, COUNTIF(AM$3:AM929, $AL$3:$AL$1500)), 0))","v":{"$error":"#N/A"}},""]
[{"$f":"IF(E933=\"\",\"\",GetAddress(E933))","v":""},{"$f":"IF(E933=\"\",\"\",GetAddress(E933))","v":""},null,null,null,null,null,null,null,null,null,null,null,null,null,null,null,null,null,null,null,null,null,null,null,null,null,null,null,0,0,0,0,0,0,0,"","",{"$f":"INDEX($AL$3:$AL$1500, MATCH(0, IF(ISBLANK($AL$3:$AL$1500), 1, COUNTIF(AM$3:AM930, $AL$3:$AL$1500)), 0))","v":{"$error":"#N/A"}},""]
[{"$f":"IF(E934=\"\",\"\",GetAddress(E934))","v":""},{"$f":"IF(E934=\"\",\"\",GetAddress(E934))","v":""},null,null,null,null,null,null,null,null,null,null,null,null,null,null,null,null,null,null,null,null,null,null,null,null,null,null,null,0,0,0,0,0,0,0,"","",{"$f":"INDEX($AL$3:$AL$1500, MATCH(0, IF(ISBLANK($AL$3:$AL$1500), 1, COUNTIF(AM$3:AM931, $AL$3:$AL$1500)), 0))","v":{"$error":"#N/A"}},""]
[{"$f":"IF(E935=\"\",\"\",GetAddress(E935))","v":""},{"$f":"IF(E935=\"\",\"\",GetAddress(E935))","v":""},null,null,null,null,null,null,null,null,null,null,null,null,null,null,null,null,null,null,null,null,null,null,null,null,null,null,null,0,0,0,0,0,0,0,"","",{"$f":"INDEX($AL$3:$AL$1500, MATCH(0, IF(ISBLANK($AL$3:$AL$1500), 1, COUNTIF(AM$3:AM932, $AL$3:$AL$1500)), 0))","v":{"$error":"#N/A"}},""]
[{"$f":"IF(E936=\"\",\"\",GetAddress(E936))","v":""},{"$f":"IF(E936=\"\",\"\",GetAddress(E936))","v":""},null,null,null,null,null,null,null,null,null,null,null,null,null,null,null,null,null,null,null,null,null,null,null,null,null,null,null,0,0,0,0,0,0,0,"","",{"$f":"INDEX($AL$3:$AL$1500, MATCH(0, IF(ISBLANK($AL$3:$AL$1500), 1, COUNTIF(AM$3:AM933, $AL$3:$AL$1500)), 0))","v":{"$error":"#N/A"}},""]
[{"$f":"IF(E937=\"\",\"\",GetAddress(E937))","v":""},{"$f":"IF(E937=\"\",\"\",GetAddress(E937))","v":""},null,null,null,null,null,null,null,null,null,null,null,null,null,null,null,null,null,null,null,null,null,null,null,null,null,null,null,0,0,0,0,0,0,0,"","",{"$f":"INDEX($AL$3:$AL$1500, MATCH(0, IF(ISBLANK($AL$3:$AL$1500), 1, COUNTIF(AM$3:AM934, $AL$3:$AL$1500)), 0))","v":{"$error":"#N/A"}},""]
[{"$f":"IF(E938=\"\",\"\",GetAddress(E938))","v":""},{"$f":"IF(E938=\"\",\"\",GetAddress(E938))","v":""},null,null,null,null,null,null,null,null,null,null,null,null,null,null,null,null,null,null,null,null,null,null,null,null,null,null,null,0,0,0,0,0,0,0,"","",{"$f":"INDEX($AL$3:$AL$1500, MATCH(0, IF(ISBLANK($AL$3:$AL$1500), 1, COUNTIF(AM$3:AM935, $AL$3:$AL$1500)), 0))","v":{"$error":"#N/A"}},""]
[{"$f":"IF(E939=\"\",\"\",GetAddress(E939))","v":""},{"$f":"IF(E939=\"\",\"\",GetAddress(E939))","v":""},null,null,null,null,null,null,null,null,null,null,null,null,null,null,null,null,null,null,null,null,null,null,null,null,null,null,null,0,0,0,0,0,0,0,"","",{"$f":"INDEX($AL$3:$AL$1500, MATCH(0, IF(ISBLANK($AL$3:$AL$1500), 1, COUNTIF(AM$3:AM936, $AL$3:$AL$1500)), 0))","v":{"$error":"#N/A"}},""]
[{"$f":"IF(E940=\"\",\"\",GetAddress(E940))","v":""},{"$f":"IF(E940=\"\",\"\",GetAddress(E940))","v":""},null,null,null,null,null,null,null,null,null,null,null,null,null,null,null,null,null,null,null,null,null,null,null,null,null,null,null,0,0,0,0,0,0,0,"","",{"$f":"INDEX($AL$3:$AL$1500, MATCH(0, IF(ISBLANK($AL$3:$AL$1500), 1, COUNTIF(AM$3:AM937, $AL$3:$AL$1500)), 0))","v":{"$error":"#N/A"}},""]
[{"$f":"IF(E941=\"\",\"\",GetAddress(E941))","v":""},{"$f":"IF(E941=\"\",\"\",GetAddress(E941))","v":""},null,null,null,null,null,null,null,null,null,null,null,null,null,null,null,null,null,null,null,null,null,null,null,null,null,null,null,0,0,0,0,0,0,0,"","",{"$f":"INDEX($AL$3:$AL$1500, MATCH(0, IF(ISBLANK($AL$3:$AL$1500), 1, COUNTIF(AM$3:AM938, $AL$3:$AL$1500)), 0))","v":{"$error":"#N/A"}},""]
[{"$f":"IF(E942=\"\",\"\",GetAddress(E942))","v":""},{"$f":"IF(E942=\"\",\"\",GetAddress(E942))","v":""},null,null,null,null,null,null,null,null,null,null,null,null,null,null,null,null,null,null,null,null,null,null,null,null,null,null,null,0,0,0,0,0,0,0,"","",{"$f":"INDEX($AL$3:$AL$1500, MATCH(0, IF(ISBLANK($AL$3:$AL$1500), 1, COUNTIF(AM$3:AM939, $AL$3:$AL$1500)), 0))","v":{"$error":"#N/A"}},""]
[{"$f":"IF(E943=\"\",\"\",GetAddress(E943))","v":""},{"$f":"IF(E943=\"\",\"\",GetAddress(E943))","v":""},null,null,null,null,null,null,null,null,null,null,null,null,null,null,null,null,null,null,null,null,null,null,null,null,null,null,null,0,0,0,0,0,0,0,"","",{"$f":"INDEX($AL$3:$AL$1500, MATCH(0, IF(ISBLANK($AL$3:$AL$1500), 1, COUNTIF(AM$3:AM940, $AL$3:$AL$1500)), 0))","v":{"$error":"#N/A"}},""]
[{"$f":"IF(E944=\"\",\"\",GetAddress(E944))","v":""},{"$f":"IF(E944=\"\",\"\",GetAddress(E944))","v":""},null,null,null,null,null,null,null,null,null,null,null,null,null,null,null,null,null,null,null,null,null,null,null,null,null,null,null,0,0,0,0,0,0,0,"","",{"$f":"INDEX($AL$3:$AL$1500, MATCH(0, IF(ISBLANK($AL$3:$AL$1500), 1, COUNTIF(AM$3:AM941, $AL$3:$AL$1500)), 0))","v":{"$error":"#N/A"}},""]
[{"$f":"IF(E945=\"\",\"\",GetAddress(E945))","v":""},{"$f":"IF(E945=\"\",\"\",GetAddress(E945))","v":""},null,null,null,null,null,null,null,null,null,null,null,null,null,null,null,null,null,null,null,null,null,null,null,null,null,null,null,0,0,0,0,0,0,0,"","",{"$f":"INDEX($AL$3:$AL$1500, MATCH(0, IF(ISBLANK($AL$3:$AL$1500), 1, COUNTIF(AM$3:AM942, $AL$3:$AL$1500)), 0))","v":{"$error":"#N/A"}},""]
[{"$f":"IF(E946=\"\",\"\",GetAddress(E946))","v":""},{"$f":"IF(E946=\"\",\"\",GetAddress(E946))","v":""},null,null,null,null,null,null,null,null,null,null,null,null,null,null,null,null,null,null,null,null,null,null,null,null,null,null,null,0,0,0,0,0,0,0,"","",{"$f":"INDEX($AL$3:$AL$1500, MATCH(0, IF(ISBLANK($AL$3:$AL$1500), 1, COUNTIF(AM$3:AM943, $AL$3:$AL$1500)), 0))","v":{"$error":"#N/A"}},""]
[{"$f":"IF(E947=\"\",\"\",GetAddress(E947))","v":""},{"$f":"IF(E947=\"\",\"\",GetAddress(E947))","v":""},null,null,null,null,null,null,null,null,null,null,null,null,null,null,null,null,null,null,null,null,null,null,null,null,null,null,null,0,0,0,0,0,0,0,"","",{"$f":"INDEX($AL$3:$AL$1500, MATCH(0, IF(ISBLANK($AL$3:$AL$1500), 1, COUNTIF(AM$3:AM944, $AL$3:$AL$1500)), 0))","v":{"$error":"#N/A"}},""]
[{"$f":"IF(E948=\"\",\"\",GetAddress(E948))","v":""},{"$f":"IF(E948=\"\",\"\",GetAddress(E948))","v":""},null,null,null,null,null,null,null,null,null,null,null,null,null,null,null,null,null,null,null,null,null,null,null,null,null,null,null,0,0,0,0,0,0,0,"","",{"$f":"INDEX($AL$3:$AL$1500, MATCH(0, IF(ISBLANK($AL$3:$AL$1500), 1, COUNTIF(AM$3:AM945, $AL$3:$AL$1500)), 0))","v":{"$error":"#N/A"}},""]
[{"$f":"IF(E949=\"\",\"\",GetAddress(E949))","v":""},{"$f":"IF(E949=\"\",\"\",GetAddress(E949))","v":""},null,null,null,null,null,null,null,null,null,null,null,null,null,null,null,null,null,null,null,null,null,null,null,null,null,null,null,0,0,0,0,0,0,0,"","",{"$f":"INDEX($AL$3:$AL$1500, MATCH(0, IF(ISBLANK($AL$3:$AL$1500), 1, COUNTIF(AM$3:AM946, $AL$3:$AL$1500)), 0))","v":{"$error":"#N/A"}},""]
[{"$f":"IF(E950=\"\",\"\",GetAddress(E950))","v":""},{"$f":"IF(E950=\"\",\"\",GetAddress(E950))","v":""},null,null,null,null,null,null,null,null,null,null,null,null,null,null,null,null,null,null,null,null,null,null,null,null,null,null,null,0,0,0,0,0,0,0,"","",{"$f":"INDEX($AL$3:$AL$1500, MATCH(0, IF(ISBLANK($AL$3:$AL$1500), 1, COUNTIF(AM$3:AM947, $AL$3:$AL$1500)), 0))","v":{"$error":"#N/A"}},""]
[{"$f":"IF(E951=\"\",\"\",GetAddress(E951))","v":""},{"$f":"IF(E951=\"\",\"\",GetAddress(E951))","v":""},null,null,null,null,null,null,null,null,null,null,null,null,null,null,null,null,null,null,null,null,null,null,null,null,null,null,null,0,0,0,0,0,0,0,"","",{"$f":"INDEX($AL$3:$AL$1500, MATCH(0, IF(ISBLANK($AL$3:$AL$1500), 1, COUNTIF(AM$3:AM948, $AL$3:$AL$1500)), 0))","v":{"$error":"#N/A"}},""]
[{"$f":"IF(E952=\"\",\"\",GetAddress(E952))","v":""},{"$f":"IF(E952=\"\",\"\",GetAddress(E952))","v":""},null,null,null,null,null,null,null,null,null,null,null,null,null,null,null,null,null,null,null,null,null,null,null,null,null,null,null,0,0,0,0,0,0,0,"","",{"$f":"INDEX($AL$3:$AL$1500, MATCH(0, IF(ISBLANK($AL$3:$AL$1500), 1, COUNTIF(AM$3:AM949, $AL$3:$AL$1500)), 0))","v":{"$error":"#N/A"}},""]
[{"$f":"IF(E953=\"\",\"\",GetAddress(E953))","v":""},{"$f":"IF(E953=\"\",\"\",GetAddress(E953))","v":""},null,null,null,null,null,null,null,null,null,null,null,null,null,null,null,null,null,null,null,null,null,null,null,null,null,null,null,0,0,0,0,0,0,0,"","",{"$f":"INDEX($AL$3:$AL$1500, MATCH(0, IF(ISBLANK($AL$3:$AL$1500), 1, COUNTIF(AM$3:AM950, $AL$3:$AL$1500)), 0))","v":{"$error":"#N/A"}},""]
[{"$f":"IF(E954=\"\",\"\",GetAddress(E954))","v":""},{"$f":"IF(E954=\"\",\"\",GetAddress(E954))","v":""},null,null,null,null,null,null,null,null,null,null,null,null,null,null,null,null,null,null,null,null,null,null,null,null,null,null,null,0,0,0,0,0,0,0,"","",{"$f":"INDEX($AL$3:$AL$1500, MATCH(0, IF(ISBLANK($AL$3:$AL$1500), 1, COUNTIF(AM$3:AM951, $AL$3:$AL$1500)), 0))","v":{"$error":"#N/A"}},""]
[{"$f":"IF(E955=\"\",\"\",GetAddress(E955))","v":""},{"$f":"IF(E955=\"\",\"\",GetAddress(E955))","v":""},null,null,null,null,null,null,null,null,null,null,null,null,null,null,null,null,null,null,null,null,null,null,null,null,null,null,null,0,0,0,0,0,0,0,"","",{"$f":"INDEX($AL$3:$AL$1500, MATCH(0, IF(ISBLANK($AL$3:$AL$1500), 1, COUNTIF(AM$3:AM952, $AL$3:$AL$1500)), 0))","v":{"$error":"#N/A"}},""]
[{"$f":"IF(E956=\"\",\"\",GetAddress(E956))","v":""},{"$f":"IF(E956=\"\",\"\",GetAddress(E956))","v":""},null,null,null,null,null,null,null,null,null,null,null,null,null,null,null,null,null,null,null,null,null,null,null,null,null,null,null,0,0,0,0,0,0,0,"","",{"$f":"INDEX($AL$3:$AL$1500, MATCH(0, IF(ISBLANK($AL$3:$AL$1500), 1, COUNTIF(AM$3:AM953, $AL$3:$AL$1500)), 0))","v":{"$error":"#N/A"}},""]
[{"$f":"IF(E957=\"\",\"\",GetAddress(E957))","v":""},{"$f":"IF(E957=\"\",\"\",GetAddress(E957))","v":""},null,null,null,null,null,null,null,null,null,null,null,null,null,null,null,null,null,null,null,null,null,null,null,null,null,null,null,0,0,0,0,0,0,0,"","",{"$f":"INDEX($AL$3:$AL$1500, MATCH(0, IF(ISBLANK($AL$3:$AL$1500), 1, COUNTIF(AM$3:AM954, $AL$3:$AL$1500)), 0))","v":{"$error":"#N/A"}},""]
[{"$f":"IF(E958=\"\",\"\",GetAddress(E958))","v":""},{"$f":"IF(E958=\"\",\"\",GetAddress(E958))","v":""},null,null,null,null,null,null,null,null,null,null,null,null,null,null,null,null,null,null,null,null,null,null,null,null,null,null,null,0,0,0,0,0,0,0,"","",{"$f":"INDEX($AL$3:$AL$1500, MATCH(0, IF(ISBLANK($AL$3:$AL$1500), 1, COUNTIF(AM$3:AM955, $AL$3:$AL$1500)), 0))","v":{"$error":"#N/A"}},""]
[{"$f":"IF(E959=\"\",\"\",GetAddress(E959))","v":""},{"$f":"IF(E959=\"\",\"\",GetAddress(E959))","v":""},null,null,null,null,null,null,null,null,null,null,null,null,null,null,null,null,null,null,null,null,null,null,null,null,null,null,null,0,0,0,0,0,0,0,"","",{"$f":"INDEX($AL$3:$AL$1500, MATCH(0, IF(ISBLANK($AL$3:$AL$1500), 1, COUNTIF(AM$3:AM956, $AL$3:$AL$1500)), 0))","v":{"$error":"#N/A"}},""]
[{"$f":"IF(E960=\"\",\"\",GetAddress(E960))","v":""},{"$f":"IF(E960=\"\",\"\",GetAddress(E960))","v":""},null,null,null,null,null,null,null,null,null,null,null,null,null,null,null,null,null,null,null,null,null,null,null,null,null,null,null,0,0,0,0,0,0,0,"","",{"$f":"INDEX($AL$3:$AL$1500, MATCH(0, IF(ISBLANK($AL$3:$AL$1500), 1, COUNTIF(AM$3:AM957, $AL$3:$AL$1500)), 0))","v":{"$error":"#N/A"}},""]
[{"$f":"IF(E961=\"\",\"\",GetAddress(E961))","v":""},{"$f":"IF(E961=\"\",\"\",GetAddress(E961))","v":""},null,null,null,null,null,null,null,null,null,null,null,null,null,null,null,null,null,null,null,null,null,null,null,null,null,null,null,0,0,0,0,0,0,0,"","",{"$f":"INDEX($AL$3:$AL$1500, MATCH(0, IF(ISBLANK($AL$3:$AL$1500), 1, COUNTIF(AM$3:AM958, $AL$3:$AL$1500)), 0))","v":{"$error":"#N/A"}},""]
[{"$f":"IF(E962=\"\",\"\",GetAddress(E962))","v":""},{"$f":"IF(E962=\"\",\"\",GetAddress(E962))","v":""},null,null,null,null,null,null,null,null,null,null,null,null,null,null,null,null,null,null,null,null,null,null,null,null,null,null,null,0,0,0,0,0,0,0,"","",{"$f":"INDEX($AL$3:$AL$1500, MATCH(0, IF(ISBLANK($AL$3:$AL$1500), 1, COUNTIF(AM$3:AM959, $AL$3:$AL$1500)), 0))","v":{"$error":"#N/A"}},""]
[{"$f":"IF(E963=\"\",\"\",GetAddress(E963))","v":""},{"$f":"IF(E963=\"\",\"\",GetAddress(E963))","v":""},null,null,null,null,null,null,null,null,null,null,null,null,null,null,null,null,null,null,null,null,null,null,null,null,null,null,null,0,0,0,0,0,0,0,"","",{"$f":"INDEX($AL$3:$AL$1500, MATCH(0, IF(ISBLANK($AL$3:$AL$1500), 1, COUNTIF(AM$3:AM960, $AL$3:$AL$1500)), 0))","v":{"$error":"#N/A"}},""]
[{"$f":"IF(E964=\"\",\"\",GetAddress(E964))","v":""},{"$f":"IF(E964=\"\",\"\",GetAddress(E964))","v":""},null,null,null,null,null,null,null,null,null,null,null,null,null,null,null,null,null,null,null,null,null,null,null,null,null,null,null,0,0,0,0,0,0,0,"","",{"$f":"INDEX($AL$3:$AL$1500, MATCH(0, IF(ISBLANK($AL$3:$AL$1500), 1, COUNTIF(AM$3:AM961, $AL$3:$AL$1500)), 0))","v":{"$error":"#N/A"}},""]
[{"$f":"IF(E965=\"\",\"\",GetAddress(E965))","v":""},{"$f":"IF(E965=\"\",\"\",GetAddress(E965))","v":""},null,null,null,null,null,null,null,null,null,null,null,null,null,null,null,null,null,null,null,null,null,null,null,null,null,null,null,0,0,0,0,0,0,{"$f":"IF(AI963=\"Free A\",\"\",AI963)","v":0},{"$f":"IF(AJ963=0,\"\",AJ963)","v":""},{"$f":"IF(AK963=\"Free Agent\",\"\",AK963)","v":""},{"$f":"INDEX($AL$3:$AL$1500, MATCH(0, IF(ISBLANK($AL$3:$AL$1500), 1, COUNTIF(AM$3:AM962, $AL$3:$AL$1500)), 0))","v":{"$error":"#N/A"}},{"$f":"IF(ISERROR(AM963),\"\",AM963)","v":""}]
[{"$f":"IF(E966=\"\",\"\",GetAddress(E966))","v":""},{"$f":"IF(E966=\"\",\"\",GetAddress(E966))","v":""},null,null,null,null,null,null,null,null,null,null,null,null,null,null,null,null,null,null,null,null,null,null,null,null,null,null,null,0,0,0,0,0,0,0,"","",{"$f":"INDEX($AL$3:$AL$1500, MATCH(0, IF(ISBLANK($AL$3:$AL$1500), 1, COUNTIF(AM$3:AM963, $AL$3:$AL$1500)), 0))","v":{"$error":"#N/A"}},""]
[{"$f":"IF(E967=\"\",\"\",GetAddress(E967))","v":""},{"$f":"IF(E967=\"\",\"\",GetAddress(E967))","v":""},null,null,null,null,null,null,null,null,null,null,null,null,null,null,null,null,null,null,null,null,null,null,null,null,null,null,null,{"$f":"VALUE(IF(ISNUMBER(SEARCH(\"(P)\",Y965)),\"1\", \"0\"))","v":0},{"$f":"VALUE(IF(ISNUMBER(SEARCH(\"(Q)\",Y965)),\"1\", \"0\"))","v":0},{"$f":"VALUE(IF(ISNUMBER(SEARCH(\"(O)\",Y965)),\"1\", \"0\"))","v":0},{"$f":"VALUE(IF(ISNUMBER(SEARCH(\"(S)\",Y965)),\"1\", \"0\"))","v":0},{"$f":"VALUE(IF(ISNUMBER(SEARCH(\"Free Agent\",Y965)),\"1\", \"0\"))","v":0},{"$f":"IF(SUM(AD965:AH965)=0,Y965,LEFT(Y965,LEN(Y965)-4))","v":0},0,"","",{"$f":"INDEX($AL$3:$AL$1500, MATCH(0, IF(ISBLANK($AL$3:$AL$1500), 1, COUNTIF(AM$3:AM964, $AL$3:$AL$1500)), 0))","v":{"$error":"#N/A"}},""]
[{"$f":"IF(E968=\"\",\"\",GetAddress(E968))","v":""},{"$f":"IF(E968=\"\",\"\",GetAddress(E968))","v":""},null,null,null,null,null,null,null,null,null,null,null,null,null,null,null,null,null,null,null,null,null,null,null,null,null,null,null,0,0,0,0,0,0,0,"","",{"$f":"INDEX($AL$3:$AL$1500, MATCH(0, IF(ISBLANK($AL$3:$AL$1500), 1, COUNTIF(AM$3:AM965, $AL$3:$AL$1500)), 0))","v":{"$error":"#N/A"}},""]
[{"$f":"IF(E969=\"\",\"\",GetAddress(E969))","v":""},{"$f":"IF(E969=\"\",\"\",GetAddress(E969))","v":""},null,null,null,null,null,null,null,null,null,null,null,null,null,null,null,null,null,null,null,null,null,null,null,null,null,null,null,0,0,0,0,0,0,0,"","",{"$f":"INDEX($AL$3:$AL$1500, MATCH(0, IF(ISBLANK($AL$3:$AL$1500), 1, COUNTIF(AM$3:AM966, $AL$3:$AL$1500)), 0))","v":{"$error":"#N/A"}},""]
[{"$f":"IF(E970=\"\",\"\",GetAddress(E970))","v":""},{"$f":"IF(E970=\"\",\"\",GetAddress(E970))","v":""},null,null,null,null,null,null,null,null,null,null,null,null,null,null,null,null,null,null,null,null,null,null,null,null,null,null,null,0,0,0,0,0,0,0,"","",{"$f":"INDEX($AL$3:$AL$1500, MATCH(0, IF(ISBLANK($AL$3:$AL$1500), 1, COUNTIF(AM$3:AM967, $AL$3:$AL$1500)), 0))","v":{"$error":"#N/A"}},""]
[{"$f":"IF(E971=\"\",\"\",GetAddress(E971))","v":""},{"$f":"IF(E971=\"\",\"\",GetAddress(E971))","v":""},null,null,null,null,null,null,null,null,null,null,null,null,null,null,null,null,null,null,null,null,null,null,null,null,null,null,null,0,0,0,0,0,0,0,"","",{"$f":"INDEX($AL$3:$AL$1500, MATCH(0, IF(ISBLANK($AL$3:$AL$1500), 1, COUNTIF(AM$3:AM968, $AL$3:$AL$1500)), 0))","v":{"$error":"#N/A"}},""]
[{"$f":"IF(E972=\"\",\"\",GetAddress(E972))","v":""},{"$f":"IF(E972=\"\",\"\",GetAddress(E972))","v":""},null,null,null,null,null,null,null,null,null,null,null,null,null,null,null,null,null,null,null,null,null,null,null,null,null,null,null,0,0,0,0,0,0,0,"","",{"$f":"INDEX($AL$3:$AL$1500, MATCH(0, IF(ISBLANK($AL$3:$AL$1500), 1, COUNTIF(AM$3:AM969, $AL$3:$AL$1500)), 0))","v":{"$error":"#N/A"}},""]
[{"$f":"IF(E973=\"\",\"\",GetAddress(E973))","v":""},{"$f":"IF(E973=\"\",\"\",GetAddress(E973))","v":""},null,null,null,null,null,null,null,null,null,null,null,null,null,null,null,null,null,null,null,null,null,null,null,null,null,null,null,0,0,0,0,0,0,0,"","",{"$f":"INDEX($AL$3:$AL$1500, MATCH(0, IF(ISBLANK($AL$3:$AL$1500), 1, COUNTIF(AM$3:AM970, $AL$3:$AL$1500)), 0))","v":{"$error":"#N/A"}},""]
[{"$f":"IF(E974=\"\",\"\",GetAddress(E974))","v":""},{"$f":"IF(E974=\"\",\"\",GetAddress(E974))","v":""},null,null,null,null,null,null,null,null,null,null,null,null,null,null,null,null,null,null,null,null,null,null,null,null,null,null,null,0,0,0,0,0,0,0,"","",{"$f":"INDEX($AL$3:$AL$1500, MATCH(0, IF(ISBLANK($AL$3:$AL$1500), 1, COUNTIF(AM$3:AM971, $AL$3:$AL$1500)), 0))","v":{"$error":"#N/A"}},""]
[{"$f":"IF(E975=\"\",\"\",GetAddress(E975))","v":""},{"$f":"IF(E975=\"\",\"\",GetAddress(E975))","v":""},null,null,null,null,null,null,null,null,null,null,null,null,null,null,null,null,null,null,null,null,null,null,null,null,null,null,null,0,0,0,0,0,0,0,"","",{"$f":"INDEX($AL$3:$AL$1500, MATCH(0, IF(ISBLANK($AL$3:$AL$1500), 1, COUNTIF(AM$3:AM972, $AL$3:$AL$1500)), 0))","v":{"$error":"#N/A"}},""]
[{"$f":"IF(E976=\"\",\"\",GetAddress(E976))","v":""},{"$f":"IF(E976=\"\",\"\",GetAddress(E976))","v":""},null,null,null,null,null,null,null,null,null,null,null,null,null,null,null,null,null,null,null,null,null,null,null,null,null,null,null,0,0,0,0,0,0,0,"","",{"$f":"INDEX($AL$3:$AL$1500, MATCH(0, IF(ISBLANK($AL$3:$AL$1500), 1, COUNTIF(AM$3:AM973, $AL$3:$AL$1500)), 0))","v":{"$error":"#N/A"}},""]
[{"$f":"IF(E977=\"\",\"\",GetAddress(E977))","v":""},{"$f":"IF(E977=\"\",\"\",GetAddress(E977))","v":""},null,null,null,null,null,null,null,null,null,null,null,null,null,null,null,null,null,null,null,null,null,null,null,null,null,null,null,0,0,0,0,0,0,0,"","",{"$f":"INDEX($AL$3:$AL$1500, MATCH(0, IF(ISBLANK($AL$3:$AL$1500), 1, COUNTIF(AM$3:AM974, $AL$3:$AL$1500)), 0))","v":{"$error":"#N/A"}},""]
[{"$f":"IF(E978=\"\",\"\",GetAddress(E978))","v":""},{"$f":"IF(E978=\"\",\"\",GetAddress(E978))","v":""},null,null,null,null,null,null,null,null,null,null,null,null,null,null,null,null,null,null,null,null,null,null,null,null,null,null,null,0,0,0,0,0,0,0,"","",{"$f":"INDEX($AL$3:$AL$1500, MATCH(0, IF(ISBLANK($AL$3:$AL$1500), 1, COUNTIF(AM$3:AM975, $AL$3:$AL$1500)), 0))","v":{"$error":"#N/A"}},""]
[{"$f":"IF(E979=\"\",\"\",GetAddress(E979))","v":""},{"$f":"IF(E979=\"\",\"\",GetAddress(E979))","v":""},null,null,null,null,null,null,null,null,null,null,null,null,null,null,null,null,null,null,null,null,null,null,null,null,null,null,null,0,0,0,0,0,0,0,"","",{"$f":"INDEX($AL$3:$AL$1500, MATCH(0, IF(ISBLANK($AL$3:$AL$1500), 1, COUNTIF(AM$3:AM976, $AL$3:$AL$1500)), 0))","v":{"$error":"#N/A"}},""]
[{"$f":"IF(E980=\"\",\"\",GetAddress(E980))","v":""},{"$f":"IF(E980=\"\",\"\",GetAddress(E980))","v":""},null,null,null,null,null,null,null,null,null,null,null,null,null,null,null,null,null,null,null,null,null,null,null,null,null,null,null,0,0,0,0,0,0,0,"","",{"$f":"INDEX($AL$3:$AL$1500, MATCH(0, IF(ISBLANK($AL$3:$AL$1500), 1, COUNTIF(AM$3:AM977, $AL$3:$AL$1500)), 0))","v":{"$error":"#N/A"}},""]
[{"$f":"IF(E981=\"\",\"\",GetAddress(E981))","v":""},{"$f":"IF(E981=\"\",\"\",GetAddress(E981))","v":""},null,null,null,null,null,null,null,null,null,null,null,null,null,null,null,null,null,null,null,null,null,null,null,null,null,null,null,0,0,0,0,0,0,0,"","",{"$f":"INDEX($AL$3:$AL$1500, MATCH(0, IF(ISBLANK($AL$3:$AL$1500), 1, COUNTIF(AM$3:AM978, $AL$3:$AL$1500)), 0))","v":{"$error":"#N/A"}},""]
[{"$f":"IF(E982=\"\",\"\",GetAddress(E982))","v":""},{"$f":"IF(E982=\"\",\"\",GetAddress(E982))","v":""},null,null,null,null,null,null,null,null,null,null,null,null,null,null,null,null,null,null,null,null,null,null,null,null,null,null,null,0,0,0,0,0,0,0,"","",{"$f":"INDEX($AL$3:$AL$1500, MATCH(0, IF(ISBLANK($AL$3:$AL$1500), 1, COUNTIF(AM$3:AM979, $AL$3:$AL$1500)), 0))","v":{"$error":"#N/A"}},""]
[{"$f":"IF(E983=\"\",\"\",GetAddress(E983))","v":""},{"$f":"IF(E983=\"\",\"\",GetAddress(E983))","v":""},null,null,null,null,null,null,null,null,null,null,null,null,null,null,null,null,null,null,null,null,null,null,null,null,null,null,null,0,0,0,0,0,0,0,"","",{"$f":"INDEX($AL$3:$AL$1500, MATCH(0, IF(ISBLANK($AL$3:$AL$1500), 1, COUNTIF(AM$3:AM980, $AL$3:$AL$1500)), 0))","v":{"$error":"#N/A"}},""]
[{"$f":"IF(E984=\"\",\"\",GetAddress(E984))","v":""},{"$f":"IF(E984=\"\",\"\",GetAddress(E984))","v":""},null,null,null,null,null,null,null,null,null,null,null,null,null,null,null,null,null,null,null,null,null,null,null,null,null,null,null,0,0,0,0,0,0,0,"","",{"$f":"INDEX($AL$3:$AL$1500, MATCH(0, IF(ISBLANK($AL$3:$AL$1500), 1, COUNTIF(AM$3:AM981, $AL$3:$AL$1500)), 0))","v":{"$error":"#N/A"}},""]
[{"$f":"IF(E985=\"\",\"\",GetAddress(E985))","v":""},{"$f":"IF(E985=\"\",\"\",GetAddress(E985))","v":""},null,null,null,null,null,null,null,null,null,null,null,null,null,null,null,null,null,null,null,null,null,null,null,null,null,null,null,0,0,0,0,0,0,0,"","",{"$f":"INDEX($AL$3:$AL$1500, MATCH(0, IF(ISBLANK($AL$3:$AL$1500), 1, COUNTIF(AM$3:AM982, $AL$3:$AL$1500)), 0))","v":{"$error":"#N/A"}},""]
[{"$f":"IF(E986=\"\",\"\",GetAddress(E986))","v":""},{"$f":"IF(E986=\"\",\"\",GetAddress(E986))","v":""},null,null,null,null,null,null,null,null,null,null,null,null,null,null,null,null,null,null,null,null,null,null,null,null,null,null,null,0,0,0,0,0,0,0,"","",{"$f":"INDEX($AL$3:$AL$1500, MATCH(0, IF(ISBLANK($AL$3:$AL$1500), 1, COUNTIF(AM$3:AM983, $AL$3:$AL$1500)), 0))","v":{"$error":"#N/A"}},""]
[{"$f":"IF(E987=\"\",\"\",GetAddress(E987))","v":""},{"$f":"IF(E987=\"\",\"\",GetAddress(E987))","v":""},null,null,null,null,null,null,null,null,null,null,null,null,null,null,null,null,null,null,null,null,null,null,null,null,null,null,null,0,0,0,0,0,0,0,"","",{"$f":"INDEX($AL$3:$AL$1500, MATCH(0, IF(ISBLANK($AL$3:$AL$1500), 1, COUNTIF(AM$3:AM984, $AL$3:$AL$1500)), 0))","v":{"$error":"#N/A"}},""]
[{"$f":"IF(E988=\"\",\"\",GetAddress(E988))","v":""},{"$f":"IF(E988=\"\",\"\",GetAddress(E988))","v":""},null,null,null,null,null,null,null,null,null,null,null,null,null,null,null,null,null,null,null,null,null,null,null,null,null,null,null,0,0,0,0,0,0,0,"","",{"$f":"INDEX($AL$3:$AL$1500, MATCH(0, IF(ISBLANK($AL$3:$AL$1500), 1, COUNTIF(AM$3:AM985, $AL$3:$AL$1500)), 0))","v":{"$error":"#N/A"}},""]
[{"$f":"IF(E989=\"\",\"\",GetAddress(E989))","v":""},{"$f":"IF(E989=\"\",\"\",GetAddress(E989))","v":""},null,null,null,null,null,null,null,null,null,null,null,null,null,null,null,null,null,null,null,null,null,null,null,null,null,null,null,0,0,0,0,0,0,0,"","",{"$f":"INDEX($AL$3:$AL$1500, MATCH(0, IF(ISBLANK($AL$3:$AL$1500), 1, COUNTIF(AM$3:AM986, $AL$3:$AL$1500)), 0))","v":{"$error":"#N/A"}},""]
[{"$f":"IF(E990=\"\",\"\",GetAddress(E990))","v":""},{"$f":"IF(E990=\"\",\"\",GetAddress(E990))","v":""},null,null,null,null,null,null,null,null,null,null,null,null,null,null,null,null,null,null,null,null,null,null,null,null,null,null,null,0,0,0,0,0,0,0,"","",{"$f":"INDEX($AL$3:$AL$1500, MATCH(0, IF(ISBLANK($AL$3:$AL$1500), 1, COUNTIF(AM$3:AM987, $AL$3:$AL$1500)), 0))","v":{"$error":"#N/A"}},""]
[{"$f":"IF(E991=\"\",\"\",GetAddress(E991))","v":""},{"$f":"IF(E991=\"\",\"\",GetAddress(E991))","v":""},null,null,null,null,null,null,null,null,null,null,null,null,null,null,null,null,null,null,null,null,null,null,null,null,null,null,null,0,0,0,0,0,0,0,"","",{"$f":"INDEX($AL$3:$AL$1500, MATCH(0, IF(ISBLANK($AL$3:$AL$1500), 1, COUNTIF(AM$3:AM988, $AL$3:$AL$1500)), 0))","v":{"$error":"#N/A"}},""]
[{"$f":"IF(E992=\"\",\"\",GetAddress(E992))","v":""},{"$f":"IF(E992=\"\",\"\",GetAddress(E992))","v":""},null,null,null,null,null,null,null,null,null,null,null,null,null,null,null,null,null,null,null,null,null,null,null,null,null,null,null,0,0,0,0,0,0,0,"","",{"$f":"INDEX($AL$3:$AL$1500, MATCH(0, IF(ISBLANK($AL$3:$AL$1500), 1, COUNTIF(AM$3:AM989, $AL$3:$AL$1500)), 0))","v":{"$error":"#N/A"}},""]
[{"$f":"IF(E993=\"\",\"\",GetAddress(E993))","v":""},{"$f":"IF(E993=\"\",\"\",GetAddress(E993))","v":""},null,null,null,null,null,null,null,null,null,null,null,null,null,null,null,null,null,null,null,null,null,null,null,null,null,null,null,0,0,0,0,0,0,0,"","",{"$f":"INDEX($AL$3:$AL$1500, MATCH(0, IF(ISBLANK($AL$3:$AL$1500), 1, COUNTIF(AM$3:AM990, $AL$3:$AL$1500)), 0))","v":{"$error":"#N/A"}},""]
[{"$f":"IF(E994=\"\",\"\",GetAddress(E994))","v":""},{"$f":"IF(E994=\"\",\"\",GetAddress(E994))","v":""},null,null,null,null,null,null,null,null,null,null,null,null,null,null,null,null,null,null,null,null,null,null,null,null,null,null,null,0,0,0,0,0,0,0,"","",{"$f":"INDEX($AL$3:$AL$1500, MATCH(0, IF(ISBLANK($AL$3:$AL$1500), 1, COUNTIF(AM$3:AM991, $AL$3:$AL$1500)), 0))","v":{"$error":"#N/A"}},""]
[{"$f":"IF(E995=\"\",\"\",GetAddress(E995))","v":""},{"$f":"IF(E995=\"\",\"\",GetAddress(E995))","v":""},null,null,null,null,null,null,null,null,null,null,null,null,null,null,null,null,null,null,null,null,null,null,null,null,null,null,null,0,0,0,0,0,0,0,"","",{"$f":"INDEX($AL$3:$AL$1500, MATCH(0, IF(ISBLANK($AL$3:$AL$1500), 1, COUNTIF(AM$3:AM992, $AL$3:$AL$1500)), 0))","v":{"$error":"#N/A"}},""]
[{"$f":"IF(E996=\"\",\"\",GetAddress(E996))","v":""},{"$f":"IF(E996=\"\",\"\",GetAddress(E996))","v":""},null,null,null,null,null,null,null,null,null,null,null,null,null,null,null,null,null,null,null,null,null,null,null,null,null,null,null,0,0,0,0,0,0,0,"","",{"$f":"INDEX($AL$3:$AL$1500, MATCH(0, IF(ISBLANK($AL$3:$AL$1500), 1, COUNTIF(AM$3:AM993, $AL$3:$AL$1500)), 0))","v":{"$error":"#N/A"}},""]
[{"$f":"IF(E997=\"\",\"\",GetAddress(E997))","v":""},{"$f":"IF(E997=\"\",\"\",GetAddress(E997))","v":""},null,null,null,null,null,null,null,null,null,null,null,null,null,null,null,null,null,null,null,null,null,null,null,null,null,null,null,0,0,0,0,0,0,0,"","",{"$f":"INDEX($AL$3:$AL$1500, MATCH(0, IF(ISBLANK($AL$3:$AL$1500), 1, COUNTIF(AM$3:AM994, $AL$3:$AL$1500)), 0))","v":{"$error":"#N/A"}},""]
[{"$f":"IF(E998=\"\",\"\",GetAddress(E998))","v":""},{"$f":"IF(E998=\"\",\"\",GetAddress(E998))","v":""},null,null,null,null,null,null,null,null,null,null,null,null,null,null,null,null,null,null,null,null,null,null,null,null,null,null,null,0,0,0,0,0,0,0,"","",{"$f":"INDEX($AL$3:$AL$1500, MATCH(0, IF(ISBLANK($AL$3:$AL$1500), 1, COUNTIF(AM$3:AM995, $AL$3:$AL$1500)), 0))","v":{"$error":"#N/A"}},""]
[{"$f":"IF(E999=\"\",\"\",GetAddress(E999))","v":""},{"$f":"IF(E999=\"\",\"\",GetAddress(E999))","v":""},null,null,null,null,null,null,null,null,null,null,null,null,null,null,null,null,null,null,null,null,null,null,null,null,null,null,null,0,0,0,0,0,0,0,"","",{"$f":"INDEX($AL$3:$AL$1500, MATCH(0, IF(ISBLANK($AL$3:$AL$1500), 1, COUNTIF(AM$3:AM996, $AL$3:$AL$1500)), 0))","v":{"$error":"#N/A"}},""]
[{"$f":"IF(E1000=\"\",\"\",GetAddress(E1000))","v":""},{"$f":"IF(E1000=\"\",\"\",GetAddress(E1000))","v":""},null,null,null,null,null,null,null,null,null,null,null,null,null,null,null,null,null,null,null,null,null,null,null,null,null,null,null,0,0,0,0,0,0,0,"","",{"$f":"INDEX($AL$3:$AL$1500, MATCH(0, IF(ISBLANK($AL$3:$AL$1500), 1, COUNTIF(AM$3:AM997, $AL$3:$AL$1500)), 0))","v":{"$error":"#N/A"}},""]
[{"$f":"IF(E1001=\"\",\"\",GetAddress(E1001))","v":""},{"$f":"IF(E1001=\"\",\"\",GetAddress(E1001))","v":""},null,null,null,null,null,null,null,null,null,null,null,null,null,null,null,null,null,null,null,null,null,null,null,null,null,null,null,0,0,0,0,0,0,0,"","",{"$f":"INDEX($AL$3:$AL$1500, MATCH(0, IF(ISBLANK($AL$3:$AL$1500), 1, COUNTIF(AM$3:AM998, $AL$3:$AL$1500)), 0))","v":{"$error":"#N/A"}},""]
[{"$f":"IF(E1002=\"\",\"\",GetAddress(E1002))","v":""},{"$f":"IF(E1002=\"\",\"\",GetAddress(E1002))","v":""},null,null,null,null,null,null,null,null,null,null,null,null,null,null,null,null,null,null,null,null,null,null,null,null,null,null,null,0,0,0,0,0,0,0,"","",{"$f":"INDEX($AL$3:$AL$1500, MATCH(0, IF(ISBLANK($AL$3:$AL$1500), 1, COUNTIF(AM$3:AM999, $AL$3:$AL$1500)), 0))","v":{"$error":"#N/A"}},""]
[{"$f":"IF(E1003=\"\",\"\",GetAddress(E1003))","v":""},{"$f":"IF(E1003=\"\",\"\",GetAddress(E1003))","v":""},null,null,null,null,null,null,null,null,null,null,null,null,null,null,null,null,null,null,null,null,null,null,null,null,null,null,null,0,0,0,0,0,0,0,"","",{"$f":"INDEX($AL$3:$AL$1500, MATCH(0, IF(ISBLANK($AL$3:$AL$1500), 1, COUNTIF(AM$3:AM1000, $AL$3:$AL$1500)), 0))","v":{"$error":"#N/A"}},""]
[{"$f":"IF(E1004=\"\",\"\",GetAddress(E1004))","v":""},{"$f":"IF(E1004=\"\",\"\",GetAddress(E1004))","v":""},null,null,null,null,null,null,null,null,null,null,null,null,null,null,null,null,null,null,null,null,null,null,null,null,null,null,null,0,0,0,0,0,0,0,"","",{"$f":"INDEX($AL$3:$AL$1500, MATCH(0, IF(ISBLANK($AL$3:$AL$1500), 1, COUNTIF(AM$3:AM1001, $AL$3:$AL$1500)), 0))","v":{"$error":"#N/A"}},""]
[{"$f":"IF(E1005=\"\",\"\",GetAddress(E1005))","v":""},{"$f":"IF(E1005=\"\",\"\",GetAddress(E1005))","v":""},null,null,null,null,null,null,null,null,null,null,null,null,null,null,null,null,null,null,null,null,null,null,null,null,null,null,null,0,0,0,0,0,0,0,"","",{"$f":"INDEX($AL$3:$AL$1500, MATCH(0, IF(ISBLANK($AL$3:$AL$1500), 1, COUNTIF(AM$3:AM1002, $AL$3:$AL$1500)), 0))","v":{"$error":"#N/A"}},""]
[{"$f":"IF(E1006=\"\",\"\",GetAddress(E1006))","v":""},{"$f":"IF(E1006=\"\",\"\",GetAddress(E1006))","v":""},null,null,null,null,null,null,null,null,null,null,null,null,null,null,null,null,null,null,null,null,null,null,null,null,null,null,null,0,0,0,0,0,0,0,"","",{"$f":"INDEX($AL$3:$AL$1500, MATCH(0, IF(ISBLANK($AL$3:$AL$1500), 1, COUNTIF(AM$3:AM1003, $AL$3:$AL$1500)), 0))","v":{"$error":"#N/A"}},""]
[{"$f":"IF(E1007=\"\",\"\",GetAddress(E1007))","v":""},{"$f":"IF(E1007=\"\",\"\",GetAddress(E1007))","v":""},null,null,null,null,null,null,null,null,null,null,null,null,null,null,null,null,null,null,null,null,null,null,null,null,null,null,null,0,0,0,0,0,0,0,"","",{"$f":"INDEX($AL$3:$AL$1500, MATCH(0, IF(ISBLANK($AL$3:$AL$1500), 1, COUNTIF(AM$3:AM1004, $AL$3:$AL$1500)), 0))","v":{"$error":"#N/A"}},""]
[{"$f":"IF(E1008=\"\",\"\",GetAddress(E1008))","v":""},{"$f":"IF(E1008=\"\",\"\",GetAddress(E1008))","v":""},null,null,null,null,null,null,null,null,null,null,null,null,null,null,null,null,null,null,null,null,null,null,null,null,null,null,null,0,0,0,0,0,0,0,"","",{"$f":"INDEX($AL$3:$AL$1500, MATCH(0, IF(ISBLANK($AL$3:$AL$1500), 1, COUNTIF(AM$3:AM1005, $AL$3:$AL$1500)), 0))","v":{"$error":"#N/A"}},""]
[{"$f":"IF(E1009=\"\",\"\",GetAddress(E1009))","v":""},{"$f":"IF(E1009=\"\",\"\",GetAddress(E1009))","v":""},null,null,null,null,null,null,null,null,null,null,null,null,null,null,null,null,null,null,null,null,null,null,null,null,null,null,null,0,0,0,0,0,0,0,"","",{"$f":"INDEX($AL$3:$AL$1500, MATCH(0, IF(ISBLANK($AL$3:$AL$1500), 1, COUNTIF(AM$3:AM1006, $AL$3:$AL$1500)), 0))","v":{"$error":"#N/A"}},""]
[{"$f":"IF(E1010=\"\",\"\",GetAddress(E1010))","v":""},{"$f":"IF(E1010=\"\",\"\",GetAddress(E1010))","v":""},null,null,null,null,null,null,null,null,null,null,null,null,null,null,null,null,null,null,null,null,null,null,null,null,null,null,null,0,0,0,0,0,0,0,"","",{"$f":"INDEX($AL$3:$AL$1500, MATCH(0, IF(ISBLANK($AL$3:$AL$1500), 1, COUNTIF(AM$3:AM1007, $AL$3:$AL$1500)), 0))","v":{"$error":"#N/A"}},""]
[{"$f":"IF(E1011=\"\",\"\",GetAddress(E1011))","v":""},{"$f":"IF(E1011=\"\",\"\",GetAddress(E1011))","v":""},null,null,null,null,null,null,null,null,null,null,null,null,null,null,null,null,null,null,null,null,null,null,null,null,null,null,null,0,0,0,0,0,0,0,"","",{"$f":"INDEX($AL$3:$AL$1500, MATCH(0, IF(ISBLANK($AL$3:$AL$1500), 1, COUNTIF(AM$3:AM1008, $AL$3:$AL$1500)), 0))","v":{"$error":"#N/A"}},""]
[{"$f":"IF(E1012=\"\",\"\",GetAddress(E1012))","v":""},{"$f":"IF(E1012=\"\",\"\",GetAddress(E1012))","v":""},null,null,null,null,null,null,null,null,null,null,null,null,null,null,null,null,null,null,null,null,null,null,null,null,null,null,null,0,0,0,0,0,0,0,"","",{"$f":"INDEX($AL$3:$AL$1500, MATCH(0, IF(ISBLANK($AL$3:$AL$1500), 1, COUNTIF(AM$3:AM1009, $AL$3:$AL$1500)), 0))","v":{"$error":"#N/A"}},""]
[{"$f":"IF(E1013=\"\",\"\",GetAddress(E1013))","v":""},{"$f":"IF(E1013=\"\",\"\",GetAddress(E1013))","v":""},null,null,null,null,null,null,null,null,null,null,null,null,null,null,null,null,null,null,null,null,null,null,null,null,null,null,null,0,0,0,0,0,0,0,"","",{"$f":"INDEX($AL$3:$AL$1500, MATCH(0, IF(ISBLANK($AL$3:$AL$1500), 1, COUNTIF(AM$3:AM1010, $AL$3:$AL$1500)), 0))","v":{"$error":"#N/A"}},""]
[{"$f":"IF(E1014=\"\",\"\",GetAddress(E1014))","v":""},{"$f":"IF(E1014=\"\",\"\",GetAddress(E1014))","v":""},null,null,null,null,null,null,null,null,null,null,null,null,null,null,null,null,null,null,null,null,null,null,null,null,null,null,null,0,0,0,0,0,0,0,"","",{"$f":"INDEX($AL$3:$AL$1500, MATCH(0, IF(ISBLANK($AL$3:$AL$1500), 1, COUNTIF(AM$3:AM1011, $AL$3:$AL$1500)), 0))","v":{"$error":"#N/A"}},""]
[{"$f":"IF(E1015=\"\",\"\",GetAddress(E1015))","v":""},{"$f":"IF(E1015=\"\",\"\",GetAddress(E1015))","v":""},null,null,null,null,null,null,null,null,null,null,null,null,null,null,null,null,null,null,null,null,null,null,null,null,null,null,null,0,0,0,0,0,0,0,"","",{"$f":"INDEX($AL$3:$AL$1500, MATCH(0, IF(ISBLANK($AL$3:$AL$1500), 1, COUNTIF(AM$3:AM1012, $AL$3:$AL$1500)), 0))","v":{"$error":"#N/A"}},""]
[{"$f":"IF(E1016=\"\",\"\",GetAddress(E1016))","v":""},{"$f":"IF(E1016=\"\",\"\",GetAddress(E1016))","v":""},null,null,null,null,null,null,null,null,null,null,null,null,null,null,null,null,null,null,null,null,null,null,null,null,null,null,null,0,0,0,0,0,0,0,"","",{"$f":"INDEX($AL$3:$AL$1500, MATCH(0, IF(ISBLANK($AL$3:$AL$1500), 1, COUNTIF(AM$3:AM1013, $AL$3:$AL$1500)), 0))","v":{"$error":"#N/A"}},""]
[{"$f":"IF(E1017=\"\",\"\",GetAddress(E1017))","v":""},{"$f":"IF(E1017=\"\",\"\",GetAddress(E1017))","v":""},null,null,null,null,null,null,null,null,null,null,null,null,null,null,null,null,null,null,null,null,null,null,null,null,null,null,null,0,0,0,0,0,0,0,"","",{"$f":"INDEX($AL$3:$AL$1500, MATCH(0, IF(ISBLANK($AL$3:$AL$1500), 1, COUNTIF(AM$3:AM1014, $AL$3:$AL$1500)), 0))","v":{"$error":"#N/A"}},""]
[{"$f":"IF(E1018=\"\",\"\",GetAddress(E1018))","v":""},{"$f":"IF(E1018=\"\",\"\",GetAddress(E1018))","v":""},null,null,null,null,null,null,null,null,null,null,null,null,null,null,null,null,null,null,null,null,null,null,null,null,null,null,null,0,0,0,0,0,0,0,"","",{"$f":"INDEX($AL$3:$AL$1500, MATCH(0, IF(ISBLANK($AL$3:$AL$1500), 1, COUNTIF(AM$3:AM1015, $AL$3:$AL$1500)), 0))","v":{"$error":"#N/A"}},""]
[{"$f":"IF(E1019=\"\",\"\",GetAddress(E1019))","v":""},{"$f":"IF(E1019=\"\",\"\",GetAddress(E1019))","v":""},null,null,null,null,null,null,null,null,null,null,null,null,null,null,null,null,null,null,null,null,null,null,null,null,null,null,null,0,0,0,0,0,0,0,"","",{"$f":"INDEX($AL$3:$AL$1500, MATCH(0, IF(ISBLANK($AL$3:$AL$1500), 1, COUNTIF(AM$3:AM1016, $AL$3:$AL$1500)), 0))","v":{"$error":"#N/A"}},""]
[{"$f":"IF(E1020=\"\",\"\",GetAddress(E1020))","v":""},{"$f":"IF(E1020=\"\",\"\",GetAddress(E1020))","v":""},null,null,null,null,null,null,null,null,null,null,null,null,null,null,null,null,null,null,null,null,null,null,null,null,null,null,null,0,0,0,0,0,0,0,"","",{"$f":"INDEX($AL$3:$AL$1500, MATCH(0, IF(ISBLANK($AL$3:$AL$1500), 1, COUNTIF(AM$3:AM1017, $AL$3:$AL$1500)), 0))","v":{"$error":"#N/A"}},""]
[{"$f":"IF(E1021=\"\",\"\",GetAddress(E1021))","v":""},{"$f":"IF(E1021=\"\",\"\",GetAddress(E1021))","v":""},null,null,null,null,null,null,null,null,null,null,null,null,null,null,null,null,null,null,null,null,null,null,null,null,null,null,null,0,0,0,0,0,0,0,"","",{"$f":"INDEX($AL$3:$AL$1500, MATCH(0, IF(ISBLANK($AL$3:$AL$1500), 1, COUNTIF(AM$3:AM1018, $AL$3:$AL$1500)), 0))","v":{"$error":"#N/A"}},""]
[{"$f":"IF(E1022=\"\",\"\",GetAddress(E1022))","v":""},{"$f":"IF(E1022=\"\",\"\",GetAddress(E1022))","v":""},null,null,null,null,null,null,null,null,null,null,null,null,null,null,null,null,null,null,null,null,null,null,null,null,null,null,null,0,0,0,0,0,0,0,"","",{"$f":"INDEX($AL$3:$AL$1500, MATCH(0, IF(ISBLANK($AL$3:$AL$1500), 1, COUNTIF(AM$3:AM1019, $AL$3:$AL$1500)), 0))","v":{"$error":"#N/A"}},""]
[{"$f":"IF(E1023=\"\",\"\",GetAddress(E1023))","v":""},{"$f":"IF(E1023=\"\",\"\",GetAddress(E1023))","v":""},null,null,null,null,null,null,null,null,null,null,null,null,null,null,null,null,null,null,null,null,null,null,null,null,null,null,null,0,0,0,0,0,0,0,"","",{"$f":"INDEX($AL$3:$AL$1500, MATCH(0, IF(ISBLANK($AL$3:$AL$1500), 1, COUNTIF(AM$3:AM1020, $AL$3:$AL$1500)), 0))","v":{"$error":"#N/A"}},""]
[{"$f":"IF(E1024=\"\",\"\",GetAddress(E1024))","v":""},{"$f":"IF(E1024=\"\",\"\",GetAddress(E1024))","v":""},null,null,null,null,null,null,null,null,null,null,null,null,null,null,null,null,null,null,null,null,null,null,null,null,null,null,null,0,0,0,0,0,0,0,"","",{"$f":"INDEX($AL$3:$AL$1500, MATCH(0, IF(ISBLANK($AL$3:$AL$1500), 1, COUNTIF(AM$3:AM1021, $AL$3:$AL$1500)), 0))","v":{"$error":"#N/A"}},""]
[{"$f":"IF(E1025=\"\",\"\",GetAddress(E1025))","v":""},{"$f":"IF(E1025=\"\",\"\",GetAddress(E1025))","v":""},null,null,null,null,null,null,null,null,null,null,null,null,null,null,null,null,null,null,null,null,null,null,null,null,null,null,null,0,0,0,0,0,0,0,"","",{"$f":"INDEX($AL$3:$AL$1500, MATCH(0, IF(ISBLANK($AL$3:$AL$1500), 1, COUNTIF(AM$3:AM1022, $AL$3:$AL$1500)), 0))","v":{"$error":"#N/A"}},""]
[{"$f":"IF(E1026=\"\",\"\",GetAddress(E1026))","v":""},{"$f":"IF(E1026=\"\",\"\",GetAddress(E1026))","v":""},null,null,null,null,null,null,null,null,null,null,null,null,null,null,null,null,null,null,null,null,null,null,null,null,null,null,null,0,0,0,0,0,0,0,"","",{"$f":"INDEX($AL$3:$AL$1500, MATCH(0, IF(ISBLANK($AL$3:$AL$1500), 1, COUNTIF(AM$3:AM1023, $AL$3:$AL$1500)), 0))","v":{"$error":"#N/A"}},""]
[{"$f":"IF(E1027=\"\",\"\",GetAddress(E1027))","v":""},{"$f":"IF(E1027=\"\",\"\",GetAddress(E1027))","v":""},null,null,null,null,null,null,null,null,null,null,null,null,null,null,null,null,null,null,null,null,null,null,null,null,null,null,null,0,0,0,0,0,0,0,"","",{"$f":"INDEX($AL$3:$AL$1500, MATCH(0, IF(ISBLANK($AL$3:$AL$1500), 1, COUNTIF(AM$3:AM1024, $AL$3:$AL$1500)), 0))","v":{"$error":"#N/A"}},""]
[{"$f":"IF(E1028=\"\",\"\",GetAddress(E1028))","v":""},{"$f":"IF(E1028=\"\",\"\",GetAddress(E1028))","v":""},null,null,null,null,null,null,null,null,null,null,null,null,null,null,null,null,null,null,null,null,null,null,null,null,null,null,null,0,0,0,0,0,0,0,"","",{"$f":"INDEX($AL$3:$AL$1500, MATCH(0, IF(ISBLANK($AL$3:$AL$1500), 1, COUNTIF(AM$3:AM1025, $AL$3:$AL$1500)), 0))","v":{"$error":"#N/A"}},""]
[{"$f":"IF(E1029=\"\",\"\",GetAddress(E1029))","v":""},{"$f":"IF(E1029=\"\",\"\",GetAddress(E1029))","v":""},null,null,null,null,null,null,null,null,null,null,null,null,null,null,null,null,null,null,null,null,null,null,null,null,null,null,null,0,0,0,0,0,0,{"$f":"IF(AI1027=\"Free A\",\"\",AI1027)","v":0},{"$f":"IF(AJ1027=0,\"\",AJ1027)","v":""},{"$f":"IF(AK1027=\"Free Agent\",\"\",AK1027)","v":""},{"$f":"INDEX($AL$3:$AL$1500, MATCH(0, IF(ISBLANK($AL$3:$AL$1500), 1, COUNTIF(AM$3:AM1026, $AL$3:$AL$1500)), 0))","v":{"$error":"#N/A"}},{"$f":"IF(ISERROR(AM1027),\"\",AM1027)","v":""}]
[{"$f":"IF(E1030=\"\",\"\",GetAddress(E1030))","v":""},{"$f":"IF(E1030=\"\",\"\",GetAddress(E1030))","v":""},null,null,null,null,null,null,null,null,null,null,null,null,null,null,null,null,null,null,null,null,null,null,null,null,null,null,null,0,0,0,0,0,0,0,"","",{"$f":"INDEX($AL$3:$AL$1500, MATCH(0, IF(ISBLANK($AL$3:$AL$1500), 1, COUNTIF(AM$3:AM1027, $AL$3:$AL$1500)), 0))","v":{"$error":"#N/A"}},""]
[{"$f":"IF(E1031=\"\",\"\",GetAddress(E1031))","v":""},{"$f":"IF(E1031=\"\",\"\",GetAddress(E1031))","v":""},null,null,null,null,null,null,null,null,null,null,null,null,null,null,null,null,null,null,null,null,null,null,null,null,null,null,null,{"$f":"VALUE(IF(ISNUMBER(SEARCH(\"(P)\",Y1029)),\"1\", \"0\"))","v":0},{"$f":"VALUE(IF(ISNUMBER(SEARCH(\"(Q)\",Y1029)),\"1\", \"0\"))","v":0},{"$f":"VALUE(IF(ISNUMBER(SEARCH(\"(O)\",Y1029)),\"1\", \"0\"))","v":0},{"$f":"VALUE(IF(ISNUMBER(SEARCH(\"(S)\",Y1029)),\"1\", \"0\"))","v":0},{"$f":"VALUE(IF(ISNUMBER(SEARCH(\"Free Agent\",Y1029)),\"1\", \"0\"))","v":0},{"$f":"IF(SUM(AD1029:AH1029)=0,Y1029,LEFT(Y1029,LEN(Y1029)-4))","v":0},0,"","",{"$f":"INDEX($AL$3:$AL$1500, MATCH(0, IF(ISBLANK($AL$3:$AL$1500), 1, COUNTIF(AM$3:AM1028, $AL$3:$AL$1500)), 0))","v":{"$error":"#N/A"}},""]
[{"$f":"IF(E1032=\"\",\"\",GetAddress(E1032))","v":""},{"$f":"IF(E1032=\"\",\"\",GetAddress(E1032))","v":""},null,null,null,null,null,null,null,null,null,null,null,null,null,null,null,null,null,null,null,null,null,null,null,null,null,null,null,0,0,0,0,0,0,0,"","",{"$f":"INDEX($AL$3:$AL$1500, MATCH(0, IF(ISBLANK($AL$3:$AL$1500), 1, COUNTIF(AM$3:AM1029, $AL$3:$AL$1500)), 0))","v":{"$error":"#N/A"}},""]
[{"$f":"IF(E1033=\"\",\"\",GetAddress(E1033))","v":""},{"$f":"IF(E1033=\"\",\"\",GetAddress(E1033))","v":""},null,null,null,null,null,null,null,null,null,null,null,null,null,null,null,null,null,null,null,null,null,null,null,null,null,null,null,0,0,0,0,0,0,0,"","",{"$f":"INDEX($AL$3:$AL$1500, MATCH(0, IF(ISBLANK($AL$3:$AL$1500), 1, COUNTIF(AM$3:AM1030, $AL$3:$AL$1500)), 0))","v":{"$error":"#N/A"}},""]
[{"$f":"IF(E1034=\"\",\"\",GetAddress(E1034))","v":""},{"$f":"IF(E1034=\"\",\"\",GetAddress(E1034))","v":""},null,null,null,null,null,null,null,null,null,null,null,null,null,null,null,null,null,null,null,null,null,null,null,null,null,null,null,0,0,0,0,0,0,0,"","",{"$f":"INDEX($AL$3:$AL$1500, MATCH(0, IF(ISBLANK($AL$3:$AL$1500), 1, COUNTIF(AM$3:AM1031, $AL$3:$AL$1500)), 0))","v":{"$error":"#N/A"}},""]
[{"$f":"IF(E1035=\"\",\"\",GetAddress(E1035))","v":""},{"$f":"IF(E1035=\"\",\"\",GetAddress(E1035))","v":""},null,null,null,null,null,null,null,null,null,null,null,null,null,null,null,null,null,null,null,null,null,null,null,null,null,null,null,0,0,0,0,0,0,0,"","",{"$f":"INDEX($AL$3:$AL$1500, MATCH(0, IF(ISBLANK($AL$3:$AL$1500), 1, COUNTIF(AM$3:AM1032, $AL$3:$AL$1500)), 0))","v":{"$error":"#N/A"}},""]
[{"$f":"IF(E1036=\"\",\"\",GetAddress(E1036))","v":""},{"$f":"IF(E1036=\"\",\"\",GetAddress(E1036))","v":""},null,null,null,null,null,null,null,null,null,null,null,null,null,null,null,null,null,null,null,null,null,null,null,null,null,null,null,0,0,0,0,0,0,0,"","",{"$f":"INDEX($AL$3:$AL$1500, MATCH(0, IF(ISBLANK($AL$3:$AL$1500), 1, COUNTIF(AM$3:AM1033, $AL$3:$AL$1500)), 0))","v":{"$error":"#N/A"}},""]
[{"$f":"IF(E1037=\"\",\"\",GetAddress(E1037))","v":""},{"$f":"IF(E1037=\"\",\"\",GetAddress(E1037))","v":""},null,null,null,null,null,null,null,null,null,null,null,null,null,null,null,null,null,null,null,null,null,null,null,null,null,null,null,0,0,0,0,0,0,0,"","",{"$f":"INDEX($AL$3:$AL$1500, MATCH(0, IF(ISBLANK($AL$3:$AL$1500), 1, COUNTIF(AM$3:AM1034, $AL$3:$AL$1500)), 0))","v":{"$error":"#N/A"}},""]
[{"$f":"IF(E1038=\"\",\"\",GetAddress(E1038))","v":""},{"$f":"IF(E1038=\"\",\"\",GetAddress(E1038))","v":""},null,null,null,null,null,null,null,null,null,null,null,null,null,null,null,null,null,null,null,null,null,null,null,null,null,null,null,0,0,0,0,0,0,0,"","",{"$f":"INDEX($AL$3:$AL$1500, MATCH(0, IF(ISBLANK($AL$3:$AL$1500), 1, COUNTIF(AM$3:AM1035, $AL$3:$AL$1500)), 0))","v":{"$error":"#N/A"}},""]
[{"$f":"IF(E1039=\"\",\"\",GetAddress(E1039))","v":""},{"$f":"IF(E1039=\"\",\"\",GetAddress(E1039))","v":""},null,null,null,null,null,null,null,null,null,null,null,null,null,null,null,null,null,null,null,null,null,null,null,null,null,null,null,0,0,0,0,0,0,0,"","",{"$f":"INDEX($AL$3:$AL$1500, MATCH(0, IF(ISBLANK($AL$3:$AL$1500), 1, COUNTIF(AM$3:AM1036, $AL$3:$AL$1500)), 0))","v":{"$error":"#N/A"}},""]
[{"$f":"IF(E1040=\"\",\"\",GetAddress(E1040))","v":""},{"$f":"IF(E1040=\"\",\"\",GetAddress(E1040))","v":""},null,null,null,null,null,null,null,null,null,null,null,null,null,null,null,null,null,null,null,null,null,null,null,null,null,null,null,0,0,0,0,0,0,0,"","",{"$f":"INDEX($AL$3:$AL$1500, MATCH(0, IF(ISBLANK($AL$3:$AL$1500), 1, COUNTIF(AM$3:AM1037, $AL$3:$AL$1500)), 0))","v":{"$error":"#N/A"}},""]
[{"$f":"IF(E1041=\"\",\"\",GetAddress(E1041))","v":""},{"$f":"IF(E1041=\"\",\"\",GetAddress(E1041))","v":""},null,null,null,null,null,null,null,null,null,null,null,null,null,null,null,null,null,null,null,null,null,null,null,null,null,null,null,0,0,0,0,0,0,0,"","",{"$f":"INDEX($AL$3:$AL$1500, MATCH(0, IF(ISBLANK($AL$3:$AL$1500), 1, COUNTIF(AM$3:AM1038, $AL$3:$AL$1500)), 0))","v":{"$error":"#N/A"}},""]
[{"$f":"IF(E1042=\"\",\"\",GetAddress(E1042))","v":""},{"$f":"IF(E1042=\"\",\"\",GetAddress(E1042))","v":""},null,null,null,null,null,null,null,null,null,null,null,null,null,null,null,null,null,null,null,null,null,null,null,null,null,null,null,0,0,0,0,0,0,0,"","",{"$f":"INDEX($AL$3:$AL$1500, MATCH(0, IF(ISBLANK($AL$3:$AL$1500), 1, COUNTIF(AM$3:AM1039, $AL$3:$AL$1500)), 0))","v":{"$error":"#N/A"}},""]
[{"$f":"IF(E1043=\"\",\"\",GetAddress(E1043))","v":""},{"$f":"IF(E1043=\"\",\"\",GetAddress(E1043))","v":""},null,null,null,null,null,null,null,null,null,null,null,null,null,null,null,null,null,null,null,null,null,null,null,null,null,null,null,0,0,0,0,0,0,0,"","",{"$f":"INDEX($AL$3:$AL$1500, MATCH(0, IF(ISBLANK($AL$3:$AL$1500), 1, COUNTIF(AM$3:AM1040, $AL$3:$AL$1500)), 0))","v":{"$error":"#N/A"}},""]
[{"$f":"IF(E1044=\"\",\"\",GetAddress(E1044))","v":""},{"$f":"IF(E1044=\"\",\"\",GetAddress(E1044))","v":""},null,null,null,null,null,null,null,null,null,null,null,null,null,null,null,null,null,null,null,null,null,null,null,null,null,null,null,0,0,0,0,0,0,0,"","",{"$f":"INDEX($AL$3:$AL$1500, MATCH(0, IF(ISBLANK($AL$3:$AL$1500), 1, COUNTIF(AM$3:AM1041, $AL$3:$AL$1500)), 0))","v":{"$error":"#N/A"}},""]
[{"$f":"IF(E1045=\"\",\"\",GetAddress(E1045))","v":""},{"$f":"IF(E1045=\"\",\"\",GetAddress(E1045))","v":""},null,null,null,null,null,null,null,null,null,null,null,null,null,null,null,null,null,null,null,null,null,null,null,null,null,null,null,0,0,0,0,0,0,0,"","",{"$f":"INDEX($AL$3:$AL$1500, MATCH(0, IF(ISBLANK($AL$3:$AL$1500), 1, COUNTIF(AM$3:AM1042, $AL$3:$AL$1500)), 0))","v":{"$error":"#N/A"}},""]
[{"$f":"IF(E1046=\"\",\"\",GetAddress(E1046))","v":""},{"$f":"IF(E1046=\"\",\"\",GetAddress(E1046))","v":""},null,null,null,null,null,null,null,null,null,null,null,null,null,null,null,null,null,null,null,null,null,null,null,null,null,null,null,0,0,0,0,0,0,0,"","",{"$f":"INDEX($AL$3:$AL$1500, MATCH(0, IF(ISBLANK($AL$3:$AL$1500), 1, COUNTIF(AM$3:AM1043, $AL$3:$AL$1500)), 0))","v":{"$error":"#N/A"}},""]
[{"$f":"IF(E1047=\"\",\"\",GetAddress(E1047))","v":""},{"$f":"IF(E1047=\"\",\"\",GetAddress(E1047))","v":""},null,null,null,null,null,null,null,null,null,null,null,null,null,null,null,null,null,null,null,null,null,null,null,null,null,null,null,0,0,0,0,0,0,0,"","",{"$f":"INDEX($AL$3:$AL$1500, MATCH(0, IF(ISBLANK($AL$3:$AL$1500), 1, COUNTIF(AM$3:AM1044, $AL$3:$AL$1500)), 0))","v":{"$error":"#N/A"}},""]
[{"$f":"IF(E1048=\"\",\"\",GetAddress(E1048))","v":""},{"$f":"IF(E1048=\"\",\"\",GetAddress(E1048))","v":""},null,null,null,null,null,null,null,null,null,null,null,null,null,null,null,null,null,null,null,null,null,null,null,null,null,null,null,0,0,0,0,0,0,0,"","",{"$f":"INDEX($AL$3:$AL$1500, MATCH(0, IF(ISBLANK($AL$3:$AL$1500), 1, COUNTIF(AM$3:AM1045, $AL$3:$AL$1500)), 0))","v":{"$error":"#N/A"}},""]
[{"$f":"IF(E1049=\"\",\"\",GetAddress(E1049))","v":""},{"$f":"IF(E1049=\"\",\"\",GetAddress(E1049))","v":""},null,null,null,null,null,null,null,null,null,null,null,null,null,null,null,null,null,null,null,null,null,null,null,null,null,null,null,0,0,0,0,0,0,0,"","",{"$f":"INDEX($AL$3:$AL$1500, MATCH(0, IF(ISBLANK($AL$3:$AL$1500), 1, COUNTIF(AM$3:AM1046, $AL$3:$AL$1500)), 0))","v":{"$error":"#N/A"}},""]
[{"$f":"IF(E1050=\"\",\"\",GetAddress(E1050))","v":""},{"$f":"IF(E1050=\"\",\"\",GetAddress(E1050))","v":""},null,null,null,null,null,null,null,null,null,null,null,null,null,null,null,null,null,null,null,null,null,null,null,null,null,null,null,0,0,0,0,0,0,0,"","",{"$f":"INDEX($AL$3:$AL$1500, MATCH(0, IF(ISBLANK($AL$3:$AL$1500), 1, COUNTIF(AM$3:AM1047, $AL$3:$AL$1500)), 0))","v":{"$error":"#N/A"}},""]
[{"$f":"IF(E1051=\"\",\"\",GetAddress(E1051))","v":""},{"$f":"IF(E1051=\"\",\"\",GetAddress(E1051))","v":""},null,null,null,null,null,null,null,null,null,null,null,null,null,null,null,null,null,null,null,null,null,null,null,null,null,null,null,0,0,0,0,0,0,0,"","",{"$f":"INDEX($AL$3:$AL$1500, MATCH(0, IF(ISBLANK($AL$3:$AL$1500), 1, COUNTIF(AM$3:AM1048, $AL$3:$AL$1500)), 0))","v":{"$error":"#N/A"}},""]
[{"$f":"IF(E1052=\"\",\"\",GetAddress(E1052))","v":""},{"$f":"IF(E1052=\"\",\"\",GetAddress(E1052))","v":""},null,null,null,null,null,null,null,null,null,null,null,null,null,null,null,null,null,null,null,null,null,null,null,null,null,null,null,0,0,0,0,0,0,0,"","",{"$f":"INDEX($AL$3:$AL$1500, MATCH(0, IF(ISBLANK($AL$3:$AL$1500), 1, COUNTIF(AM$3:AM1049, $AL$3:$AL$1500)), 0))","v":{"$error":"#N/A"}},""]
[{"$f":"IF(E1053=\"\",\"\",GetAddress(E1053))","v":""},{"$f":"IF(E1053=\"\",\"\",GetAddress(E1053))","v":""},null,null,null,null,null,null,null,null,null,null,null,null,null,null,null,null,null,null,null,null,null,null,null,null,null,null,null,0,0,0,0,0,0,0,"","",{"$f":"INDEX($AL$3:$AL$1500, MATCH(0, IF(ISBLANK($AL$3:$AL$1500), 1, COUNTIF(AM$3:AM1050, $AL$3:$AL$1500)), 0))","v":{"$error":"#N/A"}},""]
[{"$f":"IF(E1054=\"\",\"\",GetAddress(E1054))","v":""},{"$f":"IF(E1054=\"\",\"\",GetAddress(E1054))","v":""},null,null,null,null,null,null,null,null,null,null,null,null,null,null,null,null,null,null,null,null,null,null,null,null,null,null,null,0,0,0,0,0,0,0,"","",{"$f":"INDEX($AL$3:$AL$1500, MATCH(0, IF(ISBLANK($AL$3:$AL$1500), 1, COUNTIF(AM$3:AM1051, $AL$3:$AL$1500)), 0))","v":{"$error":"#N/A"}},""]
[{"$f":"IF(E1055=\"\",\"\",GetAddress(E1055))","v":""},{"$f":"IF(E1055=\"\",\"\",GetAddress(E1055))","v":""},null,null,null,null,null,null,null,null,null,null,null,null,null,null,null,null,null,null,null,null,null,null,null,null,null,null,null,0,0,0,0,0,0,0,"","",{"$f":"INDEX($AL$3:$AL$1500, MATCH(0, IF(ISBLANK($AL$3:$AL$1500), 1, COUNTIF(AM$3:AM1052, $AL$3:$AL$1500)), 0))","v":{"$error":"#N/A"}},""]
[{"$f":"IF(E1056=\"\",\"\",GetAddress(E1056))","v":""},{"$f":"IF(E1056=\"\",\"\",GetAddress(E1056))","v":""},null,null,null,null,null,null,null,null,null,null,null,null,null,null,null,null,null,null,null,null,null,null,null,null,null,null,null,0,0,0,0,0,0,0,"","",{"$f":"INDEX($AL$3:$AL$1500, MATCH(0, IF(ISBLANK($AL$3:$AL$1500), 1, COUNTIF(AM$3:AM1053, $AL$3:$AL$1500)), 0))","v":{"$error":"#N/A"}},""]
[{"$f":"IF(E1057=\"\",\"\",GetAddress(E1057))","v":""},{"$f":"IF(E1057=\"\",\"\",GetAddress(E1057))","v":""},null,null,null,null,null,null,null,null,null,null,null,null,null,null,null,null,null,null,null,null,null,null,null,null,null,null,null,0,0,0,0,0,0,0,"","",{"$f":"INDEX($AL$3:$AL$1500, MATCH(0, IF(ISBLANK($AL$3:$AL$1500), 1, COUNTIF(AM$3:AM1054, $AL$3:$AL$1500)), 0))","v":{"$error":"#N/A"}},""]
[{"$f":"IF(E1058=\"\",\"\",GetAddress(E1058))","v":""},{"$f":"IF(E1058=\"\",\"\",GetAddress(E1058))","v":""},null,null,null,null,null,null,null,null,null,null,null,null,null,null,null,null,null,null,null,null,null,null,null,null,null,null,null,0,0,0,0,0,0,0,"","",{"$f":"INDEX($AL$3:$AL$1500, MATCH(0, IF(ISBLANK($AL$3:$AL$1500), 1, COUNTIF(AM$3:AM1055, $AL$3:$AL$1500)), 0))","v":{"$error":"#N/A"}},""]
[{"$f":"IF(E1059=\"\",\"\",GetAddress(E1059))","v":""},{"$f":"IF(E1059=\"\",\"\",GetAddress(E1059))","v":""},null,null,null,null,null,null,null,null,null,null,null,null,null,null,null,null,null,null,null,null,null,null,null,null,null,null,null,0,0,0,0,0,0,0,"","",{"$f":"INDEX($AL$3:$AL$1500, MATCH(0, IF(ISBLANK($AL$3:$AL$1500), 1, COUNTIF(AM$3:AM1056, $AL$3:$AL$1500)), 0))","v":{"$error":"#N/A"}},""]
[{"$f":"IF(E1060=\"\",\"\",GetAddress(E1060))","v":""},{"$f":"IF(E1060=\"\",\"\",GetAddress(E1060))","v":""},null,null,null,null,null,null,null,null,null,null,null,null,null,null,null,null,null,null,null,null,null,null,null,null,null,null,null,0,0,0,0,0,0,0,"","",{"$f":"INDEX($AL$3:$AL$1500, MATCH(0, IF(ISBLANK($AL$3:$AL$1500), 1, COUNTIF(AM$3:AM1057, $AL$3:$AL$1500)), 0))","v":{"$error":"#N/A"}},""]
[{"$f":"IF(E1061=\"\",\"\",GetAddress(E1061))","v":""},{"$f":"IF(E1061=\"\",\"\",GetAddress(E1061))","v":""},null,null,null,null,null,null,null,null,null,null,null,null,null,null,null,null,null,null,null,null,null,null,null,null,null,null,null,0,0,0,0,0,0,0,"","",{"$f":"INDEX($AL$3:$AL$1500, MATCH(0, IF(ISBLANK($AL$3:$AL$1500), 1, COUNTIF(AM$3:AM1058, $AL$3:$AL$1500)), 0))","v":{"$error":"#N/A"}},""]
[{"$f":"IF(E1062=\"\",\"\",GetAddress(E1062))","v":""},{"$f":"IF(E1062=\"\",\"\",GetAddress(E1062))","v":""},null,null,null,null,null,null,null,null,null,null,null,null,null,null,null,null,null,null,null,null,null,null,null,null,null,null,null,0,0,0,0,0,0,0,"","",{"$f":"INDEX($AL$3:$AL$1500, MATCH(0, IF(ISBLANK($AL$3:$AL$1500), 1, COUNTIF(AM$3:AM1059, $AL$3:$AL$1500)), 0))","v":{"$error":"#N/A"}},""]
[{"$f":"IF(E1063=\"\",\"\",GetAddress(E1063))","v":""},{"$f":"IF(E1063=\"\",\"\",GetAddress(E1063))","v":""},null,null,null,null,null,null,null,null,null,null,null,null,null,null,null,null,null,null,null,null,null,null,null,null,null,null,null,0,0,0,0,0,0,0,"","",{"$f":"INDEX($AL$3:$AL$1500, MATCH(0, IF(ISBLANK($AL$3:$AL$1500), 1, COUNTIF(AM$3:AM1060, $AL$3:$AL$1500)), 0))","v":{"$error":"#N/A"}},""]
[{"$f":"IF(E1064=\"\",\"\",GetAddress(E1064))","v":""},{"$f":"IF(E1064=\"\",\"\",GetAddress(E1064))","v":""},null,null,null,null,null,null,null,null,null,null,null,null,null,null,null,null,null,null,null,null,null,null,null,null,null,null,null,0,0,0,0,0,0,0,"","",{"$f":"INDEX($AL$3:$AL$1500, MATCH(0, IF(ISBLANK($AL$3:$AL$1500), 1, COUNTIF(AM$3:AM1061, $AL$3:$AL$1500)), 0))","v":{"$error":"#N/A"}},""]
[{"$f":"IF(E1065=\"\",\"\",GetAddress(E1065))","v":""},{"$f":"IF(E1065=\"\",\"\",GetAddress(E1065))","v":""},null,null,null,null,null,null,null,null,null,null,null,null,null,null,null,null,null,null,null,null,null,null,null,null,null,null,null,0,0,0,0,0,0,0,"","",{"$f":"INDEX($AL$3:$AL$1500, MATCH(0, IF(ISBLANK($AL$3:$AL$1500), 1, COUNTIF(AM$3:AM1062, $AL$3:$AL$1500)), 0))","v":{"$error":"#N/A"}},""]
[{"$f":"IF(E1066=\"\",\"\",GetAddress(E1066))","v":""},{"$f":"IF(E1066=\"\",\"\",GetAddress(E1066))","v":""},null,null,null,null,null,null,null,null,null,null,null,null,null,null,null,null,null,null,null,null,null,null,null,null,null,null,null,0,0,0,0,0,0,0,"","",{"$f":"INDEX($AL$3:$AL$1500, MATCH(0, IF(ISBLANK($AL$3:$AL$1500), 1, COUNTIF(AM$3:AM1063, $AL$3:$AL$1500)), 0))","v":{"$error":"#N/A"}},""]
[{"$f":"IF(E1067=\"\",\"\",GetAddress(E1067))","v":""},{"$f":"IF(E1067=\"\",\"\",GetAddress(E1067))","v":""},null,null,null,null,null,null,null,null,null,null,null,null,null,null,null,null,null,null,null,null,null,null,null,null,null,null,null,0,0,0,0,0,0,0,"","",{"$f":"INDEX($AL$3:$AL$1500, MATCH(0, IF(ISBLANK($AL$3:$AL$1500), 1, COUNTIF(AM$3:AM1064, $AL$3:$AL$1500)), 0))","v":{"$error":"#N/A"}},""]
[{"$f":"IF(E1068=\"\",\"\",GetAddress(E1068))","v":""},{"$f":"IF(E1068=\"\",\"\",GetAddress(E1068))","v":""},null,null,null,null,null,null,null,null,null,null,null,null,null,null,null,null,null,null,null,null,null,null,null,null,null,null,null,0,0,0,0,0,0,0,"","",{"$f":"INDEX($AL$3:$AL$1500, MATCH(0, IF(ISBLANK($AL$3:$AL$1500), 1, COUNTIF(AM$3:AM1065, $AL$3:$AL$1500)), 0))","v":{"$error":"#N/A"}},""]
[{"$f":"IF(E1069=\"\",\"\",GetAddress(E1069))","v":""},{"$f":"IF(E1069=\"\",\"\",GetAddress(E1069))","v":""},null,null,null,null,null,null,null,null,null,null,null,null,null,null,null,null,null,null,null,null,null,null,null,null,null,null,null,0,0,0,0,0,0,0,"","",{"$f":"INDEX($AL$3:$AL$1500, MATCH(0, IF(ISBLANK($AL$3:$AL$1500), 1, COUNTIF(AM$3:AM1066, $AL$3:$AL$1500)), 0))","v":{"$error":"#N/A"}},""]
[{"$f":"IF(E1070=\"\",\"\",GetAddress(E1070))","v":""},{"$f":"IF(E1070=\"\",\"\",GetAddress(E1070))","v":""},null,null,null,null,null,null,null,null,null,null,null,null,null,null,null,null,null,null,null,null,null,null,null,null,null,null,null,0,0,0,0,0,0,0,"","",{"$f":"INDEX($AL$3:$AL$1500, MATCH(0, IF(ISBLANK($AL$3:$AL$1500), 1, COUNTIF(AM$3:AM1067, $AL$3:$AL$1500)), 0))","v":{"$error":"#N/A"}},""]
[{"$f":"IF(E1071=\"\",\"\",GetAddress(E1071))","v":""},{"$f":"IF(E1071=\"\",\"\",GetAddress(E1071))","v":""},null,null,null,null,null,null,null,null,null,null,null,null,null,null,null,null,null,null,null,null,null,null,null,null,null,null,null,0,0,0,0,0,0,0,"","",{"$f":"INDEX($AL$3:$AL$1500, MATCH(0, IF(ISBLANK($AL$3:$AL$1500), 1, COUNTIF(AM$3:AM1068, $AL$3:$AL$1500)), 0))","v":{"$error":"#N/A"}},""]
[{"$f":"IF(E1072=\"\",\"\",GetAddress(E1072))","v":""},{"$f":"IF(E1072=\"\",\"\",GetAddress(E1072))","v":""},null,null,null,null,null,null,null,null,null,null,null,null,null,null,null,null,null,null,null,null,null,null,null,null,null,null,null,0,0,0,0,0,0,0,"","",{"$f":"INDEX($AL$3:$AL$1500, MATCH(0, IF(ISBLANK($AL$3:$AL$1500), 1, COUNTIF(AM$3:AM1069, $AL$3:$AL$1500)), 0))","v":{"$error":"#N/A"}},""]
[{"$f":"IF(E1073=\"\",\"\",GetAddress(E1073))","v":""},{"$f":"IF(E1073=\"\",\"\",GetAddress(E1073))","v":""},null,null,null,null,null,null,null,null,null,null,null,null,null,null,null,null,null,null,null,null,null,null,null,null,null,null,null,0,0,0,0,0,0,0,"","",{"$f":"INDEX($AL$3:$AL$1500, MATCH(0, IF(ISBLANK($AL$3:$AL$1500), 1, COUNTIF(AM$3:AM1070, $AL$3:$AL$1500)), 0))","v":{"$error":"#N/A"}},""]
[{"$f":"IF(E1074=\"\",\"\",GetAddress(E1074))","v":""},{"$f":"IF(E1074=\"\",\"\",GetAddress(E1074))","v":""},null,null,null,null,null,null,null,null,null,null,null,null,null,null,null,null,null,null,null,null,null,null,null,null,null,null,null,0,0,0,0,0,0,0,"","",{"$f":"INDEX($AL$3:$AL$1500, MATCH(0, IF(ISBLANK($AL$3:$AL$1500), 1, COUNTIF(AM$3:AM1071, $AL$3:$AL$1500)), 0))","v":{"$error":"#N/A"}},""]
[{"$f":"IF(E1075=\"\",\"\",GetAddress(E1075))","v":""},{"$f":"IF(E1075=\"\",\"\",GetAddress(E1075))","v":""},null,null,null,null,null,null,null,null,null,null,null,null,null,null,null,null,null,null,null,null,null,null,null,null,null,null,null,0,0,0,0,0,0,0,"","",{"$f":"INDEX($AL$3:$AL$1500, MATCH(0, IF(ISBLANK($AL$3:$AL$1500), 1, COUNTIF(AM$3:AM1072, $AL$3:$AL$1500)), 0))","v":{"$error":"#N/A"}},""]
[{"$f":"IF(E1076=\"\",\"\",GetAddress(E1076))","v":""},{"$f":"IF(E1076=\"\",\"\",GetAddress(E1076))","v":""},null,null,null,null,null,null,null,null,null,null,null,null,null,null,null,null,null,null,null,null,null,null,null,null,null,null,null,0,0,0,0,0,0,0,"","",{"$f":"INDEX($AL$3:$AL$1500, MATCH(0, IF(ISBLANK($AL$3:$AL$1500), 1, COUNTIF(AM$3:AM1073, $AL$3:$AL$1500)), 0))","v":{"$error":"#N/A"}},""]
[{"$f":"IF(E1077=\"\",\"\",GetAddress(E1077))","v":""},{"$f":"IF(E1077=\"\",\"\",GetAddress(E1077))","v":""},null,null,null,null,null,null,null,null,null,null,null,null,null,null,null,null,null,null,null,null,null,null,null,null,null,null,null,0,0,0,0,0,0,0,"","",{"$f":"INDEX($AL$3:$AL$1500, MATCH(0, IF(ISBLANK($AL$3:$AL$1500), 1, COUNTIF(AM$3:AM1074, $AL$3:$AL$1500)), 0))","v":{"$error":"#N/A"}},""]
[{"$f":"IF(E1078=\"\",\"\",GetAddress(E1078))","v":""},{"$f":"IF(E1078=\"\",\"\",GetAddress(E1078))","v":""},null,null,null,null,null,null,null,null,null,null,null,null,null,null,null,null,null,null,null,null,null,null,null,null,null,null,null,0,0,0,0,0,0,0,"","",{"$f":"INDEX($AL$3:$AL$1500, MATCH(0, IF(ISBLANK($AL$3:$AL$1500), 1, COUNTIF(AM$3:AM1075, $AL$3:$AL$1500)), 0))","v":{"$error":"#N/A"}},""]
[{"$f":"IF(E1079=\"\",\"\",GetAddress(E1079))","v":""},{"$f":"IF(E1079=\"\",\"\",GetAddress(E1079))","v":""},null,null,null,null,null,null,null,null,null,null,null,null,null,null,null,null,null,null,null,null,null,null,null,null,null,null,null,0,0,0,0,0,0,0,"","",{"$f":"INDEX($AL$3:$AL$1500, MATCH(0, IF(ISBLANK($AL$3:$AL$1500), 1, COUNTIF(AM$3:AM1076, $AL$3:$AL$1500)), 0))","v":{"$error":"#N/A"}},""]
[{"$f":"IF(E1080=\"\",\"\",GetAddress(E1080))","v":""},{"$f":"IF(E1080=\"\",\"\",GetAddress(E1080))","v":""},null,null,null,null,null,null,null,null,null,null,null,null,null,null,null,null,null,null,null,null,null,null,null,null,null,null,null,0,0,0,0,0,0,0,"","",{"$f":"INDEX($AL$3:$AL$1500, MATCH(0, IF(ISBLANK($AL$3:$AL$1500), 1, COUNTIF(AM$3:AM1077, $AL$3:$AL$1500)), 0))","v":{"$error":"#N/A"}},""]
[{"$f":"IF(E1081=\"\",\"\",GetAddress(E1081))","v":""},{"$f":"IF(E1081=\"\",\"\",GetAddress(E1081))","v":""},null,null,null,null,null,null,null,null,null,null,null,null,null,null,null,null,null,null,null,null,null,null,null,null,null,null,null,0,0,0,0,0,0,0,"","",{"$f":"INDEX($AL$3:$AL$1500, MATCH(0, IF(ISBLANK($AL$3:$AL$1500), 1, COUNTIF(AM$3:AM1078, $AL$3:$AL$1500)), 0))","v":{"$error":"#N/A"}},""]
[{"$f":"IF(E1082=\"\",\"\",GetAddress(E1082))","v":""},{"$f":"IF(E1082=\"\",\"\",GetAddress(E1082))","v":""},null,null,null,null,null,null,null,null,null,null,null,null,null,null,null,null,null,null,null,null,null,null,null,null,null,null,null,0,0,0,0,0,0,0,"","",{"$f":"INDEX($AL$3:$AL$1500, MATCH(0, IF(ISBLANK($AL$3:$AL$1500), 1, COUNTIF(AM$3:AM1079, $AL$3:$AL$1500)), 0))","v":{"$error":"#N/A"}},""]
[{"$f":"IF(E1083=\"\",\"\",GetAddress(E1083))","v":""},{"$f":"IF(E1083=\"\",\"\",GetAddress(E1083))","v":""},null,null,null,null,null,null,null,null,null,null,null,null,null,null,null,null,null,null,null,null,null,null,null,null,null,null,null,0,0,0,0,0,0,0,"","",{"$f":"INDEX($AL$3:$AL$1500, MATCH(0, IF(ISBLANK($AL$3:$AL$1500), 1, COUNTIF(AM$3:AM1080, $AL$3:$AL$1500)), 0))","v":{"$error":"#N/A"}},""]
[{"$f":"IF(E1084=\"\",\"\",GetAddress(E1084))","v":""},{"$f":"IF(E1084=\"\",\"\",GetAddress(E1084))","v":""},null,null,null,null,null,null,null,null,null,null,null,null,null,null,null,null,null,null,null,null,null,null,null,null,null,null,null,0,0,0,0,0,0,0,"","",{"$f":"INDEX($AL$3:$AL$1500, MATCH(0, IF(ISBLANK($AL$3:$AL$1500), 1, COUNTIF(AM$3:AM1081, $AL$3:$AL$1500)), 0))","v":{"$error":"#N/A"}},""]
[{"$f":"IF(E1085=\"\",\"\",GetAddress(E1085))","v":""},{"$f":"IF(E1085=\"\",\"\",GetAddress(E1085))","v":""},null,null,null,null,null,null,null,null,null,null,null,null,null,null,null,null,null,null,null,null,null,null,null,null,null,null,null,0,0,0,0,0,0,0,"","",{"$f":"INDEX($AL$3:$AL$1500, MATCH(0, IF(ISBLANK($AL$3:$AL$1500), 1, COUNTIF(AM$3:AM1082, $AL$3:$AL$1500)), 0))","v":{"$error":"#N/A"}},""]
[{"$f":"IF(E1086=\"\",\"\",GetAddress(E1086))","v":""},{"$f":"IF(E1086=\"\",\"\",GetAddress(E1086))","v":""},null,null,null,null,null,null,null,null,null,null,null,null,null,null,null,null,null,null,null,null,null,null,null,null,null,null,null,0,0,0,0,0,0,0,"","",{"$f":"INDEX($AL$3:$AL$1500, MATCH(0, IF(ISBLANK($AL$3:$AL$1500), 1, COUNTIF(AM$3:AM1083, $AL$3:$AL$1500)), 0))","v":{"$error":"#N/A"}},""]
[{"$f":"IF(E1087=\"\",\"\",GetAddress(E1087))","v":""},{"$f":"IF(E1087=\"\",\"\",GetAddress(E1087))","v":""},null,null,null,null,null,null,null,null,null,null,null,null,null,null,null,null,null,null,null,null,null,null,null,null,null,null,null,0,0,0,0,0,0,0,"","",{"$f":"INDEX($AL$3:$AL$1500, MATCH(0, IF(ISBLANK($AL$3:$AL$1500), 1, COUNTIF(AM$3:AM1084, $AL$3:$AL$1500)), 0))","v":{"$error":"#N/A"}},""]
[{"$f":"IF(E1088=\"\",\"\",GetAddress(E1088))","v":""},{"$f":"IF(E1088=\"\",\"\",GetAddress(E1088))","v":""},null,null,null,null,null,null,null,null,null,null,null,null,null,null,null,null,null,null,null,null,null,null,null,null,null,null,null,0,0,0,0,0,0,0,"","",{"$f":"INDEX($AL$3:$AL$1500, MATCH(0, IF(ISBLANK($AL$3:$AL$1500), 1, COUNTIF(AM$3:AM1085, $AL$3:$AL$1500)), 0))","v":{"$error":"#N/A"}},""]
[{"$f":"IF(E1089=\"\",\"\",GetAddress(E1089))","v":""},{"$f":"IF(E1089=\"\",\"\",GetAddress(E1089))","v":""},null,null,null,null,null,null,null,null,null,null,null,null,null,null,null,null,null,null,null,null,null,null,null,null,null,null,null,0,0,0,0,0,0,0,"","",{"$f":"INDEX($AL$3:$AL$1500, MATCH(0, IF(ISBLANK($AL$3:$AL$1500), 1, COUNTIF(AM$3:AM1086, $AL$3:$AL$1500)), 0))","v":{"$error":"#N/A"}},""]
[{"$f":"IF(E1090=\"\",\"\",GetAddress(E1090))","v":""},{"$f":"IF(E1090=\"\",\"\",GetAddress(E1090))","v":""},null,null,null,null,null,null,null,null,null,null,null,null,null,null,null,null,null,null,null,null,null,null,null,null,null,null,null,0,0,0,0,0,0,0,"","",{"$f":"INDEX($AL$3:$AL$1500, MATCH(0, IF(ISBLANK($AL$3:$AL$1500), 1, COUNTIF(AM$3:AM1087, $AL$3:$AL$1500)), 0))","v":{"$error":"#N/A"}},""]
[{"$f":"IF(E1091=\"\",\"\",GetAddress(E1091))","v":""},{"$f":"IF(E1091=\"\",\"\",GetAddress(E1091))","v":""},null,null,null,null,null,null,null,null,null,null,null,null,null,null,null,null,null,null,null,null,null,null,null,null,null,null,null,0,0,0,0,0,0,0,"","",{"$f":"INDEX($AL$3:$AL$1500, MATCH(0, IF(ISBLANK($AL$3:$AL$1500), 1, COUNTIF(AM$3:AM1088, $AL$3:$AL$1500)), 0))","v":{"$error":"#N/A"}},""]
[{"$f":"IF(E1092=\"\",\"\",GetAddress(E1092))","v":""},{"$f":"IF(E1092=\"\",\"\",GetAddress(E1092))","v":""},null,null,null,null,null,null,null,null,null,null,null,null,null,null,null,null,null,null,null,null,null,null,null,null,null,null,null,0,0,0,0,0,0,0,"","",{"$f":"INDEX($AL$3:$AL$1500, MATCH(0, IF(ISBLANK($AL$3:$AL$1500), 1, COUNTIF(AM$3:AM1089, $AL$3:$AL$1500)), 0))","v":{"$error":"#N/A"}},""]
[{"$f":"IF(E1093=\"\",\"\",GetAddress(E1093))","v":""},{"$f":"IF(E1093=\"\",\"\",GetAddress(E1093))","v":""},null,null,null,null,null,null,null,null,null,null,null,null,null,null,null,null,null,null,null,null,null,null,null,null,null,null,null,0,0,0,0,0,0,{"$f":"IF(AI1091=\"Free A\",\"\",AI1091)","v":0},{"$f":"IF(AJ1091=0,\"\",AJ1091)","v":""},{"$f":"IF(AK1091=\"Free Agent\",\"\",AK1091)","v":""},{"$f":"INDEX($AL$3:$AL$1500, MATCH(0, IF(ISBLANK($AL$3:$AL$1500), 1, COUNTIF(AM$3:AM1090, $AL$3:$AL$1500)), 0))","v":{"$error":"#N/A"}},{"$f":"IF(ISERROR(AM1091),\"\",AM1091)","v":""}]
[{"$f":"IF(E1094=\"\",\"\",GetAddress(E1094))","v":""},{"$f":"IF(E1094=\"\",\"\",GetAddress(E1094))","v":""},null,null,null,null,null,null,null,null,null,null,null,null,null,null,null,null,null,null,null,null,null,null,null,null,null,null,null,0,0,0,0,0,0,0,"","",{"$f":"INDEX($AL$3:$AL$1500, MATCH(0, IF(ISBLANK($AL$3:$AL$1500), 1, COUNTIF(AM$3:AM1091, $AL$3:$AL$1500)), 0))","v":{"$error":"#N/A"}},""]
[{"$f":"IF(E1095=\"\",\"\",GetAddress(E1095))","v":""},{"$f":"IF(E1095=\"\",\"\",GetAddress(E1095))","v":""},null,null,null,null,null,null,null,null,null,null,null,null,null,null,null,null,null,null,null,null,null,null,null,null,null,null,null,{"$f":"VALUE(IF(ISNUMBER(SEARCH(\"(P)\",Y1093)),\"1\", \"0\"))","v":0},{"$f":"VALUE(IF(ISNUMBER(SEARCH(\"(Q)\",Y1093)),\"1\", \"0\"))","v":0},{"$f":"VALUE(IF(ISNUMBER(SEARCH(\"(O)\",Y1093)),\"1\", \"0\"))","v":0},{"$f":"VALUE(IF(ISNUMBER(SEARCH(\"(S)\",Y1093)),\"1\", \"0\"))","v":0},{"$f":"VALUE(IF(ISNUMBER(SEARCH(\"Free Agent\",Y1093)),\"1\", \"0\"))","v":0},{"$f":"IF(SUM(AD1093:AH1093)=0,Y1093,LEFT(Y1093,LEN(Y1093)-4))","v":0},0,"","",{"$f":"INDEX($AL$3:$AL$1500, MATCH(0, IF(ISBLANK($AL$3:$AL$1500), 1, COUNTIF(AM$3:AM1092, $AL$3:$AL$1500)), 0))","v":{"$error":"#N/A"}},""]
[{"$f":"IF(E1096=\"\",\"\",GetAddress(E1096))","v":""},{"$f":"IF(E1096=\"\",\"\",GetAddress(E1096))","v":""},null,null,null,null,null,null,null,null,null,null,null,null,null,null,null,null,null,null,null,null,null,null,null,null,null,null,null,0,0,0,0,0,0,0,"","",{"$f":"INDEX($AL$3:$AL$1500, MATCH(0, IF(ISBLANK($AL$3:$AL$1500), 1, COUNTIF(AM$3:AM1093, $AL$3:$AL$1500)), 0))","v":{"$error":"#N/A"}},""]
[{"$f":"IF(E1097=\"\",\"\",GetAddress(E1097))","v":""},{"$f":"IF(E1097=\"\",\"\",GetAddress(E1097))","v":""},null,null,null,null,null,null,null,null,null,null,null,null,null,null,null,null,null,null,null,null,null,null,null,null,null,null,null,0,0,0,0,0,0,0,"","",{"$f":"INDEX($AL$3:$AL$1500, MATCH(0, IF(ISBLANK($AL$3:$AL$1500), 1, COUNTIF(AM$3:AM1094, $AL$3:$AL$1500)), 0))","v":{"$error":"#N/A"}},""]
[{"$f":"IF(E1098=\"\",\"\",GetAddress(E1098))","v":""},{"$f":"IF(E1098=\"\",\"\",GetAddress(E1098))","v":""},null,null,null,null,null,null,null,null,null,null,null,null,null,null,null,null,null,null,null,null,null,null,null,null,null,null,null,0,0,0,0,0,0,0,"","",{"$f":"INDEX($AL$3:$AL$1500, MATCH(0, IF(ISBLANK($AL$3:$AL$1500), 1, COUNTIF(AM$3:AM1095, $AL$3:$AL$1500)), 0))","v":{"$error":"#N/A"}},""]
[{"$f":"IF(E1099=\"\",\"\",GetAddress(E1099))","v":""},{"$f":"IF(E1099=\"\",\"\",GetAddress(E1099))","v":""},null,null,null,null,null,null,null,null,null,null,null,null,null,null,null,null,null,null,null,null,null,null,null,null,null,null,null,0,0,0,0,0,0,0,"","",{"$f":"INDEX($AL$3:$AL$1500, MATCH(0, IF(ISBLANK($AL$3:$AL$1500), 1, COUNTIF(AM$3:AM1096, $AL$3:$AL$1500)), 0))","v":{"$error":"#N/A"}},""]
[{"$f":"IF(E1100=\"\",\"\",GetAddress(E1100))","v":""},{"$f":"IF(E1100=\"\",\"\",GetAddress(E1100))","v":""},null,null,null,null,null,null,null,null,null,null,null,null,null,null,null,null,null,null,null,null,null,null,null,null,null,null,null,0,0,0,0,0,0,0,"","",{"$f":"INDEX($AL$3:$AL$1500, MATCH(0, IF(ISBLANK($AL$3:$AL$1500), 1, COUNTIF(AM$3:AM1097, $AL$3:$AL$1500)), 0))","v":{"$error":"#N/A"}},""]
[{"$f":"IF(E1101=\"\",\"\",GetAddress(E1101))","v":""},{"$f":"IF(E1101=\"\",\"\",GetAddress(E1101))","v":""},null,null,null,null,null,null,null,null,null,null,null,null,null,null,null,null,null,null,null,null,null,null,null,null,null,null,null,0,0,0,0,0,0,0,"","",{"$f":"INDEX($AL$3:$AL$1500, MATCH(0, IF(ISBLANK($AL$3:$AL$1500), 1, COUNTIF(AM$3:AM1098, $AL$3:$AL$1500)), 0))","v":{"$error":"#N/A"}},""]
[{"$f":"IF(E1102=\"\",\"\",GetAddress(E1102))","v":""},{"$f":"IF(E1102=\"\",\"\",GetAddress(E1102))","v":""},null,null,null,null,null,null,null,null,null,null,null,null,null,null,null,null,null,null,null,null,null,null,null,null,null,null,null,0,0,0,0,0,0,0,"","",{"$f":"INDEX($AL$3:$AL$1500, MATCH(0, IF(ISBLANK($AL$3:$AL$1500), 1, COUNTIF(AM$3:AM1099, $AL$3:$AL$1500)), 0))","v":{"$error":"#N/A"}},""]
[{"$f":"IF(E1103=\"\",\"\",GetAddress(E1103))","v":""},{"$f":"IF(E1103=\"\",\"\",GetAddress(E1103))","v":""},null,null,null,null,null,null,null,null,null,null,null,null,null,null,null,null,null,null,null,null,null,null,null,null,null,null,null,0,0,0,0,0,0,0,"","",{"$f":"INDEX($AL$3:$AL$1500, MATCH(0, IF(ISBLANK($AL$3:$AL$1500), 1, COUNTIF(AM$3:AM1100, $AL$3:$AL$1500)), 0))","v":{"$error":"#N/A"}},""]
[{"$f":"IF(E1104=\"\",\"\",GetAddress(E1104))","v":""},{"$f":"IF(E1104=\"\",\"\",GetAddress(E1104))","v":""},null,null,null,null,null,null,null,null,null,null,null,null,null,null,null,null,null,null,null,null,null,null,null,null,null,null,null,0,0,0,0,0,0,0,"","",{"$f":"INDEX($AL$3:$AL$1500, MATCH(0, IF(ISBLANK($AL$3:$AL$1500), 1, COUNTIF(AM$3:AM1101, $AL$3:$AL$1500)), 0))","v":{"$error":"#N/A"}},""]
[{"$f":"IF(E1105=\"\",\"\",GetAddress(E1105))","v":""},{"$f":"IF(E1105=\"\",\"\",GetAddress(E1105))","v":""},null,null,null,null,null,null,null,null,null,null,null,null,null,null,null,null,null,null,null,null,null,null,null,null,null,null,null,0,0,0,0,0,0,0,"","",{"$f":"INDEX($AL$3:$AL$1500, MATCH(0, IF(ISBLANK($AL$3:$AL$1500), 1, COUNTIF(AM$3:AM1102, $AL$3:$AL$1500)), 0))","v":{"$error":"#N/A"}},""]
[{"$f":"IF(E1106=\"\",\"\",GetAddress(E1106))","v":""},{"$f":"IF(E1106=\"\",\"\",GetAddress(E1106))","v":""},null,null,null,null,null,null,null,null,null,null,null,null,null,null,null,null,null,null,null,null,null,null,null,null,null,null,null,0,0,0,0,0,0,0,"","",{"$f":"INDEX($AL$3:$AL$1500, MATCH(0, IF(ISBLANK($AL$3:$AL$1500), 1, COUNTIF(AM$3:AM1103, $AL$3:$AL$1500)), 0))","v":{"$error":"#N/A"}},""]
[{"$f":"IF(E1107=\"\",\"\",GetAddress(E1107))","v":""},{"$f":"IF(E1107=\"\",\"\",GetAddress(E1107))","v":""},null,null,null,null,null,null,null,null,null,null,null,null,null,null,null,null,null,null,null,null,null,null,null,null,null,null,null,0,0,0,0,0,0,0,"","",{"$f":"INDEX($AL$3:$AL$1500, MATCH(0, IF(ISBLANK($AL$3:$AL$1500), 1, COUNTIF(AM$3:AM1104, $AL$3:$AL$1500)), 0))","v":{"$error":"#N/A"}},""]
[{"$f":"IF(E1108=\"\",\"\",GetAddress(E1108))","v":""},{"$f":"IF(E1108=\"\",\"\",GetAddress(E1108))","v":""},null,null,null,null,null,null,null,null,null,null,null,null,null,null,null,null,null,null,null,null,null,null,null,null,null,null,null,0,0,0,0,0,0,0,"","",{"$f":"INDEX($AL$3:$AL$1500, MATCH(0, IF(ISBLANK($AL$3:$AL$1500), 1, COUNTIF(AM$3:AM1105, $AL$3:$AL$1500)), 0))","v":{"$error":"#N/A"}},""]
[{"$f":"IF(E1109=\"\",\"\",GetAddress(E1109))","v":""},{"$f":"IF(E1109=\"\",\"\",GetAddress(E1109))","v":""},null,null,null,null,null,null,null,null,null,null,null,null,null,null,null,null,null,null,null,null,null,null,null,null,null,null,null,0,0,0,0,0,0,0,"","",{"$f":"INDEX($AL$3:$AL$1500, MATCH(0, IF(ISBLANK($AL$3:$AL$1500), 1, COUNTIF(AM$3:AM1106, $AL$3:$AL$1500)), 0))","v":{"$error":"#N/A"}},""]
[{"$f":"IF(E1110=\"\",\"\",GetAddress(E1110))","v":""},{"$f":"IF(E1110=\"\",\"\",GetAddress(E1110))","v":""},null,null,null,null,null,null,null,null,null,null,null,null,null,null,null,null,null,null,null,null,null,null,null,null,null,null,null,0,0,0,0,0,0,0,"","",{"$f":"INDEX($AL$3:$AL$1500, MATCH(0, IF(ISBLANK($AL$3:$AL$1500), 1, COUNTIF(AM$3:AM1107, $AL$3:$AL$1500)), 0))","v":{"$error":"#N/A"}},""]
[{"$f":"IF(E1111=\"\",\"\",GetAddress(E1111))","v":""},{"$f":"IF(E1111=\"\",\"\",GetAddress(E1111))","v":""},null,null,null,null,null,null,null,null,null,null,null,null,null,null,null,null,null,null,null,null,null,null,null,null,null,null,null,0,0,0,0,0,0,0,"","",{"$f":"INDEX($AL$3:$AL$1500, MATCH(0, IF(ISBLANK($AL$3:$AL$1500), 1, COUNTIF(AM$3:AM1108, $AL$3:$AL$1500)), 0))","v":{"$error":"#N/A"}},""]
[{"$f":"IF(E1112=\"\",\"\",GetAddress(E1112))","v":""},{"$f":"IF(E1112=\"\",\"\",GetAddress(E1112))","v":""},null,null,null,null,null,null,null,null,null,null,null,null,null,null,null,null,null,null,null,null,null,null,null,null,null,null,null,0,0,0,0,0,0,0,"","",{"$f":"INDEX($AL$3:$AL$1500, MATCH(0, IF(ISBLANK($AL$3:$AL$1500), 1, COUNTIF(AM$3:AM1109, $AL$3:$AL$1500)), 0))","v":{"$error":"#N/A"}},""]
[{"$f":"IF(E1113=\"\",\"\",GetAddress(E1113))","v":""},{"$f":"IF(E1113=\"\",\"\",GetAddress(E1113))","v":""},null,null,null,null,null,null,null,null,null,null,null,null,null,null,null,null,null,null,null,null,null,null,null,null,null,null,null,0,0,0,0,0,0,0,"","",{"$f":"INDEX($AL$3:$AL$1500, MATCH(0, IF(ISBLANK($AL$3:$AL$1500), 1, COUNTIF(AM$3:AM1110, $AL$3:$AL$1500)), 0))","v":{"$error":"#N/A"}},""]
[{"$f":"IF(E1114=\"\",\"\",GetAddress(E1114))","v":""},{"$f":"IF(E1114=\"\",\"\",GetAddress(E1114))","v":""},null,null,null,null,null,null,null,null,null,null,null,null,null,null,null,null,null,null,null,null,null,null,null,null,null,null,null,0,0,0,0,0,0,0,"","",{"$f":"INDEX($AL$3:$AL$1500, MATCH(0, IF(ISBLANK($AL$3:$AL$1500), 1, COUNTIF(AM$3:AM1111, $AL$3:$AL$1500)), 0))","v":{"$error":"#N/A"}},""]
[{"$f":"IF(E1115=\"\",\"\",GetAddress(E1115))","v":""},{"$f":"IF(E1115=\"\",\"\",GetAddress(E1115))","v":""},null,null,null,null,null,null,null,null,null,null,null,null,null,null,null,null,null,null,null,null,null,null,null,null,null,null,null,0,0,0,0,0,0,0,"","",{"$f":"INDEX($AL$3:$AL$1500, MATCH(0, IF(ISBLANK($AL$3:$AL$1500), 1, COUNTIF(AM$3:AM1112, $AL$3:$AL$1500)), 0))","v":{"$error":"#N/A"}},""]
[{"$f":"IF(E1116=\"\",\"\",GetAddress(E1116))","v":""},{"$f":"IF(E1116=\"\",\"\",GetAddress(E1116))","v":""},null,null,null,null,null,null,null,null,null,null,null,null,null,null,null,null,null,null,null,null,null,null,null,null,null,null,null,0,0,0,0,0,0,0,"","",{"$f":"INDEX($AL$3:$AL$1500, MATCH(0, IF(ISBLANK($AL$3:$AL$1500), 1, COUNTIF(AM$3:AM1113, $AL$3:$AL$1500)), 0))","v":{"$error":"#N/A"}},""]
[{"$f":"IF(E1117=\"\",\"\",GetAddress(E1117))","v":""},{"$f":"IF(E1117=\"\",\"\",GetAddress(E1117))","v":""},null,null,null,null,null,null,null,null,null,null,null,null,null,null,null,null,null,null,null,null,null,null,null,null,null,null,null,0,0,0,0,0,0,0,"","",{"$f":"INDEX($AL$3:$AL$1500, MATCH(0, IF(ISBLANK($AL$3:$AL$1500), 1, COUNTIF(AM$3:AM1114, $AL$3:$AL$1500)), 0))","v":{"$error":"#N/A"}},""]
[{"$f":"IF(E1118=\"\",\"\",GetAddress(E1118))","v":""},{"$f":"IF(E1118=\"\",\"\",GetAddress(E1118))","v":""},null,null,null,null,null,null,null,null,null,null,null,null,null,null,null,null,null,null,null,null,null,null,null,null,null,null,null,0,0,0,0,0,0,0,"","",{"$f":"INDEX($AL$3:$AL$1500, MATCH(0, IF(ISBLANK($AL$3:$AL$1500), 1, COUNTIF(AM$3:AM1115, $AL$3:$AL$1500)), 0))","v":{"$error":"#N/A"}},""]
[{"$f":"IF(E1119=\"\",\"\",GetAddress(E1119))","v":""},{"$f":"IF(E1119=\"\",\"\",GetAddress(E1119))","v":""},null,null,null,null,null,null,null,null,null,null,null,null,null,null,null,null,null,null,null,null,null,null,null,null,null,null,null,0,0,0,0,0,0,0,"","",{"$f":"INDEX($AL$3:$AL$1500, MATCH(0, IF(ISBLANK($AL$3:$AL$1500), 1, COUNTIF(AM$3:AM1116, $AL$3:$AL$1500)), 0))","v":{"$error":"#N/A"}},""]
[{"$f":"IF(E1120=\"\",\"\",GetAddress(E1120))","v":""},{"$f":"IF(E1120=\"\",\"\",GetAddress(E1120))","v":""},null,null,null,null,null,null,null,null,null,null,null,null,null,null,null,null,null,null,null,null,null,null,null,null,null,null,null,0,0,0,0,0,0,0,"","",{"$f":"INDEX($AL$3:$AL$1500, MATCH(0, IF(ISBLANK($AL$3:$AL$1500), 1, COUNTIF(AM$3:AM1117, $AL$3:$AL$1500)), 0))","v":{"$error":"#N/A"}},""]
[{"$f":"IF(E1121=\"\",\"\",GetAddress(E1121))","v":""},{"$f":"IF(E1121=\"\",\"\",GetAddress(E1121))","v":""},null,null,null,null,null,null,null,null,null,null,null,null,null,null,null,null,null,null,null,null,null,null,null,null,null,null,null,0,0,0,0,0,0,0,"","",{"$f":"INDEX($AL$3:$AL$1500, MATCH(0, IF(ISBLANK($AL$3:$AL$1500), 1, COUNTIF(AM$3:AM1118, $AL$3:$AL$1500)), 0))","v":{"$error":"#N/A"}},""]
[{"$f":"IF(E1122=\"\",\"\",GetAddress(E1122))","v":""},{"$f":"IF(E1122=\"\",\"\",GetAddress(E1122))","v":""},null,null,null,null,null,null,null,null,null,null,null,null,null,null,null,null,null,null,null,null,null,null,null,null,null,null,null,0,0,0,0,0,0,0,"","",{"$f":"INDEX($AL$3:$AL$1500, MATCH(0, IF(ISBLANK($AL$3:$AL$1500), 1, COUNTIF(AM$3:AM1119, $AL$3:$AL$1500)), 0))","v":{"$error":"#N/A"}},""]
[{"$f":"IF(E1123=\"\",\"\",GetAddress(E1123))","v":""},{"$f":"IF(E1123=\"\",\"\",GetAddress(E1123))","v":""},null,null,null,null,null,null,null,null,null,null,null,null,null,null,null,null,null,null,null,null,null,null,null,null,null,null,null,0,0,0,0,0,0,0,"","",{"$f":"INDEX($AL$3:$AL$1500, MATCH(0, IF(ISBLANK($AL$3:$AL$1500), 1, COUNTIF(AM$3:AM1120, $AL$3:$AL$1500)), 0))","v":{"$error":"#N/A"}},""]
[{"$f":"IF(E1124=\"\",\"\",GetAddress(E1124))","v":""},{"$f":"IF(E1124=\"\",\"\",GetAddress(E1124))","v":""},null,null,null,null,null,null,null,null,null,null,null,null,null,null,null,null,null,null,null,null,null,null,null,null,null,null,null,0,0,0,0,0,0,0,"","",{"$f":"INDEX($AL$3:$AL$1500, MATCH(0, IF(ISBLANK($AL$3:$AL$1500), 1, COUNTIF(AM$3:AM1121, $AL$3:$AL$1500)), 0))","v":{"$error":"#N/A"}},""]
[{"$f":"IF(E1125=\"\",\"\",GetAddress(E1125))","v":""},{"$f":"IF(E1125=\"\",\"\",GetAddress(E1125))","v":""},null,null,null,null,null,null,null,null,null,null,null,null,null,null,null,null,null,null,null,null,null,null,null,null,null,null,null,0,0,0,0,0,0,0,"","",{"$f":"INDEX($AL$3:$AL$1500, MATCH(0, IF(ISBLANK($AL$3:$AL$1500), 1, COUNTIF(AM$3:AM1122, $AL$3:$AL$1500)), 0))","v":{"$error":"#N/A"}},""]
[{"$f":"IF(E1126=\"\",\"\",GetAddress(E1126))","v":""},{"$f":"IF(E1126=\"\",\"\",GetAddress(E1126))","v":""},null,null,null,null,null,null,null,null,null,null,null,null,null,null,null,null,null,null,null,null,null,null,null,null,null,null,null,0,0,0,0,0,0,0,"","",{"$f":"INDEX($AL$3:$AL$1500, MATCH(0, IF(ISBLANK($AL$3:$AL$1500), 1, COUNTIF(AM$3:AM1123, $AL$3:$AL$1500)), 0))","v":{"$error":"#N/A"}},""]
[{"$f":"IF(E1127=\"\",\"\",GetAddress(E1127))","v":""},{"$f":"IF(E1127=\"\",\"\",GetAddress(E1127))","v":""},null,null,null,null,null,null,null,null,null,null,null,null,null,null,null,null,null,null,null,null,null,null,null,null,null,null,null,0,0,0,0,0,0,0,"","",{"$f":"INDEX($AL$3:$AL$1500, MATCH(0, IF(ISBLANK($AL$3:$AL$1500), 1, COUNTIF(AM$3:AM1124, $AL$3:$AL$1500)), 0))","v":{"$error":"#N/A"}},""]
[{"$f":"IF(E1128=\"\",\"\",GetAddress(E1128))","v":""},{"$f":"IF(E1128=\"\",\"\",GetAddress(E1128))","v":""},null,null,null,null,null,null,null,null,null,null,null,null,null,null,null,null,null,null,null,null,null,null,null,null,null,null,null,0,0,0,0,0,0,0,"","",{"$f":"INDEX($AL$3:$AL$1500, MATCH(0, IF(ISBLANK($AL$3:$AL$1500), 1, COUNTIF(AM$3:AM1125, $AL$3:$AL$1500)), 0))","v":{"$error":"#N/A"}},""]
[{"$f":"IF(E1129=\"\",\"\",GetAddress(E1129))","v":""},{"$f":"IF(E1129=\"\",\"\",GetAddress(E1129))","v":""},null,null,null,null,null,null,null,null,null,null,null,null,null,null,null,null,null,null,null,null,null,null,null,null,null,null,null,0,0,0,0,0,0,0,"","",{"$f":"INDEX($AL$3:$AL$1500, MATCH(0, IF(ISBLANK($AL$3:$AL$1500), 1, COUNTIF(AM$3:AM1126, $AL$3:$AL$1500)), 0))","v":{"$error":"#N/A"}},""]
[{"$f":"IF(E1130=\"\",\"\",GetAddress(E1130))","v":""},{"$f":"IF(E1130=\"\",\"\",GetAddress(E1130))","v":""},null,null,null,null,null,null,null,null,null,null,null,null,null,null,null,null,null,null,null,null,null,null,null,null,null,null,null,0,0,0,0,0,0,0,"","",{"$f":"INDEX($AL$3:$AL$1500, MATCH(0, IF(ISBLANK($AL$3:$AL$1500), 1, COUNTIF(AM$3:AM1127, $AL$3:$AL$1500)), 0))","v":{"$error":"#N/A"}},""]
[{"$f":"IF(E1131=\"\",\"\",GetAddress(E1131))","v":""},{"$f":"IF(E1131=\"\",\"\",GetAddress(E1131))","v":""},null,null,null,null,null,null,null,null,null,null,null,null,null,null,null,null,null,null,null,null,null,null,null,null,null,null,null,0,0,0,0,0,0,0,"","",{"$f":"INDEX($AL$3:$AL$1500, MATCH(0, IF(ISBLANK($AL$3:$AL$1500), 1, COUNTIF(AM$3:AM1128, $AL$3:$AL$1500)), 0))","v":{"$error":"#N/A"}},""]
[{"$f":"IF(E1132=\"\",\"\",GetAddress(E1132))","v":""},{"$f":"IF(E1132=\"\",\"\",GetAddress(E1132))","v":""},null,null,null,null,null,null,null,null,null,null,null,null,null,null,null,null,null,null,null,null,null,null,null,null,null,null,null,0,0,0,0,0,0,0,"","",{"$f":"INDEX($AL$3:$AL$1500, MATCH(0, IF(ISBLANK($AL$3:$AL$1500), 1, COUNTIF(AM$3:AM1129, $AL$3:$AL$1500)), 0))","v":{"$error":"#N/A"}},""]
[{"$f":"IF(E1133=\"\",\"\",GetAddress(E1133))","v":""},{"$f":"IF(E1133=\"\",\"\",GetAddress(E1133))","v":""},null,null,null,null,null,null,null,null,null,null,null,null,null,null,null,null,null,null,null,null,null,null,null,null,null,null,null,0,0,0,0,0,0,0,"","",{"$f":"INDEX($AL$3:$AL$1500, MATCH(0, IF(ISBLANK($AL$3:$AL$1500), 1, COUNTIF(AM$3:AM1130, $AL$3:$AL$1500)), 0))","v":{"$error":"#N/A"}},""]
[{"$f":"IF(E1134=\"\",\"\",GetAddress(E1134))","v":""},{"$f":"IF(E1134=\"\",\"\",GetAddress(E1134))","v":""},null,null,null,null,null,null,null,null,null,null,null,null,null,null,null,null,null,null,null,null,null,null,null,null,null,null,null,0,0,0,0,0,0,0,"","",{"$f":"INDEX($AL$3:$AL$1500, MATCH(0, IF(ISBLANK($AL$3:$AL$1500), 1, COUNTIF(AM$3:AM1131, $AL$3:$AL$1500)), 0))","v":{"$error":"#N/A"}},""]
[{"$f":"IF(E1135=\"\",\"\",GetAddress(E1135))","v":""},{"$f":"IF(E1135=\"\",\"\",GetAddress(E1135))","v":""},null,null,null,null,null,null,null,null,null,null,null,null,null,null,null,null,null,null,null,null,null,null,null,null,null,null,null,0,0,0,0,0,0,0,"","",{"$f":"INDEX($AL$3:$AL$1500, MATCH(0, IF(ISBLANK($AL$3:$AL$1500), 1, COUNTIF(AM$3:AM1132, $AL$3:$AL$1500)), 0))","v":{"$error":"#N/A"}},""]
[{"$f":"IF(E1136=\"\",\"\",GetAddress(E1136))","v":""},{"$f":"IF(E1136=\"\",\"\",GetAddress(E1136))","v":""},null,null,null,null,null,null,null,null,null,null,null,null,null,null,null,null,null,null,null,null,null,null,null,null,null,null,null,0,0,0,0,0,0,0,"","",{"$f":"INDEX($AL$3:$AL$1500, MATCH(0, IF(ISBLANK($AL$3:$AL$1500), 1, COUNTIF(AM$3:AM1133, $AL$3:$AL$1500)), 0))","v":{"$error":"#N/A"}},""]
[{"$f":"IF(E1137=\"\",\"\",GetAddress(E1137))","v":""},{"$f":"IF(E1137=\"\",\"\",GetAddress(E1137))","v":""},null,null,null,null,null,null,null,null,null,null,null,null,null,null,null,null,null,null,null,null,null,null,null,null,null,null,null,0,0,0,0,0,0,0,"","",{"$f":"INDEX($AL$3:$AL$1500, MATCH(0, IF(ISBLANK($AL$3:$AL$1500), 1, COUNTIF(AM$3:AM1134, $AL$3:$AL$1500)), 0))","v":{"$error":"#N/A"}},""]
[{"$f":"IF(E1138=\"\",\"\",GetAddress(E1138))","v":""},{"$f":"IF(E1138=\"\",\"\",GetAddress(E1138))","v":""},null,null,null,null,null,null,null,null,null,null,null,null,null,null,null,null,null,null,null,null,null,null,null,null,null,null,null,0,0,0,0,0,0,0,"","",{"$f":"INDEX($AL$3:$AL$1500, MATCH(0, IF(ISBLANK($AL$3:$AL$1500), 1, COUNTIF(AM$3:AM1135, $AL$3:$AL$1500)), 0))","v":{"$error":"#N/A"}},""]
[{"$f":"IF(E1139=\"\",\"\",GetAddress(E1139))","v":""},{"$f":"IF(E1139=\"\",\"\",GetAddress(E1139))","v":""},null,null,null,null,null,null,null,null,null,null,null,null,null,null,null,null,null,null,null,null,null,null,null,null,null,null,null,0,0,0,0,0,0,0,"","",{"$f":"INDEX($AL$3:$AL$1500, MATCH(0, IF(ISBLANK($AL$3:$AL$1500), 1, COUNTIF(AM$3:AM1136, $AL$3:$AL$1500)), 0))","v":{"$error":"#N/A"}},""]
[{"$f":"IF(E1140=\"\",\"\",GetAddress(E1140))","v":""},{"$f":"IF(E1140=\"\",\"\",GetAddress(E1140))","v":""},null,null,null,null,null,null,null,null,null,null,null,null,null,null,null,null,null,null,null,null,null,null,null,null,null,null,null,0,0,0,0,0,0,0,"","",{"$f":"INDEX($AL$3:$AL$1500, MATCH(0, IF(ISBLANK($AL$3:$AL$1500), 1, COUNTIF(AM$3:AM1137, $AL$3:$AL$1500)), 0))","v":{"$error":"#N/A"}},""]
[{"$f":"IF(E1141=\"\",\"\",GetAddress(E1141))","v":""},{"$f":"IF(E1141=\"\",\"\",GetAddress(E1141))","v":""},null,null,null,null,null,null,null,null,null,null,null,null,null,null,null,null,null,null,null,null,null,null,null,null,null,null,null,0,0,0,0,0,0,0,"","",{"$f":"INDEX($AL$3:$AL$1500, MATCH(0, IF(ISBLANK($AL$3:$AL$1500), 1, COUNTIF(AM$3:AM1138, $AL$3:$AL$1500)), 0))","v":{"$error":"#N/A"}},""]
[{"$f":"IF(E1142=\"\",\"\",GetAddress(E1142))","v":""},{"$f":"IF(E1142=\"\",\"\",GetAddress(E1142))","v":""},null,null,null,null,null,null,null,null,null,null,null,null,null,null,null,null,null,null,null,null,null,null,null,null,null,null,null,0,0,0,0,0,0,0,"","",{"$f":"INDEX($AL$3:$AL$1500, MATCH(0, IF(ISBLANK($AL$3:$AL$1500), 1, COUNTIF(AM$3:AM1139, $AL$3:$AL$1500)), 0))","v":{"$error":"#N/A"}},""]
[{"$f":"IF(E1143=\"\",\"\",GetAddress(E1143))","v":""},{"$f":"IF(E1143=\"\",\"\",GetAddress(E1143))","v":""},null,null,null,null,null,null,null,null,null,null,null,null,null,null,null,null,null,null,null,null,null,null,null,null,null,null,null,0,0,0,0,0,0,0,"","",{"$f":"INDEX($AL$3:$AL$1500, MATCH(0, IF(ISBLANK($AL$3:$AL$1500), 1, COUNTIF(AM$3:AM1140, $AL$3:$AL$1500)), 0))","v":{"$error":"#N/A"}},""]
[{"$f":"IF(E1144=\"\",\"\",GetAddress(E1144))","v":""},{"$f":"IF(E1144=\"\",\"\",GetAddress(E1144))","v":""},null,null,null,null,null,null,null,null,null,null,null,null,null,null,null,null,null,null,null,null,null,null,null,null,null,null,null,0,0,0,0,0,0,0,"","",{"$f":"INDEX($AL$3:$AL$1500, MATCH(0, IF(ISBLANK($AL$3:$AL$1500), 1, COUNTIF(AM$3:AM1141, $AL$3:$AL$1500)), 0))","v":{"$error":"#N/A"}},""]
[{"$f":"IF(E1145=\"\",\"\",GetAddress(E1145))","v":""},{"$f":"IF(E1145=\"\",\"\",GetAddress(E1145))","v":""},null,null,null,null,null,null,null,null,null,null,null,null,null,null,null,null,null,null,null,null,null,null,null,null,null,null,null,0,0,0,0,0,0,0,"","",{"$f":"INDEX($AL$3:$AL$1500, MATCH(0, IF(ISBLANK($AL$3:$AL$1500), 1, COUNTIF(AM$3:AM1142, $AL$3:$AL$1500)), 0))","v":{"$error":"#N/A"}},""]
[{"$f":"IF(E1146=\"\",\"\",GetAddress(E1146))","v":""},{"$f":"IF(E1146=\"\",\"\",GetAddress(E1146))","v":""},null,null,null,null,null,null,null,null,null,null,null,null,null,null,null,null,null,null,null,null,null,null,null,null,null,null,null,0,0,0,0,0,0,0,"","",{"$f":"INDEX($AL$3:$AL$1500, MATCH(0, IF(ISBLANK($AL$3:$AL$1500), 1, COUNTIF(AM$3:AM1143, $AL$3:$AL$1500)), 0))","v":{"$error":"#N/A"}},""]
[{"$f":"IF(E1147=\"\",\"\",GetAddress(E1147))","v":""},{"$f":"IF(E1147=\"\",\"\",GetAddress(E1147))","v":""},null,null,null,null,null,null,null,null,null,null,null,null,null,null,null,null,null,null,null,null,null,null,null,null,null,null,null,0,0,0,0,0,0,0,"","",{"$f":"INDEX($AL$3:$AL$1500, MATCH(0, IF(ISBLANK($AL$3:$AL$1500), 1, COUNTIF(AM$3:AM1144, $AL$3:$AL$1500)), 0))","v":{"$error":"#N/A"}},""]
[{"$f":"IF(E1148=\"\",\"\",GetAddress(E1148))","v":""},{"$f":"IF(E1148=\"\",\"\",GetAddress(E1148))","v":""},null,null,null,null,null,null,null,null,null,null,null,null,null,null,null,null,null,null,null,null,null,null,null,null,null,null,null,0,0,0,0,0,0,0,"","",{"$f":"INDEX($AL$3:$AL$1500, MATCH(0, IF(ISBLANK($AL$3:$AL$1500), 1, COUNTIF(AM$3:AM1145, $AL$3:$AL$1500)), 0))","v":{"$error":"#N/A"}},""]
[{"$f":"IF(E1149=\"\",\"\",GetAddress(E1149))","v":""},{"$f":"IF(E1149=\"\",\"\",GetAddress(E1149))","v":""},null,null,null,null,null,null,null,null,null,null,null,null,null,null,null,null,null,null,null,null,null,null,null,null,null,null,null,0,0,0,0,0,0,0,"","",{"$f":"INDEX($AL$3:$AL$1500, MATCH(0, IF(ISBLANK($AL$3:$AL$1500), 1, COUNTIF(AM$3:AM1146, $AL$3:$AL$1500)), 0))","v":{"$error":"#N/A"}},""]
[{"$f":"IF(E1150=\"\",\"\",GetAddress(E1150))","v":""},{"$f":"IF(E1150=\"\",\"\",GetAddress(E1150))","v":""},null,null,null,null,null,null,null,null,null,null,null,null,null,null,null,null,null,null,null,null,null,null,null,null,null,null,null,0,0,0,0,0,0,0,"","",{"$f":"INDEX($AL$3:$AL$1500, MATCH(0, IF(ISBLANK($AL$3:$AL$1500), 1, COUNTIF(AM$3:AM1147, $AL$3:$AL$1500)), 0))","v":{"$error":"#N/A"}},""]
[{"$f":"IF(E1151=\"\",\"\",GetAddress(E1151))","v":""},{"$f":"IF(E1151=\"\",\"\",GetAddress(E1151))","v":""},null,null,null,null,null,null,null,null,null,null,null,null,null,null,null,null,null,null,null,null,null,null,null,null,null,null,null,0,0,0,0,0,0,0,"","",{"$f":"INDEX($AL$3:$AL$1500, MATCH(0, IF(ISBLANK($AL$3:$AL$1500), 1, COUNTIF(AM$3:AM1148, $AL$3:$AL$1500)), 0))","v":{"$error":"#N/A"}},""]
[{"$f":"IF(E1152=\"\",\"\",GetAddress(E1152))","v":""},{"$f":"IF(E1152=\"\",\"\",GetAddress(E1152))","v":""},null,null,null,null,null,null,null,null,null,null,null,null,null,null,null,null,null,null,null,null,null,null,null,null,null,null,null,0,0,0,0,0,0,0,"","",{"$f":"INDEX($AL$3:$AL$1500, MATCH(0, IF(ISBLANK($AL$3:$AL$1500), 1, COUNTIF(AM$3:AM1149, $AL$3:$AL$1500)), 0))","v":{"$error":"#N/A"}},""]
[{"$f":"IF(E1153=\"\",\"\",GetAddress(E1153))","v":""},{"$f":"IF(E1153=\"\",\"\",GetAddress(E1153))","v":""},null,null,null,null,null,null,null,null,null,null,null,null,null,null,null,null,null,null,null,null,null,null,null,null,null,null,null,0,0,0,0,0,0,0,"","",{"$f":"INDEX($AL$3:$AL$1500, MATCH(0, IF(ISBLANK($AL$3:$AL$1500), 1, COUNTIF(AM$3:AM1150, $AL$3:$AL$1500)), 0))","v":{"$error":"#N/A"}},""]
[{"$f":"IF(E1154=\"\",\"\",GetAddress(E1154))","v":""},{"$f":"IF(E1154=\"\",\"\",GetAddress(E1154))","v":""},null,null,null,null,null,null,null,null,null,null,null,null,null,null,null,null,null,null,null,null,null,null,null,null,null,null,null,0,0,0,0,0,0,0,"","",{"$f":"INDEX($AL$3:$AL$1500, MATCH(0, IF(ISBLANK($AL$3:$AL$1500), 1, COUNTIF(AM$3:AM1151, $AL$3:$AL$1500)), 0))","v":{"$error":"#N/A"}},""]
[{"$f":"IF(E1155=\"\",\"\",GetAddress(E1155))","v":""},{"$f":"IF(E1155=\"\",\"\",GetAddress(E1155))","v":""},null,null,null,null,null,null,null,null,null,null,null,null,null,null,null,null,null,null,null,null,null,null,null,null,null,null,null,0,0,0,0,0,0,0,"","",{"$f":"INDEX($AL$3:$AL$1500, MATCH(0, IF(ISBLANK($AL$3:$AL$1500), 1, COUNTIF(AM$3:AM1152, $AL$3:$AL$1500)), 0))","v":{"$error":"#N/A"}},""]
[{"$f":"IF(E1156=\"\",\"\",GetAddress(E1156))","v":""},{"$f":"IF(E1156=\"\",\"\",GetAddress(E1156))","v":""},null,null,null,null,null,null,null,null,null,null,null,null,null,null,null,null,null,null,null,null,null,null,null,null,null,null,null,0,0,0,0,0,0,0,"","",{"$f":"INDEX($AL$3:$AL$1500, MATCH(0, IF(ISBLANK($AL$3:$AL$1500), 1, COUNTIF(AM$3:AM1153, $AL$3:$AL$1500)), 0))","v":{"$error":"#N/A"}},""]
[{"$f":"IF(E1157=\"\",\"\",GetAddress(E1157))","v":""},{"$f":"IF(E1157=\"\",\"\",GetAddress(E1157))","v":""},null,null,null,null,null,null,null,null,null,null,null,null,null,null,null,null,null,null,null,null,null,null,null,null,null,null,null,0,0,0,0,0,0,{"$f":"IF(AI1155=\"Free A\",\"\",AI1155)","v":0},{"$f":"IF(AJ1155=0,\"\",AJ1155)","v":""},{"$f":"IF(AK1155=\"Free Agent\",\"\",AK1155)","v":""},{"$f":"INDEX($AL$3:$AL$1500, MATCH(0, IF(ISBLANK($AL$3:$AL$1500), 1, COUNTIF(AM$3:AM1154, $AL$3:$AL$1500)), 0))","v":{"$error":"#N/A"}},{"$f":"IF(ISERROR(AM1155),\"\",AM1155)","v":""}]
[{"$f":"IF(E1158=\"\",\"\",GetAddress(E1158))","v":""},{"$f":"IF(E1158=\"\",\"\",GetAddress(E1158))","v":""},null,null,null,null,null,null,null,null,null,null,null,null,null,null,null,null,null,null,null,null,null,null,null,null,null,null,null,0,0,0,0,0,0,0,"","",{"$f":"INDEX($AL$3:$AL$1500, MATCH(0, IF(ISBLANK($AL$3:$AL$1500), 1, COUNTIF(AM$3:AM1155, $AL$3:$AL$1500)), 0))","v":{"$error":"#N/A"}},""]
[{"$f":"IF(E1159=\"\",\"\",GetAddress(E1159))","v":""},{"$f":"IF(E1159=\"\",\"\",GetAddress(E1159))","v":""},null,null,null,null,null,null,null,null,null,null,null,null,null,null,null,null,null,null,null,null,null,null,null,null,null,null,null,{"$f":"VALUE(IF(ISNUMBER(SEARCH(\"(P)\",Y1157)),\"1\", \"0\"))","v":0},{"$f":"VALUE(IF(ISNUMBER(SEARCH(\"(Q)\",Y1157)),\"1\", \"0\"))","v":0},{"$f":"VALUE(IF(ISNUMBER(SEARCH(\"(O)\",Y1157)),\"1\", \"0\"))","v":0},{"$f":"VALUE(IF(ISNUMBER(SEARCH(\"(S)\",Y1157)),\"1\", \"0\"))","v":0},{"$f":"VALUE(IF(ISNUMBER(SEARCH(\"Free Agent\",Y1157)),\"1\", \"0\"))","v":0},{"$f":"IF(SUM(AD1157:AH1157)=0,Y1157,LEFT(Y1157,LEN(Y1157)-4))","v":0},0,"","",{"$f":"INDEX($AL$3:$AL$1500, MATCH(0, IF(ISBLANK($AL$3:$AL$1500), 1, COUNTIF(AM$3:AM1156, $AL$3:$AL$1500)), 0))","v":{"$error":"#N/A"}},""]
[{"$f":"IF(E1160=\"\",\"\",GetAddress(E1160))","v":""},{"$f":"IF(E1160=\"\",\"\",GetAddress(E1160))","v":""},null,null,null,null,null,null,null,null,null,null,null,null,null,null,null,null,null,null,null,null,null,null,null,null,null,null,null,0,0,0,0,0,0,0,"","",{"$f":"INDEX($AL$3:$AL$1500, MATCH(0, IF(ISBLANK($AL$3:$AL$1500), 1, COUNTIF(AM$3:AM1157, $AL$3:$AL$1500)), 0))","v":{"$error":"#N/A"}},""]
[{"$f":"IF(E1161=\"\",\"\",GetAddress(E1161))","v":""},{"$f":"IF(E1161=\"\",\"\",GetAddress(E1161))","v":""},null,null,null,null,null,null,null,null,null,null,null,null,null,null,null,null,null,null,null,null,null,null,null,null,null,null,null,0,0,0,0,0,0,0,"","",{"$f":"INDEX($AL$3:$AL$1500, MATCH(0, IF(ISBLANK($AL$3:$AL$1500), 1, COUNTIF(AM$3:AM1158, $AL$3:$AL$1500)), 0))","v":{"$error":"#N/A"}},""]
[{"$f":"IF(E1162=\"\",\"\",GetAddress(E1162))","v":""},{"$f":"IF(E1162=\"\",\"\",GetAddress(E1162))","v":""},null,null,null,null,null,null,null,null,null,null,null,null,null,null,null,null,null,null,null,null,null,null,null,null,null,null,null,0,0,0,0,0,0,0,"","",{"$f":"INDEX($AL$3:$AL$1500, MATCH(0, IF(ISBLANK($AL$3:$AL$1500), 1, COUNTIF(AM$3:AM1159, $AL$3:$AL$1500)), 0))","v":{"$error":"#N/A"}},""]
[{"$f":"IF(E1163=\"\",\"\",GetAddress(E1163))","v":""},{"$f":"IF(E1163=\"\",\"\",GetAddress(E1163))","v":""},null,null,null,null,null,null,null,null,null,null,null,null,null,null,null,null,null,null,null,null,null,null,null,null,null,null,null,0,0,0,0,0,0,0,"","",{"$f":"INDEX($AL$3:$AL$1500, MATCH(0, IF(ISBLANK($AL$3:$AL$1500), 1, COUNTIF(AM$3:AM1160, $AL$3:$AL$1500)), 0))","v":{"$error":"#N/A"}},""]
[{"$f":"IF(E1164=\"\",\"\",GetAddress(E1164))","v":""},{"$f":"IF(E1164=\"\",\"\",GetAddress(E1164))","v":""},null,null,null,null,null,null,null,null,null,null,null,null,null,null,null,null,null,null,null,null,null,null,null,null,null,null,null,0,0,0,0,0,0,0,"","",{"$f":"INDEX($AL$3:$AL$1500, MATCH(0, IF(ISBLANK($AL$3:$AL$1500), 1, COUNTIF(AM$3:AM1161, $AL$3:$AL$1500)), 0))","v":{"$error":"#N/A"}},""]
[{"$f":"IF(E1165=\"\",\"\",GetAddress(E1165))","v":""},{"$f":"IF(E1165=\"\",\"\",GetAddress(E1165))","v":""},null,null,null,null,null,null,null,null,null,null,null,null,null,null,null,null,null,null,null,null,null,null,null,null,null,null,null,0,0,0,0,0,0,0,"","",{"$f":"INDEX($AL$3:$AL$1500, MATCH(0, IF(ISBLANK($AL$3:$AL$1500), 1, COUNTIF(AM$3:AM1162, $AL$3:$AL$1500)), 0))","v":{"$error":"#N/A"}},""]
[{"$f":"IF(E1166=\"\",\"\",GetAddress(E1166))","v":""},{"$f":"IF(E1166=\"\",\"\",GetAddress(E1166))","v":""},null,null,null,null,null,null,null,null,null,null,null,null,null,null,null,null,null,null,null,null,null,null,null,null,null,null,null,0,0,0,0,0,0,0,"","",{"$f":"INDEX($AL$3:$AL$1500, MATCH(0, IF(ISBLANK($AL$3:$AL$1500), 1, COUNTIF(AM$3:AM1163, $AL$3:$AL$1500)), 0))","v":{"$error":"#N/A"}},""]
[{"$f":"IF(E1167=\"\",\"\",GetAddress(E1167))","v":""},{"$f":"IF(E1167=\"\",\"\",GetAddress(E1167))","v":""},null,null,null,null,null,null,null,null,null,null,null,null,null,null,null,null,null,null,null,null,null,null,null,null,null,null,null,0,0,0,0,0,0,0,"","",{"$f":"INDEX($AL$3:$AL$1500, MATCH(0, IF(ISBLANK($AL$3:$AL$1500), 1, COUNTIF(AM$3:AM1164, $AL$3:$AL$1500)), 0))","v":{"$error":"#N/A"}},""]
[{"$f":"IF(E1168=\"\",\"\",GetAddress(E1168))","v":""},{"$f":"IF(E1168=\"\",\"\",GetAddress(E1168))","v":""},null,null,null,null,null,null,null,null,null,null,null,null,null,null,null,null,null,null,null,null,null,null,null,null,null,null,null,0,0,0,0,0,0,0,"","",{"$f":"INDEX($AL$3:$AL$1500, MATCH(0, IF(ISBLANK($AL$3:$AL$1500), 1, COUNTIF(AM$3:AM1165, $AL$3:$AL$1500)), 0))","v":{"$error":"#N/A"}},""]
[{"$f":"IF(E1169=\"\",\"\",GetAddress(E1169))","v":""},{"$f":"IF(E1169=\"\",\"\",GetAddress(E1169))","v":""},null,null,null,null,null,null,null,null,null,null,null,null,null,null,null,null,null,null,null,null,null,null,null,null,null,null,null,0,0,0,0,0,0,0,"","",{"$f":"INDEX($AL$3:$AL$1500, MATCH(0, IF(ISBLANK($AL$3:$AL$1500), 1, COUNTIF(AM$3:AM1166, $AL$3:$AL$1500)), 0))","v":{"$error":"#N/A"}},""]
[{"$f":"IF(E1170=\"\",\"\",GetAddress(E1170))","v":""},{"$f":"IF(E1170=\"\",\"\",GetAddress(E1170))","v":""},null,null,null,null,null,null,null,null,null,null,null,null,null,null,null,null,null,null,null,null,null,null,null,null,null,null,null,0,0,0,0,0,0,0,"","",{"$f":"INDEX($AL$3:$AL$1500, MATCH(0, IF(ISBLANK($AL$3:$AL$1500), 1, COUNTIF(AM$3:AM1167, $AL$3:$AL$1500)), 0))","v":{"$error":"#N/A"}},""]
[{"$f":"IF(E1171=\"\",\"\",GetAddress(E1171))","v":""},{"$f":"IF(E1171=\"\",\"\",GetAddress(E1171))","v":""},null,null,null,null,null,null,null,null,null,null,null,null,null,null,null,null,null,null,null,null,null,null,null,null,null,null,null,0,0,0,0,0,0,0,"","",{"$f":"INDEX($AL$3:$AL$1500, MATCH(0, IF(ISBLANK($AL$3:$AL$1500), 1, COUNTIF(AM$3:AM1168, $AL$3:$AL$1500)), 0))","v":{"$error":"#N/A"}},""]
[{"$f":"IF(E1172=\"\",\"\",GetAddress(E1172))","v":""},{"$f":"IF(E1172=\"\",\"\",GetAddress(E1172))","v":""},null,null,null,null,null,null,null,null,null,null,null,null,null,null,null,null,null,null,null,null,null,null,null,null,null,null,null,0,0,0,0,0,0,0,"","",{"$f":"INDEX($AL$3:$AL$1500, MATCH(0, IF(ISBLANK($AL$3:$AL$1500), 1, COUNTIF(AM$3:AM1169, $AL$3:$AL$1500)), 0))","v":{"$error":"#N/A"}},""]
[{"$f":"IF(E1173=\"\",\"\",GetAddress(E1173))","v":""},{"$f":"IF(E1173=\"\",\"\",GetAddress(E1173))","v":""},null,null,null,null,null,null,null,null,null,null,null,null,null,null,null,null,null,null,null,null,null,null,null,null,null,null,null,0,0,0,0,0,0,0,"","",{"$f":"INDEX($AL$3:$AL$1500, MATCH(0, IF(ISBLANK($AL$3:$AL$1500), 1, COUNTIF(AM$3:AM1170, $AL$3:$AL$1500)), 0))","v":{"$error":"#N/A"}},""]
[{"$f":"IF(E1174=\"\",\"\",GetAddress(E1174))","v":""},{"$f":"IF(E1174=\"\",\"\",GetAddress(E1174))","v":""},null,null,null,null,null,null,null,null,null,null,null,null,null,null,null,null,null,null,null,null,null,null,null,null,null,null,null,0,0,0,0,0,0,0,"","",{"$f":"INDEX($AL$3:$AL$1500, MATCH(0, IF(ISBLANK($AL$3:$AL$1500), 1, COUNTIF(AM$3:AM1171, $AL$3:$AL$1500)), 0))","v":{"$error":"#N/A"}},""]
[{"$f":"IF(E1175=\"\",\"\",GetAddress(E1175))","v":""},{"$f":"IF(E1175=\"\",\"\",GetAddress(E1175))","v":""},null,null,null,null,null,null,null,null,null,null,null,null,null,null,null,null,null,null,null,null,null,null,null,null,null,null,null,0,0,0,0,0,0,0,"","",{"$f":"INDEX($AL$3:$AL$1500, MATCH(0, IF(ISBLANK($AL$3:$AL$1500), 1, COUNTIF(AM$3:AM1172, $AL$3:$AL$1500)), 0))","v":{"$error":"#N/A"}},""]
[{"$f":"IF(E1176=\"\",\"\",GetAddress(E1176))","v":""},{"$f":"IF(E1176=\"\",\"\",GetAddress(E1176))","v":""},null,null,null,null,null,null,null,null,null,null,null,null,null,null,null,null,null,null,null,null,null,null,null,null,null,null,null,0,0,0,0,0,0,0,"","",{"$f":"INDEX($AL$3:$AL$1500, MATCH(0, IF(ISBLANK($AL$3:$AL$1500), 1, COUNTIF(AM$3:AM1173, $AL$3:$AL$1500)), 0))","v":{"$error":"#N/A"}},""]
[{"$f":"IF(E1177=\"\",\"\",GetAddress(E1177))","v":""},{"$f":"IF(E1177=\"\",\"\",GetAddress(E1177))","v":""},null,null,null,null,null,null,null,null,null,null,null,null,null,null,null,null,null,null,null,null,null,null,null,null,null,null,null,0,0,0,0,0,0,0,"","",{"$f":"INDEX($AL$3:$AL$1500, MATCH(0, IF(ISBLANK($AL$3:$AL$1500), 1, COUNTIF(AM$3:AM1174, $AL$3:$AL$1500)), 0))","v":{"$error":"#N/A"}},""]
[{"$f":"IF(E1178=\"\",\"\",GetAddress(E1178))","v":""},{"$f":"IF(E1178=\"\",\"\",GetAddress(E1178))","v":""},null,null,null,null,null,null,null,null,null,null,null,null,null,null,null,null,null,null,null,null,null,null,null,null,null,null,null,0,0,0,0,0,0,0,"","",{"$f":"INDEX($AL$3:$AL$1500, MATCH(0, IF(ISBLANK($AL$3:$AL$1500), 1, COUNTIF(AM$3:AM1175, $AL$3:$AL$1500)), 0))","v":{"$error":"#N/A"}},""]
[{"$f":"IF(E1179=\"\",\"\",GetAddress(E1179))","v":""},{"$f":"IF(E1179=\"\",\"\",GetAddress(E1179))","v":""},null,null,null,null,null,null,null,null,null,null,null,null,null,null,null,null,null,null,null,null,null,null,null,null,null,null,null,0,0,0,0,0,0,0,"","",{"$f":"INDEX($AL$3:$AL$1500, MATCH(0, IF(ISBLANK($AL$3:$AL$1500), 1, COUNTIF(AM$3:AM1176, $AL$3:$AL$1500)), 0))","v":{"$error":"#N/A"}},""]
[{"$f":"IF(E1180=\"\",\"\",GetAddress(E1180))","v":""},{"$f":"IF(E1180=\"\",\"\",GetAddress(E1180))","v":""},null,null,null,null,null,null,null,null,null,null,null,null,null,null,null,null,null,null,null,null,null,null,null,null,null,null,null,0,0,0,0,0,0,0,"","",{"$f":"INDEX($AL$3:$AL$1500, MATCH(0, IF(ISBLANK($AL$3:$AL$1500), 1, COUNTIF(AM$3:AM1177, $AL$3:$AL$1500)), 0))","v":{"$error":"#N/A"}},""]
[{"$f":"IF(E1181=\"\",\"\",GetAddress(E1181))","v":""},{"$f":"IF(E1181=\"\",\"\",GetAddress(E1181))","v":""},null,null,null,null,null,null,null,null,null,null,null,null,null,null,null,null,null,null,null,null,null,null,null,null,null,null,null,0,0,0,0,0,0,0,"","",{"$f":"INDEX($AL$3:$AL$1500, MATCH(0, IF(ISBLANK($AL$3:$AL$1500), 1, COUNTIF(AM$3:AM1178, $AL$3:$AL$1500)), 0))","v":{"$error":"#N/A"}},""]
[{"$f":"IF(E1182=\"\",\"\",GetAddress(E1182))","v":""},{"$f":"IF(E1182=\"\",\"\",GetAddress(E1182))","v":""},null,null,null,null,null,null,null,null,null,null,null,null,null,null,null,null,null,null,null,null,null,null,null,null,null,null,null,0,0,0,0,0,0,0,"","",{"$f":"INDEX($AL$3:$AL$1500, MATCH(0, IF(ISBLANK($AL$3:$AL$1500), 1, COUNTIF(AM$3:AM1179, $AL$3:$AL$1500)), 0))","v":{"$error":"#N/A"}},""]
[{"$f":"IF(E1183=\"\",\"\",GetAddress(E1183))","v":""},{"$f":"IF(E1183=\"\",\"\",GetAddress(E1183))","v":""},null,null,null,null,null,null,null,null,null,null,null,null,null,null,null,null,null,null,null,null,null,null,null,null,null,null,null,0,0,0,0,0,0,0,"","",{"$f":"INDEX($AL$3:$AL$1500, MATCH(0, IF(ISBLANK($AL$3:$AL$1500), 1, COUNTIF(AM$3:AM1180, $AL$3:$AL$1500)), 0))","v":{"$error":"#N/A"}},""]
[{"$f":"IF(E1184=\"\",\"\",GetAddress(E1184))","v":""},{"$f":"IF(E1184=\"\",\"\",GetAddress(E1184))","v":""},null,null,null,null,null,null,null,null,null,null,null,null,null,null,null,null,null,null,null,null,null,null,null,null,null,null,null,0,0,0,0,0,0,0,"","",{"$f":"INDEX($AL$3:$AL$1500, MATCH(0, IF(ISBLANK($AL$3:$AL$1500), 1, COUNTIF(AM$3:AM1181, $AL$3:$AL$1500)), 0))","v":{"$error":"#N/A"}},""]
[{"$f":"IF(E1185=\"\",\"\",GetAddress(E1185))","v":""},{"$f":"IF(E1185=\"\",\"\",GetAddress(E1185))","v":""},null,null,null,null,null,null,null,null,null,null,null,null,null,null,null,null,null,null,null,null,null,null,null,null,null,null,null,0,0,0,0,0,0,0,"","",{"$f":"INDEX($AL$3:$AL$1500, MATCH(0, IF(ISBLANK($AL$3:$AL$1500), 1, COUNTIF(AM$3:AM1182, $AL$3:$AL$1500)), 0))","v":{"$error":"#N/A"}},""]
[{"$f":"IF(E1186=\"\",\"\",GetAddress(E1186))","v":""},{"$f":"IF(E1186=\"\",\"\",GetAddress(E1186))","v":""},null,null,null,null,null,null,null,null,null,null,null,null,null,null,null,null,null,null,null,null,null,null,null,null,null,null,null,0,0,0,0,0,0,0,"","",{"$f":"INDEX($AL$3:$AL$1500, MATCH(0, IF(ISBLANK($AL$3:$AL$1500), 1, COUNTIF(AM$3:AM1183, $AL$3:$AL$1500)), 0))","v":{"$error":"#N/A"}},""]
[{"$f":"IF(E1187=\"\",\"\",GetAddress(E1187))","v":""},{"$f":"IF(E1187=\"\",\"\",GetAddress(E1187))","v":""},null,null,null,null,null,null,null,null,null,null,null,null,null,null,null,null,null,null,null,null,null,null,null,null,null,null,null,0,0,0,0,0,0,0,"","",{"$f":"INDEX($AL$3:$AL$1500, MATCH(0, IF(ISBLANK($AL$3:$AL$1500), 1, COUNTIF(AM$3:AM1184, $AL$3:$AL$1500)), 0))","v":{"$error":"#N/A"}},""]
[{"$f":"IF(E1188=\"\",\"\",GetAddress(E1188))","v":""},{"$f":"IF(E1188=\"\",\"\",GetAddress(E1188))","v":""},null,null,null,null,null,null,null,null,null,null,null,null,null,null,null,null,null,null,null,null,null,null,null,null,null,null,null,0,0,0,0,0,0,0,"","",{"$f":"INDEX($AL$3:$AL$1500, MATCH(0, IF(ISBLANK($AL$3:$AL$1500), 1, COUNTIF(AM$3:AM1185, $AL$3:$AL$1500)), 0))","v":{"$error":"#N/A"}},""]
[{"$f":"IF(E1189=\"\",\"\",GetAddress(E1189))","v":""},{"$f":"IF(E1189=\"\",\"\",GetAddress(E1189))","v":""},null,null,null,null,null,null,null,null,null,null,null,null,null,null,null,null,null,null,null,null,null,null,null,null,null,null,null,0,0,0,0,0,0,0,"","",{"$f":"INDEX($AL$3:$AL$1500, MATCH(0, IF(ISBLANK($AL$3:$AL$1500), 1, COUNTIF(AM$3:AM1186, $AL$3:$AL$1500)), 0))","v":{"$error":"#N/A"}},""]
[{"$f":"IF(E1190=\"\",\"\",GetAddress(E1190))","v":""},{"$f":"IF(E1190=\"\",\"\",GetAddress(E1190))","v":""},null,null,null,null,null,null,null,null,null,null,null,null,null,null,null,null,null,null,null,null,null,null,null,null,null,null,null,0,0,0,0,0,0,0,"","",{"$f":"INDEX($AL$3:$AL$1500, MATCH(0, IF(ISBLANK($AL$3:$AL$1500), 1, COUNTIF(AM$3:AM1187, $AL$3:$AL$1500)), 0))","v":{"$error":"#N/A"}},""]
[{"$f":"IF(E1191=\"\",\"\",GetAddress(E1191))","v":""},{"$f":"IF(E1191=\"\",\"\",GetAddress(E1191))","v":""},null,null,null,null,null,null,null,null,null,null,null,null,null,null,null,null,null,null,null,null,null,null,null,null,null,null,null,0,0,0,0,0,0,0,"","",{"$f":"INDEX($AL$3:$AL$1500, MATCH(0, IF(ISBLANK($AL$3:$AL$1500), 1, COUNTIF(AM$3:AM1188, $AL$3:$AL$1500)), 0))","v":{"$error":"#N/A"}},""]
[{"$f":"IF(E1192=\"\",\"\",GetAddress(E1192))","v":""},{"$f":"IF(E1192=\"\",\"\",GetAddress(E1192))","v":""},null,null,null,null,null,null,null,null,null,null,null,null,null,null,null,null,null,null,null,null,null,null,null,null,null,null,null,0,0,0,0,0,0,0,"","",{"$f":"INDEX($AL$3:$AL$1500, MATCH(0, IF(ISBLANK($AL$3:$AL$1500), 1, COUNTIF(AM$3:AM1189, $AL$3:$AL$1500)), 0))","v":{"$error":"#N/A"}},""]
[{"$f":"IF(E1193=\"\",\"\",GetAddress(E1193))","v":""},{"$f":"IF(E1193=\"\",\"\",GetAddress(E1193))","v":""},null,null,null,null,null,null,null,null,null,null,null,null,null,null,null,null,null,null,null,null,null,null,null,null,null,null,null,0,0,0,0,0,0,0,"","",{"$f":"INDEX($AL$3:$AL$1500, MATCH(0, IF(ISBLANK($AL$3:$AL$1500), 1, COUNTIF(AM$3:AM1190, $AL$3:$AL$1500)), 0))","v":{"$error":"#N/A"}},""]
[{"$f":"IF(E1194=\"\",\"\",GetAddress(E1194))","v":""},{"$f":"IF(E1194=\"\",\"\",GetAddress(E1194))","v":""},null,null,null,null,null,null,null,null,null,null,null,null,null,null,null,null,null,null,null,null,null,null,null,null,null,null,null,0,0,0,0,0,0,0,"","",{"$f":"INDEX($AL$3:$AL$1500, MATCH(0, IF(ISBLANK($AL$3:$AL$1500), 1, COUNTIF(AM$3:AM1191, $AL$3:$AL$1500)), 0))","v":{"$error":"#N/A"}},""]
[{"$f":"IF(E1195=\"\",\"\",GetAddress(E1195))","v":""},{"$f":"IF(E1195=\"\",\"\",GetAddress(E1195))","v":""},null,null,null,null,null,null,null,null,null,null,null,null,null,null,null,null,null,null,null,null,null,null,null,null,null,null,null,0,0,0,0,0,0,0,"","",{"$f":"INDEX($AL$3:$AL$1500, MATCH(0, IF(ISBLANK($AL$3:$AL$1500), 1, COUNTIF(AM$3:AM1192, $AL$3:$AL$1500)), 0))","v":{"$error":"#N/A"}},""]
[{"$f":"IF(E1196=\"\",\"\",GetAddress(E1196))","v":""},{"$f":"IF(E1196=\"\",\"\",GetAddress(E1196))","v":""},null,null,null,null,null,null,null,null,null,null,null,null,null,null,null,null,null,null,null,null,null,null,null,null,null,null,null,0,0,0,0,0,0,0,"","",{"$f":"INDEX($AL$3:$AL$1500, MATCH(0, IF(ISBLANK($AL$3:$AL$1500), 1, COUNTIF(AM$3:AM1193, $AL$3:$AL$1500)), 0))","v":{"$error":"#N/A"}},""]
[{"$f":"IF(E1197=\"\",\"\",GetAddress(E1197))","v":""},{"$f":"IF(E1197=\"\",\"\",GetAddress(E1197))","v":""},null,null,null,null,null,null,null,null,null,null,null,null,null,null,null,null,null,null,null,null,null,null,null,null,null,null,null,0,0,0,0,0,0,0,"","",{"$f":"INDEX($AL$3:$AL$1500, MATCH(0, IF(ISBLANK($AL$3:$AL$1500), 1, COUNTIF(AM$3:AM1194, $AL$3:$AL$1500)), 0))","v":{"$error":"#N/A"}},""]
[{"$f":"IF(E1198=\"\",\"\",GetAddress(E1198))","v":""},{"$f":"IF(E1198=\"\",\"\",GetAddress(E1198))","v":""},null,null,null,null,null,null,null,null,null,null,null,null,null,null,null,null,null,null,null,null,null,null,null,null,null,null,null,0,0,0,0,0,0,0,"","",{"$f":"INDEX($AL$3:$AL$1500, MATCH(0, IF(ISBLANK($AL$3:$AL$1500), 1, COUNTIF(AM$3:AM1195, $AL$3:$AL$1500)), 0))","v":{"$error":"#N/A"}},""]
[{"$f":"IF(E1199=\"\",\"\",GetAddress(E1199))","v":""},{"$f":"IF(E1199=\"\",\"\",GetAddress(E1199))","v":""},null,null,null,null,null,null,null,null,null,null,null,null,null,null,null,null,null,null,null,null,null,null,null,null,null,null,null,0,0,0,0,0,0,0,"","",{"$f":"INDEX($AL$3:$AL$1500, MATCH(0, IF(ISBLANK($AL$3:$AL$1500), 1, COUNTIF(AM$3:AM1196, $AL$3:$AL$1500)), 0))","v":{"$error":"#N/A"}},""]
[{"$f":"IF(E1200=\"\",\"\",GetAddress(E1200))","v":""},{"$f":"IF(E1200=\"\",\"\",GetAddress(E1200))","v":""},null,null,null,null,null,null,null,null,null,null,null,null,null,null,null,null,null,null,null,null,null,null,null,null,null,null,null,0,0,0,0,0,0,0,"","",{"$f":"INDEX($AL$3:$AL$1500, MATCH(0, IF(ISBLANK($AL$3:$AL$1500), 1, COUNTIF(AM$3:AM1197, $AL$3:$AL$1500)), 0))","v":{"$error":"#N/A"}},""]
[{"$f":"IF(E1201=\"\",\"\",GetAddress(E1201))","v":""},{"$f":"IF(E1201=\"\",\"\",GetAddress(E1201))","v":""},null,null,null,null,null,null,null,null,null,null,null,null,null,null,null,null,null,null,null,null,null,null,null,null,null,null,null,0,0,0,0,0,0,0,"","",{"$f":"INDEX($AL$3:$AL$1500, MATCH(0, IF(ISBLANK($AL$3:$AL$1500), 1, COUNTIF(AM$3:AM1198, $AL$3:$AL$1500)), 0))","v":{"$error":"#N/A"}},""]
[{"$f":"IF(E1202=\"\",\"\",GetAddress(E1202))","v":""},{"$f":"IF(E1202=\"\",\"\",GetAddress(E1202))","v":""},null,null,null,null,null,null,null,null,null,null,null,null,null,null,null,null,null,null,null,null,null,null,null,null,null,null,null,0,0,0,0,0,0,0,"","",{"$f":"INDEX($AL$3:$AL$1500, MATCH(0, IF(ISBLANK($AL$3:$AL$1500), 1, COUNTIF(AM$3:AM1199, $AL$3:$AL$1500)), 0))","v":{"$error":"#N/A"}},""]
[{"$f":"IF(E1203=\"\",\"\",GetAddress(E1203))","v":""},{"$f":"IF(E1203=\"\",\"\",GetAddress(E1203))","v":""},null,null,null,null,null,null,null,null,null,null,null,null,null,null,null,null,null,null,null,null,null,null,null,null,null,null,null,0,0,0,0,0,0,0,"","",{"$f":"INDEX($AL$3:$AL$1500, MATCH(0, IF(ISBLANK($AL$3:$AL$1500), 1, COUNTIF(AM$3:AM1200, $AL$3:$AL$1500)), 0))","v":{"$error":"#N/A"}},""]
[{"$f":"IF(E1204=\"\",\"\",GetAddress(E1204))","v":""},{"$f":"IF(E1204=\"\",\"\",GetAddress(E1204))","v":""},null,null,null,null,null,null,null,null,null,null,null,null,null,null,null,null,null,null,null,null,null,null,null,null,null,null,null,0,0,0,0,0,0,0,"","",{"$f":"INDEX($AL$3:$AL$1500, MATCH(0, IF(ISBLANK($AL$3:$AL$1500), 1, COUNTIF(AM$3:AM1201, $AL$3:$AL$1500)), 0))","v":{"$error":"#N/A"}},""]
[{"$f":"IF(E1205=\"\",\"\",GetAddress(E1205))","v":""},{"$f":"IF(E1205=\"\",\"\",GetAddress(E1205))","v":""},null,null,null,null,null,null,null,null,null,null,null,null,null,null,null,null,null,null,null,null,null,null,null,null,null,null,null,0,0,0,0,0,0,0,"","",{"$f":"INDEX($AL$3:$AL$1500, MATCH(0, IF(ISBLANK($AL$3:$AL$1500), 1, COUNTIF(AM$3:AM1202, $AL$3:$AL$1500)), 0))","v":{"$error":"#N/A"}},""]
[{"$f":"IF(E1206=\"\",\"\",GetAddress(E1206))","v":""},{"$f":"IF(E1206=\"\",\"\",GetAddress(E1206))","v":""},null,null,null,null,null,null,null,null,null,null,null,null,null,null,null,null,null,null,null,null,null,null,null,null,null,null,null,0,0,0,0,0,0,0,"","",{"$f":"INDEX($AL$3:$AL$1500, MATCH(0, IF(ISBLANK($AL$3:$AL$1500), 1, COUNTIF(AM$3:AM1203, $AL$3:$AL$1500)), 0))","v":{"$error":"#N/A"}},""]
[{"$f":"IF(E1207=\"\",\"\",GetAddress(E1207))","v":""},{"$f":"IF(E1207=\"\",\"\",GetAddress(E1207))","v":""},null,null,null,null,null,null,null,null,null,null,null,null,null,null,null,null,null,null,null,null,null,null,null,null,null,null,null,0,0,0,0,0,0,0,"","",{"$f":"INDEX($AL$3:$AL$1500, MATCH(0, IF(ISBLANK($AL$3:$AL$1500), 1, COUNTIF(AM$3:AM1204, $AL$3:$AL$1500)), 0))","v":{"$error":"#N/A"}},""]
[{"$f":"IF(E1208=\"\",\"\",GetAddress(E1208))","v":""},{"$f":"IF(E1208=\"\",\"\",GetAddress(E1208))","v":""},null,null,null,null,null,null,null,null,null,null,null,null,null,null,null,null,null,null,null,null,null,null,null,null,null,null,null,0,0,0,0,0,0,0,"","",{"$f":"INDEX($AL$3:$AL$1500, MATCH(0, IF(ISBLANK($AL$3:$AL$1500), 1, COUNTIF(AM$3:AM1205, $AL$3:$AL$1500)), 0))","v":{"$error":"#N/A"}},""]
[{"$f":"IF(E1209=\"\",\"\",GetAddress(E1209))","v":""},{"$f":"IF(E1209=\"\",\"\",GetAddress(E1209))","v":""},null,null,null,null,null,null,null,null,null,null,null,null,null,null,null,null,null,null,null,null,null,null,null,null,null,null,null,0,0,0,0,0,0,0,"","",{"$f":"INDEX($AL$3:$AL$1500, MATCH(0, IF(ISBLANK($AL$3:$AL$1500), 1, COUNTIF(AM$3:AM1206, $AL$3:$AL$1500)), 0))","v":{"$error":"#N/A"}},""]
[{"$f":"IF(E1210=\"\",\"\",GetAddress(E1210))","v":""},{"$f":"IF(E1210=\"\",\"\",GetAddress(E1210))","v":""},null,null,null,null,null,null,null,null,null,null,null,null,null,null,null,null,null,null,null,null,null,null,null,null,null,null,null,0,0,0,0,0,0,0,"","",{"$f":"INDEX($AL$3:$AL$1500, MATCH(0, IF(ISBLANK($AL$3:$AL$1500), 1, COUNTIF(AM$3:AM1207, $AL$3:$AL$1500)), 0))","v":{"$error":"#N/A"}},""]
[{"$f":"IF(E1211=\"\",\"\",GetAddress(E1211))","v":""},{"$f":"IF(E1211=\"\",\"\",GetAddress(E1211))","v":""},null,null,null,null,null,null,null,null,null,null,null,null,null,null,null,null,null,null,null,null,null,null,null,null,null,null,null,0,0,0,0,0,0,0,"","",{"$f":"INDEX($AL$3:$AL$1500, MATCH(0, IF(ISBLANK($AL$3:$AL$1500), 1, COUNTIF(AM$3:AM1208, $AL$3:$AL$1500)), 0))","v":{"$error":"#N/A"}},""]
[{"$f":"IF(E1212=\"\",\"\",GetAddress(E1212))","v":""},{"$f":"IF(E1212=\"\",\"\",GetAddress(E1212))","v":""},null,null,null,null,null,null,null,null,null,null,null,null,null,null,null,null,null,null,null,null,null,null,null,null,null,null,null,0,0,0,0,0,0,0,"","",{"$f":"INDEX($AL$3:$AL$1500, MATCH(0, IF(ISBLANK($AL$3:$AL$1500), 1, COUNTIF(AM$3:AM1209, $AL$3:$AL$1500)), 0))","v":{"$error":"#N/A"}},""]
[{"$f":"IF(E1213=\"\",\"\",GetAddress(E1213))","v":""},{"$f":"IF(E1213=\"\",\"\",GetAddress(E1213))","v":""},null,null,null,null,null,null,null,null,null,null,null,null,null,null,null,null,null,null,null,null,null,null,null,null,null,null,null,0,0,0,0,0,0,0,"","",{"$f":"INDEX($AL$3:$AL$1500, MATCH(0, IF(ISBLANK($AL$3:$AL$1500), 1, COUNTIF(AM$3:AM1210, $AL$3:$AL$1500)), 0))","v":{"$error":"#N/A"}},""]
[{"$f":"IF(E1214=\"\",\"\",GetAddress(E1214))","v":""},{"$f":"IF(E1214=\"\",\"\",GetAddress(E1214))","v":""},null,null,null,null,null,null,null,null,null,null,null,null,null,null,null,null,null,null,null,null,null,null,null,null,null,null,null,0,0,0,0,0,0,0,"","",{"$f":"INDEX($AL$3:$AL$1500, MATCH(0, IF(ISBLANK($AL$3:$AL$1500), 1, COUNTIF(AM$3:AM1211, $AL$3:$AL$1500)), 0))","v":{"$error":"#N/A"}},""]
[{"$f":"IF(E1215=\"\",\"\",GetAddress(E1215))","v":""},{"$f":"IF(E1215=\"\",\"\",GetAddress(E1215))","v":""},null,null,null,null,null,null,null,null,null,null,null,null,null,null,null,null,null,null,null,null,null,null,null,null,null,null,null,0,0,0,0,0,0,0,"","",{"$f":"INDEX($AL$3:$AL$1500, MATCH(0, IF(ISBLANK($AL$3:$AL$1500), 1, COUNTIF(AM$3:AM1212, $AL$3:$AL$1500)), 0))","v":{"$error":"#N/A"}},""]
[{"$f":"IF(E1216=\"\",\"\",GetAddress(E1216))","v":""},{"$f":"IF(E1216=\"\",\"\",GetAddress(E1216))","v":""},null,null,null,null,null,null,null,null,null,null,null,null,null,null,null,null,null,null,null,null,null,null,null,null,null,null,null,0,0,0,0,0,0,0,"","",{"$f":"INDEX($AL$3:$AL$1500, MATCH(0, IF(ISBLANK($AL$3:$AL$1500), 1, COUNTIF(AM$3:AM1213, $AL$3:$AL$1500)), 0))","v":{"$error":"#N/A"}},""]
[{"$f":"IF(E1217=\"\",\"\",GetAddress(E1217))","v":""},{"$f":"IF(E1217=\"\",\"\",GetAddress(E1217))","v":""},null,null,null,null,null,null,null,null,null,null,null,null,null,null,null,null,null,null,null,null,null,null,null,null,null,null,null,0,0,0,0,0,0,0,"","",{"$f":"INDEX($AL$3:$AL$1500, MATCH(0, IF(ISBLANK($AL$3:$AL$1500), 1, COUNTIF(AM$3:AM1214, $AL$3:$AL$1500)), 0))","v":{"$error":"#N/A"}},""]
[{"$f":"IF(E1218=\"\",\"\",GetAddress(E1218))","v":""},{"$f":"IF(E1218=\"\",\"\",GetAddress(E1218))","v":""},null,null,null,null,null,null,null,null,null,null,null,null,null,null,null,null,null,null,null,null,null,null,null,null,null,null,null,0,0,0,0,0,0,0,"","",{"$f":"INDEX($AL$3:$AL$1500, MATCH(0, IF(ISBLANK($AL$3:$AL$1500), 1, COUNTIF(AM$3:AM1215, $AL$3:$AL$1500)), 0))","v":{"$error":"#N/A"}},""]
[{"$f":"IF(E1219=\"\",\"\",GetAddress(E1219))","v":""},{"$f":"IF(E1219=\"\",\"\",GetAddress(E1219))","v":""},null,null,null,null,null,null,null,null,null,null,null,null,null,null,null,null,null,null,null,null,null,null,null,null,null,null,null,0,0,0,0,0,0,0,"","",{"$f":"INDEX($AL$3:$AL$1500, MATCH(0, IF(ISBLANK($AL$3:$AL$1500), 1, COUNTIF(AM$3:AM1216, $AL$3:$AL$1500)), 0))","v":{"$error":"#N/A"}},""]
[{"$f":"IF(E1220=\"\",\"\",GetAddress(E1220))","v":""},{"$f":"IF(E1220=\"\",\"\",GetAddress(E1220))","v":""},null,null,null,null,null,null,null,null,null,null,null,null,null,null,null,null,null,null,null,null,null,null,null,null,null,null,null,0,0,0,0,0,0,0,"","",{"$f":"INDEX($AL$3:$AL$1500, MATCH(0, IF(ISBLANK($AL$3:$AL$1500), 1, COUNTIF(AM$3:AM1217, $AL$3:$AL$1500)), 0))","v":{"$error":"#N/A"}},""]
[{"$f":"IF(E1221=\"\",\"\",GetAddress(E1221))","v":""},{"$f":"IF(E1221=\"\",\"\",GetAddress(E1221))","v":""},null,null,null,null,null,null,null,null,null,null,null,null,null,null,null,null,null,null,null,null,null,null,null,null,null,null,null,0,0,0,0,0,0,{"$f":"IF(AI1219=\"Free A\",\"\",AI1219)","v":0},{"$f":"IF(AJ1219=0,\"\",AJ1219)","v":""},{"$f":"IF(AK1219=\"Free Agent\",\"\",AK1219)","v":""},{"$f":"INDEX($AL$3:$AL$1500, MATCH(0, IF(ISBLANK($AL$3:$AL$1500), 1, COUNTIF(AM$3:AM1218, $AL$3:$AL$1500)), 0))","v":{"$error":"#N/A"}},{"$f":"IF(ISERROR(AM1219),\"\",AM1219)","v":""}]
[{"$f":"IF(E1222=\"\",\"\",GetAddress(E1222))","v":""},{"$f":"IF(E1222=\"\",\"\",GetAddress(E1222))","v":""},null,null,null,null,null,null,null,null,null,null,null,null,null,null,null,null,null,null,null,null,null,null,null,null,null,null,null,0,0,0,0,0,0,0,"","",{"$f":"INDEX($AL$3:$AL$1500, MATCH(0, IF(ISBLANK($AL$3:$AL$1500), 1, COUNTIF(AM$3:AM1219, $AL$3:$AL$1500)), 0))","v":{"$error":"#N/A"}},""]
[{"$f":"IF(E1223=\"\",\"\",GetAddress(E1223))","v":""},{"$f":"IF(E1223=\"\",\"\",GetAddress(E1223))","v":""},null,null,null,null,null,null,null,null,null,null,null,null,null,null,null,null,null,null,null,null,null,null,null,null,null,null,null,{"$f":"VALUE(IF(ISNUMBER(SEARCH(\"(P)\",Y1221)),\"1\", \"0\"))","v":0},{"$f":"VALUE(IF(ISNUMBER(SEARCH(\"(Q)\",Y1221)),\"1\", \"0\"))","v":0},{"$f":"VALUE(IF(ISNUMBER(SEARCH(\"(O)\",Y1221)),\"1\", \"0\"))","v":0},{"$f":"VALUE(IF(ISNUMBER(SEARCH(\"(S)\",Y1221)),\"1\", \"0\"))","v":0},{"$f":"VALUE(IF(ISNUMBER(SEARCH(\"Free Agent\",Y1221)),\"1\", \"0\"))","v":0},{"$f":"IF(SUM(AD1221:AH1221)=0,Y1221,LEFT(Y1221,LEN(Y1221)-4))","v":0},0,"","",{"$f":"INDEX($AL$3:$AL$1500, MATCH(0, IF(ISBLANK($AL$3:$AL$1500), 1, COUNTIF(AM$3:AM1220, $AL$3:$AL$1500)), 0))","v":{"$error":"#N/A"}},""]
[{"$f":"IF(E1224=\"\",\"\",GetAddress(E1224))","v":""},{"$f":"IF(E1224=\"\",\"\",GetAddress(E1224))","v":""},null,null,null,null,null,null,null,null,null,null,null,null,null,null,null,null,null,null,null,null,null,null,null,null,null,null,null,0,0,0,0,0,0,0,"","",{"$f":"INDEX($AL$3:$AL$1500, MATCH(0, IF(ISBLANK($AL$3:$AL$1500), 1, COUNTIF(AM$3:AM1221, $AL$3:$AL$1500)), 0))","v":{"$error":"#N/A"}},""]
[{"$f":"IF(E1225=\"\",\"\",GetAddress(E1225))","v":""},{"$f":"IF(E1225=\"\",\"\",GetAddress(E1225))","v":""},null,null,null,null,null,null,null,null,null,null,null,null,null,null,null,null,null,null,null,null,null,null,null,null,null,null,null,0,0,0,0,0,0,0,"","",{"$f":"INDEX($AL$3:$AL$1500, MATCH(0, IF(ISBLANK($AL$3:$AL$1500), 1, COUNTIF(AM$3:AM1222, $AL$3:$AL$1500)), 0))","v":{"$error":"#N/A"}},""]
[{"$f":"IF(E1226=\"\",\"\",GetAddress(E1226))","v":""},{"$f":"IF(E1226=\"\",\"\",GetAddress(E1226))","v":""},null,null,null,null,null,null,null,null,null,null,null,null,null,null,null,null,null,null,null,null,null,null,null,null,null,null,null,0,0,0,0,0,0,0,"","",{"$f":"INDEX($AL$3:$AL$1500, MATCH(0, IF(ISBLANK($AL$3:$AL$1500), 1, COUNTIF(AM$3:AM1223, $AL$3:$AL$1500)), 0))","v":{"$error":"#N/A"}},""]
[{"$f":"IF(E1227=\"\",\"\",GetAddress(E1227))","v":""},{"$f":"IF(E1227=\"\",\"\",GetAddress(E1227))","v":""},null,null,null,null,null,null,null,null,null,null,null,null,null,null,null,null,null,null,null,null,null,null,null,null,null,null,null,0,0,0,0,0,0,0,"","",{"$f":"INDEX($AL$3:$AL$1500, MATCH(0, IF(ISBLANK($AL$3:$AL$1500), 1, COUNTIF(AM$3:AM1224, $AL$3:$AL$1500)), 0))","v":{"$error":"#N/A"}},""]
[{"$f":"IF(E1228=\"\",\"\",GetAddress(E1228))","v":""},{"$f":"IF(E1228=\"\",\"\",GetAddress(E1228))","v":""},null,null,null,null,null,null,null,null,null,null,null,null,null,null,null,null,null,null,null,null,null,null,null,null,null,null,null,0,0,0,0,0,0,0,"","",{"$f":"INDEX($AL$3:$AL$1500, MATCH(0, IF(ISBLANK($AL$3:$AL$1500), 1, COUNTIF(AM$3:AM1225, $AL$3:$AL$1500)), 0))","v":{"$error":"#N/A"}},""]
[{"$f":"IF(E1229=\"\",\"\",GetAddress(E1229))","v":""},{"$f":"IF(E1229=\"\",\"\",GetAddress(E1229))","v":""},null,null,null,null,null,null,null,null,null,null,null,null,null,null,null,null,null,null,null,null,null,null,null,null,null,null,null,0,0,0,0,0,0,0,"","",{"$f":"INDEX($AL$3:$AL$1500, MATCH(0, IF(ISBLANK($AL$3:$AL$1500), 1, COUNTIF(AM$3:AM1226, $AL$3:$AL$1500)), 0))","v":{"$error":"#N/A"}},""]
[{"$f":"IF(E1230=\"\",\"\",GetAddress(E1230))","v":""},{"$f":"IF(E1230=\"\",\"\",GetAddress(E1230))","v":""},null,null,null,null,null,null,null,null,null,null,null,null,null,null,null,null,null,null,null,null,null,null,null,null,null,null,null,0,0,0,0,0,0,0,"","",{"$f":"INDEX($AL$3:$AL$1500, MATCH(0, IF(ISBLANK($AL$3:$AL$1500), 1, COUNTIF(AM$3:AM1227, $AL$3:$AL$1500)), 0))","v":{"$error":"#N/A"}},""]
[{"$f":"IF(E1231=\"\",\"\",GetAddress(E1231))","v":""},{"$f":"IF(E1231=\"\",\"\",GetAddress(E1231))","v":""},null,null,null,null,null,null,null,null,null,null,null,null,null,null,null,null,null,null,null,null,null,null,null,null,null,null,null,0,0,0,0,0,0,0,"","",{"$f":"INDEX($AL$3:$AL$1500, MATCH(0, IF(ISBLANK($AL$3:$AL$1500), 1, COUNTIF(AM$3:AM1228, $AL$3:$AL$1500)), 0))","v":{"$error":"#N/A"}},""]
[{"$f":"IF(E1232=\"\",\"\",GetAddress(E1232))","v":""},{"$f":"IF(E1232=\"\",\"\",GetAddress(E1232))","v":""},null,null,null,null,null,null,null,null,null,null,null,null,null,null,null,null,null,null,null,null,null,null,null,null,null,null,null,0,0,0,0,0,0,0,"","",{"$f":"INDEX($AL$3:$AL$1500, MATCH(0, IF(ISBLANK($AL$3:$AL$1500), 1, COUNTIF(AM$3:AM1229, $AL$3:$AL$1500)), 0))","v":{"$error":"#N/A"}},""]
[{"$f":"IF(E1233=\"\",\"\",GetAddress(E1233))","v":""},{"$f":"IF(E1233=\"\",\"\",GetAddress(E1233))","v":""},null,null,null,null,null,null,null,null,null,null,null,null,null,null,null,null,null,null,null,null,null,null,null,null,null,null,null,0,0,0,0,0,0,0,"","",{"$f":"INDEX($AL$3:$AL$1500, MATCH(0, IF(ISBLANK($AL$3:$AL$1500), 1, COUNTIF(AM$3:AM1230, $AL$3:$AL$1500)), 0))","v":{"$error":"#N/A"}},""]
[{"$f":"IF(E1234=\"\",\"\",GetAddress(E1234))","v":""},{"$f":"IF(E1234=\"\",\"\",GetAddress(E1234))","v":""},null,null,null,null,null,null,null,null,null,null,null,null,null,null,null,null,null,null,null,null,null,null,null,null,null,null,null,0,0,0,0,0,0,0,"","",{"$f":"INDEX($AL$3:$AL$1500, MATCH(0, IF(ISBLANK($AL$3:$AL$1500), 1, COUNTIF(AM$3:AM1231, $AL$3:$AL$1500)), 0))","v":{"$error":"#N/A"}},""]
[{"$f":"IF(E1235=\"\",\"\",GetAddress(E1235))","v":""},{"$f":"IF(E1235=\"\",\"\",GetAddress(E1235))","v":""},null,null,null,null,null,null,null,null,null,null,null,null,null,null,null,null,null,null,null,null,null,null,null,null,null,null,null,0,0,0,0,0,0,0,"","",{"$f":"INDEX($AL$3:$AL$1500, MATCH(0, IF(ISBLANK($AL$3:$AL$1500), 1, COUNTIF(AM$3:AM1232, $AL$3:$AL$1500)), 0))","v":{"$error":"#N/A"}},""]
[{"$f":"IF(E1236=\"\",\"\",GetAddress(E1236))","v":""},{"$f":"IF(E1236=\"\",\"\",GetAddress(E1236))","v":""},null,null,null,null,null,null,null,null,null,null,null,null,null,null,null,null,null,null,null,null,null,null,null,null,null,null,null,0,0,0,0,0,0,0,"","",{"$f":"INDEX($AL$3:$AL$1500, MATCH(0, IF(ISBLANK($AL$3:$AL$1500), 1, COUNTIF(AM$3:AM1233, $AL$3:$AL$1500)), 0))","v":{"$error":"#N/A"}},""]
[{"$f":"IF(E1237=\"\",\"\",GetAddress(E1237))","v":""},{"$f":"IF(E1237=\"\",\"\",GetAddress(E1237))","v":""},null,null,null,null,null,null,null,null,null,null,null,null,null,null,null,null,null,null,null,null,null,null,null,null,null,null,null,0,0,0,0,0,0,0,"","",{"$f":"INDEX($AL$3:$AL$1500, MATCH(0, IF(ISBLANK($AL$3:$AL$1500), 1, COUNTIF(AM$3:AM1234, $AL$3:$AL$1500)), 0))","v":{"$error":"#N/A"}},""]
[{"$f":"IF(E1238=\"\",\"\",GetAddress(E1238))","v":""},{"$f":"IF(E1238=\"\",\"\",GetAddress(E1238))","v":""},null,null,null,null,null,null,null,null,null,null,null,null,null,null,null,null,null,null,null,null,null,null,null,null,null,null,null,0,0,0,0,0,0,0,"","",{"$f":"INDEX($AL$3:$AL$1500, MATCH(0, IF(ISBLANK($AL$3:$AL$1500), 1, COUNTIF(AM$3:AM1235, $AL$3:$AL$1500)), 0))","v":{"$error":"#N/A"}},""]
[{"$f":"IF(E1239=\"\",\"\",GetAddress(E1239))","v":""},{"$f":"IF(E1239=\"\",\"\",GetAddress(E1239))","v":""},null,null,null,null,null,null,null,null,null,null,null,null,null,null,null,null,null,null,null,null,null,null,null,null,null,null,null,0,0,0,0,0,0,0,"","",{"$f":"INDEX($AL$3:$AL$1500, MATCH(0, IF(ISBLANK($AL$3:$AL$1500), 1, COUNTIF(AM$3:AM1236, $AL$3:$AL$1500)), 0))","v":{"$error":"#N/A"}},""]
[{"$f":"IF(E1240=\"\",\"\",GetAddress(E1240))","v":""},{"$f":"IF(E1240=\"\",\"\",GetAddress(E1240))","v":""},null,null,null,null,null,null,null,null,null,null,null,null,null,null,null,null,null,null,null,null,null,null,null,null,null,null,null,0,0,0,0,0,0,0,"","",{"$f":"INDEX($AL$3:$AL$1500, MATCH(0, IF(ISBLANK($AL$3:$AL$1500), 1, COUNTIF(AM$3:AM1237, $AL$3:$AL$1500)), 0))","v":{"$error":"#N/A"}},""]
[{"$f":"IF(E1241=\"\",\"\",GetAddress(E1241))","v":""},{"$f":"IF(E1241=\"\",\"\",GetAddress(E1241))","v":""},null,null,null,null,null,null,null,null,null,null,null,null,null,null,null,null,null,null,null,null,null,null,null,null,null,null,null,0,0,0,0,0,0,0,"","",{"$f":"INDEX($AL$3:$AL$1500, MATCH(0, IF(ISBLANK($AL$3:$AL$1500), 1, COUNTIF(AM$3:AM1238, $AL$3:$AL$1500)), 0))","v":{"$error":"#N/A"}},""]
[{"$f":"IF(E1242=\"\",\"\",GetAddress(E1242))","v":""},{"$f":"IF(E1242=\"\",\"\",GetAddress(E1242))","v":""},null,null,null,null,null,null,null,null,null,null,null,null,null,null,null,null,null,null,null,null,null,null,null,null,null,null,null,0,0,0,0,0,0,0,"","",{"$f":"INDEX($AL$3:$AL$1500, MATCH(0, IF(ISBLANK($AL$3:$AL$1500), 1, COUNTIF(AM$3:AM1239, $AL$3:$AL$1500)), 0))","v":{"$error":"#N/A"}},""]
[{"$f":"IF(E1243=\"\",\"\",GetAddress(E1243))","v":""},{"$f":"IF(E1243=\"\",\"\",GetAddress(E1243))","v":""},null,null,null,null,null,null,null,null,null,null,null,null,null,null,null,null,null,null,null,null,null,null,null,null,null,null,null,0,0,0,0,0,0,0,"","",{"$f":"INDEX($AL$3:$AL$1500, MATCH(0, IF(ISBLANK($AL$3:$AL$1500), 1, COUNTIF(AM$3:AM1240, $AL$3:$AL$1500)), 0))","v":{"$error":"#N/A"}},""]
[{"$f":"IF(E1244=\"\",\"\",GetAddress(E1244))","v":""},{"$f":"IF(E1244=\"\",\"\",GetAddress(E1244))","v":""},null,null,null,null,null,null,null,null,null,null,null,null,null,null,null,null,null,null,null,null,null,null,null,null,null,null,null,0,0,0,0,0,0,0,"","",{"$f":"INDEX($AL$3:$AL$1500, MATCH(0, IF(ISBLANK($AL$3:$AL$1500), 1, COUNTIF(AM$3:AM1241, $AL$3:$AL$1500)), 0))","v":{"$error":"#N/A"}},""]
[{"$f":"IF(E1245=\"\",\"\",GetAddress(E1245))","v":""},{"$f":"IF(E1245=\"\",\"\",GetAddress(E1245))","v":""},null,null,null,null,null,null,null,null,null,null,null,null,null,null,null,null,null,null,null,null,null,null,null,null,null,null,null,0,0,0,0,0,0,0,"","",{"$f":"INDEX($AL$3:$AL$1500, MATCH(0, IF(ISBLANK($AL$3:$AL$1500), 1, COUNTIF(AM$3:AM1242, $AL$3:$AL$1500)), 0))","v":{"$error":"#N/A"}},""]
[{"$f":"IF(E1246=\"\",\"\",GetAddress(E1246))","v":""},{"$f":"IF(E1246=\"\",\"\",GetAddress(E1246))","v":""},null,null,null,null,null,null,null,null,null,null,null,null,null,null,null,null,null,null,null,null,null,null,null,null,null,null,null,0,0,0,0,0,0,0,"","",{"$f":"INDEX($AL$3:$AL$1500, MATCH(0, IF(ISBLANK($AL$3:$AL$1500), 1, COUNTIF(AM$3:AM1243, $AL$3:$AL$1500)), 0))","v":{"$error":"#N/A"}},""]
[{"$f":"IF(E1247=\"\",\"\",GetAddress(E1247))","v":""},{"$f":"IF(E1247=\"\",\"\",GetAddress(E1247))","v":""},null,null,null,null,null,null,null,null,null,null,null,null,null,null,null,null,null,null,null,null,null,null,null,null,null,null,null,0,0,0,0,0,0,0,"","",{"$f":"INDEX($AL$3:$AL$1500, MATCH(0, IF(ISBLANK($AL$3:$AL$1500), 1, COUNTIF(AM$3:AM1244, $AL$3:$AL$1500)), 0))","v":{"$error":"#N/A"}},""]
[{"$f":"IF(E1248=\"\",\"\",GetAddress(E1248))","v":""},{"$f":"IF(E1248=\"\",\"\",GetAddress(E1248))","v":""},null,null,null,null,null,null,null,null,null,null,null,null,null,null,null,null,null,null,null,null,null,null,null,null,null,null,null,0,0,0,0,0,0,0,"","",{"$f":"INDEX($AL$3:$AL$1500, MATCH(0, IF(ISBLANK($AL$3:$AL$1500), 1, COUNTIF(AM$3:AM1245, $AL$3:$AL$1500)), 0))","v":{"$error":"#N/A"}},""]
[{"$f":"IF(E1249=\"\",\"\",GetAddress(E1249))","v":""},{"$f":"IF(E1249=\"\",\"\",GetAddress(E1249))","v":""},null,null,null,null,null,null,null,null,null,null,null,null,null,null,null,null,null,null,null,null,null,null,null,null,null,null,null,0,0,0,0,0,0,0,"","",{"$f":"INDEX($AL$3:$AL$1500, MATCH(0, IF(ISBLANK($AL$3:$AL$1500), 1, COUNTIF(AM$3:AM1246, $AL$3:$AL$1500)), 0))","v":{"$error":"#N/A"}},""]
[{"$f":"IF(E1250=\"\",\"\",GetAddress(E1250))","v":""},{"$f":"IF(E1250=\"\",\"\",GetAddress(E1250))","v":""},null,null,null,null,null,null,null,null,null,null,null,null,null,null,null,null,null,null,null,null,null,null,null,null,null,null,null,0,0,0,0,0,0,0,"","",{"$f":"INDEX($AL$3:$AL$1500, MATCH(0, IF(ISBLANK($AL$3:$AL$1500), 1, COUNTIF(AM$3:AM1247, $AL$3:$AL$1500)), 0))","v":{"$error":"#N/A"}},""]
[{"$f":"IF(E1251=\"\",\"\",GetAddress(E1251))","v":""},{"$f":"IF(E1251=\"\",\"\",GetAddress(E1251))","v":""},null,null,null,null,null,null,null,null,null,null,null,null,null,null,null,null,null,null,null,null,null,null,null,null,null,null,null,0,0,0,0,0,0,0,"","",{"$f":"INDEX($AL$3:$AL$1500, MATCH(0, IF(ISBLANK($AL$3:$AL$1500), 1, COUNTIF(AM$3:AM1248, $AL$3:$AL$1500)), 0))","v":{"$error":"#N/A"}},""]
[{"$f":"IF(E1252=\"\",\"\",GetAddress(E1252))","v":""},{"$f":"IF(E1252=\"\",\"\",GetAddress(E1252))","v":""},null,null,null,null,null,null,null,null,null,null,null,null,null,null,null,null,null,null,null,null,null,null,null,null,null,null,null,0,0,0,0,0,0,0,"","",{"$f":"INDEX($AL$3:$AL$1500, MATCH(0, IF(ISBLANK($AL$3:$AL$1500), 1, COUNTIF(AM$3:AM1249, $AL$3:$AL$1500)), 0))","v":{"$error":"#N/A"}},""]
[{"$f":"IF(E1253=\"\",\"\",GetAddress(E1253))","v":""},{"$f":"IF(E1253=\"\",\"\",GetAddress(E1253))","v":""},null,null,null,null,null,null,null,null,null,null,null,null,null,null,null,null,null,null,null,null,null,null,null,null,null,null,null,0,0,0,0,0,0,0,"","",{"$f":"INDEX($AL$3:$AL$1500, MATCH(0, IF(ISBLANK($AL$3:$AL$1500), 1, COUNTIF(AM$3:AM1250, $AL$3:$AL$1500)), 0))","v":{"$error":"#N/A"}},""]
[{"$f":"IF(E1254=\"\",\"\",GetAddress(E1254))","v":""},{"$f":"IF(E1254=\"\",\"\",GetAddress(E1254))","v":""},null,null,null,null,null,null,null,null,null,null,null,null,null,null,null,null,null,null,null,null,null,null,null,null,null,null,null,0,0,0,0,0,0,0,"","",{"$f":"INDEX($AL$3:$AL$1500, MATCH(0, IF(ISBLANK($AL$3:$AL$1500), 1, COUNTIF(AM$3:AM1251, $AL$3:$AL$1500)), 0))","v":{"$error":"#N/A"}},""]
[{"$f":"IF(E1255=\"\",\"\",GetAddress(E1255))","v":""},{"$f":"IF(E1255=\"\",\"\",GetAddress(E1255))","v":""},null,null,null,null,null,null,null,null,null,null,null,null,null,null,null,null,null,null,null,null,null,null,null,null,null,null,null,0,0,0,0,0,0,0,"","",{"$f":"INDEX($AL$3:$AL$1500, MATCH(0, IF(ISBLANK($AL$3:$AL$1500), 1, COUNTIF(AM$3:AM1252, $AL$3:$AL$1500)), 0))","v":{"$error":"#N/A"}},""]
[{"$f":"IF(E1256=\"\",\"\",GetAddress(E1256))","v":""},{"$f":"IF(E1256=\"\",\"\",GetAddress(E1256))","v":""},null,null,null,null,null,null,null,null,null,null,null,null,null,null,null,null,null,null,null,null,null,null,null,null,null,null,null,0,0,0,0,0,0,0,"","",{"$f":"INDEX($AL$3:$AL$1500, MATCH(0, IF(ISBLANK($AL$3:$AL$1500), 1, COUNTIF(AM$3:AM1253, $AL$3:$AL$1500)), 0))","v":{"$error":"#N/A"}},""]
[{"$f":"IF(E1257=\"\",\"\",GetAddress(E1257))","v":""},{"$f":"IF(E1257=\"\",\"\",GetAddress(E1257))","v":""},null,null,null,null,null,null,null,null,null,null,null,null,null,null,null,null,null,null,null,null,null,null,null,null,null,null,null,0,0,0,0,0,0,0,"","",{"$f":"INDEX($AL$3:$AL$1500, MATCH(0, IF(ISBLANK($AL$3:$AL$1500), 1, COUNTIF(AM$3:AM1254, $AL$3:$AL$1500)), 0))","v":{"$error":"#N/A"}},""]
[{"$f":"IF(E1258=\"\",\"\",GetAddress(E1258))","v":""},{"$f":"IF(E1258=\"\",\"\",GetAddress(E1258))","v":""},null,null,null,null,null,null,null,null,null,null,null,null,null,null,null,null,null,null,null,null,null,null,null,null,null,null,null,0,0,0,0,0,0,0,"","",{"$f":"INDEX($AL$3:$AL$1500, MATCH(0, IF(ISBLANK($AL$3:$AL$1500), 1, COUNTIF(AM$3:AM1255, $AL$3:$AL$1500)), 0))","v":{"$error":"#N/A"}},""]
[{"$f":"IF(E1259=\"\",\"\",GetAddress(E1259))","v":""},{"$f":"IF(E1259=\"\",\"\",GetAddress(E1259))","v":""},null,null,null,null,null,null,null,null,null,null,null,null,null,null,null,null,null,null,null,null,null,null,null,null,null,null,null,0,0,0,0,0,0,0,"","",{"$f":"INDEX($AL$3:$AL$1500, MATCH(0, IF(ISBLANK($AL$3:$AL$1500), 1, COUNTIF(AM$3:AM1256, $AL$3:$AL$1500)), 0))","v":{"$error":"#N/A"}},""]
[{"$f":"IF(E1260=\"\",\"\",GetAddress(E1260))","v":""},{"$f":"IF(E1260=\"\",\"\",GetAddress(E1260))","v":""},null,null,null,null,null,null,null,null,null,null,null,null,null,null,null,null,null,null,null,null,null,null,null,null,null,null,null,0,0,0,0,0,0,0,"","",{"$f":"INDEX($AL$3:$AL$1500, MATCH(0, IF(ISBLANK($AL$3:$AL$1500), 1, COUNTIF(AM$3:AM1257, $AL$3:$AL$1500)), 0))","v":{"$error":"#N/A"}},""]
[{"$f":"IF(E1261=\"\",\"\",GetAddress(E1261))","v":""},{"$f":"IF(E1261=\"\",\"\",GetAddress(E1261))","v":""},null,null,null,null,null,null,null,null,null,null,null,null,null,null,null,null,null,null,null,null,null,null,null,null,null,null,null,0,0,0,0,0,0,0,"","",{"$f":"INDEX($AL$3:$AL$1500, MATCH(0, IF(ISBLANK($AL$3:$AL$1500), 1, COUNTIF(AM$3:AM1258, $AL$3:$AL$1500)), 0))","v":{"$error":"#N/A"}},""]
[{"$f":"IF(E1262=\"\",\"\",GetAddress(E1262))","v":""},{"$f":"IF(E1262=\"\",\"\",GetAddress(E1262))","v":""},null,null,null,null,null,null,null,null,null,null,null,null,null,null,null,null,null,null,null,null,null,null,null,null,null,null,null,0,0,0,0,0,0,0,"","",{"$f":"INDEX($AL$3:$AL$1500, MATCH(0, IF(ISBLANK($AL$3:$AL$1500), 1, COUNTIF(AM$3:AM1259, $AL$3:$AL$1500)), 0))","v":{"$error":"#N/A"}},""]
[{"$f":"IF(E1263=\"\",\"\",GetAddress(E1263))","v":""},{"$f":"IF(E1263=\"\",\"\",GetAddress(E1263))","v":""},null,null,null,null,null,null,null,null,null,null,null,null,null,null,null,null,null,null,null,null,null,null,null,null,null,null,null,0,0,0,0,0,0,0,"","",{"$f":"INDEX($AL$3:$AL$1500, MATCH(0, IF(ISBLANK($AL$3:$AL$1500), 1, COUNTIF(AM$3:AM1260, $AL$3:$AL$1500)), 0))","v":{"$error":"#N/A"}},""]
[{"$f":"IF(E1264=\"\",\"\",GetAddress(E1264))","v":""},{"$f":"IF(E1264=\"\",\"\",GetAddress(E1264))","v":""},null,null,null,null,null,null,null,null,null,null,null,null,null,null,null,null,null,null,null,null,null,null,null,null,null,null,null,0,0,0,0,0,0,0,"","",{"$f":"INDEX($AL$3:$AL$1500, MATCH(0, IF(ISBLANK($AL$3:$AL$1500), 1, COUNTIF(AM$3:AM1261, $AL$3:$AL$1500)), 0))","v":{"$error":"#N/A"}},""]
[{"$f":"IF(E1265=\"\",\"\",GetAddress(E1265))","v":""},{"$f":"IF(E1265=\"\",\"\",GetAddress(E1265))","v":""},null,null,null,null,null,null,null,null,null,null,null,null,null,null,null,null,null,null,null,null,null,null,null,null,null,null,null,0,0,0,0,0,0,0,"","",{"$f":"INDEX($AL$3:$AL$1500, MATCH(0, IF(ISBLANK($AL$3:$AL$1500), 1, COUNTIF(AM$3:AM1262, $AL$3:$AL$1500)), 0))","v":{"$error":"#N/A"}},""]
[{"$f":"IF(E1266=\"\",\"\",GetAddress(E1266))","v":""},{"$f":"IF(E1266=\"\",\"\",GetAddress(E1266))","v":""},null,null,null,null,null,null,null,null,null,null,null,null,null,null,null,null,null,null,null,null,null,null,null,null,null,null,null,0,0,0,0,0,0,0,"","",{"$f":"INDEX($AL$3:$AL$1500, MATCH(0, IF(ISBLANK($AL$3:$AL$1500), 1, COUNTIF(AM$3:AM1263, $AL$3:$AL$1500)), 0))","v":{"$error":"#N/A"}},""]
[{"$f":"IF(E1267=\"\",\"\",GetAddress(E1267))","v":""},{"$f":"IF(E1267=\"\",\"\",GetAddress(E1267))","v":""},null,null,null,null,null,null,null,null,null,null,null,null,null,null,null,null,null,null,null,null,null,null,null,null,null,null,null,0,0,0,0,0,0,0,"","",{"$f":"INDEX($AL$3:$AL$1500, MATCH(0, IF(ISBLANK($AL$3:$AL$1500), 1, COUNTIF(AM$3:AM1264, $AL$3:$AL$1500)), 0))","v":{"$error":"#N/A"}},""]
[{"$f":"IF(E1268=\"\",\"\",GetAddress(E1268))","v":""},{"$f":"IF(E1268=\"\",\"\",GetAddress(E1268))","v":""},null,null,null,null,null,null,null,null,null,null,null,null,null,null,null,null,null,null,null,null,null,null,null,null,null,null,null,0,0,0,0,0,0,0,"","",{"$f":"INDEX($AL$3:$AL$1500, MATCH(0, IF(ISBLANK($AL$3:$AL$1500), 1, COUNTIF(AM$3:AM1265, $AL$3:$AL$1500)), 0))","v":{"$error":"#N/A"}},""]
[{"$f":"IF(E1269=\"\",\"\",GetAddress(E1269))","v":""},{"$f":"IF(E1269=\"\",\"\",GetAddress(E1269))","v":""},null,null,null,null,null,null,null,null,null,null,null,null,null,null,null,null,null,null,null,null,null,null,null,null,null,null,null,0,0,0,0,0,0,0,"","",{"$f":"INDEX($AL$3:$AL$1500, MATCH(0, IF(ISBLANK($AL$3:$AL$1500), 1, COUNTIF(AM$3:AM1266, $AL$3:$AL$1500)), 0))","v":{"$error":"#N/A"}},""]
[{"$f":"IF(E1270=\"\",\"\",GetAddress(E1270))","v":""},{"$f":"IF(E1270=\"\",\"\",GetAddress(E1270))","v":""},null,null,null,null,null,null,null,null,null,null,null,null,null,null,null,null,null,null,null,null,null,null,null,null,null,null,null,0,0,0,0,0,0,0,"","",{"$f":"INDEX($AL$3:$AL$1500, MATCH(0, IF(ISBLANK($AL$3:$AL$1500), 1, COUNTIF(AM$3:AM1267, $AL$3:$AL$1500)), 0))","v":{"$error":"#N/A"}},""]
[{"$f":"IF(E1271=\"\",\"\",GetAddress(E1271))","v":""},{"$f":"IF(E1271=\"\",\"\",GetAddress(E1271))","v":""},null,null,null,null,null,null,null,null,null,null,null,null,null,null,null,null,null,null,null,null,null,null,null,null,null,null,null,0,0,0,0,0,0,0,"","",{"$f":"INDEX($AL$3:$AL$1500, MATCH(0, IF(ISBLANK($AL$3:$AL$1500), 1, COUNTIF(AM$3:AM1268, $AL$3:$AL$1500)), 0))","v":{"$error":"#N/A"}},""]
[{"$f":"IF(E1272=\"\",\"\",GetAddress(E1272))","v":""},{"$f":"IF(E1272=\"\",\"\",GetAddress(E1272))","v":""},null,null,null,null,null,null,null,null,null,null,null,null,null,null,null,null,null,null,null,null,null,null,null,null,null,null,null,0,0,0,0,0,0,0,"","",{"$f":"INDEX($AL$3:$AL$1500, MATCH(0, IF(ISBLANK($AL$3:$AL$1500), 1, COUNTIF(AM$3:AM1269, $AL$3:$AL$1500)), 0))","v":{"$error":"#N/A"}},""]
[{"$f":"IF(E1273=\"\",\"\",GetAddress(E1273))","v":""},{"$f":"IF(E1273=\"\",\"\",GetAddress(E1273))","v":""},null,null,null,null,null,null,null,null,null,null,null,null,null,null,null,null,null,null,null,null,null,null,null,null,null,null,null,0,0,0,0,0,0,0,"","",{"$f":"INDEX($AL$3:$AL$1500, MATCH(0, IF(ISBLANK($AL$3:$AL$1500), 1, COUNTIF(AM$3:AM1270, $AL$3:$AL$1500)), 0))","v":{"$error":"#N/A"}},""]
[{"$f":"IF(E1274=\"\",\"\",GetAddress(E1274))","v":""},{"$f":"IF(E1274=\"\",\"\",GetAddress(E1274))","v":""},null,null,null,null,null,null,null,null,null,null,null,null,null,null,null,null,null,null,null,null,null,null,null,null,null,null,null,0,0,0,0,0,0,0,"","",{"$f":"INDEX($AL$3:$AL$1500, MATCH(0, IF(ISBLANK($AL$3:$AL$1500), 1, COUNTIF(AM$3:AM1271, $AL$3:$AL$1500)), 0))","v":{"$error":"#N/A"}},""]
[{"$f":"IF(E1275=\"\",\"\",GetAddress(E1275))","v":""},{"$f":"IF(E1275=\"\",\"\",GetAddress(E1275))","v":""},null,null,null,null,null,null,null,null,null,null,null,null,null,null,null,null,null,null,null,null,null,null,null,null,null,null,null,0,0,0,0,0,0,0,"","",{"$f":"INDEX($AL$3:$AL$1500, MATCH(0, IF(ISBLANK($AL$3:$AL$1500), 1, COUNTIF(AM$3:AM1272, $AL$3:$AL$1500)), 0))","v":{"$error":"#N/A"}},""]
[{"$f":"IF(E1276=\"\",\"\",GetAddress(E1276))","v":""},{"$f":"IF(E1276=\"\",\"\",GetAddress(E1276))","v":""},null,null,null,null,null,null,null,null,null,null,null,null,null,null,null,null,null,null,null,null,null,null,null,null,null,null,null,0,0,0,0,0,0,0,"","",{"$f":"INDEX($AL$3:$AL$1500, MATCH(0, IF(ISBLANK($AL$3:$AL$1500), 1, COUNTIF(AM$3:AM1273, $AL$3:$AL$1500)), 0))","v":{"$error":"#N/A"}},""]
[{"$f":"IF(E1277=\"\",\"\",GetAddress(E1277))","v":""},{"$f":"IF(E1277=\"\",\"\",GetAddress(E1277))","v":""},null,null,null,null,null,null,null,null,null,null,null,null,null,null,null,null,null,null,null,null,null,null,null,null,null,null,null,0,0,0,0,0,0,0,"","",{"$f":"INDEX($AL$3:$AL$1500, MATCH(0, IF(ISBLANK($AL$3:$AL$1500), 1, COUNTIF(AM$3:AM1274, $AL$3:$AL$1500)), 0))","v":{"$error":"#N/A"}},""]
[{"$f":"IF(E1278=\"\",\"\",GetAddress(E1278))","v":""},{"$f":"IF(E1278=\"\",\"\",GetAddress(E1278))","v":""},null,null,null,null,null,null,null,null,null,null,null,null,null,null,null,null,null,null,null,null,null,null,null,null,null,null,null,0,0,0,0,0,0,0,"","",{"$f":"INDEX($AL$3:$AL$1500, MATCH(0, IF(ISBLANK($AL$3:$AL$1500), 1, COUNTIF(AM$3:AM1275, $AL$3:$AL$1500)), 0))","v":{"$error":"#N/A"}},""]
[{"$f":"IF(E1279=\"\",\"\",GetAddress(E1279))","v":""},{"$f":"IF(E1279=\"\",\"\",GetAddress(E1279))","v":""},null,null,null,null,null,null,null,null,null,null,null,null,null,null,null,null,null,null,null,null,null,null,null,null,null,null,null,0,0,0,0,0,0,0,"","",{"$f":"INDEX($AL$3:$AL$1500, MATCH(0, IF(ISBLANK($AL$3:$AL$1500), 1, COUNTIF(AM$3:AM1276, $AL$3:$AL$1500)), 0))","v":{"$error":"#N/A"}},""]
[{"$f":"IF(E1280=\"\",\"\",GetAddress(E1280))","v":""},{"$f":"IF(E1280=\"\",\"\",GetAddress(E1280))","v":""},null,null,null,null,null,null,null,null,null,null,null,null,null,null,null,null,null,null,null,null,null,null,null,null,null,null,null,0,0,0,0,0,0,0,"","",{"$f":"INDEX($AL$3:$AL$1500, MATCH(0, IF(ISBLANK($AL$3:$AL$1500), 1, COUNTIF(AM$3:AM1277, $AL$3:$AL$1500)), 0))","v":{"$error":"#N/A"}},""]
[{"$f":"IF(E1281=\"\",\"\",GetAddress(E1281))","v":""},{"$f":"IF(E1281=\"\",\"\",GetAddress(E1281))","v":""},null,null,null,null,null,null,null,null,null,null,null,null,null,null,null,null,null,null,null,null,null,null,null,null,null,null,null,0,0,0,0,0,0,0,"","",{"$f":"INDEX($AL$3:$AL$1500, MATCH(0, IF(ISBLANK($AL$3:$AL$1500), 1, COUNTIF(AM$3:AM1278, $AL$3:$AL$1500)), 0))","v":{"$error":"#N/A"}},""]
[{"$f":"IF(E1282=\"\",\"\",GetAddress(E1282))","v":""},{"$f":"IF(E1282=\"\",\"\",GetAddress(E1282))","v":""},null,null,null,null,null,null,null,null,null,null,null,null,null,null,null,null,null,null,null,null,null,null,null,null,null,null,null,0,0,0,0,0,0,0,"","",{"$f":"INDEX($AL$3:$AL$1500, MATCH(0, IF(ISBLANK($AL$3:$AL$1500), 1, COUNTIF(AM$3:AM1279, $AL$3:$AL$1500)), 0))","v":{"$error":"#N/A"}},""]
[{"$f":"IF(E1283=\"\",\"\",GetAddress(E1283))","v":""},{"$f":"IF(E1283=\"\",\"\",GetAddress(E1283))","v":""},null,null,null,null,null,null,null,null,null,null,null,null,null,null,null,null,null,null,null,null,null,null,null,null,null,null,null,0,0,0,0,0,0,0,"","",{"$f":"INDEX($AL$3:$AL$1500, MATCH(0, IF(ISBLANK($AL$3:$AL$1500), 1, COUNTIF(AM$3:AM1280, $AL$3:$AL$1500)), 0))","v":{"$error":"#N/A"}},""]
[{"$f":"IF(E1284=\"\",\"\",GetAddress(E1284))","v":""},{"$f":"IF(E1284=\"\",\"\",GetAddress(E1284))","v":""},null,null,null,null,null,null,null,null,null,null,null,null,null,null,null,null,null,null,null,null,null,null,null,null,null,null,null,0,0,0,0,0,0,0,"","",{"$f":"INDEX($AL$3:$AL$1500, MATCH(0, IF(ISBLANK($AL$3:$AL$1500), 1, COUNTIF(AM$3:AM1281, $AL$3:$AL$1500)), 0))","v":{"$error":"#N/A"}},""]
[{"$f":"IF(E1285=\"\",\"\",GetAddress(E1285))","v":""},{"$f":"IF(E1285=\"\",\"\",GetAddress(E1285))","v":""},null,null,null,null,null,null,null,null,null,null,null,null,null,null,null,null,null,null,null,null,null,null,null,null,null,null,null,0,0,0,0,0,0,{"$f":"IF(AI1283=\"Free A\",\"\",AI1283)","v":0},{"$f":"IF(AJ1283=0,\"\",AJ1283)","v":""},{"$f":"IF(AK1283=\"Free Agent\",\"\",AK1283)","v":""},{"$f":"INDEX($AL$3:$AL$1500, MATCH(0, IF(ISBLANK($AL$3:$AL$1500), 1, COUNTIF(AM$3:AM1282, $AL$3:$AL$1500)), 0))","v":{"$error":"#N/A"}},{"$f":"IF(ISERROR(AM1283),\"\",AM1283)","v":""}]
[{"$f":"IF(E1286=\"\",\"\",GetAddress(E1286))","v":""},{"$f":"IF(E1286=\"\",\"\",GetAddress(E1286))","v":""},null,null,null,null,null,null,null,null,null,null,null,null,null,null,null,null,null,null,null,null,null,null,null,null,null,null,null,0,0,0,0,0,0,0,"","",{"$f":"INDEX($AL$3:$AL$1500, MATCH(0, IF(ISBLANK($AL$3:$AL$1500), 1, COUNTIF(AM$3:AM1283, $AL$3:$AL$1500)), 0))","v":{"$error":"#N/A"}},""]
[{"$f":"IF(E1287=\"\",\"\",GetAddress(E1287))","v":""},{"$f":"IF(E1287=\"\",\"\",GetAddress(E1287))","v":""},null,null,null,null,null,null,null,null,null,null,null,null,null,null,null,null,null,null,null,null,null,null,null,null,null,null,null,{"$f":"VALUE(IF(ISNUMBER(SEARCH(\"(P)\",Y1285)),\"1\", \"0\"))","v":0},{"$f":"VALUE(IF(ISNUMBER(SEARCH(\"(Q)\",Y1285)),\"1\", \"0\"))","v":0},{"$f":"VALUE(IF(ISNUMBER(SEARCH(\"(O)\",Y1285)),\"1\", \"0\"))","v":0},{"$f":"VALUE(IF(ISNUMBER(SEARCH(\"(S)\",Y1285)),\"1\", \"0\"))","v":0},{"$f":"VALUE(IF(ISNUMBER(SEARCH(\"Free Agent\",Y1285)),\"1\", \"0\"))","v":0},{"$f":"IF(SUM(AD1285:AH1285)=0,Y1285,LEFT(Y1285,LEN(Y1285)-4))","v":0},0,"","",{"$f":"INDEX($AL$3:$AL$1500, MATCH(0, IF(ISBLANK($AL$3:$AL$1500), 1, COUNTIF(AM$3:AM1284, $AL$3:$AL$1500)), 0))","v":{"$error":"#N/A"}},""]
[{"$f":"IF(E1288=\"\",\"\",GetAddress(E1288))","v":""},{"$f":"IF(E1288=\"\",\"\",GetAddress(E1288))","v":""},null,null,null,null,null,null,null,null,null,null,null,null,null,null,null,null,null,null,null,null,null,null,null,null,null,null,null,0,0,0,0,0,0,0,"","",{"$f":"INDEX($AL$3:$AL$1500, MATCH(0, IF(ISBLANK($AL$3:$AL$1500), 1, COUNTIF(AM$3:AM1285, $AL$3:$AL$1500)), 0))","v":{"$error":"#N/A"}},""]
[{"$f":"IF(E1289=\"\",\"\",GetAddress(E1289))","v":""},{"$f":"IF(E1289=\"\",\"\",GetAddress(E1289))","v":""},null,null,null,null,null,null,null,null,null,null,null,null,null,null,null,null,null,null,null,null,null,null,null,null,null,null,null,0,0,0,0,0,0,0,"","",{"$f":"INDEX($AL$3:$AL$1500, MATCH(0, IF(ISBLANK($AL$3:$AL$1500), 1, COUNTIF(AM$3:AM1286, $AL$3:$AL$1500)), 0))","v":{"$error":"#N/A"}},""]
[{"$f":"IF(E1290=\"\",\"\",GetAddress(E1290))","v":""},{"$f":"IF(E1290=\"\",\"\",GetAddress(E1290))","v":""},null,null,null,null,null,null,null,null,null,null,null,null,null,null,null,null,null,null,null,null,null,null,null,null,null,null,null,0,0,0,0,0,0,0,"","",{"$f":"INDEX($AL$3:$AL$1500, MATCH(0, IF(ISBLANK($AL$3:$AL$1500), 1, COUNTIF(AM$3:AM1287, $AL$3:$AL$1500)), 0))","v":{"$error":"#N/A"}},""]
[{"$f":"IF(E1291=\"\",\"\",GetAddress(E1291))","v":""},{"$f":"IF(E1291=\"\",\"\",GetAddress(E1291))","v":""},null,null,null,null,null,null,null,null,null,null,null,null,null,null,null,null,null,null,null,null,null,null,null,null,null,null,null,0,0,0,0,0,0,0,"","",{"$f":"INDEX($AL$3:$AL$1500, MATCH(0, IF(ISBLANK($AL$3:$AL$1500), 1, COUNTIF(AM$3:AM1288, $AL$3:$AL$1500)), 0))","v":{"$error":"#N/A"}},""]
[{"$f":"IF(E1292=\"\",\"\",GetAddress(E1292))","v":""},{"$f":"IF(E1292=\"\",\"\",GetAddress(E1292))","v":""},null,null,null,null,null,null,null,null,null,null,null,null,null,null,null,null,null,null,null,null,null,null,null,null,null,null,null,0,0,0,0,0,0,0,"","",{"$f":"INDEX($AL$3:$AL$1500, MATCH(0, IF(ISBLANK($AL$3:$AL$1500), 1, COUNTIF(AM$3:AM1289, $AL$3:$AL$1500)), 0))","v":{"$error":"#N/A"}},""]
[{"$f":"IF(E1293=\"\",\"\",GetAddress(E1293))","v":""},{"$f":"IF(E1293=\"\",\"\",GetAddress(E1293))","v":""},null,null,null,null,null,null,null,null,null,null,null,null,null,null,null,null,null,null,null,null,null,null,null,null,null,null,null,0,0,0,0,0,0,0,"","",{"$f":"INDEX($AL$3:$AL$1500, MATCH(0, IF(ISBLANK($AL$3:$AL$1500), 1, COUNTIF(AM$3:AM1290, $AL$3:$AL$1500)), 0))","v":{"$error":"#N/A"}},""]
[{"$f":"IF(E1294=\"\",\"\",GetAddress(E1294))","v":""},{"$f":"IF(E1294=\"\",\"\",GetAddress(E1294))","v":""},null,null,null,null,null,null,null,null,null,null,null,null,null,null,null,null,null,null,null,null,null,null,null,null,null,null,null,0,0,0,0,0,0,0,"","",{"$f":"INDEX($AL$3:$AL$1500, MATCH(0, IF(ISBLANK($AL$3:$AL$1500), 1, COUNTIF(AM$3:AM1291, $AL$3:$AL$1500)), 0))","v":{"$error":"#N/A"}},""]
[{"$f":"IF(E1295=\"\",\"\",GetAddress(E1295))","v":""},{"$f":"IF(E1295=\"\",\"\",GetAddress(E1295))","v":""},null,null,null,null,null,null,null,null,null,null,null,null,null,null,null,null,null,null,null,null,null,null,null,null,null,null,null,0,0,0,0,0,0,0,"","",{"$f":"INDEX($AL$3:$AL$1500, MATCH(0, IF(ISBLANK($AL$3:$AL$1500), 1, COUNTIF(AM$3:AM1292, $AL$3:$AL$1500)), 0))","v":{"$error":"#N/A"}},""]
[{"$f":"IF(E1296=\"\",\"\",GetAddress(E1296))","v":""},{"$f":"IF(E1296=\"\",\"\",GetAddress(E1296))","v":""},null,null,null,null,null,null,null,null,null,null,null,null,null,null,null,null,null,null,null,null,null,null,null,null,null,null,null,0,0,0,0,0,0,0,"","",{"$f":"INDEX($AL$3:$AL$1500, MATCH(0, IF(ISBLANK($AL$3:$AL$1500), 1, COUNTIF(AM$3:AM1293, $AL$3:$AL$1500)), 0))","v":{"$error":"#N/A"}},""]
[{"$f":"IF(E1297=\"\",\"\",GetAddress(E1297))","v":""},{"$f":"IF(E1297=\"\",\"\",GetAddress(E1297))","v":""},null,null,null,null,null,null,null,null,null,null,null,null,null,null,null,null,null,null,null,null,null,null,null,null,null,null,null,0,0,0,0,0,0,0,"","",{"$f":"INDEX($AL$3:$AL$1500, MATCH(0, IF(ISBLANK($AL$3:$AL$1500), 1, COUNTIF(AM$3:AM1294, $AL$3:$AL$1500)), 0))","v":{"$error":"#N/A"}},""]
[{"$f":"IF(E1298=\"\",\"\",GetAddress(E1298))","v":""},{"$f":"IF(E1298=\"\",\"\",GetAddress(E1298))","v":""},null,null,null,null,null,null,null,null,null,null,null,null,null,null,null,null,null,null,null,null,null,null,null,null,null,null,null,0,0,0,0,0,0,0,"","",{"$f":"INDEX($AL$3:$AL$1500, MATCH(0, IF(ISBLANK($AL$3:$AL$1500), 1, COUNTIF(AM$3:AM1295, $AL$3:$AL$1500)), 0))","v":{"$error":"#N/A"}},""]
[{"$f":"IF(E1299=\"\",\"\",GetAddress(E1299))","v":""},{"$f":"IF(E1299=\"\",\"\",GetAddress(E1299))","v":""},null,null,null,null,null,null,null,null,null,null,null,null,null,null,null,null,null,null,null,null,null,null,null,null,null,null,null,0,0,0,0,0,0,0,"","",{"$f":"INDEX($AL$3:$AL$1500, MATCH(0, IF(ISBLANK($AL$3:$AL$1500), 1, COUNTIF(AM$3:AM1296, $AL$3:$AL$1500)), 0))","v":{"$error":"#N/A"}},""]
[{"$f":"IF(E1300=\"\",\"\",GetAddress(E1300))","v":""},{"$f":"IF(E1300=\"\",\"\",GetAddress(E1300))","v":""},null,null,null,null,null,null,null,null,null,null,null,null,null,null,null,null,null,null,null,null,null,null,null,null,null,null,null,0,0,0,0,0,0,0,"","",{"$f":"INDEX($AL$3:$AL$1500, MATCH(0, IF(ISBLANK($AL$3:$AL$1500), 1, COUNTIF(AM$3:AM1297, $AL$3:$AL$1500)), 0))","v":{"$error":"#N/A"}},""]
[{"$f":"IF(E1301=\"\",\"\",GetAddress(E1301))","v":""},{"$f":"IF(E1301=\"\",\"\",GetAddress(E1301))","v":""},null,null,null,null,null,null,null,null,null,null,null,null,null,null,null,null,null,null,null,null,null,null,null,null,null,null,null,0,0,0,0,0,0,0,"","",{"$f":"INDEX($AL$3:$AL$1500, MATCH(0, IF(ISBLANK($AL$3:$AL$1500), 1, COUNTIF(AM$3:AM1298, $AL$3:$AL$1500)), 0))","v":{"$error":"#N/A"}},""]
[{"$f":"IF(E1302=\"\",\"\",GetAddress(E1302))","v":""},{"$f":"IF(E1302=\"\",\"\",GetAddress(E1302))","v":""},null,null,null,null,null,null,null,null,null,null,null,null,null,null,null,null,null,null,null,null,null,null,null,null,null,null,null,0,0,0,0,0,0,0,"","",{"$f":"INDEX($AL$3:$AL$1500, MATCH(0, IF(ISBLANK($AL$3:$AL$1500), 1, COUNTIF(AM$3:AM1299, $AL$3:$AL$1500)), 0))","v":{"$error":"#N/A"}},""]
[{"$f":"IF(E1303=\"\",\"\",GetAddress(E1303))","v":""},{"$f":"IF(E1303=\"\",\"\",GetAddress(E1303))","v":""},null,null,null,null,null,null,null,null,null,null,null,null,null,null,null,null,null,null,null,null,null,null,null,null,null,null,null,0,0,0,0,0,0,0,"","",{"$f":"INDEX($AL$3:$AL$1500, MATCH(0, IF(ISBLANK($AL$3:$AL$1500), 1, COUNTIF(AM$3:AM1300, $AL$3:$AL$1500)), 0))","v":{"$error":"#N/A"}},""]
[{"$f":"IF(E1304=\"\",\"\",GetAddress(E1304))","v":""},{"$f":"IF(E1304=\"\",\"\",GetAddress(E1304))","v":""},null,null,null,null,null,null,null,null,null,null,null,null,null,null,null,null,null,null,null,null,null,null,null,null,null,null,null,0,0,0,0,0,0,0,"","",{"$f":"INDEX($AL$3:$AL$1500, MATCH(0, IF(ISBLANK($AL$3:$AL$1500), 1, COUNTIF(AM$3:AM1301, $AL$3:$AL$1500)), 0))","v":{"$error":"#N/A"}},""]
[{"$f":"IF(E1305=\"\",\"\",GetAddress(E1305))","v":""},{"$f":"IF(E1305=\"\",\"\",GetAddress(E1305))","v":""},null,null,null,null,null,null,null,null,null,null,null,null,null,null,null,null,null,null,null,null,null,null,null,null,null,null,null,0,0,0,0,0,0,0,"","",{"$f":"INDEX($AL$3:$AL$1500, MATCH(0, IF(ISBLANK($AL$3:$AL$1500), 1, COUNTIF(AM$3:AM1302, $AL$3:$AL$1500)), 0))","v":{"$error":"#N/A"}},""]
[{"$f":"IF(E1306=\"\",\"\",GetAddress(E1306))","v":""},{"$f":"IF(E1306=\"\",\"\",GetAddress(E1306))","v":""},null,null,null,null,null,null,null,null,null,null,null,null,null,null,null,null,null,null,null,null,null,null,null,null,null,null,null,0,0,0,0,0,0,0,"","",{"$f":"INDEX($AL$3:$AL$1500, MATCH(0, IF(ISBLANK($AL$3:$AL$1500), 1, COUNTIF(AM$3:AM1303, $AL$3:$AL$1500)), 0))","v":{"$error":"#N/A"}},""]
[{"$f":"IF(E1307=\"\",\"\",GetAddress(E1307))","v":""},{"$f":"IF(E1307=\"\",\"\",GetAddress(E1307))","v":""},null,null,null,null,null,null,null,null,null,null,null,null,null,null,null,null,null,null,null,null,null,null,null,null,null,null,null,0,0,0,0,0,0,0,"","",{"$f":"INDEX($AL$3:$AL$1500, MATCH(0, IF(ISBLANK($AL$3:$AL$1500), 1, COUNTIF(AM$3:AM1304, $AL$3:$AL$1500)), 0))","v":{"$error":"#N/A"}},""]
[{"$f":"IF(E1308=\"\",\"\",GetAddress(E1308))","v":""},{"$f":"IF(E1308=\"\",\"\",GetAddress(E1308))","v":""},null,null,null,null,null,null,null,null,null,null,null,null,null,null,null,null,null,null,null,null,null,null,null,null,null,null,null,0,0,0,0,0,0,0,"","",{"$f":"INDEX($AL$3:$AL$1500, MATCH(0, IF(ISBLANK($AL$3:$AL$1500), 1, COUNTIF(AM$3:AM1305, $AL$3:$AL$1500)), 0))","v":{"$error":"#N/A"}},""]
[{"$f":"IF(E1309=\"\",\"\",GetAddress(E1309))","v":""},{"$f":"IF(E1309=\"\",\"\",GetAddress(E1309))","v":""},null,null,null,null,null,null,null,null,null,null,null,null,null,null,null,null,null,null,null,null,null,null,null,null,null,null,null,0,0,0,0,0,0,0,"","",{"$f":"INDEX($AL$3:$AL$1500, MATCH(0, IF(ISBLANK($AL$3:$AL$1500), 1, COUNTIF(AM$3:AM1306, $AL$3:$AL$1500)), 0))","v":{"$error":"#N/A"}},""]
[{"$f":"IF(E1310=\"\",\"\",GetAddress(E1310))","v":""},{"$f":"IF(E1310=\"\",\"\",GetAddress(E1310))","v":""},null,null,null,null,null,null,null,null,null,null,null,null,null,null,null,null,null,null,null,null,null,null,null,null,null,null,null,0,0,0,0,0,0,0,"","",{"$f":"INDEX($AL$3:$AL$1500, MATCH(0, IF(ISBLANK($AL$3:$AL$1500), 1, COUNTIF(AM$3:AM1307, $AL$3:$AL$1500)), 0))","v":{"$error":"#N/A"}},""]
[{"$f":"IF(E1311=\"\",\"\",GetAddress(E1311))","v":""},{"$f":"IF(E1311=\"\",\"\",GetAddress(E1311))","v":""},null,null,null,null,null,null,null,null,null,null,null,null,null,null,null,null,null,null,null,null,null,null,null,null,null,null,null,0,0,0,0,0,0,0,"","",{"$f":"INDEX($AL$3:$AL$1500, MATCH(0, IF(ISBLANK($AL$3:$AL$1500), 1, COUNTIF(AM$3:AM1308, $AL$3:$AL$1500)), 0))","v":{"$error":"#N/A"}},""]
[{"$f":"IF(E1312=\"\",\"\",GetAddress(E1312))","v":""},{"$f":"IF(E1312=\"\",\"\",GetAddress(E1312))","v":""},null,null,null,null,null,null,null,null,null,null,null,null,null,null,null,null,null,null,null,null,null,null,null,null,null,null,null,0,0,0,0,0,0,0,"","",{"$f":"INDEX($AL$3:$AL$1500, MATCH(0, IF(ISBLANK($AL$3:$AL$1500), 1, COUNTIF(AM$3:AM1309, $AL$3:$AL$1500)), 0))","v":{"$error":"#N/A"}},""]
[{"$f":"IF(E1313=\"\",\"\",GetAddress(E1313))","v":""},{"$f":"IF(E1313=\"\",\"\",GetAddress(E1313))","v":""},null,null,null,null,null,null,null,null,null,null,null,null,null,null,null,null,null,null,null,null,null,null,null,null,null,null,null,0,0,0,0,0,0,0,"","",{"$f":"INDEX($AL$3:$AL$1500, MATCH(0, IF(ISBLANK($AL$3:$AL$1500), 1, COUNTIF(AM$3:AM1310, $AL$3:$AL$1500)), 0))","v":{"$error":"#N/A"}},""]
[{"$f":"IF(E1314=\"\",\"\",GetAddress(E1314))","v":""},{"$f":"IF(E1314=\"\",\"\",GetAddress(E1314))","v":""},null,null,null,null,null,null,null,null,null,null,null,null,null,null,null,null,null,null,null,null,null,null,null,null,null,null,null,0,0,0,0,0,0,0,"","",{"$f":"INDEX($AL$3:$AL$1500, MATCH(0, IF(ISBLANK($AL$3:$AL$1500), 1, COUNTIF(AM$3:AM1311, $AL$3:$AL$1500)), 0))","v":{"$error":"#N/A"}},""]
[{"$f":"IF(E1315=\"\",\"\",GetAddress(E1315))","v":""},{"$f":"IF(E1315=\"\",\"\",GetAddress(E1315))","v":""},null,null,null,null,null,null,null,null,null,null,null,null,null,null,null,null,null,null,null,null,null,null,null,null,null,null,null,0,0,0,0,0,0,0,"","",{"$f":"INDEX($AL$3:$AL$1500, MATCH(0, IF(ISBLANK($AL$3:$AL$1500), 1, COUNTIF(AM$3:AM1312, $AL$3:$AL$1500)), 0))","v":{"$error":"#N/A"}},""]
[{"$f":"IF(E1316=\"\",\"\",GetAddress(E1316))","v":""},{"$f":"IF(E1316=\"\",\"\",GetAddress(E1316))","v":""},null,null,null,null,null,null,null,null,null,null,null,null,null,null,null,null,null,null,null,null,null,null,null,null,null,null,null,0,0,0,0,0,0,0,"","",{"$f":"INDEX($AL$3:$AL$1500, MATCH(0, IF(ISBLANK($AL$3:$AL$1500), 1, COUNTIF(AM$3:AM1313, $AL$3:$AL$1500)), 0))","v":{"$error":"#N/A"}},""]
[{"$f":"IF(E1317=\"\",\"\",GetAddress(E1317))","v":""},{"$f":"IF(E1317=\"\",\"\",GetAddress(E1317))","v":""},null,null,null,null,null,null,null,null,null,null,null,null,null,null,null,null,null,null,null,null,null,null,null,null,null,null,null,0,0,0,0,0,0,0,"","",{"$f":"INDEX($AL$3:$AL$1500, MATCH(0, IF(ISBLANK($AL$3:$AL$1500), 1, COUNTIF(AM$3:AM1314, $AL$3:$AL$1500)), 0))","v":{"$error":"#N/A"}},""]
[{"$f":"IF(E1318=\"\",\"\",GetAddress(E1318))","v":""},{"$f":"IF(E1318=\"\",\"\",GetAddress(E1318))","v":""},null,null,null,null,null,null,null,null,null,null,null,null,null,null,null,null,null,null,null,null,null,null,null,null,null,null,null,0,0,0,0,0,0,0,"","",{"$f":"INDEX($AL$3:$AL$1500, MATCH(0, IF(ISBLANK($AL$3:$AL$1500), 1, COUNTIF(AM$3:AM1315, $AL$3:$AL$1500)), 0))","v":{"$error":"#N/A"}},""]
[{"$f":"IF(E1319=\"\",\"\",GetAddress(E1319))","v":""},{"$f":"IF(E1319=\"\",\"\",GetAddress(E1319))","v":""},null,null,null,null,null,null,null,null,null,null,null,null,null,null,null,null,null,null,null,null,null,null,null,null,null,null,null,0,0,0,0,0,0,0,"","",{"$f":"INDEX($AL$3:$AL$1500, MATCH(0, IF(ISBLANK($AL$3:$AL$1500), 1, COUNTIF(AM$3:AM1316, $AL$3:$AL$1500)), 0))","v":{"$error":"#N/A"}},""]
[{"$f":"IF(E1320=\"\",\"\",GetAddress(E1320))","v":""},{"$f":"IF(E1320=\"\",\"\",GetAddress(E1320))","v":""},null,null,null,null,null,null,null,null,null,null,null,null,null,null,null,null,null,null,null,null,null,null,null,null,null,null,null,0,0,0,0,0,0,0,"","",{"$f":"INDEX($AL$3:$AL$1500, MATCH(0, IF(ISBLANK($AL$3:$AL$1500), 1, COUNTIF(AM$3:AM1317, $AL$3:$AL$1500)), 0))","v":{"$error":"#N/A"}},""]
[{"$f":"IF(E1321=\"\",\"\",GetAddress(E1321))","v":""},{"$f":"IF(E1321=\"\",\"\",GetAddress(E1321))","v":""},null,null,null,null,null,null,null,null,null,null,null,null,null,null,null,null,null,null,null,null,null,null,null,null,null,null,null,0,0,0,0,0,0,0,"","",{"$f":"INDEX($AL$3:$AL$1500, MATCH(0, IF(ISBLANK($AL$3:$AL$1500), 1, COUNTIF(AM$3:AM1318, $AL$3:$AL$1500)), 0))","v":{"$error":"#N/A"}},""]
[{"$f":"IF(E1322=\"\",\"\",GetAddress(E1322))","v":""},{"$f":"IF(E1322=\"\",\"\",GetAddress(E1322))","v":""},null,null,null,null,null,null,null,null,null,null,null,null,null,null,null,null,null,null,null,null,null,null,null,null,null,null,null,0,0,0,0,0,0,0,"","",{"$f":"INDEX($AL$3:$AL$1500, MATCH(0, IF(ISBLANK($AL$3:$AL$1500), 1, COUNTIF(AM$3:AM1319, $AL$3:$AL$1500)), 0))","v":{"$error":"#N/A"}},""]
[{"$f":"IF(E1323=\"\",\"\",GetAddress(E1323))","v":""},{"$f":"IF(E1323=\"\",\"\",GetAddress(E1323))","v":""},null,null,null,null,null,null,null,null,null,null,null,null,null,null,null,null,null,null,null,null,null,null,null,null,null,null,null,0,0,0,0,0,0,0,"","",{"$f":"INDEX($AL$3:$AL$1500, MATCH(0, IF(ISBLANK($AL$3:$AL$1500), 1, COUNTIF(AM$3:AM1320, $AL$3:$AL$1500)), 0))","v":{"$error":"#N/A"}},""]
[{"$f":"IF(E1324=\"\",\"\",GetAddress(E1324))","v":""},{"$f":"IF(E1324=\"\",\"\",GetAddress(E1324))","v":""},null,null,null,null,null,null,null,null,null,null,null,null,null,null,null,null,null,null,null,null,null,null,null,null,null,null,null,0,0,0,0,0,0,0,"","",{"$f":"INDEX($AL$3:$AL$1500, MATCH(0, IF(ISBLANK($AL$3:$AL$1500), 1, COUNTIF(AM$3:AM1321, $AL$3:$AL$1500)), 0))","v":{"$error":"#N/A"}},""]
[{"$f":"IF(E1325=\"\",\"\",GetAddress(E1325))","v":""},{"$f":"IF(E1325=\"\",\"\",GetAddress(E1325))","v":""},null,null,null,null,null,null,null,null,null,null,null,null,null,null,null,null,null,null,null,null,null,null,null,null,null,null,null,0,0,0,0,0,0,0,"","",{"$f":"INDEX($AL$3:$AL$1500, MATCH(0, IF(ISBLANK($AL$3:$AL$1500), 1, COUNTIF(AM$3:AM1322, $AL$3:$AL$1500)), 0))","v":{"$error":"#N/A"}},""]
[{"$f":"IF(E1326=\"\",\"\",GetAddress(E1326))","v":""},{"$f":"IF(E1326=\"\",\"\",GetAddress(E1326))","v":""},null,null,null,null,null,null,null,null,null,null,null,null,null,null,null,null,null,null,null,null,null,null,null,null,null,null,null,0,0,0,0,0,0,0,"","",{"$f":"INDEX($AL$3:$AL$1500, MATCH(0, IF(ISBLANK($AL$3:$AL$1500), 1, COUNTIF(AM$3:AM1323, $AL$3:$AL$1500)), 0))","v":{"$error":"#N/A"}},""]
[{"$f":"IF(E1327=\"\",\"\",GetAddress(E1327))","v":""},{"$f":"IF(E1327=\"\",\"\",GetAddress(E1327))","v":""},null,null,null,null,null,null,null,null,null,null,null,null,null,null,null,null,null,null,null,null,null,null,null,null,null,null,null,0,0,0,0,0,0,0,"","",{"$f":"INDEX($AL$3:$AL$1500, MATCH(0, IF(ISBLANK($AL$3:$AL$1500), 1, COUNTIF(AM$3:AM1324, $AL$3:$AL$1500)), 0))","v":{"$error":"#N/A"}},""]
[{"$f":"IF(E1328=\"\",\"\",GetAddress(E1328))","v":""},{"$f":"IF(E1328=\"\",\"\",GetAddress(E1328))","v":""},null,null,null,null,null,null,null,null,null,null,null,null,null,null,null,null,null,null,null,null,null,null,null,null,null,null,null,0,0,0,0,0,0,0,"","",{"$f":"INDEX($AL$3:$AL$1500, MATCH(0, IF(ISBLANK($AL$3:$AL$1500), 1, COUNTIF(AM$3:AM1325, $AL$3:$AL$1500)), 0))","v":{"$error":"#N/A"}},""]
[{"$f":"IF(E1329=\"\",\"\",GetAddress(E1329))","v":""},{"$f":"IF(E1329=\"\",\"\",GetAddress(E1329))","v":""},null,null,null,null,null,null,null,null,null,null,null,null,null,null,null,null,null,null,null,null,null,null,null,null,null,null,null,0,0,0,0,0,0,0,"","",{"$f":"INDEX($AL$3:$AL$1500, MATCH(0, IF(ISBLANK($AL$3:$AL$1500), 1, COUNTIF(AM$3:AM1326, $AL$3:$AL$1500)), 0))","v":{"$error":"#N/A"}},""]
[{"$f":"IF(E1330=\"\",\"\",GetAddress(E1330))","v":""},{"$f":"IF(E1330=\"\",\"\",GetAddress(E1330))","v":""},null,null,null,null,null,null,null,null,null,null,null,null,null,null,null,null,null,null,null,null,null,null,null,null,null,null,null,0,0,0,0,0,0,0,"","",{"$f":"INDEX($AL$3:$AL$1500, MATCH(0, IF(ISBLANK($AL$3:$AL$1500), 1, COUNTIF(AM$3:AM1327, $AL$3:$AL$1500)), 0))","v":{"$error":"#N/A"}},""]
[{"$f":"IF(E1331=\"\",\"\",GetAddress(E1331))","v":""},{"$f":"IF(E1331=\"\",\"\",GetAddress(E1331))","v":""},null,null,null,null,null,null,null,null,null,null,null,null,null,null,null,null,null,null,null,null,null,null,null,null,null,null,null,0,0,0,0,0,0,0,"","",{"$f":"INDEX($AL$3:$AL$1500, MATCH(0, IF(ISBLANK($AL$3:$AL$1500), 1, COUNTIF(AM$3:AM1328, $AL$3:$AL$1500)), 0))","v":{"$error":"#N/A"}},""]
[{"$f":"IF(E1332=\"\",\"\",GetAddress(E1332))","v":""},{"$f":"IF(E1332=\"\",\"\",GetAddress(E1332))","v":""},null,null,null,null,null,null,null,null,null,null,null,null,null,null,null,null,null,null,null,null,null,null,null,null,null,null,null,0,0,0,0,0,0,0,"","",{"$f":"INDEX($AL$3:$AL$1500, MATCH(0, IF(ISBLANK($AL$3:$AL$1500), 1, COUNTIF(AM$3:AM1329, $AL$3:$AL$1500)), 0))","v":{"$error":"#N/A"}},""]
[{"$f":"IF(E1333=\"\",\"\",GetAddress(E1333))","v":""},{"$f":"IF(E1333=\"\",\"\",GetAddress(E1333))","v":""},null,null,null,null,null,null,null,null,null,null,null,null,null,null,null,null,null,null,null,null,null,null,null,null,null,null,null,0,0,0,0,0,0,0,"","",{"$f":"INDEX($AL$3:$AL$1500, MATCH(0, IF(ISBLANK($AL$3:$AL$1500), 1, COUNTIF(AM$3:AM1330, $AL$3:$AL$1500)), 0))","v":{"$error":"#N/A"}},""]
[{"$f":"IF(E1334=\"\",\"\",GetAddress(E1334))","v":""},{"$f":"IF(E1334=\"\",\"\",GetAddress(E1334))","v":""},null,null,null,null,null,null,null,null,null,null,null,null,null,null,null,null,null,null,null,null,null,null,null,null,null,null,null,0,0,0,0,0,0,0,"","",{"$f":"INDEX($AL$3:$AL$1500, MATCH(0, IF(ISBLANK($AL$3:$AL$1500), 1, COUNTIF(AM$3:AM1331, $AL$3:$AL$1500)), 0))","v":{"$error":"#N/A"}},""]
[{"$f":"IF(E1335=\"\",\"\",GetAddress(E1335))","v":""},{"$f":"IF(E1335=\"\",\"\",GetAddress(E1335))","v":""},null,null,null,null,null,null,null,null,null,null,null,null,null,null,null,null,null,null,null,null,null,null,null,null,null,null,null,0,0,0,0,0,0,0,"","",{"$f":"INDEX($AL$3:$AL$1500, MATCH(0, IF(ISBLANK($AL$3:$AL$1500), 1, COUNTIF(AM$3:AM1332, $AL$3:$AL$1500)), 0))","v":{"$error":"#N/A"}},""]
[{"$f":"IF(E1336=\"\",\"\",GetAddress(E1336))","v":""},{"$f":"IF(E1336=\"\",\"\",GetAddress(E1336))","v":""},null,null,null,null,null,null,null,null,null,null,null,null,null,null,null,null,null,null,null,null,null,null,null,null,null,null,null,0,0,0,0,0,0,0,"","",{"$f":"INDEX($AL$3:$AL$1500, MATCH(0, IF(ISBLANK($AL$3:$AL$1500), 1, COUNTIF(AM$3:AM1333, $AL$3:$AL$1500)), 0))","v":{"$error":"#N/A"}},""]
[{"$f":"IF(E1337=\"\",\"\",GetAddress(E1337))","v":""},{"$f":"IF(E1337=\"\",\"\",GetAddress(E1337))","v":""},null,null,null,null,null,null,null,null,null,null,null,null,null,null,null,null,null,null,null,null,null,null,null,null,null,null,null,0,0,0,0,0,0,0,"","",{"$f":"INDEX($AL$3:$AL$1500, MATCH(0, IF(ISBLANK($AL$3:$AL$1500), 1, COUNTIF(AM$3:AM1334, $AL$3:$AL$1500)), 0))","v":{"$error":"#N/A"}},""]
[{"$f":"IF(E1338=\"\",\"\",GetAddress(E1338))","v":""},{"$f":"IF(E1338=\"\",\"\",GetAddress(E1338))","v":""},null,null,null,null,null,null,null,null,null,null,null,null,null,null,null,null,null,null,null,null,null,null,null,null,null,null,null,0,0,0,0,0,0,0,"","",{"$f":"INDEX($AL$3:$AL$1500, MATCH(0, IF(ISBLANK($AL$3:$AL$1500), 1, COUNTIF(AM$3:AM1335, $AL$3:$AL$1500)), 0))","v":{"$error":"#N/A"}},""]
[{"$f":"IF(E1339=\"\",\"\",GetAddress(E1339))","v":""},{"$f":"IF(E1339=\"\",\"\",GetAddress(E1339))","v":""},null,null,null,null,null,null,null,null,null,null,null,null,null,null,null,null,null,null,null,null,null,null,null,null,null,null,null,0,0,0,0,0,0,0,"","",{"$f":"INDEX($AL$3:$AL$1500, MATCH(0, IF(ISBLANK($AL$3:$AL$1500), 1, COUNTIF(AM$3:AM1336, $AL$3:$AL$1500)), 0))","v":{"$error":"#N/A"}},""]
[{"$f":"IF(E1340=\"\",\"\",GetAddress(E1340))","v":""},{"$f":"IF(E1340=\"\",\"\",GetAddress(E1340))","v":""},null,null,null,null,null,null,null,null,null,null,null,null,null,null,null,null,null,null,null,null,null,null,null,null,null,null,null,0,0,0,0,0,0,0,"","",{"$f":"INDEX($AL$3:$AL$1500, MATCH(0, IF(ISBLANK($AL$3:$AL$1500), 1, COUNTIF(AM$3:AM1337, $AL$3:$AL$1500)), 0))","v":{"$error":"#N/A"}},""]
[{"$f":"IF(E1341=\"\",\"\",GetAddress(E1341))","v":""},{"$f":"IF(E1341=\"\",\"\",GetAddress(E1341))","v":""},null,null,null,null,null,null,null,null,null,null,null,null,null,null,null,null,null,null,null,null,null,null,null,null,null,null,null,0,0,0,0,0,0,0,"","",{"$f":"INDEX($AL$3:$AL$1500, MATCH(0, IF(ISBLANK($AL$3:$AL$1500), 1, COUNTIF(AM$3:AM1338, $AL$3:$AL$1500)), 0))","v":{"$error":"#N/A"}},""]
[{"$f":"IF(E1342=\"\",\"\",GetAddress(E1342))","v":""},{"$f":"IF(E1342=\"\",\"\",GetAddress(E1342))","v":""},null,null,null,null,null,null,null,null,null,null,null,null,null,null,null,null,null,null,null,null,null,null,null,null,null,null,null,0,0,0,0,0,0,0,"","",{"$f":"INDEX($AL$3:$AL$1500, MATCH(0, IF(ISBLANK($AL$3:$AL$1500), 1, COUNTIF(AM$3:AM1339, $AL$3:$AL$1500)), 0))","v":{"$error":"#N/A"}},""]
[{"$f":"IF(E1343=\"\",\"\",GetAddress(E1343))","v":""},{"$f":"IF(E1343=\"\",\"\",GetAddress(E1343))","v":""},null,null,null,null,null,null,null,null,null,null,null,null,null,null,null,null,null,null,null,null,null,null,null,null,null,null,null,0,0,0,0,0,0,0,"","",{"$f":"INDEX($AL$3:$AL$1500, MATCH(0, IF(ISBLANK($AL$3:$AL$1500), 1, COUNTIF(AM$3:AM1340, $AL$3:$AL$1500)), 0))","v":{"$error":"#N/A"}},""]
[{"$f":"IF(E1344=\"\",\"\",GetAddress(E1344))","v":""},{"$f":"IF(E1344=\"\",\"\",GetAddress(E1344))","v":""},null,null,null,null,null,null,null,null,null,null,null,null,null,null,null,null,null,null,null,null,null,null,null,null,null,null,null,0,0,0,0,0,0,0,"","",{"$f":"INDEX($AL$3:$AL$1500, MATCH(0, IF(ISBLANK($AL$3:$AL$1500), 1, COUNTIF(AM$3:AM1341, $AL$3:$AL$1500)), 0))","v":{"$error":"#N/A"}},""]
[{"$f":"IF(E1345=\"\",\"\",GetAddress(E1345))","v":""},{"$f":"IF(E1345=\"\",\"\",GetAddress(E1345))","v":""},null,null,null,null,null,null,null,null,null,null,null,null,null,null,null,null,null,null,null,null,null,null,null,null,null,null,null,0,0,0,0,0,0,0,"","",{"$f":"INDEX($AL$3:$AL$1500, MATCH(0, IF(ISBLANK($AL$3:$AL$1500), 1, COUNTIF(AM$3:AM1342, $AL$3:$AL$1500)), 0))","v":{"$error":"#N/A"}},""]
[{"$f":"IF(E1346=\"\",\"\",GetAddress(E1346))","v":""},{"$f":"IF(E1346=\"\",\"\",GetAddress(E1346))","v":""},null,null,null,null,null,null,null,null,null,null,null,null,null,null,null,null,null,null,null,null,null,null,null,null,null,null,null,0,0,0,0,0,0,0,"","",{"$f":"INDEX($AL$3:$AL$1500, MATCH(0, IF(ISBLANK($AL$3:$AL$1500), 1, COUNTIF(AM$3:AM1343, $AL$3:$AL$1500)), 0))","v":{"$error":"#N/A"}},""]
[{"$f":"IF(E1347=\"\",\"\",GetAddress(E1347))","v":""},{"$f":"IF(E1347=\"\",\"\",GetAddress(E1347))","v":""},null,null,null,null,null,null,null,null,null,null,null,null,null,null,null,null,null,null,null,null,null,null,null,null,null,null,null,0,0,0,0,0,0,0,"","",{"$f":"INDEX($AL$3:$AL$1500, MATCH(0, IF(ISBLANK($AL$3:$AL$1500), 1, COUNTIF(AM$3:AM1344, $AL$3:$AL$1500)), 0))","v":{"$error":"#N/A"}},""]
[{"$f":"IF(E1348=\"\",\"\",GetAddress(E1348))","v":""},{"$f":"IF(E1348=\"\",\"\",GetAddress(E1348))","v":""},null,null,null,null,null,null,null,null,null,null,null,null,null,null,null,null,null,null,null,null,null,null,null,null,null,null,null,0,0,0,0,0,0,0,"","",{"$f":"INDEX($AL$3:$AL$1500, MATCH(0, IF(ISBLANK($AL$3:$AL$1500), 1, COUNTIF(AM$3:AM1345, $AL$3:$AL$1500)), 0))","v":{"$error":"#N/A"}},""]
[{"$f":"IF(E1349=\"\",\"\",GetAddress(E1349))","v":""},{"$f":"IF(E1349=\"\",\"\",GetAddress(E1349))","v":""},null,null,null,null,null,null,null,null,null,null,null,null,null,null,null,null,null,null,null,null,null,null,null,null,null,null,null,0,0,0,0,0,0,{"$f":"IF(AI1347=\"Free A\",\"\",AI1347)","v":0},{"$f":"IF(AJ1347=0,\"\",AJ1347)","v":""},{"$f":"IF(AK1347=\"Free Agent\",\"\",AK1347)","v":""},{"$f":"INDEX($AL$3:$AL$1500, MATCH(0, IF(ISBLANK($AL$3:$AL$1500), 1, COUNTIF(AM$3:AM1346, $AL$3:$AL$1500)), 0))","v":{"$error":"#N/A"}},{"$f":"IF(ISERROR(AM1347),\"\",AM1347)","v":""}]
[{"$f":"IF(E1350=\"\",\"\",GetAddress(E1350))","v":""},{"$f":"IF(E1350=\"\",\"\",GetAddress(E1350))","v":""},null,null,null,null,null,null,null,null,null,null,null,null,null,null,null,null,null,null,null,null,null,null,null,null,null,null,null,0,0,0,0,0,0,0,"","",{"$f":"INDEX($AL$3:$AL$1500, MATCH(0, IF(ISBLANK($AL$3:$AL$1500), 1, COUNTIF(AM$3:AM1347, $AL$3:$AL$1500)), 0))","v":{"$error":"#N/A"}},""]
[{"$f":"IF(E1351=\"\",\"\",GetAddress(E1351))","v":""},{"$f":"IF(E1351=\"\",\"\",GetAddress(E1351))","v":""},null,null,null,null,null,null,null,null,null,null,null,null,null,null,null,null,null,null,null,null,null,null,null,null,null,null,null,{"$f":"VALUE(IF(ISNUMBER(SEARCH(\"(P)\",Y1349)),\"1\", \"0\"))","v":0},{"$f":"VALUE(IF(ISNUMBER(SEARCH(\"(Q)\",Y1349)),\"1\", \"0\"))","v":0},{"$f":"VALUE(IF(ISNUMBER(SEARCH(\"(O)\",Y1349)),\"1\", \"0\"))","v":0},{"$f":"VALUE(IF(ISNUMBER(SEARCH(\"(S)\",Y1349)),\"1\", \"0\"))","v":0},{"$f":"VALUE(IF(ISNUMBER(SEARCH(\"Free Agent\",Y1349)),\"1\", \"0\"))","v":0},{"$f":"IF(SUM(AD1349:AH1349)=0,Y1349,LEFT(Y1349,LEN(Y1349)-4))","v":0},0,"","",{"$f":"INDEX($AL$3:$AL$1500, MATCH(0, IF(ISBLANK($AL$3:$AL$1500), 1, COUNTIF(AM$3:AM1348, $AL$3:$AL$1500)), 0))","v":{"$error":"#N/A"}},""]
[{"$f":"IF(E1352=\"\",\"\",GetAddress(E1352))","v":""},{"$f":"IF(E1352=\"\",\"\",GetAddress(E1352))","v":""},null,null,null,null,null,null,null,null,null,null,null,null,null,null,null,null,null,null,null,null,null,null,null,null,null,null,null,0,0,0,0,0,0,0,"","",{"$f":"INDEX($AL$3:$AL$1500, MATCH(0, IF(ISBLANK($AL$3:$AL$1500), 1, COUNTIF(AM$3:AM1349, $AL$3:$AL$1500)), 0))","v":{"$error":"#N/A"}},""]
[{"$f":"IF(E1353=\"\",\"\",GetAddress(E1353))","v":""},{"$f":"IF(E1353=\"\",\"\",GetAddress(E1353))","v":""},null,null,null,null,null,null,null,null,null,null,null,null,null,null,null,null,null,null,null,null,null,null,null,null,null,null,null,0,0,0,0,0,0,0,"","",{"$f":"INDEX($AL$3:$AL$1500, MATCH(0, IF(ISBLANK($AL$3:$AL$1500), 1, COUNTIF(AM$3:AM1350, $AL$3:$AL$1500)), 0))","v":{"$error":"#N/A"}},""]
[{"$f":"IF(E1354=\"\",\"\",GetAddress(E1354))","v":""},{"$f":"IF(E1354=\"\",\"\",GetAddress(E1354))","v":""},null,null,null,null,null,null,null,null,null,null,null,null,null,null,null,null,null,null,null,null,null,null,null,null,null,null,null,0,0,0,0,0,0,0,"","",{"$f":"INDEX($AL$3:$AL$1500, MATCH(0, IF(ISBLANK($AL$3:$AL$1500), 1, COUNTIF(AM$3:AM1351, $AL$3:$AL$1500)), 0))","v":{"$error":"#N/A"}},""]
[{"$f":"IF(E1355=\"\",\"\",GetAddress(E1355))","v":""},{"$f":"IF(E1355=\"\",\"\",GetAddress(E1355))","v":""},null,null,null,null,null,null,null,null,null,null,null,null,null,null,null,null,null,null,null,null,null,null,null,null,null,null,null,0,0,0,0,0,0,0,"","",{"$f":"INDEX($AL$3:$AL$1500, MATCH(0, IF(ISBLANK($AL$3:$AL$1500), 1, COUNTIF(AM$3:AM1352, $AL$3:$AL$1500)), 0))","v":{"$error":"#N/A"}},""]
[{"$f":"IF(E1356=\"\",\"\",GetAddress(E1356))","v":""},{"$f":"IF(E1356=\"\",\"\",GetAddress(E1356))","v":""},null,null,null,null,null,null,null,null,null,null,null,null,null,null,null,null,null,null,null,null,null,null,null,null,null,null,null,0,0,0,0,0,0,0,"","",{"$f":"INDEX($AL$3:$AL$1500, MATCH(0, IF(ISBLANK($AL$3:$AL$1500), 1, COUNTIF(AM$3:AM1353, $AL$3:$AL$1500)), 0))","v":{"$error":"#N/A"}},""]
[{"$f":"IF(E1357=\"\",\"\",GetAddress(E1357))","v":""},{"$f":"IF(E1357=\"\",\"\",GetAddress(E1357))","v":""},null,null,null,null,null,null,null,null,null,null,null,null,null,null,null,null,null,null,null,null,null,null,null,null,null,null,null,0,0,0,0,0,0,0,"","",{"$f":"INDEX($AL$3:$AL$1500, MATCH(0, IF(ISBLANK($AL$3:$AL$1500), 1, COUNTIF(AM$3:AM1354, $AL$3:$AL$1500)), 0))","v":{"$error":"#N/A"}},""]
[{"$f":"IF(E1358=\"\",\"\",GetAddress(E1358))","v":""},{"$f":"IF(E1358=\"\",\"\",GetAddress(E1358))","v":""},null,null,null,null,null,null,null,null,null,null,null,null,null,null,null,null,null,null,null,null,null,null,null,null,null,null,null,0,0,0,0,0,0,0,"","",{"$f":"INDEX($AL$3:$AL$1500, MATCH(0, IF(ISBLANK($AL$3:$AL$1500), 1, COUNTIF(AM$3:AM1355, $AL$3:$AL$1500)), 0))","v":{"$error":"#N/A"}},""]
[{"$f":"IF(E1359=\"\",\"\",GetAddress(E1359))","v":""},{"$f":"IF(E1359=\"\",\"\",GetAddress(E1359))","v":""},null,null,null,null,null,null,null,null,null,null,null,null,null,null,null,null,null,null,null,null,null,null,null,null,null,null,null,0,0,0,0,0,0,0,"","",{"$f":"INDEX($AL$3:$AL$1500, MATCH(0, IF(ISBLANK($AL$3:$AL$1500), 1, COUNTIF(AM$3:AM1356, $AL$3:$AL$1500)), 0))","v":{"$error":"#N/A"}},""]
[{"$f":"IF(E1360=\"\",\"\",GetAddress(E1360))","v":""},{"$f":"IF(E1360=\"\",\"\",GetAddress(E1360))","v":""},null,null,null,null,null,null,null,null,null,null,null,null,null,null,null,null,null,null,null,null,null,null,null,null,null,null,null,0,0,0,0,0,0,0,"","",{"$f":"INDEX($AL$3:$AL$1500, MATCH(0, IF(ISBLANK($AL$3:$AL$1500), 1, COUNTIF(AM$3:AM1357, $AL$3:$AL$1500)), 0))","v":{"$error":"#N/A"}},""]
[{"$f":"IF(E1361=\"\",\"\",GetAddress(E1361))","v":""},{"$f":"IF(E1361=\"\",\"\",GetAddress(E1361))","v":""},null,null,null,null,null,null,null,null,null,null,null,null,null,null,null,null,null,null,null,null,null,null,null,null,null,null,null,0,0,0,0,0,0,0,"","",{"$f":"INDEX($AL$3:$AL$1500, MATCH(0, IF(ISBLANK($AL$3:$AL$1500), 1, COUNTIF(AM$3:AM1358, $AL$3:$AL$1500)), 0))","v":{"$error":"#N/A"}},""]
[{"$f":"IF(E1362=\"\",\"\",GetAddress(E1362))","v":""},{"$f":"IF(E1362=\"\",\"\",GetAddress(E1362))","v":""},null,null,null,null,null,null,null,null,null,null,null,null,null,null,null,null,null,null,null,null,null,null,null,null,null,null,null,0,0,0,0,0,0,0,"","",{"$f":"INDEX($AL$3:$AL$1500, MATCH(0, IF(ISBLANK($AL$3:$AL$1500), 1, COUNTIF(AM$3:AM1359, $AL$3:$AL$1500)), 0))","v":{"$error":"#N/A"}},""]
[{"$f":"IF(E1363=\"\",\"\",GetAddress(E1363))","v":""},{"$f":"IF(E1363=\"\",\"\",GetAddress(E1363))","v":""},null,null,null,null,null,null,null,null,null,null,null,null,null,null,null,null,null,null,null,null,null,null,null,null,null,null,null,0,0,0,0,0,0,0,"","",{"$f":"INDEX($AL$3:$AL$1500, MATCH(0, IF(ISBLANK($AL$3:$AL$1500), 1, COUNTIF(AM$3:AM1360, $AL$3:$AL$1500)), 0))","v":{"$error":"#N/A"}},""]
[{"$f":"IF(E1364=\"\",\"\",GetAddress(E1364))","v":""},{"$f":"IF(E1364=\"\",\"\",GetAddress(E1364))","v":""},null,null,null,null,null,null,null,null,null,null,null,null,null,null,null,null,null,null,null,null,null,null,null,null,null,null,null,0,0,0,0,0,0,0,"","",{"$f":"INDEX($AL$3:$AL$1500, MATCH(0, IF(ISBLANK($AL$3:$AL$1500), 1, COUNTIF(AM$3:AM1361, $AL$3:$AL$1500)), 0))","v":{"$error":"#N/A"}},""]
[{"$f":"IF(E1365=\"\",\"\",GetAddress(E1365))","v":""},{"$f":"IF(E1365=\"\",\"\",GetAddress(E1365))","v":""},null,null,null,null,null,null,null,null,null,null,null,null,null,null,null,null,null,null,null,null,null,null,null,null,null,null,null,0,0,0,0,0,0,0,"","",{"$f":"INDEX($AL$3:$AL$1500, MATCH(0, IF(ISBLANK($AL$3:$AL$1500), 1, COUNTIF(AM$3:AM1362, $AL$3:$AL$1500)), 0))","v":{"$error":"#N/A"}},""]
[{"$f":"IF(E1366=\"\",\"\",GetAddress(E1366))","v":""},{"$f":"IF(E1366=\"\",\"\",GetAddress(E1366))","v":""},null,null,null,null,null,null,null,null,null,null,null,null,null,null,null,null,null,null,null,null,null,null,null,null,null,null,null,0,0,0,0,0,0,0,"","",{"$f":"INDEX($AL$3:$AL$1500, MATCH(0, IF(ISBLANK($AL$3:$AL$1500), 1, COUNTIF(AM$3:AM1363, $AL$3:$AL$1500)), 0))","v":{"$error":"#N/A"}},""]
[{"$f":"IF(E1367=\"\",\"\",GetAddress(E1367))","v":""},{"$f":"IF(E1367=\"\",\"\",GetAddress(E1367))","v":""},null,null,null,null,null,null,null,null,null,null,null,null,null,null,null,null,null,null,null,null,null,null,null,null,null,null,null,0,0,0,0,0,0,0,"","",{"$f":"INDEX($AL$3:$AL$1500, MATCH(0, IF(ISBLANK($AL$3:$AL$1500), 1, COUNTIF(AM$3:AM1364, $AL$3:$AL$1500)), 0))","v":{"$error":"#N/A"}},""]
[{"$f":"IF(E1368=\"\",\"\",GetAddress(E1368))","v":""},{"$f":"IF(E1368=\"\",\"\",GetAddress(E1368))","v":""},null,null,null,null,null,null,null,null,null,null,null,null,null,null,null,null,null,null,null,null,null,null,null,null,null,null,null,0,0,0,0,0,0,0,"","",{"$f":"INDEX($AL$3:$AL$1500, MATCH(0, IF(ISBLANK($AL$3:$AL$1500), 1, COUNTIF(AM$3:AM1365, $AL$3:$AL$1500)), 0))","v":{"$error":"#N/A"}},""]
[{"$f":"IF(E1369=\"\",\"\",GetAddress(E1369))","v":""},{"$f":"IF(E1369=\"\",\"\",GetAddress(E1369))","v":""},null,null,null,null,null,null,null,null,null,null,null,null,null,null,null,null,null,null,null,null,null,null,null,null,null,null,null,0,0,0,0,0,0,0,"","",{"$f":"INDEX($AL$3:$AL$1500, MATCH(0, IF(ISBLANK($AL$3:$AL$1500), 1, COUNTIF(AM$3:AM1366, $AL$3:$AL$1500)), 0))","v":{"$error":"#N/A"}},""]
[{"$f":"IF(E1370=\"\",\"\",GetAddress(E1370))","v":""},{"$f":"IF(E1370=\"\",\"\",GetAddress(E1370))","v":""},null,null,null,null,null,null,null,null,null,null,null,null,null,null,null,null,null,null,null,null,null,null,null,null,null,null,null,0,0,0,0,0,0,0,"","",{"$f":"INDEX($AL$3:$AL$1500, MATCH(0, IF(ISBLANK($AL$3:$AL$1500), 1, COUNTIF(AM$3:AM1367, $AL$3:$AL$1500)), 0))","v":{"$error":"#N/A"}},""]
[{"$f":"IF(E1371=\"\",\"\",GetAddress(E1371))","v":""},{"$f":"IF(E1371=\"\",\"\",GetAddress(E1371))","v":""},null,null,null,null,null,null,null,null,null,null,null,null,null,null,null,null,null,null,null,null,null,null,null,null,null,null,null,0,0,0,0,0,0,0,"","",{"$f":"INDEX($AL$3:$AL$1500, MATCH(0, IF(ISBLANK($AL$3:$AL$1500), 1, COUNTIF(AM$3:AM1368, $AL$3:$AL$1500)), 0))","v":{"$error":"#N/A"}},""]
[{"$f":"IF(E1372=\"\",\"\",GetAddress(E1372))","v":""},{"$f":"IF(E1372=\"\",\"\",GetAddress(E1372))","v":""},null,null,null,null,null,null,null,null,null,null,null,null,null,null,null,null,null,null,null,null,null,null,null,null,null,null,null,0,0,0,0,0,0,0,"","",{"$f":"INDEX($AL$3:$AL$1500, MATCH(0, IF(ISBLANK($AL$3:$AL$1500), 1, COUNTIF(AM$3:AM1369, $AL$3:$AL$1500)), 0))","v":{"$error":"#N/A"}},""]
[{"$f":"IF(E1373=\"\",\"\",GetAddress(E1373))","v":""},{"$f":"IF(E1373=\"\",\"\",GetAddress(E1373))","v":""},null,null,null,null,null,null,null,null,null,null,null,null,null,null,null,null,null,null,null,null,null,null,null,null,null,null,null,0,0,0,0,0,0,0,"","",{"$f":"INDEX($AL$3:$AL$1500, MATCH(0, IF(ISBLANK($AL$3:$AL$1500), 1, COUNTIF(AM$3:AM1370, $AL$3:$AL$1500)), 0))","v":{"$error":"#N/A"}},""]
[{"$f":"IF(E1374=\"\",\"\",GetAddress(E1374))","v":""},{"$f":"IF(E1374=\"\",\"\",GetAddress(E1374))","v":""},null,null,null,null,null,null,null,null,null,null,null,null,null,null,null,null,null,null,null,null,null,null,null,null,null,null,null,0,0,0,0,0,0,0,"","",{"$f":"INDEX($AL$3:$AL$1500, MATCH(0, IF(ISBLANK($AL$3:$AL$1500), 1, COUNTIF(AM$3:AM1371, $AL$3:$AL$1500)), 0))","v":{"$error":"#N/A"}},""]
[{"$f":"IF(E1375=\"\",\"\",GetAddress(E1375))","v":""},{"$f":"IF(E1375=\"\",\"\",GetAddress(E1375))","v":""},null,null,null,null,null,null,null,null,null,null,null,null,null,null,null,null,null,null,null,null,null,null,null,null,null,null,null,0,0,0,0,0,0,0,"","",{"$f":"INDEX($AL$3:$AL$1500, MATCH(0, IF(ISBLANK($AL$3:$AL$1500), 1, COUNTIF(AM$3:AM1372, $AL$3:$AL$1500)), 0))","v":{"$error":"#N/A"}},""]
[{"$f":"IF(E1376=\"\",\"\",GetAddress(E1376))","v":""},{"$f":"IF(E1376=\"\",\"\",GetAddress(E1376))","v":""},null,null,null,null,null,null,null,null,null,null,null,null,null,null,null,null,null,null,null,null,null,null,null,null,null,null,null,0,0,0,0,0,0,0,"","",{"$f":"INDEX($AL$3:$AL$1500, MATCH(0, IF(ISBLANK($AL$3:$AL$1500), 1, COUNTIF(AM$3:AM1373, $AL$3:$AL$1500)), 0))","v":{"$error":"#N/A"}},""]
[{"$f":"IF(E1377=\"\",\"\",GetAddress(E1377))","v":""},{"$f":"IF(E1377=\"\",\"\",GetAddress(E1377))","v":""},null,null,null,null,null,null,null,null,null,null,null,null,null,null,null,null,null,null,null,null,null,null,null,null,null,null,null,0,0,0,0,0,0,0,"","",{"$f":"INDEX($AL$3:$AL$1500, MATCH(0, IF(ISBLANK($AL$3:$AL$1500), 1, COUNTIF(AM$3:AM1374, $AL$3:$AL$1500)), 0))","v":{"$error":"#N/A"}},""]
[{"$f":"IF(E1378=\"\",\"\",GetAddress(E1378))","v":""},{"$f":"IF(E1378=\"\",\"\",GetAddress(E1378))","v":""},null,null,null,null,null,null,null,null,null,null,null,null,null,null,null,null,null,null,null,null,null,null,null,null,null,null,null,0,0,0,0,0,0,0,"","",{"$f":"INDEX($AL$3:$AL$1500, MATCH(0, IF(ISBLANK($AL$3:$AL$1500), 1, COUNTIF(AM$3:AM1375, $AL$3:$AL$1500)), 0))","v":{"$error":"#N/A"}},""]
[{"$f":"IF(E1379=\"\",\"\",GetAddress(E1379))","v":""},{"$f":"IF(E1379=\"\",\"\",GetAddress(E1379))","v":""},null,null,null,null,null,null,null,null,null,null,null,null,null,null,null,null,null,null,null,null,null,null,null,null,null,null,null,0,0,0,0,0,0,0,"","",{"$f":"INDEX($AL$3:$AL$1500, MATCH(0, IF(ISBLANK($AL$3:$AL$1500), 1, COUNTIF(AM$3:AM1376, $AL$3:$AL$1500)), 0))","v":{"$error":"#N/A"}},""]
[{"$f":"IF(E1380=\"\",\"\",GetAddress(E1380))","v":""},{"$f":"IF(E1380=\"\",\"\",GetAddress(E1380))","v":""},null,null,null,null,null,null,null,null,null,null,null,null,null,null,null,null,null,null,null,null,null,null,null,null,null,null,null,0,0,0,0,0,0,0,"","",{"$f":"INDEX($AL$3:$AL$1500, MATCH(0, IF(ISBLANK($AL$3:$AL$1500), 1, COUNTIF(AM$3:AM1377, $AL$3:$AL$1500)), 0))","v":{"$error":"#N/A"}},""]
[{"$f":"IF(E1381=\"\",\"\",GetAddress(E1381))","v":""},{"$f":"IF(E1381=\"\",\"\",GetAddress(E1381))","v":""},null,null,null,null,null,null,null,null,null,null,null,null,null,null,null,null,null,null,null,null,null,null,null,null,null,null,null,0,0,0,0,0,0,0,"","",{"$f":"INDEX($AL$3:$AL$1500, MATCH(0, IF(ISBLANK($AL$3:$AL$1500), 1, COUNTIF(AM$3:AM1378, $AL$3:$AL$1500)), 0))","v":{"$error":"#N/A"}},""]
[{"$f":"IF(E1382=\"\",\"\",GetAddress(E1382))","v":""},{"$f":"IF(E1382=\"\",\"\",GetAddress(E1382))","v":""},null,null,null,null,null,null,null,null,null,null,null,null,null,null,null,null,null,null,null,null,null,null,null,null,null,null,null,0,0,0,0,0,0,0,"","",{"$f":"INDEX($AL$3:$AL$1500, MATCH(0, IF(ISBLANK($AL$3:$AL$1500), 1, COUNTIF(AM$3:AM1379, $AL$3:$AL$1500)), 0))","v":{"$error":"#N/A"}},""]
[{"$f":"IF(E1383=\"\",\"\",GetAddress(E1383))","v":""},{"$f":"IF(E1383=\"\",\"\",GetAddress(E1383))","v":""},null,null,null,null,null,null,null,null,null,null,null,null,null,null,null,null,null,null,null,null,null,null,null,null,null,null,null,0,0,0,0,0,0,0,"","",{"$f":"INDEX($AL$3:$AL$1500, MATCH(0, IF(ISBLANK($AL$3:$AL$1500), 1, COUNTIF(AM$3:AM1380, $AL$3:$AL$1500)), 0))","v":{"$error":"#N/A"}},""]
[{"$f":"IF(E1384=\"\",\"\",GetAddress(E1384))","v":""},{"$f":"IF(E1384=\"\",\"\",GetAddress(E1384))","v":""},null,null,null,null,null,null,null,null,null,null,null,null,null,null,null,null,null,null,null,null,null,null,null,null,null,null,null,0,0,0,0,0,0,0,"","",{"$f":"INDEX($AL$3:$AL$1500, MATCH(0, IF(ISBLANK($AL$3:$AL$1500), 1, COUNTIF(AM$3:AM1381, $AL$3:$AL$1500)), 0))","v":{"$error":"#N/A"}},""]
[{"$f":"IF(E1385=\"\",\"\",GetAddress(E1385))","v":""},{"$f":"IF(E1385=\"\",\"\",GetAddress(E1385))","v":""},null,null,null,null,null,null,null,null,null,null,null,null,null,null,null,null,null,null,null,null,null,null,null,null,null,null,null,0,0,0,0,0,0,0,"","",{"$f":"INDEX($AL$3:$AL$1500, MATCH(0, IF(ISBLANK($AL$3:$AL$1500), 1, COUNTIF(AM$3:AM1382, $AL$3:$AL$1500)), 0))","v":{"$error":"#N/A"}},""]
[{"$f":"IF(E1386=\"\",\"\",GetAddress(E1386))","v":""},{"$f":"IF(E1386=\"\",\"\",GetAddress(E1386))","v":""},null,null,null,null,null,null,null,null,null,null,null,null,null,null,null,null,null,null,null,null,null,null,null,null,null,null,null,0,0,0,0,0,0,0,"","",{"$f":"INDEX($AL$3:$AL$1500, MATCH(0, IF(ISBLANK($AL$3:$AL$1500), 1, COUNTIF(AM$3:AM1383, $AL$3:$AL$1500)), 0))","v":{"$error":"#N/A"}},""]
[{"$f":"IF(E1387=\"\",\"\",GetAddress(E1387))","v":""},{"$f":"IF(E1387=\"\",\"\",GetAddress(E1387))","v":""},null,null,null,null,null,null,null,null,null,null,null,null,null,null,null,null,null,null,null,null,null,null,null,null,null,null,null,0,0,0,0,0,0,0,"","",{"$f":"INDEX($AL$3:$AL$1500, MATCH(0, IF(ISBLANK($AL$3:$AL$1500), 1, COUNTIF(AM$3:AM1384, $AL$3:$AL$1500)), 0))","v":{"$error":"#N/A"}},""]
[{"$f":"IF(E1388=\"\",\"\",GetAddress(E1388))","v":""},{"$f":"IF(E1388=\"\",\"\",GetAddress(E1388))","v":""},null,null,null,null,null,null,null,null,null,null,null,null,null,null,null,null,null,null,null,null,null,null,null,null,null,null,null,0,0,0,0,0,0,0,"","",{"$f":"INDEX($AL$3:$AL$1500, MATCH(0, IF(ISBLANK($AL$3:$AL$1500), 1, COUNTIF(AM$3:AM1385, $AL$3:$AL$1500)), 0))","v":{"$error":"#N/A"}},""]
[{"$f":"IF(E1389=\"\",\"\",GetAddress(E1389))","v":""},{"$f":"IF(E1389=\"\",\"\",GetAddress(E1389))","v":""},null,null,null,null,null,null,null,null,null,null,null,null,null,null,null,null,null,null,null,null,null,null,null,null,null,null,null,0,0,0,0,0,0,0,"","",{"$f":"INDEX($AL$3:$AL$1500, MATCH(0, IF(ISBLANK($AL$3:$AL$1500), 1, COUNTIF(AM$3:AM1386, $AL$3:$AL$1500)), 0))","v":{"$error":"#N/A"}},""]
[{"$f":"IF(E1390=\"\",\"\",GetAddress(E1390))","v":""},{"$f":"IF(E1390=\"\",\"\",GetAddress(E1390))","v":""},null,null,null,null,null,null,null,null,null,null,null,null,null,null,null,null,null,null,null,null,null,null,null,null,null,null,null,0,0,0,0,0,0,0,"","",{"$f":"INDEX($AL$3:$AL$1500, MATCH(0, IF(ISBLANK($AL$3:$AL$1500), 1, COUNTIF(AM$3:AM1387, $AL$3:$AL$1500)), 0))","v":{"$error":"#N/A"}},""]
[{"$f":"IF(E1391=\"\",\"\",GetAddress(E1391))","v":""},{"$f":"IF(E1391=\"\",\"\",GetAddress(E1391))","v":""},null,null,null,null,null,null,null,null,null,null,null,null,null,null,null,null,null,null,null,null,null,null,null,null,null,null,null,0,0,0,0,0,0,0,"","",{"$f":"INDEX($AL$3:$AL$1500, MATCH(0, IF(ISBLANK($AL$3:$AL$1500), 1, COUNTIF(AM$3:AM1388, $AL$3:$AL$1500)), 0))","v":{"$error":"#N/A"}},""]
[{"$f":"IF(E1392=\"\",\"\",GetAddress(E1392))","v":""},{"$f":"IF(E1392=\"\",\"\",GetAddress(E1392))","v":""},null,null,null,null,null,null,null,null,null,null,null,null,null,null,null,null,null,null,null,null,null,null,null,null,null,null,null,0,0,0,0,0,0,0,"","",{"$f":"INDEX($AL$3:$AL$1500, MATCH(0, IF(ISBLANK($AL$3:$AL$1500), 1, COUNTIF(AM$3:AM1389, $AL$3:$AL$1500)), 0))","v":{"$error":"#N/A"}},""]
[{"$f":"IF(E1393=\"\",\"\",GetAddress(E1393))","v":""},{"$f":"IF(E1393=\"\",\"\",GetAddress(E1393))","v":""},null,null,null,null,null,null,null,null,null,null,null,null,null,null,null,null,null,null,null,null,null,null,null,null,null,null,null,0,0,0,0,0,0,0,"","",{"$f":"INDEX($AL$3:$AL$1500, MATCH(0, IF(ISBLANK($AL$3:$AL$1500), 1, COUNTIF(AM$3:AM1390, $AL$3:$AL$1500)), 0))","v":{"$error":"#N/A"}},""]
[{"$f":"IF(E1394=\"\",\"\",GetAddress(E1394))","v":""},{"$f":"IF(E1394=\"\",\"\",GetAddress(E1394))","v":""},null,null,null,null,null,null,null,null,null,null,null,null,null,null,null,null,null,null,null,null,null,null,null,null,null,null,null,0,0,0,0,0,0,0,"","",{"$f":"INDEX($AL$3:$AL$1500, MATCH(0, IF(ISBLANK($AL$3:$AL$1500), 1, COUNTIF(AM$3:AM1391, $AL$3:$AL$1500)), 0))","v":{"$error":"#N/A"}},""]
[{"$f":"IF(E1395=\"\",\"\",GetAddress(E1395))","v":""},{"$f":"IF(E1395=\"\",\"\",GetAddress(E1395))","v":""},null,null,null,null,null,null,null,null,null,null,null,null,null,null,null,null,null,null,null,null,null,null,null,null,null,null,null,0,0,0,0,0,0,0,"","",{"$f":"INDEX($AL$3:$AL$1500, MATCH(0, IF(ISBLANK($AL$3:$AL$1500), 1, COUNTIF(AM$3:AM1392, $AL$3:$AL$1500)), 0))","v":{"$error":"#N/A"}},""]
[{"$f":"IF(E1396=\"\",\"\",GetAddress(E1396))","v":""},{"$f":"IF(E1396=\"\",\"\",GetAddress(E1396))","v":""},null,null,null,null,null,null,null,null,null,null,null,null,null,null,null,null,null,null,null,null,null,null,null,null,null,null,null,0,0,0,0,0,0,0,"","",{"$f":"INDEX($AL$3:$AL$1500, MATCH(0, IF(ISBLANK($AL$3:$AL$1500), 1, COUNTIF(AM$3:AM1393, $AL$3:$AL$1500)), 0))","v":{"$error":"#N/A"}},""]
[{"$f":"IF(E1397=\"\",\"\",GetAddress(E1397))","v":""},{"$f":"IF(E1397=\"\",\"\",GetAddress(E1397))","v":""},null,null,null,null,null,null,null,null,null,null,null,null,null,null,null,null,null,null,null,null,null,null,null,null,null,null,null,0,0,0,0,0,0,0,"","",{"$f":"INDEX($AL$3:$AL$1500, MATCH(0, IF(ISBLANK($AL$3:$AL$1500), 1, COUNTIF(AM$3:AM1394, $AL$3:$AL$1500)), 0))","v":{"$error":"#N/A"}},""]
[{"$f":"IF(E1398=\"\",\"\",GetAddress(E1398))","v":""},{"$f":"IF(E1398=\"\",\"\",GetAddress(E1398))","v":""},null,null,null,null,null,null,null,null,null,null,null,null,null,null,null,null,null,null,null,null,null,null,null,null,null,null,null,0,0,0,0,0,0,0,"","",{"$f":"INDEX($AL$3:$AL$1500, MATCH(0, IF(ISBLANK($AL$3:$AL$1500), 1, COUNTIF(AM$3:AM1395, $AL$3:$AL$1500)), 0))","v":{"$error":"#N/A"}},""]
[{"$f":"IF(E1399=\"\",\"\",GetAddress(E1399))","v":""},{"$f":"IF(E1399=\"\",\"\",GetAddress(E1399))","v":""},null,null,null,null,null,null,null,null,null,null,null,null,null,null,null,null,null,null,null,null,null,null,null,null,null,null,null,0,0,0,0,0,0,0,"","",{"$f":"INDEX($AL$3:$AL$1500, MATCH(0, IF(ISBLANK($AL$3:$AL$1500), 1, COUNTIF(AM$3:AM1396, $AL$3:$AL$1500)), 0))","v":{"$error":"#N/A"}},""]
[{"$f":"IF(E1400=\"\",\"\",GetAddress(E1400))","v":""},{"$f":"IF(E1400=\"\",\"\",GetAddress(E1400))","v":""},null,null,null,null,null,null,null,null,null,null,null,null,null,null,null,null,null,null,null,null,null,null,null,null,null,null,null,0,0,0,0,0,0,0,"","",{"$f":"INDEX($AL$3:$AL$1500, MATCH(0, IF(ISBLANK($AL$3:$AL$1500), 1, COUNTIF(AM$3:AM1397, $AL$3:$AL$1500)), 0))","v":{"$error":"#N/A"}},""]
[{"$f":"IF(E1401=\"\",\"\",GetAddress(E1401))","v":""},{"$f":"IF(E1401=\"\",\"\",GetAddress(E1401))","v":""},null,null,null,null,null,null,null,null,null,null,null,null,null,null,null,null,null,null,null,null,null,null,null,null,null,null,null,0,0,0,0,0,0,0,"","",{"$f":"INDEX($AL$3:$AL$1500, MATCH(0, IF(ISBLANK($AL$3:$AL$1500), 1, COUNTIF(AM$3:AM1398, $AL$3:$AL$1500)), 0))","v":{"$error":"#N/A"}},""]
[{"$f":"IF(E1402=\"\",\"\",GetAddress(E1402))","v":""},{"$f":"IF(E1402=\"\",\"\",GetAddress(E1402))","v":""},null,null,null,null,null,null,null,null,null,null,null,null,null,null,null,null,null,null,null,null,null,null,null,null,null,null,null,0,0,0,0,0,0,0,"","",{"$f":"INDEX($AL$3:$AL$1500, MATCH(0, IF(ISBLANK($AL$3:$AL$1500), 1, COUNTIF(AM$3:AM1399, $AL$3:$AL$1500)), 0))","v":{"$error":"#N/A"}},""]
[{"$f":"IF(E1403=\"\",\"\",GetAddress(E1403))","v":""},{"$f":"IF(E1403=\"\",\"\",GetAddress(E1403))","v":""},null,null,null,null,null,null,null,null,null,null,null,null,null,null,null,null,null,null,null,null,null,null,null,null,null,null,null,0,0,0,0,0,0,0,"","",{"$f":"INDEX($AL$3:$AL$1500, MATCH(0, IF(ISBLANK($AL$3:$AL$1500), 1, COUNTIF(AM$3:AM1400, $AL$3:$AL$1500)), 0))","v":{"$error":"#N/A"}},""]
[{"$f":"IF(E1404=\"\",\"\",GetAddress(E1404))","v":""},{"$f":"IF(E1404=\"\",\"\",GetAddress(E1404))","v":""},null,null,null,null,null,null,null,null,null,null,null,null,null,null,null,null,null,null,null,null,null,null,null,null,null,null,null,0,0,0,0,0,0,0,"","",{"$f":"INDEX($AL$3:$AL$1500, MATCH(0, IF(ISBLANK($AL$3:$AL$1500), 1, COUNTIF(AM$3:AM1401, $AL$3:$AL$1500)), 0))","v":{"$error":"#N/A"}},""]
[{"$f":"IF(E1405=\"\",\"\",GetAddress(E1405))","v":""},{"$f":"IF(E1405=\"\",\"\",GetAddress(E1405))","v":""},null,null,null,null,null,null,null,null,null,null,null,null,null,null,null,null,null,null,null,null,null,null,null,null,null,null,null,0,0,0,0,0,0,0,"","",{"$f":"INDEX($AL$3:$AL$1500, MATCH(0, IF(ISBLANK($AL$3:$AL$1500), 1, COUNTIF(AM$3:AM1402, $AL$3:$AL$1500)), 0))","v":{"$error":"#N/A"}},""]
[{"$f":"IF(E1406=\"\",\"\",GetAddress(E1406))","v":""},{"$f":"IF(E1406=\"\",\"\",GetAddress(E1406))","v":""},null,null,null,null,null,null,null,null,null,null,null,null,null,null,null,null,null,null,null,null,null,null,null,null,null,null,null,0,0,0,0,0,0,0,"","",{"$f":"INDEX($AL$3:$AL$1500, MATCH(0, IF(ISBLANK($AL$3:$AL$1500), 1, COUNTIF(AM$3:AM1403, $AL$3:$AL$1500)), 0))","v":{"$error":"#N/A"}},""]
[{"$f":"IF(E1407=\"\",\"\",GetAddress(E1407))","v":""},{"$f":"IF(E1407=\"\",\"\",GetAddress(E1407))","v":""},null,null,null,null,null,null,null,null,null,null,null,null,null,null,null,null,null,null,null,null,null,null,null,null,null,null,null,0,0,0,0,0,0,0,"","",{"$f":"INDEX($AL$3:$AL$1500, MATCH(0, IF(ISBLANK($AL$3:$AL$1500), 1, COUNTIF(AM$3:AM1404, $AL$3:$AL$1500)), 0))","v":{"$error":"#N/A"}},""]
[{"$f":"IF(E1408=\"\",\"\",GetAddress(E1408))","v":""},{"$f":"IF(E1408=\"\",\"\",GetAddress(E1408))","v":""},null,null,null,null,null,null,null,null,null,null,null,null,null,null,null,null,null,null,null,null,null,null,null,null,null,null,null,0,0,0,0,0,0,0,"","",{"$f":"INDEX($AL$3:$AL$1500, MATCH(0, IF(ISBLANK($AL$3:$AL$1500), 1, COUNTIF(AM$3:AM1405, $AL$3:$AL$1500)), 0))","v":{"$error":"#N/A"}},""]
[{"$f":"IF(E1409=\"\",\"\",GetAddress(E1409))","v":""},{"$f":"IF(E1409=\"\",\"\",GetAddress(E1409))","v":""},null,null,null,null,null,null,null,null,null,null,null,null,null,null,null,null,null,null,null,null,null,null,null,null,null,null,null,0,0,0,0,0,0,0,"","",{"$f":"INDEX($AL$3:$AL$1500, MATCH(0, IF(ISBLANK($AL$3:$AL$1500), 1, COUNTIF(AM$3:AM1406, $AL$3:$AL$1500)), 0))","v":{"$error":"#N/A"}},""]
[{"$f":"IF(E1410=\"\",\"\",GetAddress(E1410))","v":""},{"$f":"IF(E1410=\"\",\"\",GetAddress(E1410))","v":""},null,null,null,null,null,null,null,null,null,null,null,null,null,null,null,null,null,null,null,null,null,null,null,null,null,null,null,0,0,0,0,0,0,0,"","",{"$f":"INDEX($AL$3:$AL$1500, MATCH(0, IF(ISBLANK($AL$3:$AL$1500), 1, COUNTIF(AM$3:AM1407, $AL$3:$AL$1500)), 0))","v":{"$error":"#N/A"}},""]
[{"$f":"IF(E1411=\"\",\"\",GetAddress(E1411))","v":""},{"$f":"IF(E1411=\"\",\"\",GetAddress(E1411))","v":""},null,null,null,null,null,null,null,null,null,null,null,null,null,null,null,null,null,null,null,null,null,null,null,null,null,null,null,0,0,0,0,0,0,0,"","",{"$f":"INDEX($AL$3:$AL$1500, MATCH(0, IF(ISBLANK($AL$3:$AL$1500), 1, COUNTIF(AM$3:AM1408, $AL$3:$AL$1500)), 0))","v":{"$error":"#N/A"}},""]
[{"$f":"IF(E1412=\"\",\"\",GetAddress(E1412))","v":""},{"$f":"IF(E1412=\"\",\"\",GetAddress(E1412))","v":""},null,null,null,null,null,null,null,null,null,null,null,null,null,null,null,null,null,null,null,null,null,null,null,null,null,null,null,0,0,0,0,0,0,0,"","",{"$f":"INDEX($AL$3:$AL$1500, MATCH(0, IF(ISBLANK($AL$3:$AL$1500), 1, COUNTIF(AM$3:AM1409, $AL$3:$AL$1500)), 0))","v":{"$error":"#N/A"}},""]
[{"$f":"IF(E1413=\"\",\"\",GetAddress(E1413))","v":""},{"$f":"IF(E1413=\"\",\"\",GetAddress(E1413))","v":""},null,null,null,null,null,null,null,null,null,null,null,null,null,null,null,null,null,null,null,null,null,null,null,null,null,null,null,0,0,0,0,0,0,{"$f":"IF(AI1411=\"Free A\",\"\",AI1411)","v":0},{"$f":"IF(AJ1411=0,\"\",AJ1411)","v":""},{"$f":"IF(AK1411=\"Free Agent\",\"\",AK1411)","v":""},{"$f":"INDEX($AL$3:$AL$1500, MATCH(0, IF(ISBLANK($AL$3:$AL$1500), 1, COUNTIF(AM$3:AM1410, $AL$3:$AL$1500)), 0))","v":{"$error":"#N/A"}},{"$f":"IF(ISERROR(AM1411),\"\",AM1411)","v":""}]
[{"$f":"IF(E1414=\"\",\"\",GetAddress(E1414))","v":""},{"$f":"IF(E1414=\"\",\"\",GetAddress(E1414))","v":""},null,null,null,null,null,null,null,null,null,null,null,null,null,null,null,null,null,null,null,null,null,null,null,null,null,null,null,0,0,0,0,0,0,0,"","",{"$f":"INDEX($AL$3:$AL$1500, MATCH(0, IF(ISBLANK($AL$3:$AL$1500), 1, COUNTIF(AM$3:AM1411, $AL$3:$AL$1500)), 0))","v":{"$error":"#N/A"}},""]
[{"$f":"IF(E1415=\"\",\"\",GetAddress(E1415))","v":""},{"$f":"IF(E1415=\"\",\"\",GetAddress(E1415))","v":""},null,null,null,null,null,null,null,null,null,null,null,null,null,null,null,null,null,null,null,null,null,null,null,null,null,null,null,{"$f":"VALUE(IF(ISNUMBER(SEARCH(\"(P)\",Y1413)),\"1\", \"0\"))","v":0},{"$f":"VALUE(IF(ISNUMBER(SEARCH(\"(Q)\",Y1413)),\"1\", \"0\"))","v":0},{"$f":"VALUE(IF(ISNUMBER(SEARCH(\"(O)\",Y1413)),\"1\", \"0\"))","v":0},{"$f":"VALUE(IF(ISNUMBER(SEARCH(\"(S)\",Y1413)),\"1\", \"0\"))","v":0},{"$f":"VALUE(IF(ISNUMBER(SEARCH(\"Free Agent\",Y1413)),\"1\", \"0\"))","v":0},{"$f":"IF(SUM(AD1413:AH1413)=0,Y1413,LEFT(Y1413,LEN(Y1413)-4))","v":0},0,"","",{"$f":"INDEX($AL$3:$AL$1500, MATCH(0, IF(ISBLANK($AL$3:$AL$1500), 1, COUNTIF(AM$3:AM1412, $AL$3:$AL$1500)), 0))","v":{"$error":"#N/A"}},""]
[{"$f":"IF(E1416=\"\",\"\",GetAddress(E1416))","v":""},{"$f":"IF(E1416=\"\",\"\",GetAddress(E1416))","v":""},null,null,null,null,null,null,null,null,null,null,null,null,null,null,null,null,null,null,null,null,null,null,null,null,null,null,null,0,0,0,0,0,0,0,"","",{"$f":"INDEX($AL$3:$AL$1500, MATCH(0, IF(ISBLANK($AL$3:$AL$1500), 1, COUNTIF(AM$3:AM1413, $AL$3:$AL$1500)), 0))","v":{"$error":"#N/A"}},""]
[{"$f":"IF(E1417=\"\",\"\",GetAddress(E1417))","v":""},{"$f":"IF(E1417=\"\",\"\",GetAddress(E1417))","v":""},null,null,null,null,null,null,null,null,null,null,null,null,null,null,null,null,null,null,null,null,null,null,null,null,null,null,null,0,0,0,0,0,0,0,"","",{"$f":"INDEX($AL$3:$AL$1500, MATCH(0, IF(ISBLANK($AL$3:$AL$1500), 1, COUNTIF(AM$3:AM1414, $AL$3:$AL$1500)), 0))","v":{"$error":"#N/A"}},""]
[{"$f":"IF(E1418=\"\",\"\",GetAddress(E1418))","v":""},{"$f":"IF(E1418=\"\",\"\",GetAddress(E1418))","v":""},null,null,null,null,null,null,null,null,null,null,null,null,null,null,null,null,null,null,null,null,null,null,null,null,null,null,null,0,0,0,0,0,0,0,"","",{"$f":"INDEX($AL$3:$AL$1500, MATCH(0, IF(ISBLANK($AL$3:$AL$1500), 1, COUNTIF(AM$3:AM1415, $AL$3:$AL$1500)), 0))","v":{"$error":"#N/A"}},""]
[{"$f":"IF(E1419=\"\",\"\",GetAddress(E1419))","v":""},{"$f":"IF(E1419=\"\",\"\",GetAddress(E1419))","v":""},null,null,null,null,null,null,null,null,null,null,null,null,null,null,null,null,null,null,null,null,null,null,null,null,null,null,null,0,0,0,0,0,0,0,"","",{"$f":"INDEX($AL$3:$AL$1500, MATCH(0, IF(ISBLANK($AL$3:$AL$1500), 1, COUNTIF(AM$3:AM1416, $AL$3:$AL$1500)), 0))","v":{"$error":"#N/A"}},""]
[{"$f":"IF(E1420=\"\",\"\",GetAddress(E1420))","v":""},{"$f":"IF(E1420=\"\",\"\",GetAddress(E1420))","v":""},null,null,null,null,null,null,null,null,null,null,null,null,null,null,null,null,null,null,null,null,null,null,null,null,null,null,null,0,0,0,0,0,0,0,"","",{"$f":"INDEX($AL$3:$AL$1500, MATCH(0, IF(ISBLANK($AL$3:$AL$1500), 1, COUNTIF(AM$3:AM1417, $AL$3:$AL$1500)), 0))","v":{"$error":"#N/A"}},""]
[{"$f":"IF(E1421=\"\",\"\",GetAddress(E1421))","v":""},{"$f":"IF(E1421=\"\",\"\",GetAddress(E1421))","v":""},null,null,null,null,null,null,null,null,null,null,null,null,null,null,null,null,null,null,null,null,null,null,null,null,null,null,null,0,0,0,0,0,0,0,"","",{"$f":"INDEX($AL$3:$AL$1500, MATCH(0, IF(ISBLANK($AL$3:$AL$1500), 1, COUNTIF(AM$3:AM1418, $AL$3:$AL$1500)), 0))","v":{"$error":"#N/A"}},""]
[{"$f":"IF(E1422=\"\",\"\",GetAddress(E1422))","v":""},{"$f":"IF(E1422=\"\",\"\",GetAddress(E1422))","v":""},null,null,null,null,null,null,null,null,null,null,null,null,null,null,null,null,null,null,null,null,null,null,null,null,null,null,null,0,0,0,0,0,0,0,"","",{"$f":"INDEX($AL$3:$AL$1500, MATCH(0, IF(ISBLANK($AL$3:$AL$1500), 1, COUNTIF(AM$3:AM1419, $AL$3:$AL$1500)), 0))","v":{"$error":"#N/A"}},""]
[{"$f":"IF(E1423=\"\",\"\",GetAddress(E1423))","v":""},{"$f":"IF(E1423=\"\",\"\",GetAddress(E1423))","v":""},null,null,null,null,null,null,null,null,null,null,null,null,null,null,null,null,null,null,null,null,null,null,null,null,null,null,null,0,0,0,0,0,0,0,"","",{"$f":"INDEX($AL$3:$AL$1500, MATCH(0, IF(ISBLANK($AL$3:$AL$1500), 1, COUNTIF(AM$3:AM1420, $AL$3:$AL$1500)), 0))","v":{"$error":"#N/A"}},""]
[{"$f":"IF(E1424=\"\",\"\",GetAddress(E1424))","v":""},{"$f":"IF(E1424=\"\",\"\",GetAddress(E1424))","v":""},null,null,null,null,null,null,null,null,null,null,null,null,null,null,null,null,null,null,null,null,null,null,null,null,null,null,null,0,0,0,0,0,0,0,"","",{"$f":"INDEX($AL$3:$AL$1500, MATCH(0, IF(ISBLANK($AL$3:$AL$1500), 1, COUNTIF(AM$3:AM1421, $AL$3:$AL$1500)), 0))","v":{"$error":"#N/A"}},""]
[{"$f":"IF(E1425=\"\",\"\",GetAddress(E1425))","v":""},{"$f":"IF(E1425=\"\",\"\",GetAddress(E1425))","v":""},null,null,null,null,null,null,null,null,null,null,null,null,null,null,null,null,null,null,null,null,null,null,null,null,null,null,null,0,0,0,0,0,0,0,"","",{"$f":"INDEX($AL$3:$AL$1500, MATCH(0, IF(ISBLANK($AL$3:$AL$1500), 1, COUNTIF(AM$3:AM1422, $AL$3:$AL$1500)), 0))","v":{"$error":"#N/A"}},""]
[{"$f":"IF(E1426=\"\",\"\",GetAddress(E1426))","v":""},{"$f":"IF(E1426=\"\",\"\",GetAddress(E1426))","v":""},null,null,null,null,null,null,null,null,null,null,null,null,null,null,null,null,null,null,null,null,null,null,null,null,null,null,null,0,0,0,0,0,0,0,"","",{"$f":"INDEX($AL$3:$AL$1500, MATCH(0, IF(ISBLANK($AL$3:$AL$1500), 1, COUNTIF(AM$3:AM1423, $AL$3:$AL$1500)), 0))","v":{"$error":"#N/A"}},""]
[{"$f":"IF(E1427=\"\",\"\",GetAddress(E1427))","v":""},{"$f":"IF(E1427=\"\",\"\",GetAddress(E1427))","v":""},null,null,null,null,null,null,null,null,null,null,null,null,null,null,null,null,null,null,null,null,null,null,null,null,null,null,null,0,0,0,0,0,0,0,"","",{"$f":"INDEX($AL$3:$AL$1500, MATCH(0, IF(ISBLANK($AL$3:$AL$1500), 1, COUNTIF(AM$3:AM1424, $AL$3:$AL$1500)), 0))","v":{"$error":"#N/A"}},""]
[{"$f":"IF(E1428=\"\",\"\",GetAddress(E1428))","v":""},{"$f":"IF(E1428=\"\",\"\",GetAddress(E1428))","v":""},null,null,null,null,null,null,null,null,null,null,null,null,null,null,null,null,null,null,null,null,null,null,null,null,null,null,null,0,0,0,0,0,0,0,"","",{"$f":"INDEX($AL$3:$AL$1500, MATCH(0, IF(ISBLANK($AL$3:$AL$1500), 1, COUNTIF(AM$3:AM1425, $AL$3:$AL$1500)), 0))","v":{"$error":"#N/A"}},""]
[{"$f":"IF(E1429=\"\",\"\",GetAddress(E1429))","v":""},{"$f":"IF(E1429=\"\",\"\",GetAddress(E1429))","v":""},null,null,null,null,null,null,null,null,null,null,null,null,null,null,null,null,null,null,null,null,null,null,null,null,null,null,null,0,0,0,0,0,0,0,"","",{"$f":"INDEX($AL$3:$AL$1500, MATCH(0, IF(ISBLANK($AL$3:$AL$1500), 1, COUNTIF(AM$3:AM1426, $AL$3:$AL$1500)), 0))","v":{"$error":"#N/A"}},""]
[{"$f":"IF(E1430=\"\",\"\",GetAddress(E1430))","v":""},{"$f":"IF(E1430=\"\",\"\",GetAddress(E1430))","v":""},null,null,null,null,null,null,null,null,null,null,null,null,null,null,null,null,null,null,null,null,null,null,null,null,null,null,null,0,0,0,0,0,0,0,"","",{"$f":"INDEX($AL$3:$AL$1500, MATCH(0, IF(ISBLANK($AL$3:$AL$1500), 1, COUNTIF(AM$3:AM1427, $AL$3:$AL$1500)), 0))","v":{"$error":"#N/A"}},""]
[{"$f":"IF(E1431=\"\",\"\",GetAddress(E1431))","v":""},{"$f":"IF(E1431=\"\",\"\",GetAddress(E1431))","v":""},null,null,null,null,null,null,null,null,null,null,null,null,null,null,null,null,null,null,null,null,null,null,null,null,null,null,null,0,0,0,0,0,0,0,"","",{"$f":"INDEX($AL$3:$AL$1500, MATCH(0, IF(ISBLANK($AL$3:$AL$1500), 1, COUNTIF(AM$3:AM1428, $AL$3:$AL$1500)), 0))","v":{"$error":"#N/A"}},""]
[{"$f":"IF(E1432=\"\",\"\",GetAddress(E1432))","v":""},{"$f":"IF(E1432=\"\",\"\",GetAddress(E1432))","v":""},null,null,null,null,null,null,null,null,null,null,null,null,null,null,null,null,null,null,null,null,null,null,null,null,null,null,null,0,0,0,0,0,0,0,"","",{"$f":"INDEX($AL$3:$AL$1500, MATCH(0, IF(ISBLANK($AL$3:$AL$1500), 1, COUNTIF(AM$3:AM1429, $AL$3:$AL$1500)), 0))","v":{"$error":"#N/A"}},""]
[{"$f":"IF(E1433=\"\",\"\",GetAddress(E1433))","v":""},{"$f":"IF(E1433=\"\",\"\",GetAddress(E1433))","v":""},null,null,null,null,null,null,null,null,null,null,null,null,null,null,null,null,null,null,null,null,null,null,null,null,null,null,null,0,0,0,0,0,0,0,"","",{"$f":"INDEX($AL$3:$AL$1500, MATCH(0, IF(ISBLANK($AL$3:$AL$1500), 1, COUNTIF(AM$3:AM1430, $AL$3:$AL$1500)), 0))","v":{"$error":"#N/A"}},""]
[{"$f":"IF(E1434=\"\",\"\",GetAddress(E1434))","v":""},{"$f":"IF(E1434=\"\",\"\",GetAddress(E1434))","v":""},null,null,null,null,null,null,null,null,null,null,null,null,null,null,null,null,null,null,null,null,null,null,null,null,null,null,null,0,0,0,0,0,0,0,"","",{"$f":"INDEX($AL$3:$AL$1500, MATCH(0, IF(ISBLANK($AL$3:$AL$1500), 1, COUNTIF(AM$3:AM1431, $AL$3:$AL$1500)), 0))","v":{"$error":"#N/A"}},""]
[{"$f":"IF(E1435=\"\",\"\",GetAddress(E1435))","v":""},{"$f":"IF(E1435=\"\",\"\",GetAddress(E1435))","v":""},null,null,null,null,null,null,null,null,null,null,null,null,null,null,null,null,null,null,null,null,null,null,null,null,null,null,null,0,0,0,0,0,0,0,"","",{"$f":"INDEX($AL$3:$AL$1500, MATCH(0, IF(ISBLANK($AL$3:$AL$1500), 1, COUNTIF(AM$3:AM1432, $AL$3:$AL$1500)), 0))","v":{"$error":"#N/A"}},""]
[{"$f":"IF(E1436=\"\",\"\",GetAddress(E1436))","v":""},{"$f":"IF(E1436=\"\",\"\",GetAddress(E1436))","v":""},null,null,null,null,null,null,null,null,null,null,null,null,null,null,null,null,null,null,null,null,null,null,null,null,null,null,null,0,0,0,0,0,0,0,"","",{"$f":"INDEX($AL$3:$AL$1500, MATCH(0, IF(ISBLANK($AL$3:$AL$1500), 1, COUNTIF(AM$3:AM1433, $AL$3:$AL$1500)), 0))","v":{"$error":"#N/A"}},""]
[{"$f":"IF(E1437=\"\",\"\",GetAddress(E1437))","v":""},{"$f":"IF(E1437=\"\",\"\",GetAddress(E1437))","v":""},null,null,null,null,null,null,null,null,null,null,null,null,null,null,null,null,null,null,null,null,null,null,null,null,null,null,null,0,0,0,0,0,0,0,"","",{"$f":"INDEX($AL$3:$AL$1500, MATCH(0, IF(ISBLANK($AL$3:$AL$1500), 1, COUNTIF(AM$3:AM1434, $AL$3:$AL$1500)), 0))","v":{"$error":"#N/A"}},""]
[{"$f":"IF(E1438=\"\",\"\",GetAddress(E1438))","v":""},{"$f":"IF(E1438=\"\",\"\",GetAddress(E1438))","v":""},null,null,null,null,null,null,null,null,null,null,null,null,null,null,null,null,null,null,null,null,null,null,null,null,null,null,null,0,0,0,0,0,0,0,"","",{"$f":"INDEX($AL$3:$AL$1500, MATCH(0, IF(ISBLANK($AL$3:$AL$1500), 1, COUNTIF(AM$3:AM1435, $AL$3:$AL$1500)), 0))","v":{"$error":"#N/A"}},""]
[{"$f":"IF(E1439=\"\",\"\",GetAddress(E1439))","v":""},{"$f":"IF(E1439=\"\",\"\",GetAddress(E1439))","v":""},null,null,null,null,null,null,null,null,null,null,null,null,null,null,null,null,null,null,null,null,null,null,null,null,null,null,null,0,0,0,0,0,0,0,"","",{"$f":"INDEX($AL$3:$AL$1500, MATCH(0, IF(ISBLANK($AL$3:$AL$1500), 1, COUNTIF(AM$3:AM1436, $AL$3:$AL$1500)), 0))","v":{"$error":"#N/A"}},""]
[{"$f":"IF(E1440=\"\",\"\",GetAddress(E1440))","v":""},{"$f":"IF(E1440=\"\",\"\",GetAddress(E1440))","v":""},null,null,null,null,null,null,null,null,null,null,null,null,null,null,null,null,null,null,null,null,null,null,null,null,null,null,null,0,0,0,0,0,0,0,"","",{"$f":"INDEX($AL$3:$AL$1500, MATCH(0, IF(ISBLANK($AL$3:$AL$1500), 1, COUNTIF(AM$3:AM1437, $AL$3:$AL$1500)), 0))","v":{"$error":"#N/A"}},""]
[{"$f":"IF(E1441=\"\",\"\",GetAddress(E1441))","v":""},{"$f":"IF(E1441=\"\",\"\",GetAddress(E1441))","v":""},null,null,null,null,null,null,null,null,null,null,null,null,null,null,null,null,null,null,null,null,null,null,null,null,null,null,null,0,0,0,0,0,0,0,"","",{"$f":"INDEX($AL$3:$AL$1500, MATCH(0, IF(ISBLANK($AL$3:$AL$1500), 1, COUNTIF(AM$3:AM1438, $AL$3:$AL$1500)), 0))","v":{"$error":"#N/A"}},""]
[{"$f":"IF(E1442=\"\",\"\",GetAddress(E1442))","v":""},{"$f":"IF(E1442=\"\",\"\",GetAddress(E1442))","v":""},null,null,null,null,null,null,null,null,null,null,null,null,null,null,null,null,null,null,null,null,null,null,null,null,null,null,null,0,0,0,0,0,0,0,"","",{"$f":"INDEX($AL$3:$AL$1500, MATCH(0, IF(ISBLANK($AL$3:$AL$1500), 1, COUNTIF(AM$3:AM1439, $AL$3:$AL$1500)), 0))","v":{"$error":"#N/A"}},""]
[{"$f":"IF(E1443=\"\",\"\",GetAddress(E1443))","v":""},{"$f":"IF(E1443=\"\",\"\",GetAddress(E1443))","v":""},null,null,null,null,null,null,null,null,null,null,null,null,null,null,null,null,null,null,null,null,null,null,null,null,null,null,null,0,0,0,0,0,0,0,"","",{"$f":"INDEX($AL$3:$AL$1500, MATCH(0, IF(ISBLANK($AL$3:$AL$1500), 1, COUNTIF(AM$3:AM1440, $AL$3:$AL$1500)), 0))","v":{"$error":"#N/A"}},""]
[{"$f":"IF(E1444=\"\",\"\",GetAddress(E1444))","v":""},{"$f":"IF(E1444=\"\",\"\",GetAddress(E1444))","v":""},null,null,null,null,null,null,null,null,null,null,null,null,null,null,null,null,null,null,null,null,null,null,null,null,null,null,null,0,0,0,0,0,0,0,"","",{"$f":"INDEX($AL$3:$AL$1500, MATCH(0, IF(ISBLANK($AL$3:$AL$1500), 1, COUNTIF(AM$3:AM1441, $AL$3:$AL$1500)), 0))","v":{"$error":"#N/A"}},""]
[{"$f":"IF(E1445=\"\",\"\",GetAddress(E1445))","v":""},{"$f":"IF(E1445=\"\",\"\",GetAddress(E1445))","v":""},null,null,null,null,null,null,null,null,null,null,null,null,null,null,null,null,null,null,null,null,null,null,null,null,null,null,null,0,0,0,0,0,0,0,"","",{"$f":"INDEX($AL$3:$AL$1500, MATCH(0, IF(ISBLANK($AL$3:$AL$1500), 1, COUNTIF(AM$3:AM1442, $AL$3:$AL$1500)), 0))","v":{"$error":"#N/A"}},""]
[{"$f":"IF(E1446=\"\",\"\",GetAddress(E1446))","v":""},{"$f":"IF(E1446=\"\",\"\",GetAddress(E1446))","v":""},null,null,null,null,null,null,null,null,null,null,null,null,null,null,null,null,null,null,null,null,null,null,null,null,null,null,null,0,0,0,0,0,0,0,"","",{"$f":"INDEX($AL$3:$AL$1500, MATCH(0, IF(ISBLANK($AL$3:$AL$1500), 1, COUNTIF(AM$3:AM1443, $AL$3:$AL$1500)), 0))","v":{"$error":"#N/A"}},""]
[{"$f":"IF(E1447=\"\",\"\",GetAddress(E1447))","v":""},{"$f":"IF(E1447=\"\",\"\",GetAddress(E1447))","v":""},null,null,null,null,null,null,null,null,null,null,null,null,null,null,null,null,null,null,null,null,null,null,null,null,null,null,null,0,0,0,0,0,0,0,"","",{"$f":"INDEX($AL$3:$AL$1500, MATCH(0, IF(ISBLANK($AL$3:$AL$1500), 1, COUNTIF(AM$3:AM1444, $AL$3:$AL$1500)), 0))","v":{"$error":"#N/A"}},""]
[{"$f":"IF(E1448=\"\",\"\",GetAddress(E1448))","v":""},{"$f":"IF(E1448=\"\",\"\",GetAddress(E1448))","v":""},null,null,null,null,null,null,null,null,null,null,null,null,null,null,null,null,null,null,null,null,null,null,null,null,null,null,null,0,0,0,0,0,0,0,"","",{"$f":"INDEX($AL$3:$AL$1500, MATCH(0, IF(ISBLANK($AL$3:$AL$1500), 1, COUNTIF(AM$3:AM1445, $AL$3:$AL$1500)), 0))","v":{"$error":"#N/A"}},""]
[{"$f":"IF(E1449=\"\",\"\",GetAddress(E1449))","v":""},{"$f":"IF(E1449=\"\",\"\",GetAddress(E1449))","v":""},null,null,null,null,null,null,null,null,null,null,null,null,null,null,null,null,null,null,null,null,null,null,null,null,null,null,null,0,0,0,0,0,0,0,"","",{"$f":"INDEX($AL$3:$AL$1500, MATCH(0, IF(ISBLANK($AL$3:$AL$1500), 1, COUNTIF(AM$3:AM1446, $AL$3:$AL$1500)), 0))","v":{"$error":"#N/A"}},""]
[{"$f":"IF(E1450=\"\",\"\",GetAddress(E1450))","v":""},{"$f":"IF(E1450=\"\",\"\",GetAddress(E1450))","v":""},null,null,null,null,null,null,null,null,null,null,null,null,null,null,null,null,null,null,null,null,null,null,null,null,null,null,null,0,0,0,0,0,0,0,"","",{"$f":"INDEX($AL$3:$AL$1500, MATCH(0, IF(ISBLANK($AL$3:$AL$1500), 1, COUNTIF(AM$3:AM1447, $AL$3:$AL$1500)), 0))","v":{"$error":"#N/A"}},""]
[{"$f":"IF(E1451=\"\",\"\",GetAddress(E1451))","v":""},{"$f":"IF(E1451=\"\",\"\",GetAddress(E1451))","v":""},null,null,null,null,null,null,null,null,null,null,null,null,null,null,null,null,null,null,null,null,null,null,null,null,null,null,null,0,0,0,0,0,0,0,"","",{"$f":"INDEX($AL$3:$AL$1500, MATCH(0, IF(ISBLANK($AL$3:$AL$1500), 1, COUNTIF(AM$3:AM1448, $AL$3:$AL$1500)), 0))","v":{"$error":"#N/A"}},""]
[{"$f":"IF(E1452=\"\",\"\",GetAddress(E1452))","v":""},{"$f":"IF(E1452=\"\",\"\",GetAddress(E1452))","v":""},null,null,null,null,null,null,null,null,null,null,null,null,null,null,null,null,null,null,null,null,null,null,null,null,null,null,null,0,0,0,0,0,0,0,"","",{"$f":"INDEX($AL$3:$AL$1500, MATCH(0, IF(ISBLANK($AL$3:$AL$1500), 1, COUNTIF(AM$3:AM1449, $AL$3:$AL$1500)), 0))","v":{"$error":"#N/A"}},""]
[{"$f":"IF(E1453=\"\",\"\",GetAddress(E1453))","v":""},{"$f":"IF(E1453=\"\",\"\",GetAddress(E1453))","v":""},null,null,null,null,null,null,null,null,null,null,null,null,null,null,null,null,null,null,null,null,null,null,null,null,null,null,null,0,0,0,0,0,0,0,"","",{"$f":"INDEX($AL$3:$AL$1500, MATCH(0, IF(ISBLANK($AL$3:$AL$1500), 1, COUNTIF(AM$3:AM1450, $AL$3:$AL$1500)), 0))","v":{"$error":"#N/A"}},""]
[{"$f":"IF(E1454=\"\",\"\",GetAddress(E1454))","v":""},{"$f":"IF(E1454=\"\",\"\",GetAddress(E1454))","v":""},null,null,null,null,null,null,null,null,null,null,null,null,null,null,null,null,null,null,null,null,null,null,null,null,null,null,null,0,0,0,0,0,0,0,"","",{"$f":"INDEX($AL$3:$AL$1500, MATCH(0, IF(ISBLANK($AL$3:$AL$1500), 1, COUNTIF(AM$3:AM1451, $AL$3:$AL$1500)), 0))","v":{"$error":"#N/A"}},""]
[{"$f":"IF(E1455=\"\",\"\",GetAddress(E1455))","v":""},{"$f":"IF(E1455=\"\",\"\",GetAddress(E1455))","v":""},null,null,null,null,null,null,null,null,null,null,null,null,null,null,null,null,null,null,null,null,null,null,null,null,null,null,null,0,0,0,0,0,0,0,"","",{"$f":"INDEX($AL$3:$AL$1500, MATCH(0, IF(ISBLANK($AL$3:$AL$1500), 1, COUNTIF(AM$3:AM1452, $AL$3:$AL$1500)), 0))","v":{"$error":"#N/A"}},""]
[{"$f":"IF(E1456=\"\",\"\",GetAddress(E1456))","v":""},{"$f":"IF(E1456=\"\",\"\",GetAddress(E1456))","v":""},null,null,null,null,null,null,null,null,null,null,null,null,null,null,null,null,null,null,null,null,null,null,null,null,null,null,null,0,0,0,0,0,0,0,"","",{"$f":"INDEX($AL$3:$AL$1500, MATCH(0, IF(ISBLANK($AL$3:$AL$1500), 1, COUNTIF(AM$3:AM1453, $AL$3:$AL$1500)), 0))","v":{"$error":"#N/A"}},""]
[{"$f":"IF(E1457=\"\",\"\",GetAddress(E1457))","v":""},{"$f":"IF(E1457=\"\",\"\",GetAddress(E1457))","v":""},null,null,null,null,null,null,null,null,null,null,null,null,null,null,null,null,null,null,null,null,null,null,null,null,null,null,null,0,0,0,0,0,0,0,"","",{"$f":"INDEX($AL$3:$AL$1500, MATCH(0, IF(ISBLANK($AL$3:$AL$1500), 1, COUNTIF(AM$3:AM1454, $AL$3:$AL$1500)), 0))","v":{"$error":"#N/A"}},""]
[{"$f":"IF(E1458=\"\",\"\",GetAddress(E1458))","v":""},{"$f":"IF(E1458=\"\",\"\",GetAddress(E1458))","v":""},null,null,null,null,null,null,null,null,null,null,null,null,null,null,null,null,null,null,null,null,null,null,null,null,null,null,null,0,0,0,0,0,0,0,"","",{"$f":"INDEX($AL$3:$AL$1500, MATCH(0, IF(ISBLANK($AL$3:$AL$1500), 1, COUNTIF(AM$3:AM1455, $AL$3:$AL$1500)), 0))","v":{"$error":"#N/A"}},""]
[{"$f":"IF(E1459=\"\",\"\",GetAddress(E1459))","v":""},{"$f":"IF(E1459=\"\",\"\",GetAddress(E1459))","v":""},null,null,null,null,null,null,null,null,null,null,null,null,null,null,null,null,null,null,null,null,null,null,null,null,null,null,null,0,0,0,0,0,0,0,"","",{"$f":"INDEX($AL$3:$AL$1500, MATCH(0, IF(ISBLANK($AL$3:$AL$1500), 1, COUNTIF(AM$3:AM1456, $AL$3:$AL$1500)), 0))","v":{"$error":"#N/A"}},""]
[{"$f":"IF(E1460=\"\",\"\",GetAddress(E1460))","v":""},{"$f":"IF(E1460=\"\",\"\",GetAddress(E1460))","v":""},null,null,null,null,null,null,null,null,null,null,null,null,null,null,null,null,null,null,null,null,null,null,null,null,null,null,null,0,0,0,0,0,0,0,"","",{"$f":"INDEX($AL$3:$AL$1500, MATCH(0, IF(ISBLANK($AL$3:$AL$1500), 1, COUNTIF(AM$3:AM1457, $AL$3:$AL$1500)), 0))","v":{"$error":"#N/A"}},""]
[{"$f":"IF(E1461=\"\",\"\",GetAddress(E1461))","v":""},{"$f":"IF(E1461=\"\",\"\",GetAddress(E1461))","v":""},null,null,null,null,null,null,null,null,null,null,null,null,null,null,null,null,null,null,null,null,null,null,null,null,null,null,null,0,0,0,0,0,0,0,"","",{"$f":"INDEX($AL$3:$AL$1500, MATCH(0, IF(ISBLANK($AL$3:$AL$1500), 1, COUNTIF(AM$3:AM1458, $AL$3:$AL$1500)), 0))","v":{"$error":"#N/A"}},""]
[{"$f":"IF(E1462=\"\",\"\",GetAddress(E1462))","v":""},{"$f":"IF(E1462=\"\",\"\",GetAddress(E1462))","v":""},null,null,null,null,null,null,null,null,null,null,null,null,null,null,null,null,null,null,null,null,null,null,null,null,null,null,null,0,0,0,0,0,0,0,"","",{"$f":"INDEX($AL$3:$AL$1500, MATCH(0, IF(ISBLANK($AL$3:$AL$1500), 1, COUNTIF(AM$3:AM1459, $AL$3:$AL$1500)), 0))","v":{"$error":"#N/A"}},""]
[{"$f":"IF(E1463=\"\",\"\",GetAddress(E1463))","v":""},{"$f":"IF(E1463=\"\",\"\",GetAddress(E1463))","v":""},null,null,null,null,null,null,null,null,null,null,null,null,null,null,null,null,null,null,null,null,null,null,null,null,null,null,null,0,0,0,0,0,0,0,"","",{"$f":"INDEX($AL$3:$AL$1500, MATCH(0, IF(ISBLANK($AL$3:$AL$1500), 1, COUNTIF(AM$3:AM1460, $AL$3:$AL$1500)), 0))","v":{"$error":"#N/A"}},""]
[{"$f":"IF(E1464=\"\",\"\",GetAddress(E1464))","v":""},{"$f":"IF(E1464=\"\",\"\",GetAddress(E1464))","v":""},null,null,null,null,null,null,null,null,null,null,null,null,null,null,null,null,null,null,null,null,null,null,null,null,null,null,null,0,0,0,0,0,0,0,"","",{"$f":"INDEX($AL$3:$AL$1500, MATCH(0, IF(ISBLANK($AL$3:$AL$1500), 1, COUNTIF(AM$3:AM1461, $AL$3:$AL$1500)), 0))","v":{"$error":"#N/A"}},""]
[{"$f":"IF(E1465=\"\",\"\",GetAddress(E1465))","v":""},{"$f":"IF(E1465=\"\",\"\",GetAddress(E1465))","v":""},null,null,null,null,null,null,null,null,null,null,null,null,null,null,null,null,null,null,null,null,null,null,null,null,null,null,null,0,0,0,0,0,0,0,"","",{"$f":"INDEX($AL$3:$AL$1500, MATCH(0, IF(ISBLANK($AL$3:$AL$1500), 1, COUNTIF(AM$3:AM1462, $AL$3:$AL$1500)), 0))","v":{"$error":"#N/A"}},""]
[{"$f":"IF(E1466=\"\",\"\",GetAddress(E1466))","v":""},{"$f":"IF(E1466=\"\",\"\",GetAddress(E1466))","v":""},null,null,null,null,null,null,null,null,null,null,null,null,null,null,null,null,null,null,null,null,null,null,null,null,null,null,null,0,0,0,0,0,0,0,"","",{"$f":"INDEX($AL$3:$AL$1500, MATCH(0, IF(ISBLANK($AL$3:$AL$1500), 1, COUNTIF(AM$3:AM1463, $AL$3:$AL$1500)), 0))","v":{"$error":"#N/A"}},""]
[{"$f":"IF(E1467=\"\",\"\",GetAddress(E1467))","v":""},{"$f":"IF(E1467=\"\",\"\",GetAddress(E1467))","v":""},null,null,null,null,null,null,null,null,null,null,null,null,null,null,null,null,null,null,null,null,null,null,null,null,null,null,null,0,0,0,0,0,0,0,"","",{"$f":"INDEX($AL$3:$AL$1500, MATCH(0, IF(ISBLANK($AL$3:$AL$1500), 1, COUNTIF(AM$3:AM1464, $AL$3:$AL$1500)), 0))","v":{"$error":"#N/A"}},""]
[{"$f":"IF(E1468=\"\",\"\",GetAddress(E1468))","v":""},{"$f":"IF(E1468=\"\",\"\",GetAddress(E1468))","v":""},null,null,null,null,null,null,null,null,null,null,null,null,null,null,null,null,null,null,null,null,null,null,null,null,null,null,null,0,0,0,0,0,0,0,"","",{"$f":"INDEX($AL$3:$AL$1500, MATCH(0, IF(ISBLANK($AL$3:$AL$1500), 1, COUNTIF(AM$3:AM1465, $AL$3:$AL$1500)), 0))","v":{"$error":"#N/A"}},""]
[{"$f":"IF(E1469=\"\",\"\",GetAddress(E1469))","v":""},{"$f":"IF(E1469=\"\",\"\",GetAddress(E1469))","v":""},null,null,null,null,null,null,null,null,null,null,null,null,null,null,null,null,null,null,null,null,null,null,null,null,null,null,null,0,0,0,0,0,0,0,"","",{"$f":"INDEX($AL$3:$AL$1500, MATCH(0, IF(ISBLANK($AL$3:$AL$1500), 1, COUNTIF(AM$3:AM1466, $AL$3:$AL$1500)), 0))","v":{"$error":"#N/A"}},""]
[{"$f":"IF(E1470=\"\",\"\",GetAddress(E1470))","v":""},{"$f":"IF(E1470=\"\",\"\",GetAddress(E1470))","v":""},null,null,null,null,null,null,null,null,null,null,null,null,null,null,null,null,null,null,null,null,null,null,null,null,null,null,null,0,0,0,0,0,0,0,"","",{"$f":"INDEX($AL$3:$AL$1500, MATCH(0, IF(ISBLANK($AL$3:$AL$1500), 1, COUNTIF(AM$3:AM1467, $AL$3:$AL$1500)), 0))","v":{"$error":"#N/A"}},""]
[{"$f":"IF(E1471=\"\",\"\",GetAddress(E1471))","v":""},{"$f":"IF(E1471=\"\",\"\",GetAddress(E1471))","v":""},null,null,null,null,null,null,null,null,null,null,null,null,null,null,null,null,null,null,null,null,null,null,null,null,null,null,null,0,0,0,0,0,0,0,"","",{"$f":"INDEX($AL$3:$AL$1500, MATCH(0, IF(ISBLANK($AL$3:$AL$1500), 1, COUNTIF(AM$3:AM1468, $AL$3:$AL$1500)), 0))","v":{"$error":"#N/A"}},""]
[{"$f":"IF(E1472=\"\",\"\",GetAddress(E1472))","v":""},{"$f":"IF(E1472=\"\",\"\",GetAddress(E1472))","v":""},null,null,null,null,null,null,null,null,null,null,null,null,null,null,null,null,null,null,null,null,null,null,null,null,null,null,null,0,0,0,0,0,0,0,"","",{"$f":"INDEX($AL$3:$AL$1500, MATCH(0, IF(ISBLANK($AL$3:$AL$1500), 1, COUNTIF(AM$3:AM1469, $AL$3:$AL$1500)), 0))","v":{"$error":"#N/A"}},""]
[{"$f":"IF(E1473=\"\",\"\",GetAddress(E1473))","v":""},{"$f":"IF(E1473=\"\",\"\",GetAddress(E1473))","v":""},null,null,null,null,null,null,null,null,null,null,null,null,null,null,null,null,null,null,null,null,null,null,null,null,null,null,null,0,0,0,0,0,0,0,"","",{"$f":"INDEX($AL$3:$AL$1500, MATCH(0, IF(ISBLANK($AL$3:$AL$1500), 1, COUNTIF(AM$3:AM1470, $AL$3:$AL$1500)), 0))","v":{"$error":"#N/A"}},""]
[{"$f":"IF(E1474=\"\",\"\",GetAddress(E1474))","v":""},{"$f":"IF(E1474=\"\",\"\",GetAddress(E1474))","v":""},null,null,null,null,null,null,null,null,null,null,null,null,null,null,null,null,null,null,null,null,null,null,null,null,null,null,null,0,0,0,0,0,0,0,"","",{"$f":"INDEX($AL$3:$AL$1500, MATCH(0, IF(ISBLANK($AL$3:$AL$1500), 1, COUNTIF(AM$3:AM1471, $AL$3:$AL$1500)), 0))","v":{"$error":"#N/A"}},""]
[{"$f":"IF(E1475=\"\",\"\",GetAddress(E1475))","v":""},{"$f":"IF(E1475=\"\",\"\",GetAddress(E1475))","v":""},null,null,null,null,null,null,null,null,null,null,null,null,null,null,null,null,null,null,null,null,null,null,null,null,null,null,null,0,0,0,0,0,0,0,"","",{"$f":"INDEX($AL$3:$AL$1500, MATCH(0, IF(ISBLANK($AL$3:$AL$1500), 1, COUNTIF(AM$3:AM1472, $AL$3:$AL$1500)), 0))","v":{"$error":"#N/A"}},""]
[{"$f":"IF(E1476=\"\",\"\",GetAddress(E1476))","v":""},{"$f":"IF(E1476=\"\",\"\",GetAddress(E1476))","v":""},null,null,null,null,null,null,null,null,null,null,null,null,null,null,null,null,null,null,null,null,null,null,null,null,null,null,null,0,0,0,0,0,0,0,"","",{"$f":"INDEX($AL$3:$AL$1500, MATCH(0, IF(ISBLANK($AL$3:$AL$1500), 1, COUNTIF(AM$3:AM1473, $AL$3:$AL$1500)), 0))","v":{"$error":"#N/A"}},""]
[{"$f":"IF(E1477=\"\",\"\",GetAddress(E1477))","v":""},{"$f":"IF(E1477=\"\",\"\",GetAddress(E1477))","v":""},null,null,null,null,null,null,null,null,null,null,null,null,null,null,null,null,null,null,null,null,null,null,null,null,null,null,null,0,0,0,0,0,0,{"$f":"IF(AI1475=\"Free A\",\"\",AI1475)","v":0},{"$f":"IF(AJ1475=0,\"\",AJ1475)","v":""},{"$f":"IF(AK1475=\"Free Agent\",\"\",AK1475)","v":""},{"$f":"INDEX($AL$3:$AL$1500, MATCH(0, IF(ISBLANK($AL$3:$AL$1500), 1, COUNTIF(AM$3:AM1474, $AL$3:$AL$1500)), 0))","v":{"$error":"#N/A"}},{"$f":"IF(ISERROR(AM1475),\"\",AM1475)","v":""}]
[{"$f":"IF(E1478=\"\",\"\",GetAddress(E1478))","v":""},{"$f":"IF(E1478=\"\",\"\",GetAddress(E1478))","v":""},null,null,null,null,null,null,null,null,null,null,null,null,null,null,null,null,null,null,null,null,null,null,null,null,null,null,null,0,0,0,0,0,0,0,"","",{"$f":"INDEX($AL$3:$AL$1500, MATCH(0, IF(ISBLANK($AL$3:$AL$1500), 1, COUNTIF(AM$3:AM1475, $AL$3:$AL$1500)), 0))","v":{"$error":"#N/A"}},""]
[{"$f":"IF(E1479=\"\",\"\",GetAddress(E1479))","v":""},{"$f":"IF(E1479=\"\",\"\",GetAddress(E1479))","v":""},null,null,null,null,null,null,null,null,null,null,null,null,null,null,null,null,null,null,null,null,null,null,null,null,null,null,null,{"$f":"VALUE(IF(ISNUMBER(SEARCH(\"(P)\",Y1477)),\"1\", \"0\"))","v":0},{"$f":"VALUE(IF(ISNUMBER(SEARCH(\"(Q)\",Y1477)),\"1\", \"0\"))","v":0},{"$f":"VALUE(IF(ISNUMBER(SEARCH(\"(O)\",Y1477)),\"1\", \"0\"))","v":0},{"$f":"VALUE(IF(ISNUMBER(SEARCH(\"(S)\",Y1477)),\"1\", \"0\"))","v":0},{"$f":"VALUE(IF(ISNUMBER(SEARCH(\"Free Agent\",Y1477)),\"1\", \"0\"))","v":0},{"$f":"IF(SUM(AD1477:AH1477)=0,Y1477,LEFT(Y1477,LEN(Y1477)-4))","v":0},0,"","",{"$f":"INDEX($AL$3:$AL$1500, MATCH(0, IF(ISBLANK($AL$3:$AL$1500), 1, COUNTIF(AM$3:AM1476, $AL$3:$AL$1500)), 0))","v":{"$error":"#N/A"}},""]
[{"$f":"IF(E1480=\"\",\"\",GetAddress(E1480))","v":""},{"$f":"IF(E1480=\"\",\"\",GetAddress(E1480))","v":""},null,null,null,null,null,null,null,null,null,null,null,null,null,null,null,null,null,null,null,null,null,null,null,null,null,null,null,0,0,0,0,0,0,0,"","",{"$f":"INDEX($AL$3:$AL$1500, MATCH(0, IF(ISBLANK($AL$3:$AL$1500), 1, COUNTIF(AM$3:AM1477, $AL$3:$AL$1500)), 0))","v":{"$error":"#N/A"}},""]
[{"$f":"IF(E1481=\"\",\"\",GetAddress(E1481))","v":""},{"$f":"IF(E1481=\"\",\"\",GetAddress(E1481))","v":""},null,null,null,null,null,null,null,null,null,null,null,null,null,null,null,null,null,null,null,null,null,null,null,null,null,null,null,0,0,0,0,0,0,0,"","",{"$f":"INDEX($AL$3:$AL$1500, MATCH(0, IF(ISBLANK($AL$3:$AL$1500), 1, COUNTIF(AM$3:AM1478, $AL$3:$AL$1500)), 0))","v":{"$error":"#N/A"}},""]
[{"$f":"IF(E1482=\"\",\"\",GetAddress(E1482))","v":""},{"$f":"IF(E1482=\"\",\"\",GetAddress(E1482))","v":""},null,null,null,null,null,null,null,null,null,null,null,null,null,null,null,null,null,null,null,null,null,null,null,null,null,null,null,0,0,0,0,0,0,0,"","",{"$f":"INDEX($AL$3:$AL$1500, MATCH(0, IF(ISBLANK($AL$3:$AL$1500), 1, COUNTIF(AM$3:AM1479, $AL$3:$AL$1500)), 0))","v":{"$error":"#N/A"}},""]
[{"$f":"IF(E1483=\"\",\"\",GetAddress(E1483))","v":""},{"$f":"IF(E1483=\"\",\"\",GetAddress(E1483))","v":""},null,null,null,null,null,null,null,null,null,null,null,null,null,null,null,null,null,null,null,null,null,null,null,null,null,null,null,0,0,0,0,0,0,0,"","",{"$f":"INDEX($AL$3:$AL$1500, MATCH(0, IF(ISBLANK($AL$3:$AL$1500), 1, COUNTIF(AM$3:AM1480, $AL$3:$AL$1500)), 0))","v":{"$error":"#N/A"}},""]
[{"$f":"IF(E1484=\"\",\"\",GetAddress(E1484))","v":""},{"$f":"IF(E1484=\"\",\"\",GetAddress(E1484))","v":""},null,null,null,null,null,null,null,null,null,null,null,null,null,null,null,null,null,null,null,null,null,null,null,null,null,null,null,0,0,0,0,0,0,0,"","",{"$f":"INDEX($AL$3:$AL$1500, MATCH(0, IF(ISBLANK($AL$3:$AL$1500), 1, COUNTIF(AM$3:AM1481, $AL$3:$AL$1500)), 0))","v":{"$error":"#N/A"}},""]
[{"$f":"IF(E1485=\"\",\"\",GetAddress(E1485))","v":""},{"$f":"IF(E1485=\"\",\"\",GetAddress(E1485))","v":""},null,null,null,null,null,null,null,null,null,null,null,null,null,null,null,null,null,null,null,null,null,null,null,null,null,null,null,0,0,0,0,0,0,0,"","",{"$f":"INDEX($AL$3:$AL$1500, MATCH(0, IF(ISBLANK($AL$3:$AL$1500), 1, COUNTIF(AM$3:AM1482, $AL$3:$AL$1500)), 0))","v":{"$error":"#N/A"}},""]
[{"$f":"IF(E1486=\"\",\"\",GetAddress(E1486))","v":""},{"$f":"IF(E1486=\"\",\"\",GetAddress(E1486))","v":""},null,null,null,null,null,null,null,null,null,null,null,null,null,null,null,null,null,null,null,null,null,null,null,null,null,null,null,0,0,0,0,0,0,0,"","",{"$f":"INDEX($AL$3:$AL$1500, MATCH(0, IF(ISBLANK($AL$3:$AL$1500), 1, COUNTIF(AM$3:AM1483, $AL$3:$AL$1500)), 0))","v":{"$error":"#N/A"}},""]
[{"$f":"IF(E1487=\"\",\"\",GetAddress(E1487))","v":""},{"$f":"IF(E1487=\"\",\"\",GetAddress(E1487))","v":""},null,null,null,null,null,null,null,null,null,null,null,null,null,null,null,null,null,null,null,null,null,null,null,null,null,null,null,0,0,0,0,0,0,0,"","",{"$f":"INDEX($AL$3:$AL$1500, MATCH(0, IF(ISBLANK($AL$3:$AL$1500), 1, COUNTIF(AM$3:AM1484, $AL$3:$AL$1500)), 0))","v":{"$error":"#N/A"}},""]
[{"$f":"IF(E1488=\"\",\"\",GetAddress(E1488))","v":""},{"$f":"IF(E1488=\"\",\"\",GetAddress(E1488))","v":""},null,null,null,null,null,null,null,null,null,null,null,null,null,null,null,null,null,null,null,null,null,null,null,null,null,null,null,0,0,0,0,0,0,0,"","",{"$f":"INDEX($AL$3:$AL$1500, MATCH(0, IF(ISBLANK($AL$3:$AL$1500), 1, COUNTIF(AM$3:AM1485, $AL$3:$AL$1500)), 0))","v":{"$error":"#N/A"}},""]
[{"$f":"IF(E1489=\"\",\"\",GetAddress(E1489))","v":""},{"$f":"IF(E1489=\"\",\"\",GetAddress(E1489))","v":""},null,null,null,null,null,null,null,null,null,null,null,null,null,null,null,null,null,null,null,null,null,null,null,null,null,null,null,0,0,0,0,0,0,0,"","",{"$f":"INDEX($AL$3:$AL$1500, MATCH(0, IF(ISBLANK($AL$3:$AL$1500), 1, COUNTIF(AM$3:AM1486, $AL$3:$AL$1500)), 0))","v":{"$error":"#N/A"}},""]
[{"$f":"IF(E1490=\"\",\"\",GetAddress(E1490))","v":""},{"$f":"IF(E1490=\"\",\"\",GetAddress(E1490))","v":""},null,null,null,null,null,null,null,null,null,null,null,null,null,null,null,null,null,null,null,null,null,null,null,null,null,null,null,0,0,0,0,0,0,0,{"$f":"IF(AJ1488=0,\"\",AJ1488)","v":""},"",{"$f":"INDEX($AL$3:$AL$1500, MATCH(0, IF(ISBLANK($AL$3:$AL$1500), 1, COUNTIF(AM$3:AM1487, $AL$3:$AL$1500)), 0))","v":{"$error":"#N/A"}},""]
[{"$f":"IF(E1491=\"\",\"\",GetAddress(E1491))","v":""},{"$f":"IF(E1491=\"\",\"\",GetAddress(E1491))","v":""},null,null,null,null,null,null,null,null,null,null,null,null,null,null,null,null,null,null,null,null,null,null,null,null,null,null,null,0,0,0,0,0,0,0,{"$f":"IF(AJ1489=0,\"\",AJ1489)","v":""},"",{"$f":"INDEX($AL$3:$AL$1500, MATCH(0, IF(ISBLANK($AL$3:$AL$1500), 1, COUNTIF(AM$3:AM1488, $AL$3:$AL$1500)), 0))","v":{"$error":"#N/A"}},""]
[{"$f":"IF(E1492=\"\",\"\",GetAddress(E1492))","v":""},{"$f":"IF(E1492=\"\",\"\",GetAddress(E1492))","v":""},null,null,null,null,null,null,null,null,null,null,null,null,null,null,null,null,null,null,null,null,null,null,null,null,null,null,null,0,0,0,0,0,0,0,"","",{"$f":"INDEX($AL$3:$AL$1500, MATCH(0, IF(ISBLANK($AL$3:$AL$1500), 1, COUNTIF(AM$3:AM1489, $AL$3:$AL$1500)), 0))","v":{"$error":"#N/A"}},""]
[{"$f":"IF(E1493=\"\",\"\",GetAddress(E1493))","v":""},{"$f":"IF(E1493=\"\",\"\",GetAddress(E1493))","v":""},null,null,null,null,null,null,null,null,null,null,null,null,null,null,null,null,null,null,null,null,null,null,null,null,null,null,null,0,0,0,0,0,0,0,"","",{"$f":"INDEX($AL$3:$AL$1500, MATCH(0, IF(ISBLANK($AL$3:$AL$1500), 1, COUNTIF(AM$3:AM1490, $AL$3:$AL$1500)), 0))","v":{"$error":"#N/A"}},""]
[{"$f":"IF(E1494=\"\",\"\",GetAddress(E1494))","v":""},{"$f":"IF(E1494=\"\",\"\",GetAddress(E1494))","v":""},null,null,null,null,null,null,null,null,null,null,null,null,null,null,null,null,null,null,null,null,null,null,null,null,null,null,null,0,0,0,0,0,0,0,"","",{"$f":"INDEX($AL$3:$AL$1500, MATCH(0, IF(ISBLANK($AL$3:$AL$1500), 1, COUNTIF(AM$3:AM1491, $AL$3:$AL$1500)), 0))","v":{"$error":"#N/A"}},""]
[{"$f":"IF(E1495=\"\",\"\",GetAddress(E1495))","v":""},{"$f":"IF(E1495=\"\",\"\",GetAddress(E1495))","v":""},null,null,null,null,null,null,null,null,null,null,null,null,null,null,null,null,null,null,null,null,null,null,null,null,null,null,null,0,0,0,0,0,0,0,"","",{"$f":"INDEX($AL$3:$AL$1500, MATCH(0, IF(ISBLANK($AL$3:$AL$1500), 1, COUNTIF(AM$3:AM1492, $AL$3:$AL$1500)), 0))","v":{"$error":"#N/A"}},""]
[{"$f":"IF(E1496=\"\",\"\",GetAddress(E1496))","v":""},{"$f":"IF(E1496=\"\",\"\",GetAddress(E1496))","v":""},null,null,null,null,null,null,null,null,null,null,null,null,null,null,null,null,null,null,null,null,null,null,null,null,null,null,null,0,0,0,0,0,0,0,"","",{"$f":"INDEX($AL$3:$AL$1500, MATCH(0, IF(ISBLANK($AL$3:$AL$1500), 1, COUNTIF(AM$3:AM1493, $AL$3:$AL$1500)), 0))","v":{"$error":"#N/A"}},""]
[{"$f":"IF(E1497=\"\",\"\",GetAddress(E1497))","v":""},{"$f":"IF(E1497=\"\",\"\",GetAddress(E1497))","v":""},null,null,null,null,null,null,null,null,null,null,null,null,null,null,null,null,null,null,null,null,null,null,null,null,null,null,null,0,0,0,0,0,0,0,"","",{"$f":"INDEX($AL$3:$AL$1500, MATCH(0, IF(ISBLANK($AL$3:$AL$1500), 1, COUNTIF(AM$3:AM1494, $AL$3:$AL$1500)), 0))","v":{"$error":"#N/A"}},""]
[{"$f":"IF(E1498=\"\",\"\",GetAddress(E1498))","v":""},{"$f":"IF(E1498=\"\",\"\",GetAddress(E1498))","v":""},null,null,null,null,null,null,null,null,null,null,null,null,null,null,null,null,null,null,null,null,null,null,null,null,null,null,null,0,0,0,0,0,0,0,"","",{"$f":"INDEX($AL$3:$AL$1500, MATCH(0, IF(ISBLANK($AL$3:$AL$1500), 1, COUNTIF(AM$3:AM1495, $AL$3:$AL$1500)), 0))","v":{"$error":"#N/A"}},""]
[{"$f":"IF(E1499=\"\",\"\",GetAddress(E1499))","v":""},{"$f":"IF(E1499=\"\",\"\",GetAddress(E1499))","v":""},null,null,null,null,null,null,null,null,null,null,null,null,null,null,null,null,null,null,null,null,null,null,null,null,null,null,null,0,0,0,0,0,0,0,"","",{"$f":"INDEX($AL$3:$AL$1500, MATCH(0, IF(ISBLANK($AL$3:$AL$1500), 1, COUNTIF(AM$3:AM1496, $AL$3:$AL$1500)), 0))","v":{"$error":"#N/A"}},""]
[{"$f":"IF(E1500=\"\",\"\",GetAddress(E1500))","v":""},{"$f":"IF(E1500=\"\",\"\",GetAddress(E1500))","v":""},null,null,null,null,null,null,null,null,null,null,null,null,null,null,null,null,null,null,null,null,null,null,null,null,null,null,null,0,0,0,0,0,0,0,"","",{"$f":"INDEX($AL$3:$AL$1500, MATCH(0, IF(ISBLANK($AL$3:$AL$1500), 1, COUNTIF(AM$3:AM1497, $AL$3:$AL$1500)), 0))","v":{"$error":"#N/A"}},""]
[{"$f":"IF(E1501=\"\",\"\",GetAddress(E1501))","v":""},{"$f":"IF(E1501=\"\",\"\",GetAddress(E1501))","v":""},null,null,null,null,null,null,null,null,null,null,null,null,null,null,null,null,null,null,null,null,null,null,null,null,null,null,null,0,0,0,0,0,0,0,"","",{"$f":"INDEX($AL$3:$AL$1500, MATCH(0, IF(ISBLANK($AL$3:$AL$1500), 1, COUNTIF(AM$3:AM1498, $AL$3:$AL$1500)), 0))","v":{"$error":"#N/A"}},""]
[{"$f":"IF(E1502=\"\",\"\",GetAddress(E1502))","v":""},{"$f":"IF(E1502=\"\",\"\",GetAddress(E1502))","v":""},null,null,null,null,null,null,null,null,null,null,null,null,null,null,null,null,null,null,null,null,null,null,null,null,null,null,null,0,0,0,0,0,0,0,"","",{"$f":"INDEX($AL$3:$AL$1500, MATCH(0, IF(ISBLANK($AL$3:$AL$1500), 1, COUNTIF(AM$3:AM1499, $AL$3:$AL$1500)), 0))","v":{"$error":"#N/A"}},""]

{"sheet":"Sheet2","index":2,"n_rows":2000,"n_cols":123,"rows_kept":1125,"cut":true,"hidden":true,"merged":[],"bounds":{"rows_first":500,"rows_last":125,"rows_between":500,"halvings":2}}
["http://football14.myfantasyleague.com/2013/player?L=14960&P=10352&PRINTER=1",null,null,null,null,null,null,null,null,null,null,null,null,null,null,null,null,null,null,null,null,null,null,null,null,null,7,{"$f":"CONCATENATE(\"C\",(AA1))","v":"C7"},{"$f":"INDIRECT(AB1)","v":0},{"$f":"B11","v":0},null,null,{"$f":"INDEX(C:C, SMALL(ROW(C$1:C$5000)+(5000*(C$1:C$5000=\"\")),ROW(A1)))&\"\"","v":""},{"$f":"IF(ISNUMBER(SEARCH(\"*,*\",AG1)),AG1,\"\")","v":""},{"$f":"INDEX(B:B, SMALL(ROW(B$1:B$5000)+(5000*(B$1:B$5000=\"\")),ROW(A1)))&\"\"","v":""},{"$f":"IF(ISNUMBER(SEARCH(\"*years*\",AI1)),AI1,\"\")","v":""},{"$f":"IF(ISNUMBER(SEARCH(\"*, 19*\",AI1)),AI1,\"\")","v":""},{"$f":"IF(ISNUMBER(SEARCH(\"*Round*\",AI1)),AI1,\"\")","v":""},null,null,{"$f":"INDEX(AH:AH,SMALL(ROW($AH$1:$AH$1999)+(1999*($AH$1:$AH$1999=\"\")), ROW(A1)))&\"\"","v":""},{"$f":"TRIM(TEXT(RIGHT(AO1,2),))","v":""},{"$f":"IF(ISNUMBER(SEARCH(\"*QB*\",AP1)),AO1,\"\")","v":""},{"$f":"IFERROR(IF(ISNUMBER(SEARCH(\"*QB*\",AQ1)),BV1,\"\"),VALUE(0))","v":""},{"$f":"IFERROR(IF(ISNUMBER(SEARCH(\"*QB*\",AQ1)),BX1,\"\"),VALUE(0))","v":""},{"$f":"IF(ISNUMBER(SEARCH(\"*RB*\",AP1)),AO1,\"\")","v":""},{"$f":"IFERROR(IF(ISNUMBER(SEARCH(\"*RB*\",AT1)),BV1,\"\"),VALUE(0))","v":""},{"$f":"IFERROR(IF(ISNUMBER(SEARCH(\"*RB*\",AT1)),BX1,\"\"),VALUE(0))","v":""},{"$f":"IF(ISNUMBER(SEARCH(\"*WR*\",AP1)),AO1,\"\")","v":""},{"$f":"IFERROR(IF(ISNUMBER(SEARCH(\"*WR*\",AW1)),BV1,\"\"),VALUE(0))","v":""},{"$f":"IFERROR(IF(ISNUMBER(SEARCH(\"*WR*\",AW1)),BX1,\"\"),VALUE(0))","v":""},{"$f":"IF(ISNUMBER(SEARCH(\"*TE*\",AP1)),AO1,\"\")","v":""},{"$f":"IFERROR(IF(ISNUMBER(SEARCH(\"*TE*\",AZ1)),BV1,\"\"),VALUE(0))","v":""},{"$f":"IFERROR(IF(ISNUMBER(SEARCH(\"*TE*\",AZ1)),BX1,\"\"),VALUE(0))","v":""},{"$f":"IF(ISNUMBER(SEARCH(\"*PK*\",AP1)),AO1,\"\")","v":""},{"$f":"IFERROR(IF(ISNUMBER(SEARCH(\"*PK*\",BC1)),BV1,\"\"),VALUE(0))","v":""},{"$f":"IFERROR(IF(ISNUMBER(SEARCH(\"*PK*\",BC1)),BX1,\"\"),VALUE(0))","v":""},{"$f":"IF(ISNUMBER(SEARCH(\"*DT*\",AP1)),AO1,\"\")","v":""},{"$f":"IFERROR(IF(ISNUMBER(SEARCH(\"*DT*\",BF1)),BV1,\"\"),VALUE(0))","v":""},{"$f":"IFERROR(IF(ISNUMBER(SEARCH(\"*DT*\",BF1)),BX1,\"\"),VALUE(0))","v":""},{"$f":"IF(ISNUMBER(SEARCH(\"*DE*\",AP1)),AO1,\"\")","v":""},{"$f":"IFERROR(IF(ISNUMBER(SEARCH(\"*DE*\",BI1)),BV1,\"\"),VALUE(0))","v":""},{"$f":"IFERROR(IF(ISNUMBER(SEARCH(\"*DE*\",BI1)),BX1,\"\"),VALUE(0))","v":""},{"$f":"IF(ISNUMBER(SEARCH(\"*LB*\",AP1)),AO1,\"\")","v":""},{"$f":"IFERROR(IF(ISNUMBER(SEARCH(\"*LB*\",BL1)),BV1,\"\"),VALUE(0))","v":""},{"$f":"IFERROR(IF(ISNUMBER(SEARCH(\"*LB*\",BL1)),BX1,\"\"),VALUE(0))","v":""},{"$f":"IF(ISNUMBER(SEARCH(\"*CB*\",AP1)),AO1,\"\")","v":""},{"$f":"IFERROR(IF(ISNUMBER(SEARCH(\"*CB*\",BO1)),BV1,\"\"),VALUE(0))","v":""},{"$f":"IFERROR(IF(ISNUMBER(SEARCH(\"*CB*\",BO1)),BX1,\"\"),VALUE(0))","v":""},{"$f":"IF(ISNUMBER(SEARCH(\"*S*\",AP1)),AO1,\"\")","v":""},{"$f":"IFERROR(IF(ISNUMBER(SEARCH(\"*S*\",BR1)),BV1,\"\"),VALUE(0))","v":""},{"$f":"IFERROR(IF(ISNUMBER(SEARCH(\"*S*\",BR1)),BX1,\"\"),VALUE(0))","v":""},{"$f":"INDEX(AJ:AJ,SMALL(ROW($AJ$1:$AJ$1999)+(1999*($AJ$1:$AJ$1999=\"\")), ROW(A1)))&\"\"","v":""},{"$f":"IFERROR(IF(BW1<>\"\",VALUE(LEFT(BU1,LEN(BU1)-6)),\"\"),VALUE(0))","v":""},{"$f":"INDEX(AK:AK,SMALL(ROW($AK$1:$AK$1999)+(1999*($AK$1:$AK$1999=\"\")), ROW(A1)))&\"\"","v":""},{"$f":"IF(BW1<>\"\",VALUE(RIGHT(BW1,2)),\"\")","v":""},{"$f":"IF(BX1=\"\",\"\",IF(BX1>27,1,0))","v":""},{"$f":"IF(BX1=\"\",\"\",IF(BX1<27,1,0))","v":""},"Total Players",{"$f":"IF(BV1=\"\",\"\",IF(BV1>3.5,1,0))","v":""},{"$f":"IF(BV1=\"\",\"\",IF(BV1<3.5,1,0))","v":""},"Average Years Playing","Average Age","Median Age","Oldest Player","Youngest Player","Oldest QB","Oldest RB","Oldest WR","Oldest TE","Oldest K","Oldest DT","Oldest DE","Oldest LB","Oldest CB","Oldest S","Most NFL Experience","Least Experience","Median Experience","Players Younger than Average","Players Older than Average","Players With Less Experience than Average","Players With More Experience than Average","Average QB Age","Average QB Experience","Average RB Age","Average RB Experience","Average WR Age","Average WR Experience","Average TE Age","Average TE Experience","Average K Age","Average K Experience","Average DT Age","Average DT Experience","Average DE Age","Average DE Experience","Average LB Age","Average LB Experience","Average CB Age","Average CB Experience","Average S Age","Average S Experience"]
[null,null,null,null,null,null,null,null,null,null,null,null,null,null,null,null,null,null,null,null,null,null,null,null,null,null,null,null,null,null,null,null,{"$f":"INDEX(C:C, SMALL(ROW(C$1:C$5000)+(5000*(C$1:C$5000=\"\")),ROW(A2)))&\"\"","v":""},"",{"$f":"INDEX(B:B, SMALL(ROW(B$1:B$5000)+(5000*(B$1:B$5000=\"\")),ROW(A2)))&\"\"","v":""},{"$f":"IF(ISNUMBER(SEARCH(\"*years*\",AI2)),AI2,\"\")","v":""},{"$f":"IF(ISNUMBER(SEARCH(\"*, 19*\",AI2)),AI2,\"\")","v":""},"",null,null,{"$f":"INDEX(AH:AH,SMALL(ROW($AH$1:$AH$1999)+(1999*($AH$1:$AH$1999=\"\")), ROW(A2)))&\"\"","v":""},{"$f":"TRIM(TEXT(RIGHT(AO2,2),))","v":""},{"$f":"IF(ISNUMBER(SEARCH(\"*QB*\",AP2)),AO2,\"\")","v":""},{"$f":"IFERROR(IF(ISNUMBER(SEARCH(\"*QB*\",AQ2)),BV2,\"\"),VALUE(0))","v":""},{"$f":"IFERROR(IF(ISNUMBER(SEARCH(\"*QB*\",AQ2)),BX2,\"\"),VALUE(0))","v":""},{"$f":"IF(ISNUMBER(SEARCH(\"*RB*\",AP2)),AO2,\"\")","v":""},{"$f":"IFERROR(IF(ISNUMBER(SEARCH(\"*RB*\",AT2)),BV2,\"\"),VALUE(0))","v":""},{"$f":"IFERROR(IF(ISNUMBER(SEARCH(\"*RB*\",AT2)),BX2,\"\"),VALUE(0))","v":""},{"$f":"IF(ISNUMBER(SEARCH(\"*WR*\",AP2)),AO2,\"\")","v":""},{"$f":"IFERROR(IF(ISNUMBER(SEARCH(\"*WR*\",AW2)),BV2,\"\"),VALUE(0))","v":""},{"$f":"IFERROR(IF(ISNUMBER(SEARCH(\"*WR*\",AW2)),BX2,\"\"),VALUE(0))","v":""},{"$f":"IF(ISNUMBER(SEARCH(\"*TE*\",AP2)),AO2,\"\")","v":""},"",{"$f":"IFERROR(IF(ISNUMBER(SEARCH(\"*TE*\",AZ2)),BX2,\"\"),VALUE(0))","v":""},{"$f":"IF(ISNUMBER(SEARCH(\"*PK*\",AP2)),AO2,\"\")","v":""},{"$f":"IFERROR(IF(ISNUMBER(SEARCH(\"*PK*\",BC2)),BV2,\"\"),VALUE(0))","v":""},{"$f":"IFERROR(IF(ISNUMBER(SEARCH(\"*PK*\",BC2)),BX2,\"\"),VALUE(0))","v":""},{"$f":"IF(ISNUMBER(SEARCH(\"*DT*\",AP2)),AO2,\"\")","v":""},{"$f":"IFERROR(IF(ISNUMBER(SEARCH(\"*DT*\",BF2)),BV2,\"\"),VALUE(0))","v":""},{"$f":"IFERROR(IF(ISNUMBER(SEARCH(\"*DT*\",BF2)),BX2,\"\"),VALUE(0))","v":""},{"$f":"IF(ISNUMBER(SEARCH(\"*DE*\",AP2)),AO2,\"\")","v":""},{"$f":"IFERROR(IF(ISNUMBER(SEARCH(\"*DE*\",BI2)),BV2,\"\"),VALUE(0))","v":""},{"$f":"IFERROR(IF(ISNUMBER(SEARCH(\"*DE*\",BI2)),BX2,\"\"),VALUE(0))","v":""},{"$f":"IF(ISNUMBER(SEARCH(\"*LB*\",AP2)),AO2,\"\")","v":""},{"$f":"IFERROR(IF(ISNUMBER(SEARCH(\"*LB*\",BL2)),BV2,\"\"),VALUE(0))","v":""},{"$f":"IFERROR(IF(ISNUMBER(SEARCH(\"*LB*\",BL2)),BX2,\"\"),VALUE(0))","v":""},{"$f":"IF(ISNUMBER(SEARCH(\"*CB*\",AP2)),AO2,\"\")","v":""},{"$f":"IFERROR(IF(ISNUMBER(SEARCH(\"*CB*\",BO2)),BV2,\"\"),VALUE(0))","v":""},{"$f":"IFERROR(IF(ISNUMBER(SEARCH(\"*CB*\",BO2)),BX2,\"\"),VALUE(0))","v":""},{"$f":"IF(ISNUMBER(SEARCH(\"*S*\",AP2)),AO2,\"\")","v":""},{"$f":"IFERROR(IF(ISNUMBER(SEARCH(\"*S*\",BR2)),BV2,\"\"),VALUE(0))","v":""},{"$f":"IFERROR(IF(ISNUMBER(SEARCH(\"*S*\",BR2)),BX2,\"\"),VALUE(0))","v":""},{"$f":"INDEX(AJ:AJ,SMALL(ROW($AJ$1:$AJ$1999)+(1999*($AJ$1:$AJ$1999=\"\")), ROW(A2)))&\"\"","v":""},{"$f":"IFERROR(IF(BW2<>\"\",VALUE(LEFT(BU2,LEN(BU2)-6)),\"\"),VALUE(0))","v":""},{"$f":"INDEX(AK:AK,SMALL(ROW($AK$1:$AK$1999)+(1999*($AK$1:$AK$1999=\"\")), ROW(A2)))&\"\"","v":""},{"$f":"IF(BW2<>\"\",VALUE(RIGHT(BW2,2)),\"\")","v":""},{"$f":"IF(BX2=\"\",\"\",IF(BX2>27,1,0))","v":""},{"$f":"IF(BX2=\"\",\"\",IF(BX2<27,1,0))","v":""},{"$f":"SUM(CB1:CC5000)","v":0},{"$f":"IF(BV2=\"\",\"\",IF(BV2>3.5,1,0))","v":""},{"$f":"IF(BV2=\"\",\"\",IF(BV2<3.5,1,0))","v":""},{"$f":"AVERAGE(BV1:BV1999)","v":{"$error":"#DIV/0!"}},{"$f":"AVERAGE(BX1:BX1999)","v":{"$error":"#DIV/0!"}},{"$f":"MEDIAN(BX1:BX1999)","v":{"$error":"#NUM!"}},{"$f":"MAX(BX1:BX1999)","v":0},{"$f":"MIN(BX1:BX1999)","v":0},{"$f":"CONCATENATE(INDEX(AQ:AQ,MATCH(MAX(AS:AS),AS:AS,0)),\" (\",MAX(AS:AS),\")\")","v":{"$error":"#N/A"}},{"$f":"CONCATENATE(INDEX(AT:AT,MATCH(MAX(AV:AV),AV:AV,0)),\" (\",MAX(AV:AV),\")\")","v":{"$error":"#N/A"}},{"$f":"CONCATENATE(INDEX(AW:AW,MATCH(MAX(AY:AY),AY:AY,0)),\" (\",MAX(AY:AY),\")\")","v":{"$error":"#N/A"}},{"$f":"CONCATENATE(INDEX(AZ:AZ,MATCH(MAX(BB:BB),BB:BB,0)),\" (\",MAX(BB:BB),\")\")","v":{"$error":"#N/A"}},{"$f":"CONCATENATE(INDEX(BC:BC,MATCH(MAX(BE:BE),BE:BE,0)),\" (\",MAX(BE:BE),\")\")","v":{"$error":"#N/A"}},{"$f":"CONCATENATE(INDEX(BF:BF,MATCH(MAX(BH:BH),BH:BH,0)),\" (\",MAX(BH:BH),\")\")","v":{"$error":"#N/A"}},{"$f":"CONCATENATE(INDEX(BI:BI,MATCH(MAX(BK:BK),BK:BK,0)),\" (\",MAX(BK:BK),\")\")","v":{"$error":"#N/A"}},{"$f":"CONCATENATE(INDEX(BL:BL,MATCH(MAX(BN:BN),BN:BN,0)),\" (\",MAX(BN:BN),\")\")","v":{"$error":"#N/A"}},{"$f":"CONCATENATE(INDEX(BO:BO,MATCH(MAX(BQ:BQ),BQ:BQ,0)),\" (\",MAX(BQ:BQ),\")\")","v":{"$error":"#N/A"}},{"$f":"CONCATENATE(INDEX(BR:BR,MATCH(MAX(BT:BT),BT:BT,0)),\" (\",MAX(BT:BT),\")\")","v":{"$error":"#N/A"}},{"$f":"IF(CS3=0,\"\",MAX(BV1:BV1999))","v":""},{"$f":"IF(CT3=0,\"\",MIN(BV1:BV1999))","v":""},{"$f":"MEDIAN(BV1:BV1999)","v":{"$error":"#NUM!"}},{"$f":"SUM(BY1:BY1999)","v":0},{"$f":"SUM(BZ1:BZ1999)","v":0},{"$f":"SUM(CB1:CB1999)","v":0},{"$f":"SUM(CC1:CC1999)","v":0},{"$f":"AVERAGE(AS1:AS1999)","v":{"$error":"#DIV/0!"}},{"$f":"AVERAGE(AR1:AR1999)","v":{"$error":"#DIV/0!"}},{"$f":"AVERAGE(AV1:AV1999)","v":{"$error":"#DIV/0!"}},{"$f":"AVERAGE(AU1:AU1999)","v":{"$error":"#DIV/0!"}},{"$f":"AVERAGE(AY1:AY1999)","v":{"$error":"#DIV/0!"}},{"$f":"AVERAGE(AX1:AX1999)","v":{"$error":"#DIV/0!"}},{"$f":"AVERAGE(BB1:BB1999)","v":{"$error":"#DIV/0!"}},{"$f":"AVERAGE(BA1:BA1999)","v":{"$error":"#DIV/0!"}},{"$f":"AVERAGE(BE1:BE1999)","v":{"$error":"#DIV/0!"}},{"$f":"AVERAGE(BD1:BD1999)","v":{"$error":"#DIV/0!"}},{"$f":"AVERAGE(BH1:BH1999)","v":{"$error":"#DIV/0!"}},{"$f":"AVERAGE(BG1:BG1999)","v":{"$error":"#DIV/0!"}},{"$f":"AVERAGE(BK1:BK1999)","v":{"$error":"#DIV/0!"}},{"$f":"AVERAGE(BJ1:BJ1999)","v":{"$error":"#DIV/0!"}},{"$f":"AVERAGE(BN1:BN1999)","v":{"$error":"#DIV/0!"}},{"$f":"AVERAGE(BM1:BM1999)","v":{"$error":"#DIV/0!"}},{"$f":"AVERAGE(BQ1:BQ1999)","v":{"$error":"#DIV/0!"}},{"$f":"AVERAGE(BP1:BP1999)","v":{"$error":"#DIV/0!"}},{"$f":"AVERAGE(BT1:BT1999)","v":{"$error":"#DIV/0!"}},{"$f":"AVERAGE(BS1:BS1999)","v":{"$error":"#DIV/0!"}}]
[null,null,null,null,null,null,null,null,null,null,null,null,null,null,null,null,null,null,null,null,null,null,null,null,null,null,null,null,null,null,null,null,{"$f":"INDEX(C:C, SMALL(ROW(C$1:C$5000)+(5000*(C$1:C$5000=\"\")),ROW(A3)))&\"\"","v":""},"",{"$f":"INDEX(B:B, SMALL(ROW(B$1:B$5000)+(5000*(B$1:B$5000=\"\")),ROW(A3)))&\"\"","v":""},"","","",null,null,{"$f":"INDEX(AH:AH,SMALL(ROW($AH$1:$AH$1999)+(1999*($AH$1:$AH$1999=\"\")), ROW(A3)))&\"\"","v":""},"","","","","","","","","","","","","","","","","","","","","","","","","","","","","","","",{"$f":"INDEX(AJ:AJ,SMALL(ROW($AJ$1:$AJ$1999)+(1999*($AJ$1:$AJ$1999=\"\")), ROW(A3)))&\"\"","v":""},"",{"$f":"INDEX(AK:AK,SMALL(ROW($AK$1:$AK$1999)+(1999*($AK$1:$AK$1999=\"\")), ROW(A3)))&\"\"","v":""},"","","",null,"","",null,null,null,null,null,null,null,null,null,null,null,null,null,null,null,{"$f":"COUNT(BV1:BV1999)","v":0},{"$f":"COUNT(BV1:BV1999)","v":0}]
[null,null,null,null,null,null,null,null,null,null,null,null,null,null,null,null,null,null,null,null,null,null,null,null,null,null,null,null,null,null,null,null,{"$f":"INDEX(C:C, SMALL(ROW(C$1:C$5000)+(5000*(C$1:C$5000=\"\")),ROW(A4)))&\"\"","v":""},"",{"$f":"INDEX(B:B, SMALL(ROW(B$1:B$5000)+(5000*(B$1:B$5000=\"\")),ROW(A4)))&\"\"","v":""},"","","",null,null,{"$f":"INDEX(AH:AH,SMALL(ROW($AH$1:$AH$1999)+(1999*($AH$1:$AH$1999=\"\")), ROW(A4)))&\"\"","v":""},"","","","","","","","","","","","","","","","","","","","","","","","","","","","","","","",{"$f":"INDEX(AJ:AJ,SMALL(ROW($AJ$1:$AJ$1999)+(1999*($AJ$1:$AJ$1999=\"\")), ROW(A4)))&\"\"","v":""},"",{"$f":"INDEX(AK:AK,SMALL(ROW($AK$1:$AK$1999)+(1999*($AK$1:$AK$1999=\"\")), ROW(A4)))&\"\"","v":""},"","","",null,"",""]
[null,null,null,null,null,null,null,null,null,null,null,null,null,null,null,null,null,null,null,null,null,null,null,null,null,null,null,null,null,null,null,null,{"$f":"INDEX(C:C, SMALL(ROW(C$1:C$5000)+(5000*(C$1:C$5000=\"\")),ROW(A5)))&\"\"","v":""},"",{"$f":"INDEX(B:B, SMALL(ROW(B$1:B$5000)+(5000*(B$1:B$5000=\"\")),ROW(A5)))&\"\"","v":""},"","","",null,null,{"$f":"INDEX(AH:AH,SMALL(ROW($AH$1:$AH$1999)+(1999*($AH$1:$AH$1999=\"\")), ROW(A5)))&\"\"","v":""},"","","","","","","","","","","",{"$f":"IFERROR(IF(ISNUMBER(SEARCH(\"*TE*\",AZ5)),BV5,\"\"),VALUE(0))","v":""},"","","","","","","","","","","","","","","","","","","",{"$f":"INDEX(AJ:AJ,SMALL(ROW($AJ$1:$AJ$1999)+(1999*($AJ$1:$AJ$1999=\"\")), ROW(A5)))&\"\"","v":""},"",{"$f":"INDEX(AK:AK,SMALL(ROW($AK$1:$AK$1999)+(1999*($AK$1:$AK$1999=\"\")), ROW(A5)))&\"\"","v":""},"","","",null,"",""]
[null,null,null,null,null,null,null,null,null,null,null,null,null,null,null,null,null,null,null,null,null,null,null,null,null,null,null,null,null,null,null,null,{"$f":"INDEX(C:C, SMALL(ROW(C$1:C$5000)+(5000*(C$1:C$5000=\"\")),ROW(A6)))&\"\"","v":""},"",{"$f":"INDEX(B:B, SMALL(ROW(B$1:B$5000)+(5000*(B$1:B$5000=\"\")),ROW(A6)))&\"\"","v":""},"","","",null,null,{"$f":"INDEX(AH:AH,SMALL(ROW($AH$1:$AH$1999)+(1999*($AH$1:$AH$1999=\"\")), ROW(A6)))&\"\"","v":""},"","","","","","","","","","","","","","","","","","","","","","","","","","","","","","","",{"$f":"INDEX(AJ:AJ,SMALL(ROW($AJ$1:$AJ$1999)+(1999*($AJ$1:$AJ$1999=\"\")), ROW(A6)))&\"\"","v":""},"",{"$f":"INDEX(AK:AK,SMALL(ROW($AK$1:$AK$1999)+(1999*($AK$1:$AK$1999=\"\")), ROW(A6)))&\"\"","v":""},"","","",null,"",""]
[null,null,null,null,null,null,null,null,null,null,null,null,null,null,null,null,null,null,null,null,null,null,null,null,null,null,null,null,null,null,null,null,{"$f":"INDEX(C:C, SMALL(ROW(C$1:C$5000)+(5000*(C$1:C$5000=\"\")),ROW(A7)))&\"\"","v":""},{"$f":"IF(ISNUMBER(SEARCH(\"*,*\",AG7)),AG7,\"\")","v":""},{"$f":"INDEX(B:B, SMALL(ROW(B$1:B$5000)+(5000*(B$1:B$5000=\"\")),ROW(A7)))&\"\"","v":""},"","","",null,null,{"$f":"INDEX(AH:AH,SMALL(ROW($AH$1:$AH$1999)+(1999*($AH$1:$AH$1999=\"\")), ROW(A7)))&\"\"","v":""},"","","","","","","","","","","","","","","","","","","","","","","","","","","","","","","",{"$f":"INDEX(AJ:AJ,SMALL(ROW($AJ$1:$AJ$1999)+(1999*($AJ$1:$AJ$1999=\"\")), ROW(A7)))&\"\"","v":""},"",{"$f":"INDEX(AK:AK,SMALL(ROW($AK$1:$AK$1999)+(1999*($AK$1:$AK$1999=\"\")), ROW(A7)))&\"\"","v":""},"","","",null,"",""]
[null,null,null,null,null,null,null,null,null,null,null,null,null,null,null,null,null,null,null,null,null,null,null,null,null,null,null,null,null,null,null,null,{"$f":"INDEX(C:C, SMALL(ROW(C$1:C$5000)+(5000*(C$1:C$5000=\"\")),ROW(A8)))&\"\"","v":""},"",{"$f":"INDEX(B:B, SMALL(ROW(B$1:B$5000)+(5000*(B$1:B$5000=\"\")),ROW(A8)))&\"\"","v":""},"","","",null,null,{"$f":"INDEX(AH:AH,SMALL(ROW($AH$1:$AH$1999)+(1999*($AH$1:$AH$1999=\"\")), ROW(A8)))&\"\"","v":""},"","","","","","","","","","","","","","","","","","","","","","","","","","","","","","","",{"$f":"INDEX(AJ:AJ,SMALL(ROW($AJ$1:$AJ$1999)+(1999*($AJ$1:$AJ$1999=\"\")), ROW(A8)))&\"\"","v":""},"",{"$f":"INDEX(AK:AK,SMALL(ROW($AK$1:$AK$1999)+(1999*($AK$1:$AK$1999=\"\")), ROW(A8)))&\"\"","v":""},"","","",null,"",""]
[null,null,null,null,null,null,null,null,null,null,null,null,null,null,null,null,null,null,null,null,null,null,null,null,null,null,null,null,null,null,null,null,{"$f":"INDEX(C:C, SMALL(ROW(C$1:C$5000)+(5000*(C$1:C$5000=\"\")),ROW(A9)))&\"\"","v":""},"",{"$f":"INDEX(B:B, SMALL(ROW(B$1:B$5000)+(5000*(B$1:B$5000=\"\")),ROW(A9)))&\"\"","v":""},"","","",null,null,{"$f":"INDEX(AH:AH,SMALL(ROW($AH$1:$AH$1999)+(1999*($AH$1:$AH$1999=\"\")), ROW(A9)))&\"\"","v":""},"","","","","","","","","","","","","","","","","","","","","","","","","","","","","","","",{"$f":"INDEX(AJ:AJ,SMALL(ROW($AJ$1:$AJ$1999)+(1999*($AJ$1:$AJ$1999=\"\")), ROW(A9)))&\"\"","v":""},"",{"$f":"INDEX(AK:AK,SMALL(ROW($AK$1:$AK$1999)+(1999*($AK$1:$AK$1999=\"\")), ROW(A9)))&\"\"","v":""},"","","",null,"",""]
[null,null,null,null,null,null,null,null,null,null,null,null,null,null,null,null,null,null,null,null,null,null,null,null,null,null,null,null,null,null,null,null,{"$f":"INDEX(C:C, SMALL(ROW(C$1:C$5000)+(5000*(C$1:C$5000=\"\")),ROW(A10)))&\"\"","v":""},"",{"$f":"INDEX(B:B, SMALL(ROW(B$1:B$5000)+(5000*(B$1:B$5000=\"\")),ROW(A10)))&\"\"","v":""},"","","",null,null,{"$f":"INDEX(AH:AH,SMALL(ROW($AH$1:$AH$1999)+(1999*($AH$1:$AH$1999=\"\")), ROW(A10)))&\"\"","v":""},"","","","","","","","","","","","","","","","","","","","","","","","","","","","","","","",{"$f":"INDEX(AJ:AJ,SMALL(ROW($AJ$1:$AJ$1999)+(1999*($AJ$1:$AJ$1999=\"\")), ROW(A10)))&\"\"","v":""},"",{"$f":"INDEX(AK:AK,SMALL(ROW($AK$1:$AK$1999)+(1999*($AK$1:$AK$1999=\"\")), ROW(A10)))&\"\"","v":""},"","","",null,"",""]
[null,null,null,null,null,null,null,null,null,null,null,null,null,null,null,null,null,null,null,null,null,null,null,null,null,null,null,null,null,null,null,null,{"$f":"INDEX(C:C, SMALL(ROW(C$1:C$5000)+(5000*(C$1:C$5000=\"\")),ROW(A11)))&\"\"","v":""},"",{"$f":"INDEX(B:B, SMALL(ROW(B$1:B$5000)+(5000*(B$1:B$5000=\"\")),ROW(A11)))&\"\"","v":""},"","","",null,null,{"$f":"INDEX(AH:AH,SMALL(ROW($AH$1:$AH$1999)+(1999*($AH$1:$AH$1999=\"\")), ROW(A11)))&\"\"","v":""},"","","","","","","","","","","","","","","","","","","","","","","","","","","","","","","",{"$f":"INDEX(AJ:AJ,SMALL(ROW($AJ$1:$AJ$1999)+(1999*($AJ$1:$AJ$1999=\"\")), ROW(A11)))&\"\"","v":""},"",{"$f":"INDEX(AK:AK,SMALL(ROW($AK$1:$AK$1999)+(1999*($AK$1:$AK$1999=\"\")), ROW(A11)))&\"\"","v":""},"","","",null,"",""]
[null,null,null,null,null,null,null,null,null,null,null,null,null,null,null,null,null,null,null,null,null,null,null,null,null,null,null,null,null,null,null,null,{"$f":"INDEX(C:C, SMALL(ROW(C$1:C$5000)+(5000*(C$1:C$5000=\"\")),ROW(A12)))&\"\"","v":""},"",{"$f":"INDEX(B:B, SMALL(ROW(B$1:B$5000)+(5000*(B$1:B$5000=\"\")),ROW(A12)))&\"\"","v":""},"","","",null,null,{"$f":"INDEX(AH:AH,SMALL(ROW($AH$1:$AH$1999)+(1999*($AH$1:$AH$1999=\"\")), ROW(A12)))&\"\"","v":""},"","","","","","","","","","","","","","","","","","","","","","","","","","","","","","","",{"$f":"INDEX(AJ:AJ,SMALL(ROW($AJ$1:$AJ$1999)+(1999*($AJ$1:$AJ$1999=\"\")), ROW(A12)))&\"\"","v":""},"",{"$f":"INDEX(AK:AK,SMALL(ROW($AK$1:$AK$1999)+(1999*($AK$1:$AK$1999=\"\")), ROW(A12)))&\"\"","v":""},"","","",null,"",""]
[null,null,null,null,null,null,null,null,null,null,null,null,null,null,null,null,null,null,null,null,null,null,null,null,null,null,null,null,null,null,null,null,{"$f":"INDEX(C:C, SMALL(ROW(C$1:C$5000)+(5000*(C$1:C$5000=\"\")),ROW(A13)))&\"\"","v":""},"",{"$f":"INDEX(B:B, SMALL(ROW(B$1:B$5000)+(5000*(B$1:B$5000=\"\")),ROW(A13)))&\"\"","v":""},"","","",null,null,{"$f":"INDEX(AH:AH,SMALL(ROW($AH$1:$AH$1999)+(1999*($AH$1:$AH$1999=\"\")), ROW(A13)))&\"\"","v":""},"","","","","","","","","","","","","","","","","","","","","","","","","","","","","","","",{"$f":"INDEX(AJ:AJ,SMALL(ROW($AJ$1:$AJ$1999)+(1999*($AJ$1:$AJ$1999=\"\")), ROW(A13)))&\"\"","v":""},"",{"$f":"INDEX(AK:AK,SMALL(ROW($AK$1:$AK$1999)+(1999*($AK$1:$AK$1999=\"\")), ROW(A13)))&\"\"","v":""},"","","",null,"",""]
[null,null,null,null,null,null,null,null,null,null,null,null,null,null,null,null,null,null,null,null,null,null,null,null,null,null,null,null,null,null,null,null,{"$f":"INDEX(C:C, SMALL(ROW(C$1:C$5000)+(5000*(C$1:C$5000=\"\")),ROW(A14)))&\"\"","v":""},"",{"$f":"INDEX(B:B, SMALL(ROW(B$1:B$5000)+(5000*(B$1:B$5000=\"\")),ROW(A14)))&\"\"","v":""},"","","",null,null,{"$f":"INDEX(AH:AH,SMALL(ROW($AH$1:$AH$1999)+(1999*($AH$1:$AH$1999=\"\")), ROW(A14)))&\"\"","v":""},"","","","","","","","","","","","","","","","","","","","","","","","","","","","","","","",{"$f":"INDEX(AJ:AJ,SMALL(ROW($AJ$1:$AJ$1999)+(1999*($AJ$1:$AJ$1999=\"\")), ROW(A14)))&\"\"","v":""},"",{"$f":"INDEX(AK:AK,SMALL(ROW($AK$1:$AK$1999)+(1999*($AK$1:$AK$1999=\"\")), ROW(A14)))&\"\"","v":""},"","","",null,"",""]
[null,null,null,null,null,null,null,null,null,null,null,null,null,null,null,null,null,null,null,null,null,null,null,null,null,null,null,null,null,null,null,null,{"$f":"INDEX(C:C, SMALL(ROW(C$1:C$5000)+(5000*(C$1:C$5000=\"\")),ROW(A15)))&\"\"","v":""},"",{"$f":"INDEX(B:B, SMALL(ROW(B$1:B$5000)+(5000*(B$1:B$5000=\"\")),ROW(A15)))&\"\"","v":""},"","","",null,null,{"$f":"INDEX(AH:AH,SMALL(ROW($AH$1:$AH$1999)+(1999*($AH$1:$AH$1999=\"\")), ROW(A15)))&\"\"","v":""},"","","","","","","","","","","","","","","","","","","","","","","","","","","","","","","",{"$f":"INDEX(AJ:AJ,SMALL(ROW($AJ$1:$AJ$1999)+(1999*($AJ$1:$AJ$1999=\"\")), ROW(A15)))&\"\"","v":""},"",{"$f":"INDEX(AK:AK,SMALL(ROW($AK$1:$AK$1999)+(1999*($AK$1:$AK$1999=\"\")), ROW(A15)))&\"\"","v":""},"","","",null,"",""]
[null,null,null,null,null,null,null,null,null,null,null,null,null,null,null,null,null,null,null,null,null,null,null,null,null,null,null,null,null,null,null,null,{"$f":"INDEX(C:C, SMALL(ROW(C$1:C$5000)+(5000*(C$1:C$5000=\"\")),ROW(A16)))&\"\"","v":""},"",{"$f":"INDEX(B:B, SMALL(ROW(B$1:B$5000)+(5000*(B$1:B$5000=\"\")),ROW(A16)))&\"\"","v":""},"","","",null,null,{"$f":"INDEX(AH:AH,SMALL(ROW($AH$1:$AH$1999)+(1999*($AH$1:$AH$1999=\"\")), ROW(A16)))&\"\"","v":""},"","","","","","","","","","","","","","","","","","","","","","","","","","","","","","","",{"$f":"INDEX(AJ:AJ,SMALL(ROW($AJ$1:$AJ$1999)+(1999*($AJ$1:$AJ$1999=\"\")), ROW(A16)))&\"\"","v":""},"",{"$f":"INDEX(AK:AK,SMALL(ROW($AK$1:$AK$1999)+(1999*($AK$1:$AK$1999=\"\")), ROW(A16)))&\"\"","v":""},"","","",null,"",""]
[null,null,null,null,null,null,null,null,null,null,null,null,null,null,null,null,null,null,null,null,null,null,null,null,null,null,null,null,null,null,null,null,{"$f":"INDEX(C:C, SMALL(ROW(C$1:C$5000)+(5000*(C$1:C$5000=\"\")),ROW(A17)))&\"\"","v":""},"",{"$f":"INDEX(B:B, SMALL(ROW(B$1:B$5000)+(5000*(B$1:B$5000=\"\")),ROW(A17)))&\"\"","v":""},"","","",null,null,{"$f":"INDEX(AH:AH,SMALL(ROW($AH$1:$AH$1999)+(1999*($AH$1:$AH$1999=\"\")), ROW(A17)))&\"\"","v":""},"","","","","","","","","","","","","","","","","","","","","","","","","","","","","","","",{"$f":"INDEX(AJ:AJ,SMALL(ROW($AJ$1:$AJ$1999)+(1999*($AJ$1:$AJ$1999=\"\")), ROW(A17)))&\"\"","v":""},"",{"$f":"INDEX(AK:AK,SMALL(ROW($AK$1:$AK$1999)+(1999*($AK$1:$AK$1999=\"\")), ROW(A17)))&\"\"","v":""},"","","",null,"",""]
[null,null,null,null,null,null,null,null,null,null,null,null,null,null,null,null,null,null,null,null,null,null,null,null,null,null,null,null,null,null,null,null,{"$f":"INDEX(C:C, SMALL(ROW(C$1:C$5000)+(5000*(C$1:C$5000=\"\")),ROW(A18)))&\"\"","v":""},"",{"$f":"INDEX(B:B, SMALL(ROW(B$1:B$5000)+(5000*(B$1:B$5000=\"\")),ROW(A18)))&\"\"","v":""},"","","",null,null,{"$f":"INDEX(AH:AH,SMALL(ROW($AH$1:$AH$1999)+(1999*($AH$1:$AH$1999=\"\")), ROW(A18)))&\"\"","v":""},"","","","","","","","","","","","","","","","","","","","","","","","","","","","","","","",{"$f":"INDEX(AJ:AJ,SMALL(ROW($AJ$1:$AJ$1999)+(1999*($AJ$1:$AJ$1999=\"\")), ROW(A18)))&\"\"","v":""},"",{"$f":"INDEX(AK:AK,SMALL(ROW($AK$1:$AK$1999)+(1999*($AK$1:$AK$1999=\"\")), ROW(A18)))&\"\"","v":""},"","","",null,"",""]
[null,null,null,null,null,null,null,null,null,null,null,null,null,null,null,null,null,null,null,null,null,null,null,null,null,null,null,null,null,null,null,null,{"$f":"INDEX(C:C, SMALL(ROW(C$1:C$5000)+(5000*(C$1:C$5000=\"\")),ROW(A19)))&\"\"","v":""},"",{"$f":"INDEX(B:B, SMALL(ROW(B$1:B$5000)+(5000*(B$1:B$5000=\"\")),ROW(A19)))&\"\"","v":""},"","","",null,null,{"$f":"INDEX(AH:AH,SMALL(ROW($AH$1:$AH$1999)+(1999*($AH$1:$AH$1999=\"\")), ROW(A19)))&\"\"","v":""},"","","","","","","","","","","","","","","","","","","","","","","","","","","","","","","",{"$f":"INDEX(AJ:AJ,SMALL(ROW($AJ$1:$AJ$1999)+(1999*($AJ$1:$AJ$1999=\"\")), ROW(A19)))&\"\"","v":""},"",{"$f":"INDEX(AK:AK,SMALL(ROW($AK$1:$AK$1999)+(1999*($AK$1:$AK$1999=\"\")), ROW(A19)))&\"\"","v":""},"","","",null,"",""]
[null,null,null,null,null,null,null,null,null,null,null,null,null,null,null,null,null,null,null,null,null,null,null,null,null,null,null,null,null,null,null,null,{"$f":"INDEX(C:C, SMALL(ROW(C$1:C$5000)+(5000*(C$1:C$5000=\"\")),ROW(A20)))&\"\"","v":""},"",{"$f":"INDEX(B:B, SMALL(ROW(B$1:B$5000)+(5000*(B$1:B$5000=\"\")),ROW(A20)))&\"\"","v":""},"","","",null,null,{"$f":"INDEX(AH:AH,SMALL(ROW($AH$1:$AH$1999)+(1999*($AH$1:$AH$1999=\"\")), ROW(A20)))&\"\"","v":""},"","","","","","","","","","","","","","","","","","","","","","","","","","","","","","","",{"$f":"INDEX(AJ:AJ,SMALL(ROW($AJ$1:$AJ$1999)+(1999*($AJ$1:$AJ$1999=\"\")), ROW(A20)))&\"\"","v":""},"",{"$f":"INDEX(AK:AK,SMALL(ROW($AK$1:$AK$1999)+(1999*($AK$1:$AK$1999=\"\")), ROW(A20)))&\"\"","v":""},"","","",null,"",""]
[null,null,null,null,null,null,null,null,null,null,null,null,null,null,null,null,null,null,null,null,null,null,null,null,null,null,null,null,null,null,null,null,{"$f":"INDEX(C:C, SMALL(ROW(C$1:C$5000)+(5000*(C$1:C$5000=\"\")),ROW(A21)))&\"\"","v":""},"",{"$f":"INDEX(B:B, SMALL(ROW(B$1:B$5000)+(5000*(B$1:B$5000=\"\")),ROW(A21)))&\"\"","v":""},"","","",null,null,{"$f":"INDEX(AH:AH,SMALL(ROW($AH$1:$AH$1999)+(1999*($AH$1:$AH$1999=\"\")), ROW(A21)))&\"\"","v":""},"","","","","","","","","","","","","","","","","","","","","","","","","","","","","","","",{"$f":"INDEX(AJ:AJ,SMALL(ROW($AJ$1:$AJ$1999)+(1999*($AJ$1:$AJ$1999=\"\")), ROW(A21)))&\"\"","v":""},"",{"$f":"INDEX(AK:AK,SMALL(ROW($AK$1:$AK$1999)+(1999*($AK$1:$AK$1999=\"\")), ROW(A21)))&\"\"","v":""},"","","",null,"",""]
[null,null,null,null,null,null,null,null,null,null,null,null,null,null,null,null,null,null,null,null,null,null,null,null,null,null,null,null,null,null,null,null,{"$f":"INDEX(C:C, SMALL(ROW(C$1:C$5000)+(5000*(C$1:C$5000=\"\")),ROW(A22)))&\"\"","v":""},"",{"$f":"INDEX(B:B, SMALL(ROW(B$1:B$5000)+(5000*(B$1:B$5000=\"\")),ROW(A22)))&\"\"","v":""},"","","",null,null,{"$f":"INDEX(AH:AH,SMALL(ROW($AH$1:$AH$1999)+(1999*($AH$1:$AH$1999=\"\")), ROW(A22)))&\"\"","v":""},"","","","","","","","","","","","","","","","","","","","","","","","","","","","","","","",{"$f":"INDEX(AJ:AJ,SMALL(ROW($AJ$1:$AJ$1999)+(1999*($AJ$1:$AJ$1999=\"\")), ROW(A22)))&\"\"","v":""},"",{"$f":"INDEX(AK:AK,SMALL(ROW($AK$1:$AK$1999)+(1999*($AK$1:$AK$1999=\"\")), ROW(A22)))&\"\"","v":""},"","","",null,"",""]
[null,null,null,null,null,null,null,null,null,null,null,null,null,null,null,null,null,null,null,null,null,null,null,null,null,null,null,null,null,null,null,null,{"$f":"INDEX(C:C, SMALL(ROW(C$1:C$5000)+(5000*(C$1:C$5000=\"\")),ROW(A23)))&\"\"","v":""},"",{"$f":"INDEX(B:B, SMALL(ROW(B$1:B$5000)+(5000*(B$1:B$5000=\"\")),ROW(A23)))&\"\"","v":""},"","","",null,null,{"$f":"INDEX(AH:AH,SMALL(ROW($AH$1:$AH$1999)+(1999*($AH$1:$AH$1999=\"\")), ROW(A23)))&\"\"","v":""},"","","","","","","","","","","","","","","","","","","","","","","","","","","","","","","",{"$f":"INDEX(AJ:AJ,SMALL(ROW($AJ$1:$AJ$1999)+(1999*($AJ$1:$AJ$1999=\"\")), ROW(A23)))&\"\"","v":""},"",{"$f":"INDEX(AK:AK,SMALL(ROW($AK$1:$AK$1999)+(1999*($AK$1:$AK$1999=\"\")), ROW(A23)))&\"\"","v":""},"","","",null,"",""]
[null,null,null,null,null,null,null,null,null,null,null,null,null,null,null,null,null,null,null,null,null,null,null,null,null,null,null,null,null,null,null,null,{"$f":"INDEX(C:C, SMALL(ROW(C$1:C$5000)+(5000*(C$1:C$5000=\"\")),ROW(A24)))&\"\"","v":""},"",{"$f":"INDEX(B:B, SMALL(ROW(B$1:B$5000)+(5000*(B$1:B$5000=\"\")),ROW(A24)))&\"\"","v":""},"","","",null,null,{"$f":"INDEX(AH:AH,SMALL(ROW($AH$1:$AH$1999)+(1999*($AH$1:$AH$1999=\"\")), ROW(A24)))&\"\"","v":""},"","","","","","","","","","","","","","","","","","","","","","","","","","","","","","","",{"$f":"INDEX(AJ:AJ,SMALL(ROW($AJ$1:$AJ$1999)+(1999*($AJ$1:$AJ$1999=\"\")), ROW(A24)))&\"\"","v":""},"",{"$f":"INDEX(AK:AK,SMALL(ROW($AK$1:$AK$1999)+(1999*($AK$1:$AK$1999=\"\")), ROW(A24)))&\"\"","v":""},"","","",null,"",""]
[null,null,null,null,null,null,null,null,null,null,null,null,null,null,null,null,null,null,null,null,null,null,null,null,null,null,null,null,null,null,null,null,{"$f":"INDEX(C:C, SMALL(ROW(C$1:C$5000)+(5000*(C$1:C$5000=\"\")),ROW(A25)))&\"\"","v":""},"",{"$f":"INDEX(B:B, SMALL(ROW(B$1:B$5000)+(5000*(B$1:B$5000=\"\")),ROW(A25)))&\"\"","v":""},"","","",null,null,{"$f":"INDEX(AH:AH,SMALL(ROW($AH$1:$AH$1999)+(1999*($AH$1:$AH$1999=\"\")), ROW(A25)))&\"\"","v":""},"","","","","","","","","","","","","","","","","","","","","","","","","","","","","","","",{"$f":"INDEX(AJ:AJ,SMALL(ROW($AJ$1:$AJ$1999)+(1999*($AJ$1:$AJ$1999=\"\")), ROW(A25)))&\"\"","v":""},"",{"$f":"INDEX(AK:AK,SMALL(ROW($AK$1:$AK$1999)+(1999*($AK$1:$AK$1999=\"\")), ROW(A25)))&\"\"","v":""},"","","",null,"",""]
[null,null,null,null,null,null,null,null,null,null,null,null,null,null,null,null,null,null,null,null,null,null,null,null,null,null,null,null,null,null,null,null,{"$f":"INDEX(C:C, SMALL(ROW(C$1:C$5000)+(5000*(C$1:C$5000=\"\")),ROW(A26)))&\"\"","v":""},"",{"$f":"INDEX(B:B, SMALL(ROW(B$1:B$5000)+(5000*(B$1:B$5000=\"\")),ROW(A26)))&\"\"","v":""},"","","",null,null,{"$f":"INDEX(AH:AH,SMALL(ROW($AH$1:$AH$1999)+(1999*($AH$1:$AH$1999=\"\")), ROW(A26)))&\"\"","v":""},"","","","","","","","","","","","","","","","","","","","","","","","","","","","","","","",{"$f":"INDEX(AJ:AJ,SMALL(ROW($AJ$1:$AJ$1999)+(1999*($AJ$1:$AJ$1999=\"\")), ROW(A26)))&\"\"","v":""},"",{"$f":"INDEX(AK:AK,SMALL(ROW($AK$1:$AK$1999)+(1999*($AK$1:$AK$1999=\"\")), ROW(A26)))&\"\"","v":""},"","","",null,"",""]
[null,null,null,null,null,null,null,null,null,null,null,null,null,null,null,null,null,null,null,null,null,null,null,null,null,null,null,null,null,null,null,null,{"$f":"INDEX(C:C, SMALL(ROW(C$1:C$5000)+(5000*(C$1:C$5000=\"\")),ROW(A27)))&\"\"","v":""},"",{"$f":"INDEX(B:B, SMALL(ROW(B$1:B$5000)+(5000*(B$1:B$5000=\"\")),ROW(A27)))&\"\"","v":""},"","","",null,null,{"$f":"INDEX(AH:AH,SMALL(ROW($AH$1:$AH$1999)+(1999*($AH$1:$AH$1999=\"\")), ROW(A27)))&\"\"","v":""},"","","","","","","","","","","","","","","","","","","","","","","","","","","","","","","",{"$f":"INDEX(AJ:AJ,SMALL(ROW($AJ$1:$AJ$1999)+(1999*($AJ$1:$AJ$1999=\"\")), ROW(A27)))&\"\"","v":""},"",{"$f":"INDEX(AK:AK,SMALL(ROW($AK$1:$AK$1999)+(1999*($AK$1:$AK$1999=\"\")), ROW(A27)))&\"\"","v":""},"","","",null,"",""]
[null,null,null,null,null,null,null,null,null,null,null,null,null,null,null,null,null,null,null,null,null,null,null,null,null,null,null,null,null,null,null,null,{"$f":"INDEX(C:C, SMALL(ROW(C$1:C$5000)+(5000*(C$1:C$5000=\"\")),ROW(A28)))&\"\"","v":""},"",{"$f":"INDEX(B:B, SMALL(ROW(B$1:B$5000)+(5000*(B$1:B$5000=\"\")),ROW(A28)))&\"\"","v":""},"","","",null,null,{"$f":"INDEX(AH:AH,SMALL(ROW($AH$1:$AH$1999)+(1999*($AH$1:$AH$1999=\"\")), ROW(A28)))&\"\"","v":""},"","","","","","","","","","","","","","","","","","","","","","","","","","","","","","","",{"$f":"INDEX(AJ:AJ,SMALL(ROW($AJ$1:$AJ$1999)+(1999*($AJ$1:$AJ$1999=\"\")), ROW(A28)))&\"\"","v":""},"",{"$f":"INDEX(AK:AK,SMALL(ROW($AK$1:$AK$1999)+(1999*($AK$1:$AK$1999=\"\")), ROW(A28)))&\"\"","v":""},"","","",null,"",""]
[null,null,null,null,null,null,null,null,null,null,null,null,null,null,null,null,null,null,null,null,null,null,null,null,null,null,null,null,null,null,null,null,{"$f":"INDEX(C:C, SMALL(ROW(C$1:C$5000)+(5000*(C$1:C$5000=\"\")),ROW(A29)))&\"\"","v":""},"",{"$f":"INDEX(B:B, SMALL(ROW(B$1:B$5000)+(5000*(B$1:B$5000=\"\")),ROW(A29)))&\"\"","v":""},"","","",null,null,{"$f":"INDEX(AH:AH,SMALL(ROW($AH$1:$AH$1999)+(1999*($AH$1:$AH$1999=\"\")), ROW(A29)))&\"\"","v":""},"","","","","","","","","","","",{"$f":"IFERROR(IF(ISNUMBER(SEARCH(\"*TE*\",AZ29)),BV29,\"\"),VALUE(0))","v":""},"","","","","","","","","","","","","","","","","","","",{"$f":"INDEX(AJ:AJ,SMALL(ROW($AJ$1:$AJ$1999)+(1999*($AJ$1:$AJ$1999=\"\")), ROW(A29)))&\"\"","v":""},"",{"$f":"INDEX(AK:AK,SMALL(ROW($AK$1:$AK$1999)+(1999*($AK$1:$AK$1999=\"\")), ROW(A29)))&\"\"","v":""},"","","",null,"",""]
[null,null,null,null,null,null,null,null,null,null,null,null,null,null,null,null,null,null,null,null,null,null,null,null,null,null,null,null,null,null,null,null,{"$f":"INDEX(C:C, SMALL(ROW(C$1:C$5000)+(5000*(C$1:C$5000=\"\")),ROW(A30)))&\"\"","v":""},"",{"$f":"INDEX(B:B, SMALL(ROW(B$1:B$5000)+(5000*(B$1:B$5000=\"\")),ROW(A30)))&\"\"","v":""},"","","",null,null,{"$f":"INDEX(AH:AH,SMALL(ROW($AH$1:$AH$1999)+(1999*($AH$1:$AH$1999=\"\")), ROW(A30)))&\"\"","v":""},"","","","","","","","","","","",{"$f":"IFERROR(IF(ISNUMBER(SEARCH(\"*TE*\",AZ30)),BV30,\"\"),VALUE(0))","v":""},"","","","","","","","","","","","","","","","","","","",{"$f":"INDEX(AJ:AJ,SMALL(ROW($AJ$1:$AJ$1999)+(1999*($AJ$1:$AJ$1999=\"\")), ROW(A30)))&\"\"","v":""},"",{"$f":"INDEX(AK:AK,SMALL(ROW($AK$1:$AK$1999)+(1999*($AK$1:$AK$1999=\"\")), ROW(A30)))&\"\"","v":""},"","","",null,"",""]
[null,null,null,null,null,null,null,null,null,null,null,null,null,null,null,null,null,null,null,null,null,null,null,null,null,null,null,null,null,null,null,null,{"$f":"INDEX(C:C, SMALL(ROW(C$1:C$5000)+(5000*(C$1:C$5000=\"\")),ROW(A31)))&\"\"","v":""},"",{"$f":"INDEX(B:B, SMALL(ROW(B$1:B$5000)+(5000*(B$1:B$5000=\"\")),ROW(A31)))&\"\"","v":""},"","","",null,null,{"$f":"INDEX(AH:AH,SMALL(ROW($AH$1:$AH$1999)+(1999*($AH$1:$AH$1999=\"\")), ROW(A31)))&\"\"","v":""},"","","","","","","","","","","","","","","","","","","","","","","","","","","","","","","",{"$f":"INDEX(AJ:AJ,SMALL(ROW($AJ$1:$AJ$1999)+(1999*($AJ$1:$AJ$1999=\"\")), ROW(A31)))&\"\"","v":""},"",{"$f":"INDEX(AK:AK,SMALL(ROW($AK$1:$AK$1999)+(1999*($AK$1:$AK$1999=\"\")), ROW(A31)))&\"\"","v":""},"","","",null,"",""]
[null,null,null,null,null,null,null,null,null,null,null,null,null,null,null,null,null,null,null,null,null,null,null,null,null,null,null,null,null,null,null,null,{"$f":"INDEX(C:C, SMALL(ROW(C$1:C$5000)+(5000*(C$1:C$5000=\"\")),ROW(A32)))&\"\"","v":""},"",{"$f":"INDEX(B:B, SMALL(ROW(B$1:B$5000)+(5000*(B$1:B$5000=\"\")),ROW(A32)))&\"\"","v":""},"","","",null,null,{"$f":"INDEX(AH:AH,SMALL(ROW($AH$1:$AH$1999)+(1999*($AH$1:$AH$1999=\"\")), ROW(A32)))&\"\"","v":""},"","","","","","","","","","","","","","","","","","","","","","","","","","","","","","","",{"$f":"INDEX(AJ:AJ,SMALL(ROW($AJ$1:$AJ$1999)+(1999*($AJ$1:$AJ$1999=\"\")), ROW(A32)))&\"\"","v":""},"",{"$f":"INDEX(AK:AK,SMALL(ROW($AK$1:$AK$1999)+(1999*($AK$1:$AK$1999=\"\")), ROW(A32)))&\"\"","v":""},"","","",null,"",""]
[null,null,null,null,null,null,null,null,null,null,null,null,null,null,null,null,null,null,null,null,null,null,null,null,null,null,null,null,null,null,null,null,{"$f":"INDEX(C:C, SMALL(ROW(C$1:C$5000)+(5000*(C$1:C$5000=\"\")),ROW(A33)))&\"\"","v":""},"",{"$f":"INDEX(B:B, SMALL(ROW(B$1:B$5000)+(5000*(B$1:B$5000=\"\")),ROW(A33)))&\"\"","v":""},"","","",null,null,{"$f":"INDEX(AH:AH,SMALL(ROW($AH$1:$AH$1999)+(1999*($AH$1:$AH$1999=\"\")), ROW(A33)))&\"\"","v":""},"","","","","","","","","","","","","","","","","","","","","","","","","","","","","","","",{"$f":"INDEX(AJ:AJ,SMALL(ROW($AJ$1:$AJ$1999)+(1999*($AJ$1:$AJ$1999=\"\")), ROW(A33)))&\"\"","v":""},"",{"$f":"INDEX(AK:AK,SMALL(ROW($AK$1:$AK$1999)+(1999*($AK$1:$AK$1999=\"\")), ROW(A33)))&\"\"","v":""},"","","",null,"",""]
[null,null,null,null,null,null,null,null,null,null,null,null,null,null,null,null,null,null,null,null,null,null,null,null,null,null,null,null,null,null,null,null,{"$f":"INDEX(C:C, SMALL(ROW(C$1:C$5000)+(5000*(C$1:C$5000=\"\")),ROW(A34)))&\"\"","v":""},"",{"$f":"INDEX(B:B, SMALL(ROW(B$1:B$5000)+(5000*(B$1:B$5000=\"\")),ROW(A34)))&\"\"","v":""},"","","",null,null,{"$f":"INDEX(AH:AH,SMALL(ROW($AH$1:$AH$1999)+(1999*($AH$1:$AH$1999=\"\")), ROW(A34)))&\"\"","v":""},"","","","","","","","","","","","","","","","","","","","","","","","","","","","","","","",{"$f":"INDEX(AJ:AJ,SMALL(ROW($AJ$1:$AJ$1999)+(1999*($AJ$1:$AJ$1999=\"\")), ROW(A34)))&\"\"","v":""},"",{"$f":"INDEX(AK:AK,SMALL(ROW($AK$1:$AK$1999)+(1999*($AK$1:$AK$1999=\"\")), ROW(A34)))&\"\"","v":""},"","","",null,"",""]
[null,null,null,null,null,null,null,null,null,null,null,null,null,null,null,null,null,null,null,null,null,null,null,null,null,null,null,null,null,null,null,null,{"$f":"INDEX(C:C, SMALL(ROW(C$1:C$5000)+(5000*(C$1:C$5000=\"\")),ROW(A35)))&\"\"","v":""},"",{"$f":"INDEX(B:B, SMALL(ROW(B$1:B$5000)+(5000*(B$1:B$5000=\"\")),ROW(A35)))&\"\"","v":""},"","","",null,null,{"$f":"INDEX(AH:AH,SMALL(ROW($AH$1:$AH$1999)+(1999*($AH$1:$AH$1999=\"\")), ROW(A35)))&\"\"","v":""},"","","","","","","","","","","","","","","","","","","","","","","","","","","","","","","",{"$f":"INDEX(AJ:AJ,SMALL(ROW($AJ$1:$AJ$1999)+(1999*($AJ$1:$AJ$1999=\"\")), ROW(A35)))&\"\"","v":""},"",{"$f":"INDEX(AK:AK,SMALL(ROW($AK$1:$AK$1999)+(1999*($AK$1:$AK$1999=\"\")), ROW(A35)))&\"\"","v":""},"","","",null,"",""]
[null,null,null,null,null,null,null,null,null,null,null,null,null,null,null,null,null,null,null,null,null,null,null,null,null,null,null,null,null,null,null,null,{"$f":"INDEX(C:C, SMALL(ROW(C$1:C$5000)+(5000*(C$1:C$5000=\"\")),ROW(A36)))&\"\"","v":""},"",{"$f":"INDEX(B:B, SMALL(ROW(B$1:B$5000)+(5000*(B$1:B$5000=\"\")),ROW(A36)))&\"\"","v":""},"","","",null,null,{"$f":"INDEX(AH:AH,SMALL(ROW($AH$1:$AH$1999)+(1999*($AH$1:$AH$1999=\"\")), ROW(A36)))&\"\"","v":""},"","","","","","","","","","","","","","","","","","","","","","","","","","","","","","","",{"$f":"INDEX(AJ:AJ,SMALL(ROW($AJ$1:$AJ$1999)+(1999*($AJ$1:$AJ$1999=\"\")), ROW(A36)))&\"\"","v":""},"",{"$f":"INDEX(AK:AK,SMALL(ROW($AK$1:$AK$1999)+(1999*($AK$1:$AK$1999=\"\")), ROW(A36)))&\"\"","v":""},"","","",null,"",""]
[null,null,null,null,null,null,null,null,null,null,null,null,null,null,null,null,null,null,null,null,null,null,null,null,null,null,null,null,null,null,null,null,{"$f":"INDEX(C:C, SMALL(ROW(C$1:C$5000)+(5000*(C$1:C$5000=\"\")),ROW(A37)))&\"\"","v":""},"",{"$f":"INDEX(B:B, SMALL(ROW(B$1:B$5000)+(5000*(B$1:B$5000=\"\")),ROW(A37)))&\"\"","v":""},"","","",null,null,{"$f":"INDEX(AH:AH,SMALL(ROW($AH$1:$AH$1999)+(1999*($AH$1:$AH$1999=\"\")), ROW(A37)))&\"\"","v":""},"","","","","","","","","","","","","","","","","","","","","","","","","","","","","","","",{"$f":"INDEX(AJ:AJ,SMALL(ROW($AJ$1:$AJ$1999)+(1999*($AJ$1:$AJ$1999=\"\")), ROW(A37)))&\"\"","v":""},"",{"$f":"INDEX(AK:AK,SMALL(ROW($AK$1:$AK$1999)+(1999*($AK$1:$AK$1999=\"\")), ROW(A37)))&\"\"","v":""},"","","",null,"",""]
[null,null,null,null,null,null,null,null,null,null,null,null,null,null,null,null,null,null,null,null,null,null,null,null,null,null,null,null,null,null,null,null,{"$f":"INDEX(C:C, SMALL(ROW(C$1:C$5000)+(5000*(C$1:C$5000=\"\")),ROW(A38)))&\"\"","v":""},"",{"$f":"INDEX(B:B, SMALL(ROW(B$1:B$5000)+(5000*(B$1:B$5000=\"\")),ROW(A38)))&\"\"","v":""},"","","",null,null,{"$f":"INDEX(AH:AH,SMALL(ROW($AH$1:$AH$1999)+(1999*($AH$1:$AH$1999=\"\")), ROW(A38)))&\"\"","v":""},"","","","","","","","","","","","","","","","","","","","","","","","","","","","","","","",{"$f":"INDEX(AJ:AJ,SMALL(ROW($AJ$1:$AJ$1999)+(1999*($AJ$1:$AJ$1999=\"\")), ROW(A38)))&\"\"","v":""},"",{"$f":"INDEX(AK:AK,SMALL(ROW($AK$1:$AK$1999)+(1999*($AK$1:$AK$1999=\"\")), ROW(A38)))&\"\"","v":""},"","","",null,"",""]
[null,null,null,null,null,null,null,null,null,null,null,null,null,null,null,null,null,null,null,null,null,null,null,null,null,null,null,null,null,null,null,null,{"$f":"INDEX(C:C, SMALL(ROW(C$1:C$5000)+(5000*(C$1:C$5000=\"\")),ROW(A39)))&\"\"","v":""},"",{"$f":"INDEX(B:B, SMALL(ROW(B$1:B$5000)+(5000*(B$1:B$5000=\"\")),ROW(A39)))&\"\"","v":""},"","","",null,null,{"$f":"INDEX(AH:AH,SMALL(ROW($AH$1:$AH$1999)+(1999*($AH$1:$AH$1999=\"\")), ROW(A39)))&\"\"","v":""},"","","","","","","","","","","","","","","","","","","","","","","","","","","","","","","",{"$f":"INDEX(AJ:AJ,SMALL(ROW($AJ$1:$AJ$1999)+(1999*($AJ$1:$AJ$1999=\"\")), ROW(A39)))&\"\"","v":""},"",{"$f":"INDEX(AK:AK,SMALL(ROW($AK$1:$AK$1999)+(1999*($AK$1:$AK$1999=\"\")), ROW(A39)))&\"\"","v":""},"","","",null,"",""]
[null,null,null,null,null,null,null,null,null,null,null,null,null,null,null,null,null,null,null,null,null,null,null,null,null,null,null,null,null,null,null,null,{"$f":"INDEX(C:C, SMALL(ROW(C$1:C$5000)+(5000*(C$1:C$5000=\"\")),ROW(A40)))&\"\"","v":""},"",{"$f":"INDEX(B:B, SMALL(ROW(B$1:B$5000)+(5000*(B$1:B$5000=\"\")),ROW(A40)))&\"\"","v":""},"","","",null,null,{"$f":"INDEX(AH:AH,SMALL(ROW($AH$1:$AH$1999)+(1999*($AH$1:$AH$1999=\"\")), ROW(A40)))&\"\"","v":""},"","","","","","","","","","","","","","","","","","","","","","","","","","","","","","","",{"$f":"INDEX(AJ:AJ,SMALL(ROW($AJ$1:$AJ$1999)+(1999*($AJ$1:$AJ$1999=\"\")), ROW(A40)))&\"\"","v":""},"",{"$f":"INDEX(AK:AK,SMALL(ROW($AK$1:$AK$1999)+(1999*($AK$1:$AK$1999=\"\")), ROW(A40)))&\"\"","v":""},"","","",null,"",""]
[null,null,null,null,null,null,null,null,null,null,null,null,null,null,null,null,null,null,null,null,null,null,null,null,null,null,null,null,null,null,null,null,{"$f":"INDEX(C:C, SMALL(ROW(C$1:C$5000)+(5000*(C$1:C$5000=\"\")),ROW(A41)))&\"\"","v":""},"",{"$f":"INDEX(B:B, SMALL(ROW(B$1:B$5000)+(5000*(B$1:B$5000=\"\")),ROW(A41)))&\"\"","v":""},"","","",null,null,{"$f":"INDEX(AH:AH,SMALL(ROW($AH$1:$AH$1999)+(1999*($AH$1:$AH$1999=\"\")), ROW(A41)))&\"\"","v":""},"","","","","","","","","","","","","","","","","","","","","","","","","","","","","","","",{"$f":"INDEX(AJ:AJ,SMALL(ROW($AJ$1:$AJ$1999)+(1999*($AJ$1:$AJ$1999=\"\")), ROW(A41)))&\"\"","v":""},"",{"$f":"INDEX(AK:AK,SMALL(ROW($AK$1:$AK$1999)+(1999*($AK$1:$AK$1999=\"\")), ROW(A41)))&\"\"","v":""},"","","",null,"",""]
[null,null,null,null,null,null,null,null,null,null,null,null,null,null,null,null,null,null,null,null,null,null,null,null,null,null,null,null,null,null,null,null,{"$f":"INDEX(C:C, SMALL(ROW(C$1:C$5000)+(5000*(C$1:C$5000=\"\")),ROW(A42)))&\"\"","v":""},"",{"$f":"INDEX(B:B, SMALL(ROW(B$1:B$5000)+(5000*(B$1:B$5000=\"\")),ROW(A42)))&\"\"","v":""},"","","",null,null,{"$f":"INDEX(AH:AH,SMALL(ROW($AH$1:$AH$1999)+(1999*($AH$1:$AH$1999=\"\")), ROW(A42)))&\"\"","v":""},"","","","","","","","","","","","","","","","","","","","","","","","","","","","","","","",{"$f":"INDEX(AJ:AJ,SMALL(ROW($AJ$1:$AJ$1999)+(1999*($AJ$1:$AJ$1999=\"\")), ROW(A42)))&\"\"","v":""},"",{"$f":"INDEX(AK:AK,SMALL(ROW($AK$1:$AK$1999)+(1999*($AK$1:$AK$1999=\"\")), ROW(A42)))&\"\"","v":""},"","","",null,"",""]
[null,null,null,null,null,null,null,null,null,null,null,null,null,null,null,null,null,null,null,null,null,null,null,null,null,null,null,null,null,null,null,null,{"$f":"INDEX(C:C, SMALL(ROW(C$1:C$5000)+(5000*(C$1:C$5000=\"\")),ROW(A43)))&\"\"","v":""},"",{"$f":"INDEX(B:B, SMALL(ROW(B$1:B$5000)+(5000*(B$1:B$5000=\"\")),ROW(A43)))&\"\"","v":""},"","","",null,null,{"$f":"INDEX(AH:AH,SMALL(ROW($AH$1:$AH$1999)+(1999*($AH$1:$AH$1999=\"\")), ROW(A43)))&\"\"","v":""},"","","","","","","","","","","","","","","","","","","","","","","","","","","","","","","",{"$f":"INDEX(AJ:AJ,SMALL(ROW($AJ$1:$AJ$1999)+(1999*($AJ$1:$AJ$1999=\"\")), ROW(A43)))&\"\"","v":""},"",{"$f":"INDEX(AK:AK,SMALL(ROW($AK$1:$AK$1999)+(1999*($AK$1:$AK$1999=\"\")), ROW(A43)))&\"\"","v":""},"","","",null,"",""]
[null,null,null,null,null,null,null,null,null,null,null,null,null,null,null,null,null,null,null,null,null,null,null,null,null,null,null,null,null,null,null,null,{"$f":"INDEX(C:C, SMALL(ROW(C$1:C$5000)+(5000*(C$1:C$5000=\"\")),ROW(A44)))&\"\"","v":""},"",{"$f":"INDEX(B:B, SMALL(ROW(B$1:B$5000)+(5000*(B$1:B$5000=\"\")),ROW(A44)))&\"\"","v":""},"","","",null,null,{"$f":"INDEX(AH:AH,SMALL(ROW($AH$1:$AH$1999)+(1999*($AH$1:$AH$1999=\"\")), ROW(A44)))&\"\"","v":""},"","","","","","","","","","","","","","","","","","","","","","","","","","","","","","","",{"$f":"INDEX(AJ:AJ,SMALL(ROW($AJ$1:$AJ$1999)+(1999*($AJ$1:$AJ$1999=\"\")), ROW(A44)))&\"\"","v":""},"",{"$f":"INDEX(AK:AK,SMALL(ROW($AK$1:$AK$1999)+(1999*($AK$1:$AK$1999=\"\")), ROW(A44)))&\"\"","v":""},"","","",null,"",""]
[null,null,null,null,null,null,null,null,null,null,null,null,null,null,null,null,null,null,null,null,null,null,null,null,null,null,null,null,null,null,null,null,{"$f":"INDEX(C:C, SMALL(ROW(C$1:C$5000)+(5000*(C$1:C$5000=\"\")),ROW(A45)))&\"\"","v":""},"",{"$f":"INDEX(B:B, SMALL(ROW(B$1:B$5000)+(5000*(B$1:B$5000=\"\")),ROW(A45)))&\"\"","v":""},"","","",null,null,{"$f":"INDEX(AH:AH,SMALL(ROW($AH$1:$AH$1999)+(1999*($AH$1:$AH$1999=\"\")), ROW(A45)))&\"\"","v":""},"","","","","","","","","","","","","","","","","","","","","","","","","","","","","","","",{"$f":"INDEX(AJ:AJ,SMALL(ROW($AJ$1:$AJ$1999)+(1999*($AJ$1:$AJ$1999=\"\")), ROW(A45)))&\"\"","v":""},"",{"$f":"INDEX(AK:AK,SMALL(ROW($AK$1:$AK$1999)+(1999*($AK$1:$AK$1999=\"\")), ROW(A45)))&\"\"","v":""},"","","",null,"",""]
[null,null,null,null,null,null,null,null,null,null,null,null,null,null,null,null,null,null,null,null,null,null,null,null,null,null,null,null,null,null,null,null,{"$f":"INDEX(C:C, SMALL(ROW(C$1:C$5000)+(5000*(C$1:C$5000=\"\")),ROW(A46)))&\"\"","v":""},"",{"$f":"INDEX(B:B, SMALL(ROW(B$1:B$5000)+(5000*(B$1:B$5000=\"\")),ROW(A46)))&\"\"","v":""},"","","",null,null,{"$f":"INDEX(AH:AH,SMALL(ROW($AH$1:$AH$1999)+(1999*($AH$1:$AH$1999=\"\")), ROW(A46)))&\"\"","v":""},"","","","","","","","","","","","","","","","","","","","","","","","","","","","","","","",{"$f":"INDEX(AJ:AJ,SMALL(ROW($AJ$1:$AJ$1999)+(1999*($AJ$1:$AJ$1999=\"\")), ROW(A46)))&\"\"","v":""},"",{"$f":"INDEX(AK:AK,SMALL(ROW($AK$1:$AK$1999)+(1999*($AK$1:$AK$1999=\"\")), ROW(A46)))&\"\"","v":""},"","","",null,"",""]
[null,null,null,null,null,null,null,null,null,null,null,null,null,null,null,null,null,null,null,null,null,null,null,null,null,null,null,null,null,null,null,null,{"$f":"INDEX(C:C, SMALL(ROW(C$1:C$5000)+(5000*(C$1:C$5000=\"\")),ROW(A47)))&\"\"","v":""},"",{"$f":"INDEX(B:B, SMALL(ROW(B$1:B$5000)+(5000*(B$1:B$5000=\"\")),ROW(A47)))&\"\"","v":""},"","","",null,null,{"$f":"INDEX(AH:AH,SMALL(ROW($AH$1:$AH$1999)+(1999*($AH$1:$AH$1999=\"\")), ROW(A47)))&\"\"","v":""},"","","","","","","","","","","","","","","","","","","","","","","","","","","","","","","",{"$f":"INDEX(AJ:AJ,SMALL(ROW($AJ$1:$AJ$1999)+(1999*($AJ$1:$AJ$1999=\"\")), ROW(A47)))&\"\"","v":""},"",{"$f":"INDEX(AK:AK,SMALL(ROW($AK$1:$AK$1999)+(1999*($AK$1:$AK$1999=\"\")), ROW(A47)))&\"\"","v":""},"","","",null,"",""]
[null,null,null,null,null,null,null,null,null,null,null,null,null,null,null,null,null,null,null,null,null,null,null,null,null,null,null,null,null,null,null,null,{"$f":"INDEX(C:C, SMALL(ROW(C$1:C$5000)+(5000*(C$1:C$5000=\"\")),ROW(A48)))&\"\"","v":""},"",{"$f":"INDEX(B:B, SMALL(ROW(B$1:B$5000)+(5000*(B$1:B$5000=\"\")),ROW(A48)))&\"\"","v":""},"","","",null,null,{"$f":"INDEX(AH:AH,SMALL(ROW($AH$1:$AH$1999)+(1999*($AH$1:$AH$1999=\"\")), ROW(A48)))&\"\"","v":""},"","","","","","","","","","","","","","","","","","","","","","","","","","","","","","","",{"$f":"INDEX(AJ:AJ,SMALL(ROW($AJ$1:$AJ$1999)+(1999*($AJ$1:$AJ$1999=\"\")), ROW(A48)))&\"\"","v":""},"",{"$f":"INDEX(AK:AK,SMALL(ROW($AK$1:$AK$1999)+(1999*($AK$1:$AK$1999=\"\")), ROW(A48)))&\"\"","v":""},"","","",null,"",""]
[null,null,null,null,null,null,null,null,null,null,null,null,null,null,null,null,null,null,null,null,null,null,null,null,null,null,null,null,null,null,null,null,{"$f":"INDEX(C:C, SMALL(ROW(C$1:C$5000)+(5000*(C$1:C$5000=\"\")),ROW(A49)))&\"\"","v":""},"",{"$f":"INDEX(B:B, SMALL(ROW(B$1:B$5000)+(5000*(B$1:B$5000=\"\")),ROW(A49)))&\"\"","v":""},"","","",null,null,{"$f":"INDEX(AH:AH,SMALL(ROW($AH$1:$AH$1999)+(1999*($AH$1:$AH$1999=\"\")), ROW(A49)))&\"\"","v":""},"","","","","","","","","","","","","","","","","","","","","","","","","","","","","","","",{"$f":"INDEX(AJ:AJ,SMALL(ROW($AJ$1:$AJ$1999)+(1999*($AJ$1:$AJ$1999=\"\")), ROW(A49)))&\"\"","v":""},"",{"$f":"INDEX(AK:AK,SMALL(ROW($AK$1:$AK$1999)+(1999*($AK$1:$AK$1999=\"\")), ROW(A49)))&\"\"","v":""},"","","",null,"",""]
[null,null,null,null,null,null,null,null,null,null,null,null,null,null,null,null,null,null,null,null,null,null,null,null,null,null,null,null,null,null,null,null,{"$f":"INDEX(C:C, SMALL(ROW(C$1:C$5000)+(5000*(C$1:C$5000=\"\")),ROW(A50)))&\"\"","v":""},"",{"$f":"INDEX(B:B, SMALL(ROW(B$1:B$5000)+(5000*(B$1:B$5000=\"\")),ROW(A50)))&\"\"","v":""},"","","",null,null,{"$f":"INDEX(AH:AH,SMALL(ROW($AH$1:$AH$1999)+(1999*($AH$1:$AH$1999=\"\")), ROW(A50)))&\"\"","v":""},"","","","","","","","","","","","","","","","","","","","","","","","","","","","","","","",{"$f":"INDEX(AJ:AJ,SMALL(ROW($AJ$1:$AJ$1999)+(1999*($AJ$1:$AJ$1999=\"\")), ROW(A50)))&\"\"","v":""},"",{"$f":"INDEX(AK:AK,SMALL(ROW($AK$1:$AK$1999)+(1999*($AK$1:$AK$1999=\"\")), ROW(A50)))&\"\"","v":""},"","","",null,"",""]
[null,null,null,null,null,null,null,null,null,null,null,null,null,null,null,null,null,null,null,null,null,null,null,null,null,null,null,null,null,null,null,null,{"$f":"INDEX(C:C, SMALL(ROW(C$1:C$5000)+(5000*(C$1:C$5000=\"\")),ROW(A51)))&\"\"","v":""},"",{"$f":"INDEX(B:B, SMALL(ROW(B$1:B$5000)+(5000*(B$1:B$5000=\"\")),ROW(A51)))&\"\"","v":""},"","","",null,null,{"$f":"INDEX(AH:AH,SMALL(ROW($AH$1:$AH$1999)+(1999*($AH$1:$AH$1999=\"\")), ROW(A51)))&\"\"","v":""},"","","","","","","","","","","","","","","","","","","","","","","","","","","","","","","",{"$f":"INDEX(AJ:AJ,SMALL(ROW($AJ$1:$AJ$1999)+(1999*($AJ$1:$AJ$1999=\"\")), ROW(A51)))&\"\"","v":""},"",{"$f":"INDEX(AK:AK,SMALL(ROW($AK$1:$AK$1999)+(1999*($AK$1:$AK$1999=\"\")), ROW(A51)))&\"\"","v":""},"","","",null,"",""]
[null,null,null,null,null,null,null,null,null,null,null,null,null,null,null,null,null,null,null,null,null,null,null,null,null,null,null,null,null,null,null,null,{"$f":"INDEX(C:C, SMALL(ROW(C$1:C$5000)+(5000*(C$1:C$5000=\"\")),ROW(A52)))&\"\"","v":""},"",{"$f":"INDEX(B:B, SMALL(ROW(B$1:B$5000)+(5000*(B$1:B$5000=\"\")),ROW(A52)))&\"\"","v":""},"","","",null,null,{"$f":"INDEX(AH:AH,SMALL(ROW($AH$1:$AH$1999)+(1999*($AH$1:$AH$1999=\"\")), ROW(A52)))&\"\"","v":""},"","","","","","","","","","","","","","","","","","","","","","","","","","","","","","","",{"$f":"INDEX(AJ:AJ,SMALL(ROW($AJ$1:$AJ$1999)+(1999*($AJ$1:$AJ$1999=\"\")), ROW(A52)))&\"\"","v":""},"",{"$f":"INDEX(AK:AK,SMALL(ROW($AK$1:$AK$1999)+(1999*($AK$1:$AK$1999=\"\")), ROW(A52)))&\"\"","v":""},"","","",null,"",""]
[null,null,null,null,null,null,null,null,null,null,null,null,null,null,null,null,null,null,null,null,null,null,null,null,null,null,null,null,null,null,null,null,{"$f":"INDEX(C:C, SMALL(ROW(C$1:C$5000)+(5000*(C$1:C$5000=\"\")),ROW(A53)))&\"\"","v":""},"",{"$f":"INDEX(B:B, SMALL(ROW(B$1:B$5000)+(5000*(B$1:B$5000=\"\")),ROW(A53)))&\"\"","v":""},"","","",null,null,{"$f":"INDEX(AH:AH,SMALL(ROW($AH$1:$AH$1999)+(1999*($AH$1:$AH$1999=\"\")), ROW(A53)))&\"\"","v":""},"","","","","","","","","","","","","","","","","","","","","","","","","","","","","","","",{"$f":"INDEX(AJ:AJ,SMALL(ROW($AJ$1:$AJ$1999)+(1999*($AJ$1:$AJ$1999=\"\")), ROW(A53)))&\"\"","v":""},"",{"$f":"INDEX(AK:AK,SMALL(ROW($AK$1:$AK$1999)+(1999*($AK$1:$AK$1999=\"\")), ROW(A53)))&\"\"","v":""},"","","",null,"",""]
[null,null,null,null,null,null,null,null,null,null,null,null,null,null,null,null,null,null,null,null,null,null,null,null,null,null,null,null,null,null,null,null,{"$f":"INDEX(C:C, SMALL(ROW(C$1:C$5000)+(5000*(C$1:C$5000=\"\")),ROW(A54)))&\"\"","v":""},"",{"$f":"INDEX(B:B, SMALL(ROW(B$1:B$5000)+(5000*(B$1:B$5000=\"\")),ROW(A54)))&\"\"","v":""},"","","",null,null,{"$f":"INDEX(AH:AH,SMALL(ROW($AH$1:$AH$1999)+(1999*($AH$1:$AH$1999=\"\")), ROW(A54)))&\"\"","v":""},"","","","","","","","","","","","","","","","","","","","","","","","","","","","","","","",{"$f":"INDEX(AJ:AJ,SMALL(ROW($AJ$1:$AJ$1999)+(1999*($AJ$1:$AJ$1999=\"\")), ROW(A54)))&\"\"","v":""},"",{"$f":"INDEX(AK:AK,SMALL(ROW($AK$1:$AK$1999)+(1999*($AK$1:$AK$1999=\"\")), ROW(A54)))&\"\"","v":""},"","","",null,"",""]
[null,null,null,null,null,null,null,null,null,null,null,null,null,null,null,null,null,null,null,null,null,null,null,null,null,null,null,null,null,null,null,null,{"$f":"INDEX(C:C, SMALL(ROW(C$1:C$5000)+(5000*(C$1:C$5000=\"\")),ROW(A55)))&\"\"","v":""},"",{"$f":"INDEX(B:B, SMALL(ROW(B$1:B$5000)+(5000*(B$1:B$5000=\"\")),ROW(A55)))&\"\"","v":""},"","","",null,null,{"$f":"INDEX(AH:AH,SMALL(ROW($AH$1:$AH$1999)+(1999*($AH$1:$AH$1999=\"\")), ROW(A55)))&\"\"","v":""},"","","","","","","","","","","","","","","","","","","","","","","","","","","","","","","",{"$f":"INDEX(AJ:AJ,SMALL(ROW($AJ$1:$AJ$1999)+(1999*($AJ$1:$AJ$1999=\"\")), ROW(A55)))&\"\"","v":""},"",{"$f":"INDEX(AK:AK,SMALL(ROW($AK$1:$AK$1999)+(1999*($AK$1:$AK$1999=\"\")), ROW(A55)))&\"\"","v":""},"","","",null,"",""]
[null,null,null,null,null,null,null,null,null,null,null,null,null,null,null,null,null,null,null,null,null,null,null,null,null,null,null,null,null,null,null,null,{"$f":"INDEX(C:C, SMALL(ROW(C$1:C$5000)+(5000*(C$1:C$5000=\"\")),ROW(A56)))&\"\"","v":""},"",{"$f":"INDEX(B:B, SMALL(ROW(B$1:B$5000)+(5000*(B$1:B$5000=\"\")),ROW(A56)))&\"\"","v":""},"","","",null,null,{"$f":"INDEX(AH:AH,SMALL(ROW($AH$1:$AH$1999)+(1999*($AH$1:$AH$1999=\"\")), ROW(A56)))&\"\"","v":""},"","","","","","","","","","","","","","","","","","","","","","","","","","","","","","","",{"$f":"INDEX(AJ:AJ,SMALL(ROW($AJ$1:$AJ$1999)+(1999*($AJ$1:$AJ$1999=\"\")), ROW(A56)))&\"\"","v":""},"",{"$f":"INDEX(AK:AK,SMALL(ROW($AK$1:$AK$1999)+(1999*($AK$1:$AK$1999=\"\")), ROW(A56)))&\"\"","v":""},"","","",null,"",""]
[null,null,null,null,null,null,null,null,null,null,null,null,null,null,null,null,null,null,null,null,null,null,null,null,null,null,null,null,null,null,null,null,{"$f":"INDEX(C:C, SMALL(ROW(C$1:C$5000)+(5000*(C$1:C$5000=\"\")),ROW(A57)))&\"\"","v":""},"",{"$f":"INDEX(B:B, SMALL(ROW(B$1:B$5000)+(5000*(B$1:B$5000=\"\")),ROW(A57)))&\"\"","v":""},"","","",null,null,{"$f":"INDEX(AH:AH,SMALL(ROW($AH$1:$AH$1999)+(1999*($AH$1:$AH$1999=\"\")), ROW(A57)))&\"\"","v":""},"","","","","","","","","","","","","","","","","","","","","","","","","","","","","","","",{"$f":"INDEX(AJ:AJ,SMALL(ROW($AJ$1:$AJ$1999)+(1999*($AJ$1:$AJ$1999=\"\")), ROW(A57)))&\"\"","v":""},"",{"$f":"INDEX(AK:AK,SMALL(ROW($AK$1:$AK$1999)+(1999*($AK$1:$AK$1999=\"\")), ROW(A57)))&\"\"","v":""},"","","",null,"",""]
[null,null,null,null,null,null,null,null,null,null,null,null,null,null,null,null,null,null,null,null,null,null,null,null,null,null,null,null,null,null,null,null,{"$f":"INDEX(C:C, SMALL(ROW(C$1:C$5000)+(5000*(C$1:C$5000=\"\")),ROW(A58)))&\"\"","v":""},"",{"$f":"INDEX(B:B, SMALL(ROW(B$1:B$5000)+(5000*(B$1:B$5000=\"\")),ROW(A58)))&\"\"","v":""},"","","",null,null,{"$f":"INDEX(AH:AH,SMALL(ROW($AH$1:$AH$1999)+(1999*($AH$1:$AH$1999=\"\")), ROW(A58)))&\"\"","v":""},"","","","","","","","","","","","","","","","","","","","","","","","","","","","","","","",{"$f":"INDEX(AJ:AJ,SMALL(ROW($AJ$1:$AJ$1999)+(1999*($AJ$1:$AJ$1999=\"\")), ROW(A58)))&\"\"","v":""},"",{"$f":"INDEX(AK:AK,SMALL(ROW($AK$1:$AK$1999)+(1999*($AK$1:$AK$1999=\"\")), ROW(A58)))&\"\"","v":""},"","","",null,"",""]
[null,null,null,null,null,null,null,null,null,null,null,null,null,null,null,null,null,null,null,null,null,null,null,null,null,null,null,null,null,null,null,null,{"$f":"INDEX(C:C, SMALL(ROW(C$1:C$5000)+(5000*(C$1:C$5000=\"\")),ROW(A59)))&\"\"","v":""},"",{"$f":"INDEX(B:B, SMALL(ROW(B$1:B$5000)+(5000*(B$1:B$5000=\"\")),ROW(A59)))&\"\"","v":""},"","","",null,null,{"$f":"INDEX(AH:AH,SMALL(ROW($AH$1:$AH$1999)+(1999*($AH$1:$AH$1999=\"\")), ROW(A59)))&\"\"","v":""},"","","","","","","","","","","","","","","","","","","","","","","","","","","","","","","",{"$f":"INDEX(AJ:AJ,SMALL(ROW($AJ$1:$AJ$1999)+(1999*($AJ$1:$AJ$1999=\"\")), ROW(A59)))&\"\"","v":""},"",{"$f":"INDEX(AK:AK,SMALL(ROW($AK$1:$AK$1999)+(1999*($AK$1:$AK$1999=\"\")), ROW(A59)))&\"\"","v":""},"","","",null,"",""]
[null,null,null,null,null,null,null,null,null,null,null,null,null,null,null,null,null,null,null,null,null,null,null,null,null,null,null,null,null,null,null,null,{"$f":"INDEX(C:C, SMALL(ROW(C$1:C$5000)+(5000*(C$1:C$5000=\"\")),ROW(A60)))&\"\"","v":""},"",{"$f":"INDEX(B:B, SMALL(ROW(B$1:B$5000)+(5000*(B$1:B$5000=\"\")),ROW(A60)))&\"\"","v":""},"","","",null,null,{"$f":"INDEX(AH:AH,SMALL(ROW($AH$1:$AH$1999)+(1999*($AH$1:$AH$1999=\"\")), ROW(A60)))&\"\"","v":""},"","","","","","","","","","","","","","","","","","","","","","","","","","","","","","","",{"$f":"INDEX(AJ:AJ,SMALL(ROW($AJ$1:$AJ$1999)+(1999*($AJ$1:$AJ$1999=\"\")), ROW(A60)))&\"\"","v":""},"",{"$f":"INDEX(AK:AK,SMALL(ROW($AK$1:$AK$1999)+(1999*($AK$1:$AK$1999=\"\")), ROW(A60)))&\"\"","v":""},"","","",null,"",""]
[null,null,null,null,null,null,null,null,null,null,null,null,null,null,null,null,null,null,null,null,null,null,null,null,null,null,null,null,null,null,null,null,{"$f":"INDEX(C:C, SMALL(ROW(C$1:C$5000)+(5000*(C$1:C$5000=\"\")),ROW(A61)))&\"\"","v":""},"",{"$f":"INDEX(B:B, SMALL(ROW(B$1:B$5000)+(5000*(B$1:B$5000=\"\")),ROW(A61)))&\"\"","v":""},"","","",null,null,{"$f":"INDEX(AH:AH,SMALL(ROW($AH$1:$AH$1999)+(1999*($AH$1:$AH$1999=\"\")), ROW(A61)))&\"\"","v":""},"","","","","","","","","","","","","","","","","","","","","","","","","","","","","","","",{"$f":"INDEX(AJ:AJ,SMALL(ROW($AJ$1:$AJ$1999)+(1999*($AJ$1:$AJ$1999=\"\")), ROW(A61)))&\"\"","v":""},"",{"$f":"INDEX(AK:AK,SMALL(ROW($AK$1:$AK$1999)+(1999*($AK$1:$AK$1999=\"\")), ROW(A61)))&\"\"","v":""},"","","",null,"",""]
[null,null,null,null,null,null,null,null,null,null,null,null,null,null,null,null,null,null,null,null,null,null,null,null,null,null,null,null,null,null,null,null,{"$f":"INDEX(C:C, SMALL(ROW(C$1:C$5000)+(5000*(C$1:C$5000=\"\")),ROW(A62)))&\"\"","v":""},"",{"$f":"INDEX(B:B, SMALL(ROW(B$1:B$5000)+(5000*(B$1:B$5000=\"\")),ROW(A62)))&\"\"","v":""},"","","",null,null,{"$f":"INDEX(AH:AH,SMALL(ROW($AH$1:$AH$1999)+(1999*($AH$1:$AH$1999=\"\")), ROW(A62)))&\"\"","v":""},"","","","","","","","","","","","","","","","","","","","","","","","","","","","","","","",{"$f":"INDEX(AJ:AJ,SMALL(ROW($AJ$1:$AJ$1999)+(1999*($AJ$1:$AJ$1999=\"\")), ROW(A62)))&\"\"","v":""},"",{"$f":"INDEX(AK:AK,SMALL(ROW($AK$1:$AK$1999)+(1999*($AK$1:$AK$1999=\"\")), ROW(A62)))&\"\"","v":""},"","","",null,"",""]
[null,null,null,null,null,null,null,null,null,null,null,null,null,null,null,null,null,null,null,null,null,null,null,null,null,null,null,null,null,null,null,null,{"$f":"INDEX(C:C, SMALL(ROW(C$1:C$5000)+(5000*(C$1:C$5000=\"\")),ROW(A63)))&\"\"","v":""},"",{"$f":"INDEX(B:B, SMALL(ROW(B$1:B$5000)+(5000*(B$1:B$5000=\"\")),ROW(A63)))&\"\"","v":""},"","","",null,null,{"$f":"INDEX(AH:AH,SMALL(ROW($AH$1:$AH$1999)+(1999*($AH$1:$AH$1999=\"\")), ROW(A63)))&\"\"","v":""},"","","","","","","","","","","","","","","","","","","","","","","","","","","","","","","",{"$f":"INDEX(AJ:AJ,SMALL(ROW($AJ$1:$AJ$1999)+(1999*($AJ$1:$AJ$1999=\"\")), ROW(A63)))&\"\"","v":""},"",{"$f":"INDEX(AK:AK,SMALL(ROW($AK$1:$AK$1999)+(1999*($AK$1:$AK$1999=\"\")), ROW(A63)))&\"\"","v":""},"","",""]
[null,null,null,null,null,null,null,null,null,null,null,null,null,null,null,null,null,null,null,null,null,null,null,null,null,null,null,null,null,null,null,null,{"$f":"INDEX(C:C, SMALL(ROW(C$1:C$5000)+(5000*(C$1:C$5000=\"\")),ROW(A64)))&\"\"","v":""},"",{"$f":"INDEX(B:B, SMALL(ROW(B$1:B$5000)+(5000*(B$1:B$5000=\"\")),ROW(A64)))&\"\"","v":""},"","","",null,null,{"$f":"INDEX(AH:AH,SMALL(ROW($AH$1:$AH$1999)+(1999*($AH$1:$AH$1999=\"\")), ROW(A64)))&\"\"","v":""},"","","","","","","","","","","","","","","","","","","","","","","","","","","","","","","",{"$f":"INDEX(AJ:AJ,SMALL(ROW($AJ$1:$AJ$1999)+(1999*($AJ$1:$AJ$1999=\"\")), ROW(A64)))&\"\"","v":""},"",{"$f":"INDEX(AK:AK,SMALL(ROW($AK$1:$AK$1999)+(1999*($AK$1:$AK$1999=\"\")), ROW(A64)))&\"\"","v":""},"","","",null,"",""]
[null,null,null,null,null,null,null,null,null,null,null,null,null,null,null,null,null,null,null,null,null,null,null,null,null,null,null,null,null,null,null,null,{"$f":"INDEX(C:C, SMALL(ROW(C$1:C$5000)+(5000*(C$1:C$5000=\"\")),ROW(A65)))&\"\"","v":""},{"$f":"IF(ISNUMBER(SEARCH(\"*,*\",AG65)),AG65,\"\")","v":""},{"$f":"INDEX(B:B, SMALL(ROW(B$1:B$5000)+(5000*(B$1:B$5000=\"\")),ROW(A65)))&\"\"","v":""},"","",{"$f":"IF(ISNUMBER(SEARCH(\"*Round*\",AI65)),AI65,\"\")","v":""},null,null,{"$f":"INDEX(AH:AH,SMALL(ROW($AH$1:$AH$1999)+(1999*($AH$1:$AH$1999=\"\")), ROW(A65)))&\"\"","v":""},"","","","","","","","","","","","","","","","","","","","","","","","","","","","","","","",{"$f":"INDEX(AJ:AJ,SMALL(ROW($AJ$1:$AJ$1999)+(1999*($AJ$1:$AJ$1999=\"\")), ROW(A65)))&\"\"","v":""},"",{"$f":"INDEX(AK:AK,SMALL(ROW($AK$1:$AK$1999)+(1999*($AK$1:$AK$1999=\"\")), ROW(A65)))&\"\"","v":""},"","","",null,"",""]
[null,null,null,null,null,null,null,null,null,null,null,null,null,null,null,null,null,null,null,null,null,null,null,null,null,null,null,null,null,null,null,null,{"$f":"INDEX(C:C, SMALL(ROW(C$1:C$5000)+(5000*(C$1:C$5000=\"\")),ROW(A66)))&\"\"","v":""},"",{"$f":"INDEX(B:B, SMALL(ROW(B$1:B$5000)+(5000*(B$1:B$5000=\"\")),ROW(A66)))&\"\"","v":""},{"$f":"IF(ISNUMBER(SEARCH(\"*years*\",AI66)),AI66,\"\")","v":""},{"$f":"IF(ISNUMBER(SEARCH(\"*, 19*\",AI66)),AI66,\"\")","v":""},"",null,null,{"$f":"INDEX(AH:AH,SMALL(ROW($AH$1:$AH$1999)+(1999*($AH$1:$AH$1999=\"\")), ROW(A66)))&\"\"","v":""},{"$f":"TRIM(TEXT(RIGHT(AO66,2),))","v":""},{"$f":"IF(ISNUMBER(SEARCH(\"*QB*\",AP66)),AO66,\"\")","v":""},{"$f":"IFERROR(IF(ISNUMBER(SEARCH(\"*QB*\",AQ66)),BV66,\"\"),VALUE(0))","v":""},{"$f":"IFERROR(IF(ISNUMBER(SEARCH(\"*QB*\",AQ66)),BX66,\"\"),VALUE(0))","v":""},{"$f":"IF(ISNUMBER(SEARCH(\"*RB*\",AP66)),AO66,\"\")","v":""},{"$f":"IFERROR(IF(ISNUMBER(SEARCH(\"*RB*\",AT66)),BV66,\"\"),VALUE(0))","v":""},{"$f":"IFERROR(IF(ISNUMBER(SEARCH(\"*RB*\",AT66)),BX66,\"\"),VALUE(0))","v":""},{"$f":"IF(ISNUMBER(SEARCH(\"*WR*\",AP66)),AO66,\"\")","v":""},{"$f":"IFERROR(IF(ISNUMBER(SEARCH(\"*WR*\",AW66)),BV66,\"\"),VALUE(0))","v":""},{"$f":"IFERROR(IF(ISNUMBER(SEARCH(\"*WR*\",AW66)),BX66,\"\"),VALUE(0))","v":""},{"$f":"IF(ISNUMBER(SEARCH(\"*TE*\",AP66)),AO66,\"\")","v":""},"",{"$f":"IFERROR(IF(ISNUMBER(SEARCH(\"*TE*\",AZ66)),BX66,\"\"),VALUE(0))","v":""},{"$f":"IF(ISNUMBER(SEARCH(\"*PK*\",AP66)),AO66,\"\")","v":""},{"$f":"IFERROR(IF(ISNUMBER(SEARCH(\"*PK*\",BC66)),BV66,\"\"),VALUE(0))","v":""},{"$f":"IFERROR(IF(ISNUMBER(SEARCH(\"*PK*\",BC66)),BX66,\"\"),VALUE(0))","v":""},{"$f":"IF(ISNUMBER(SEARCH(\"*DT*\",AP66)),AO66,\"\")","v":""},{"$f":"IFERROR(IF(ISNUMBER(SEARCH(\"*DT*\",BF66)),BV66,\"\"),VALUE(0))","v":""},{"$f":"IFERROR(IF(ISNUMBER(SEARCH(\"*DT*\",BF66)),BX66,\"\"),VALUE(0))","v":""},{"$f":"IF(ISNUMBER(SEARCH(\"*DE*\",AP66)),AO66,\"\")","v":""},{"$f":"IFERROR(IF(ISNUMBER(SEARCH(\"*DE*\",BI66)),BV66,\"\"),VALUE(0))","v":""},{"$f":"IFERROR(IF(ISNUMBER(SEARCH(\"*DE*\",BI66)),BX66,\"\"),VALUE(0))","v":""},{"$f":"IF(ISNUMBER(SEARCH(\"*LB*\",AP66)),AO66,\"\")","v":""},{"$f":"IFERROR(IF(ISNUMBER(SEARCH(\"*LB*\",BL66)),BV66,\"\"),VALUE(0))","v":""},{"$f":"IFERROR(IF(ISNUMBER(SEARCH(\"*LB*\",BL66)),BX66,\"\"),VALUE(0))","v":""},{"$f":"IF(ISNUMBER(SEARCH(\"*CB*\",AP66)),AO66,\"\")","v":""},{"$f":"IFERROR(IF(ISNUMBER(SEARCH(\"*CB*\",BO66)),BV66,\"\"),VALUE(0))","v":""},{"$f":"IFERROR(IF(ISNUMBER(SEARCH(\"*CB*\",BO66)),BX66,\"\"),VALUE(0))","v":""},{"$f":"IF(ISNUMBER(SEARCH(\"*S*\",AP66)),AO66,\"\")","v":""},{"$f":"IFERROR(IF(ISNUMBER(SEARCH(\"*S*\",BR66)),BV66,\"\"),VALUE(0))","v":""},{"$f":"IFERROR(IF(ISNUMBER(SEARCH(\"*S*\",BR66)),BX66,\"\"),VALUE(0))","v":""},{"$f":"INDEX(AJ:AJ,SMALL(ROW($AJ$1:$AJ$1999)+(1999*($AJ$1:$AJ$1999=\"\")), ROW(A66)))&\"\"","v":""},{"$f":"IFERROR(IF(BW66<>\"\",VALUE(LEFT(BU66,LEN(BU66)-6)),\"\"),VALUE(0))","v":""},{"$f":"INDEX(AK:AK,SMALL(ROW($AK$1:$AK$1999)+(1999*($AK$1:$AK$1999=\"\")), ROW(A66)))&\"\"","v":""},{"$f":"IF(BW66<>\"\",VALUE(RIGHT(BW66,2)),\"\")","v":""},{"$f":"IF(BX66=\"\",\"\",IF(BX66>27,1,0))","v":""},{"$f":"IF(BX66=\"\",\"\",IF(BX66<27,1,0))","v":""},null,{"$f":"IF(BV66=\"\",\"\",IF(BV66>3.5,1,0))","v":""},{"$f":"IF(BV66=\"\",\"\",IF(BV66<3.5,1,0))","v":""}]
[null,null,null,null,null,null,null,null,null,null,null,null,null,null,null,null,null,null,null,null,null,null,null,null,null,null,null,null,null,null,null,null,{"$f":"INDEX(C:C, SMALL(ROW(C$1:C$5000)+(5000*(C$1:C$5000=\"\")),ROW(A67)))&\"\"","v":""},"",{"$f":"INDEX(B:B, SMALL(ROW(B$1:B$5000)+(5000*(B$1:B$5000=\"\")),ROW(A67)))&\"\"","v":""},"","","",null,null,{"$f":"INDEX(AH:AH,SMALL(ROW($AH$1:$AH$1999)+(1999*($AH$1:$AH$1999=\"\")), ROW(A67)))&\"\"","v":""},"","","","","","","","","","","","","","","","","","","","","","","","","","","","","","","",{"$f":"INDEX(AJ:AJ,SMALL(ROW($AJ$1:$AJ$1999)+(1999*($AJ$1:$AJ$1999=\"\")), ROW(A67)))&\"\"","v":""},"",{"$f":"INDEX(AK:AK,SMALL(ROW($AK$1:$AK$1999)+(1999*($AK$1:$AK$1999=\"\")), ROW(A67)))&\"\"","v":""},"","","",null,"",""]
[null,null,null,null,null,null,null,null,null,null,null,null,null,null,null,null,null,null,null,null,null,null,null,null,null,null,null,null,null,null,null,null,{"$f":"INDEX(C:C, SMALL(ROW(C$1:C$5000)+(5000*(C$1:C$5000=\"\")),ROW(A68)))&\"\"","v":""},"",{"$f":"INDEX(B:B, SMALL(ROW(B$1:B$5000)+(5000*(B$1:B$5000=\"\")),ROW(A68)))&\"\"","v":""},"","","",null,null,{"$f":"INDEX(AH:AH,SMALL(ROW($AH$1:$AH$1999)+(1999*($AH$1:$AH$1999=\"\")), ROW(A68)))&\"\"","v":""},"","","","","","","","","","","","","","","","","","","","","","","","","","","","","","","",{"$f":"INDEX(AJ:AJ,SMALL(ROW($AJ$1:$AJ$1999)+(1999*($AJ$1:$AJ$1999=\"\")), ROW(A68)))&\"\"","v":""},"",{"$f":"INDEX(AK:AK,SMALL(ROW($AK$1:$AK$1999)+(1999*($AK$1:$AK$1999=\"\")), ROW(A68)))&\"\"","v":""},"","","",null,"",""]
[null,null,null,null,null,null,null,null,null,null,null,null,null,null,null,null,null,null,null,null,null,null,null,null,null,null,null,null,null,null,null,null,{"$f":"INDEX(C:C, SMALL(ROW(C$1:C$5000)+(5000*(C$1:C$5000=\"\")),ROW(A69)))&\"\"","v":""},"",{"$f":"INDEX(B:B, SMALL(ROW(B$1:B$5000)+(5000*(B$1:B$5000=\"\")),ROW(A69)))&\"\"","v":""},"","","",null,null,{"$f":"INDEX(AH:AH,SMALL(ROW($AH$1:$AH$1999)+(1999*($AH$1:$AH$1999=\"\")), ROW(A69)))&\"\"","v":""},"","","","","","","","","","","","","","","","","","","","","","","","","","","","","","","",{"$f":"INDEX(AJ:AJ,SMALL(ROW($AJ$1:$AJ$1999)+(1999*($AJ$1:$AJ$1999=\"\")), ROW(A69)))&\"\"","v":""},"",{"$f":"INDEX(AK:AK,SMALL(ROW($AK$1:$AK$1999)+(1999*($AK$1:$AK$1999=\"\")), ROW(A69)))&\"\"","v":""},"","","",null,"",""]
[null,null,null,null,null,null,null,null,null,null,null,null,null,null,null,null,null,null,null,null,null,null,null,null,null,null,null,null,null,null,null,null,{"$f":"INDEX(C:C, SMALL(ROW(C$1:C$5000)+(5000*(C$1:C$5000=\"\")),ROW(A70)))&\"\"","v":""},"",{"$f":"INDEX(B:B, SMALL(ROW(B$1:B$5000)+(5000*(B$1:B$5000=\"\")),ROW(A70)))&\"\"","v":""},"","","",null,null,{"$f":"INDEX(AH:AH,SMALL(ROW($AH$1:$AH$1999)+(1999*($AH$1:$AH$1999=\"\")), ROW(A70)))&\"\"","v":""},"","","","","","","","","","","","","","","","","","","","","","","","","","","","","","","",{"$f":"INDEX(AJ:AJ,SMALL(ROW($AJ$1:$AJ$1999)+(1999*($AJ$1:$AJ$1999=\"\")), ROW(A70)))&\"\"","v":""},"",{"$f":"INDEX(AK:AK,SMALL(ROW($AK$1:$AK$1999)+(1999*($AK$1:$AK$1999=\"\")), ROW(A70)))&\"\"","v":""},"","","",null,"",""]
[null,null,null,null,null,null,null,null,null,null,null,null,null,null,null,null,null,null,null,null,null,null,null,null,null,null,null,null,null,null,null,null,{"$f":"INDEX(C:C, SMALL(ROW(C$1:C$5000)+(5000*(C$1:C$5000=\"\")),ROW(A71)))&\"\"","v":""},"",{"$f":"INDEX(B:B, SMALL(ROW(B$1:B$5000)+(5000*(B$1:B$5000=\"\")),ROW(A71)))&\"\"","v":""},"","","",null,null,{"$f":"INDEX(AH:AH,SMALL(ROW($AH$1:$AH$1999)+(1999*($AH$1:$AH$1999=\"\")), ROW(A71)))&\"\"","v":""},"","","","","","","","","","","","","","","","","","","","","","","","","","","","","","","",{"$f":"INDEX(AJ:AJ,SMALL(ROW($AJ$1:$AJ$1999)+(1999*($AJ$1:$AJ$1999=\"\")), ROW(A71)))&\"\"","v":""},"",{"$f":"INDEX(AK:AK,SMALL(ROW($AK$1:$AK$1999)+(1999*($AK$1:$AK$1999=\"\")), ROW(A71)))&\"\"","v":""},"","","",null,"",""]
[null,null,null,null,null,null,null,null,null,null,null,null,null,null,null,null,null,null,null,null,null,null,null,null,null,null,null,null,null,null,null,null,{"$f":"INDEX(C:C, SMALL(ROW(C$1:C$5000)+(5000*(C$1:C$5000=\"\")),ROW(A72)))&\"\"","v":""},"",{"$f":"INDEX(B:B, SMALL(ROW(B$1:B$5000)+(5000*(B$1:B$5000=\"\")),ROW(A72)))&\"\"","v":""},"","","",null,null,{"$f":"INDEX(AH:AH,SMALL(ROW($AH$1:$AH$1999)+(1999*($AH$1:$AH$1999=\"\")), ROW(A72)))&\"\"","v":""},"","","","","","","","","","","","","","","","","","","","","","","","","","","","","","","",{"$f":"INDEX(AJ:AJ,SMALL(ROW($AJ$1:$AJ$1999)+(1999*($AJ$1:$AJ$1999=\"\")), ROW(A72)))&\"\"","v":""},"",{"$f":"INDEX(AK:AK,SMALL(ROW($AK$1:$AK$1999)+(1999*($AK$1:$AK$1999=\"\")), ROW(A72)))&\"\"","v":""},"","","",null,"",""]
[null,null,null,null,null,null,null,null,null,null,null,null,null,null,null,null,null,null,null,null,null,null,null,null,null,null,null,null,null,null,null,null,{"$f":"INDEX(C:C, SMALL(ROW(C$1:C$5000)+(5000*(C$1:C$5000=\"\")),ROW(A73)))&\"\"","v":""},"",{"$f":"INDEX(B:B, SMALL(ROW(B$1:B$5000)+(5000*(B$1:B$5000=\"\")),ROW(A73)))&\"\"","v":""},"","","",null,null,{"$f":"INDEX(AH:AH,SMALL(ROW($AH$1:$AH$1999)+(1999*($AH$1:$AH$1999=\"\")), ROW(A73)))&\"\"","v":""},"","","","","","","","","","","","","","","","","","","","","","","","","","","","","","","",{"$f":"INDEX(AJ:AJ,SMALL(ROW($AJ$1:$AJ$1999)+(1999*($AJ$1:$AJ$1999=\"\")), ROW(A73)))&\"\"","v":""},"",{"$f":"INDEX(AK:AK,SMALL(ROW($AK$1:$AK$1999)+(1999*($AK$1:$AK$1999=\"\")), ROW(A73)))&\"\"","v":""},"","","",null,"",""]
[null,null,null,null,null,null,null,null,null,null,null,null,null,null,null,null,null,null,null,null,null,null,null,null,null,null,null,null,null,null,null,null,{"$f":"INDEX(C:C, SMALL(ROW(C$1:C$5000)+(5000*(C$1:C$5000=\"\")),ROW(A74)))&\"\"","v":""},"",{"$f":"INDEX(B:B, SMALL(ROW(B$1:B$5000)+(5000*(B$1:B$5000=\"\")),ROW(A74)))&\"\"","v":""},"","","",null,null,{"$f":"INDEX(AH:AH,SMALL(ROW($AH$1:$AH$1999)+(1999*($AH$1:$AH$1999=\"\")), ROW(A74)))&\"\"","v":""},"","","","","","","","","","","","","","","","","","","","","","","","","","","","","","","",{"$f":"INDEX(AJ:AJ,SMALL(ROW($AJ$1:$AJ$1999)+(1999*($AJ$1:$AJ$1999=\"\")), ROW(A74)))&\"\"","v":""},"",{"$f":"INDEX(AK:AK,SMALL(ROW($AK$1:$AK$1999)+(1999*($AK$1:$AK$1999=\"\")), ROW(A74)))&\"\"","v":""},"","","",null,"",""]
[null,null,null,null,null,null,null,null,null,null,null,null,null,null,null,null,null,null,null,null,null,null,null,null,null,null,null,null,null,null,null,null,{"$f":"INDEX(C:C, SMALL(ROW(C$1:C$5000)+(5000*(C$1:C$5000=\"\")),ROW(A75)))&\"\"","v":""},"",{"$f":"INDEX(B:B, SMALL(ROW(B$1:B$5000)+(5000*(B$1:B$5000=\"\")),ROW(A75)))&\"\"","v":""},"","","",null,null,{"$f":"INDEX(AH:AH,SMALL(ROW($AH$1:$AH$1999)+(1999*($AH$1:$AH$1999=\"\")), ROW(A75)))&\"\"","v":""},"","","","","","","","","","","","","","","","","","","","","","","","","","","","","","","",{"$f":"INDEX(AJ:AJ,SMALL(ROW($AJ$1:$AJ$1999)+(1999*($AJ$1:$AJ$1999=\"\")), ROW(A75)))&\"\"","v":""},"",{"$f":"INDEX(AK:AK,SMALL(ROW($AK$1:$AK$1999)+(1999*($AK$1:$AK$1999=\"\")), ROW(A75)))&\"\"","v":""},"","","",null,"",""]
[null,null,null,null,null,null,null,null,null,null,null,null,null,null,null,null,null,null,null,null,null,null,null,null,null,null,null,null,null,null,null,null,{"$f":"INDEX(C:C, SMALL(ROW(C$1:C$5000)+(5000*(C$1:C$5000=\"\")),ROW(A76)))&\"\"","v":""},"",{"$f":"INDEX(B:B, SMALL(ROW(B$1:B$5000)+(5000*(B$1:B$5000=\"\")),ROW(A76)))&\"\"","v":""},"","","",null,null,{"$f":"INDEX(AH:AH,SMALL(ROW($AH$1:$AH$1999)+(1999*($AH$1:$AH$1999=\"\")), ROW(A76)))&\"\"","v":""},"","","","","","","","","","","","","","","","","","","","","","","","","","","","","","","",{"$f":"INDEX(AJ:AJ,SMALL(ROW($AJ$1:$AJ$1999)+(1999*($AJ$1:$AJ$1999=\"\")), ROW(A76)))&\"\"","v":""},"",{"$f":"INDEX(AK:AK,SMALL(ROW($AK$1:$AK$1999)+(1999*($AK$1:$AK$1999=\"\")), ROW(A76)))&\"\"","v":""},"","","",null,"",""]
[null,null,null,null,null,null,null,null,null,null,null,null,null,null,null,null,null,null,null,null,null,null,null,null,null,null,null,null,null,null,null,null,{"$f":"INDEX(C:C, SMALL(ROW(C$1:C$5000)+(5000*(C$1:C$5000=\"\")),ROW(A77)))&\"\"","v":""},"",{"$f":"INDEX(B:B, SMALL(ROW(B$1:B$5000)+(5000*(B$1:B$5000=\"\")),ROW(A77)))&\"\"","v":""},"","","",null,null,{"$f":"INDEX(AH:AH,SMALL(ROW($AH$1:$AH$1999)+(1999*($AH$1:$AH$1999=\"\")), ROW(A77)))&\"\"","v":""},"","","","","","","","","","","","","","","","","","","","","","","","","","","","","","","",{"$f":"INDEX(AJ:AJ,SMALL(ROW($AJ$1:$AJ$1999)+(1999*($AJ$1:$AJ$1999=\"\")), ROW(A77)))&\"\"","v":""},"",{"$f":"INDEX(AK:AK,SMALL(ROW($AK$1:$AK$1999)+(1999*($AK$1:$AK$1999=\"\")), ROW(A77)))&\"\"","v":""},"","","",null,"",""]
[null,null,null,null,null,null,null,null,null,null,null,null,null,null,null,null,null,null,null,null,null,null,null,null,null,null,null,null,null,null,null,null,{"$f":"INDEX(C:C, SMALL(ROW(C$1:C$5000)+(5000*(C$1:C$5000=\"\")),ROW(A78)))&\"\"","v":""},"",{"$f":"INDEX(B:B, SMALL(ROW(B$1:B$5000)+(5000*(B$1:B$5000=\"\")),ROW(A78)))&\"\"","v":""},"","","",null,null,{"$f":"INDEX(AH:AH,SMALL(ROW($AH$1:$AH$1999)+(1999*($AH$1:$AH$1999=\"\")), ROW(A78)))&\"\"","v":""},"","","","","","","","","","","","","","","","","","","","","","","","","","","","","","","",{"$f":"INDEX(AJ:AJ,SMALL(ROW($AJ$1:$AJ$1999)+(1999*($AJ$1:$AJ$1999=\"\")), ROW(A78)))&\"\"","v":""},"",{"$f":"INDEX(AK:AK,SMALL(ROW($AK$1:$AK$1999)+(1999*($AK$1:$AK$1999=\"\")), ROW(A78)))&\"\"","v":""},"","","",null,"",""]
[null,null,null,null,null,null,null,null,null,null,null,null,null,null,null,null,null,null,null,null,null,null,null,null,null,null,null,null,null,null,null,null,{"$f":"INDEX(C:C, SMALL(ROW(C$1:C$5000)+(5000*(C$1:C$5000=\"\")),ROW(A79)))&\"\"","v":""},"",{"$f":"INDEX(B:B, SMALL(ROW(B$1:B$5000)+(5000*(B$1:B$5000=\"\")),ROW(A79)))&\"\"","v":""},"","","",null,null,{"$f":"INDEX(AH:AH,SMALL(ROW($AH$1:$AH$1999)+(1999*($AH$1:$AH$1999=\"\")), ROW(A79)))&\"\"","v":""},"","","","","","","","","","","","","","","","","","","","","","","","","","","","","","","",{"$f":"INDEX(AJ:AJ,SMALL(ROW($AJ$1:$AJ$1999)+(1999*($AJ$1:$AJ$1999=\"\")), ROW(A79)))&\"\"","v":""},"",{"$f":"INDEX(AK:AK,SMALL(ROW($AK$1:$AK$1999)+(1999*($AK$1:$AK$1999=\"\")), ROW(A79)))&\"\"","v":""},"","","",null,"",""]
[null,null,null,null,null,null,null,null,null,null,null,null,null,null,null,null,null,null,null,null,null,null,null,null,null,null,null,null,null,null,null,null,{"$f":"INDEX(C:C, SMALL(ROW(C$1:C$5000)+(5000*(C$1:C$5000=\"\")),ROW(A80)))&\"\"","v":""},"",{"$f":"INDEX(B:B, SMALL(ROW(B$1:B$5000)+(5000*(B$1:B$5000=\"\")),ROW(A80)))&\"\"","v":""},"","","",null,null,{"$f":"INDEX(AH:AH,SMALL(ROW($AH$1:$AH$1999)+(1999*($AH$1:$AH$1999=\"\")), ROW(A80)))&\"\"","v":""},"","","","","","","","","","","","","","","","","","","","","","","","","","","","","","","",{"$f":"INDEX(AJ:AJ,SMALL(ROW($AJ$1:$AJ$1999)+(1999*($AJ$1:$AJ$1999=\"\")), ROW(A80)))&\"\"","v":""},"",{"$f":"INDEX(AK:AK,SMALL(ROW($AK$1:$AK$1999)+(1999*($AK$1:$AK$1999=\"\")), ROW(A80)))&\"\"","v":""},"","","",null,"",""]
[null,null,null,null,null,null,null,null,null,null,null,null,null,null,null,null,null,null,null,null,null,null,null,null,null,null,null,null,null,null,null,null,{"$f":"INDEX(C:C, SMALL(ROW(C$1:C$5000)+(5000*(C$1:C$5000=\"\")),ROW(A81)))&\"\"","v":""},"",{"$f":"INDEX(B:B, SMALL(ROW(B$1:B$5000)+(5000*(B$1:B$5000=\"\")),ROW(A81)))&\"\"","v":""},"","","",null,null,{"$f":"INDEX(AH:AH,SMALL(ROW($AH$1:$AH$1999)+(1999*($AH$1:$AH$1999=\"\")), ROW(A81)))&\"\"","v":""},"","","","","","","","","","","","","","","","","","","","","","","","","","","","","","","",{"$f":"INDEX(AJ:AJ,SMALL(ROW($AJ$1:$AJ$1999)+(1999*($AJ$1:$AJ$1999=\"\")), ROW(A81)))&\"\"","v":""},"",{"$f":"INDEX(AK:AK,SMALL(ROW($AK$1:$AK$1999)+(1999*($AK$1:$AK$1999=\"\")), ROW(A81)))&\"\"","v":""},"","","",null,"",""]
[null,null,null,null,null,null,null,null,null,null,null,null,null,null,null,null,null,null,null,null,null,null,null,null,null,null,null,null,null,null,null,null,{"$f":"INDEX(C:C, SMALL(ROW(C$1:C$5000)+(5000*(C$1:C$5000=\"\")),ROW(A82)))&\"\"","v":""},"",{"$f":"INDEX(B:B, SMALL(ROW(B$1:B$5000)+(5000*(B$1:B$5000=\"\")),ROW(A82)))&\"\"","v":""},"","","",null,null,{"$f":"INDEX(AH:AH,SMALL(ROW($AH$1:$AH$1999)+(1999*($AH$1:$AH$1999=\"\")), ROW(A82)))&\"\"","v":""},"","","","","","","","","","","","","","","","","","","","","","","","","","","","","","","",{"$f":"INDEX(AJ:AJ,SMALL(ROW($AJ$1:$AJ$1999)+(1999*($AJ$1:$AJ$1999=\"\")), ROW(A82)))&\"\"","v":""},"",{"$f":"INDEX(AK:AK,SMALL(ROW($AK$1:$AK$1999)+(1999*($AK$1:$AK$1999=\"\")), ROW(A82)))&\"\"","v":""},"","","",null,"",""]
[null,null,null,null,null,null,null,null,null,null,null,null,null,null,null,null,null,null,null,null,null,null,null,null,null,null,null,null,null,null,null,null,{"$f":"INDEX(C:C, SMALL(ROW(C$1:C$5000)+(5000*(C$1:C$5000=\"\")),ROW(A83)))&\"\"","v":""},"",{"$f":"INDEX(B:B, SMALL(ROW(B$1:B$5000)+(5000*(B$1:B$5000=\"\")),ROW(A83)))&\"\"","v":""},"","","",null,null,{"$f":"INDEX(AH:AH,SMALL(ROW($AH$1:$AH$1999)+(1999*($AH$1:$AH$1999=\"\")), ROW(A83)))&\"\"","v":""},"","","","","","","","","","","","","","","","","","","","","","","","","","","","","","","",{"$f":"INDEX(AJ:AJ,SMALL(ROW($AJ$1:$AJ$1999)+(1999*($AJ$1:$AJ$1999=\"\")), ROW(A83)))&\"\"","v":""},"",{"$f":"INDEX(AK:AK,SMALL(ROW($AK$1:$AK$1999)+(1999*($AK$1:$AK$1999=\"\")), ROW(A83)))&\"\"","v":""},"","","",null,"",""]
[null,null,null,null,null,null,null,null,null,null,null,null,null,null,null,null,null,null,null,null,null,null,null,null,null,null,null,null,null,null,null,null,{"$f":"INDEX(C:C, SMALL(ROW(C$1:C$5000)+(5000*(C$1:C$5000=\"\")),ROW(A84)))&\"\"","v":""},"",{"$f":"INDEX(B:B, SMALL(ROW(B$1:B$5000)+(5000*(B$1:B$5000=\"\")),ROW(A84)))&\"\"","v":""},"","","",null,null,{"$f":"INDEX(AH:AH,SMALL(ROW($AH$1:$AH$1999)+(1999*($AH$1:$AH$1999=\"\")), ROW(A84)))&\"\"","v":""},"","","","","","","","","","","","","","","","","","","","","","","","","","","","","","","",{"$f":"INDEX(AJ:AJ,SMALL(ROW($AJ$1:$AJ$1999)+(1999*($AJ$1:$AJ$1999=\"\")), ROW(A84)))&\"\"","v":""},"",{"$f":"INDEX(AK:AK,SMALL(ROW($AK$1:$AK$1999)+(1999*($AK$1:$AK$1999=\"\")), ROW(A84)))&\"\"","v":""},"","","",null,"",""]
[null,null,null,null,null,null,null,null,null,null,null,null,null,null,null,null,null,null,null,null,null,null,null,null,null,null,null,null,null,null,null,null,{"$f":"INDEX(C:C, SMALL(ROW(C$1:C$5000)+(5000*(C$1:C$5000=\"\")),ROW(A85)))&\"\"","v":""},"",{"$f":"INDEX(B:B, SMALL(ROW(B$1:B$5000)+(5000*(B$1:B$5000=\"\")),ROW(A85)))&\"\"","v":""},"","","",null,null,{"$f":"INDEX(AH:AH,SMALL(ROW($AH$1:$AH$1999)+(1999*($AH$1:$AH$1999=\"\")), ROW(A85)))&\"\"","v":""},"","","","","","","","","","","","","","","","","","","","","","","","","","","","","","","",{"$f":"INDEX(AJ:AJ,SMALL(ROW($AJ$1:$AJ$1999)+(1999*($AJ$1:$AJ$1999=\"\")), ROW(A85)))&\"\"","v":""},"",{"$f":"INDEX(AK:AK,SMALL(ROW($AK$1:$AK$1999)+(1999*($AK$1:$AK$1999=\"\")), ROW(A85)))&\"\"","v":""},"","","",null,"",""]
[null,null,null,null,null,null,null,null,null,null,null,null,null,null,null,null,null,null,null,null,null,null,null,null,null,null,null,null,null,null,null,null,{"$f":"INDEX(C:C, SMALL(ROW(C$1:C$5000)+(5000*(C$1:C$5000=\"\")),ROW(A86)))&\"\"","v":""},"",{"$f":"INDEX(B:B, SMALL(ROW(B$1:B$5000)+(5000*(B$1:B$5000=\"\")),ROW(A86)))&\"\"","v":""},"","","",null,null,{"$f":"INDEX(AH:AH,SMALL(ROW($AH$1:$AH$1999)+(1999*($AH$1:$AH$1999=\"\")), ROW(A86)))&\"\"","v":""},"","","","","","","","","","","","","","","","","","","","","","","","","","","","","","","",{"$f":"INDEX(AJ:AJ,SMALL(ROW($AJ$1:$AJ$1999)+(1999*($AJ$1:$AJ$1999=\"\")), ROW(A86)))&\"\"","v":""},"",{"$f":"INDEX(AK:AK,SMALL(ROW($AK$1:$AK$1999)+(1999*($AK$1:$AK$1999=\"\")), ROW(A86)))&\"\"","v":""},"","","",null,"",""]
[null,null,null,null,null,null,null,null,null,null,null,null,null,null,null,null,null,null,null,null,null,null,null,null,null,null,null,null,null,null,null,null,{"$f":"INDEX(C:C, SMALL(ROW(C$1:C$5000)+(5000*(C$1:C$5000=\"\")),ROW(A87)))&\"\"","v":""},"",{"$f":"INDEX(B:B, SMALL(ROW(B$1:B$5000)+(5000*(B$1:B$5000=\"\")),ROW(A87)))&\"\"","v":""},"","","",null,null,{"$f":"INDEX(AH:AH,SMALL(ROW($AH$1:$AH$1999)+(1999*($AH$1:$AH$1999=\"\")), ROW(A87)))&\"\"","v":""},"","","","","","","","","","","","","","","","","","","","","","","","","","","","","","","",{"$f":"INDEX(AJ:AJ,SMALL(ROW($AJ$1:$AJ$1999)+(1999*($AJ$1:$AJ$1999=\"\")), ROW(A87)))&\"\"","v":""},"",{"$f":"INDEX(AK:AK,SMALL(ROW($AK$1:$AK$1999)+(1999*($AK$1:$AK$1999=\"\")), ROW(A87)))&\"\"","v":""},"","","",null,"",""]
[null,null,null,null,null,null,null,null,null,null,null,null,null,null,null,null,null,null,null,null,null,null,null,null,null,null,null,null,null,null,null,null,{"$f":"INDEX(C:C, SMALL(ROW(C$1:C$5000)+(5000*(C$1:C$5000=\"\")),ROW(A88)))&\"\"","v":""},"",{"$f":"INDEX(B:B, SMALL(ROW(B$1:B$5000)+(5000*(B$1:B$5000=\"\")),ROW(A88)))&\"\"","v":""},"","","",null,null,{"$f":"INDEX(AH:AH,SMALL(ROW($AH$1:$AH$1999)+(1999*($AH$1:$AH$1999=\"\")), ROW(A88)))&\"\"","v":""},"","","","","","","","","","","","","","","","","","","","","","","","","","","","","","","",{"$f":"INDEX(AJ:AJ,SMALL(ROW($AJ$1:$AJ$1999)+(1999*($AJ$1:$AJ$1999=\"\")), ROW(A88)))&\"\"","v":""},"",{"$f":"INDEX(AK:AK,SMALL(ROW($AK$1:$AK$1999)+(1999*($AK$1:$AK$1999=\"\")), ROW(A88)))&\"\"","v":""},"","","",null,"",""]
[null,null,null,null,null,null,null,null,null,null,null,null,null,null,null,null,null,null,null,null,null,null,null,null,null,null,null,null,null,null,null,null,{"$f":"INDEX(C:C, SMALL(ROW(C$1:C$5000)+(5000*(C$1:C$5000=\"\")),ROW(A89)))&\"\"","v":""},"",{"$f":"INDEX(B:B, SMALL(ROW(B$1:B$5000)+(5000*(B$1:B$5000=\"\")),ROW(A89)))&\"\"","v":""},"","","",null,null,{"$f":"INDEX(AH:AH,SMALL(ROW($AH$1:$AH$1999)+(1999*($AH$1:$AH$1999=\"\")), ROW(A89)))&\"\"","v":""},"","","","","","","","","","","","","","","","","","","","","","","","","","","","","","","",{"$f":"INDEX(AJ:AJ,SMALL(ROW($AJ$1:$AJ$1999)+(1999*($AJ$1:$AJ$1999=\"\")), ROW(A89)))&\"\"","v":""},"",{"$f":"INDEX(AK:AK,SMALL(ROW($AK$1:$AK$1999)+(1999*($AK$1:$AK$1999=\"\")), ROW(A89)))&\"\"","v":""},"","","",null,"",""]
[null,null,null,null,null,null,null,null,null,null,null,null,null,null,null,null,null,null,null,null,null,null,null,null,null,null,null,null,null,null,null,null,{"$f":"INDEX(C:C, SMALL(ROW(C$1:C$5000)+(5000*(C$1:C$5000=\"\")),ROW(A90)))&\"\"","v":""},"",{"$f":"INDEX(B:B, SMALL(ROW(B$1:B$5000)+(5000*(B$1:B$5000=\"\")),ROW(A90)))&\"\"","v":""},"","","",null,null,{"$f":"INDEX(AH:AH,SMALL(ROW($AH$1:$AH$1999)+(1999*($AH$1:$AH$1999=\"\")), ROW(A90)))&\"\"","v":""},"","","","","","","","","","","","","","","","","","","","","","","","","","","","","","","",{"$f":"INDEX(AJ:AJ,SMALL(ROW($AJ$1:$AJ$1999)+(1999*($AJ$1:$AJ$1999=\"\")), ROW(A90)))&\"\"","v":""},"",{"$f":"INDEX(AK:AK,SMALL(ROW($AK$1:$AK$1999)+(1999*($AK$1:$AK$1999=\"\")), ROW(A90)))&\"\"","v":""},"","","",null,"",""]
[null,null,null,null,null,null,null,null,null,null,null,null,null,null,null,null,null,null,null,null,null,null,null,null,null,null,null,null,null,null,null,null,{"$f":"INDEX(C:C, SMALL(ROW(C$1:C$5000)+(5000*(C$1:C$5000=\"\")),ROW(A91)))&\"\"","v":""},"",{"$f":"INDEX(B:B, SMALL(ROW(B$1:B$5000)+(5000*(B$1:B$5000=\"\")),ROW(A91)))&\"\"","v":""},"","","",null,null,{"$f":"INDEX(AH:AH,SMALL(ROW($AH$1:$AH$1999)+(1999*($AH$1:$AH$1999=\"\")), ROW(A91)))&\"\"","v":""},"","","","","","","","","","","","","","","","","","","","","","","","","","","","","","","",{"$f":"INDEX(AJ:AJ,SMALL(ROW($AJ$1:$AJ$1999)+(1999*($AJ$1:$AJ$1999=\"\")), ROW(A91)))&\"\"","v":""},"",{"$f":"INDEX(AK:AK,SMALL(ROW($AK$1:$AK$1999)+(1999*($AK$1:$AK$1999=\"\")), ROW(A91)))&\"\"","v":""},"","","",null,"",""]
[null,null,null,null,null,null,null,null,null,null,null,null,null,null,null,null,null,null,null,null,null,null,null,null,null,null,null,null,null,null,null,null,{"$f":"INDEX(C:C, SMALL(ROW(C$1:C$5000)+(5000*(C$1:C$5000=\"\")),ROW(A92)))&\"\"","v":""},"",{"$f":"INDEX(B:B, SMALL(ROW(B$1:B$5000)+(5000*(B$1:B$5000=\"\")),ROW(A92)))&\"\"","v":""},"","","",null,null,{"$f":"INDEX(AH:AH,SMALL(ROW($AH$1:$AH$1999)+(1999*($AH$1:$AH$1999=\"\")), ROW(A92)))&\"\"","v":""},"","","","","","","","","","","","","","","","","","","","","","","","","","","","","","","",{"$f":"INDEX(AJ:AJ,SMALL(ROW($AJ$1:$AJ$1999)+(1999*($AJ$1:$AJ$1999=\"\")), ROW(A92)))&\"\"","v":""},"",{"$f":"INDEX(AK:AK,SMALL(ROW($AK$1:$AK$1999)+(1999*($AK$1:$AK$1999=\"\")), ROW(A92)))&\"\"","v":""},"","","",null,"",""]
[null,null,null,null,null,null,null,null,null,null,null,null,null,null,null,null,null,null,null,null,null,null,null,null,null,null,null,null,null,null,null,null,{"$f":"INDEX(C:C, SMALL(ROW(C$1:C$5000)+(5000*(C$1:C$5000=\"\")),ROW(A93)))&\"\"","v":""},"",{"$f":"INDEX(B:B, SMALL(ROW(B$1:B$5000)+(5000*(B$1:B$5000=\"\")),ROW(A93)))&\"\"","v":""},"","","",null,null,{"$f":"INDEX(AH:AH,SMALL(ROW($AH$1:$AH$1999)+(1999*($AH$1:$AH$1999=\"\")), ROW(A93)))&\"\"","v":""},"","","","","","","","","","","","","","","","","","","","","","","","","","","","","","","",{"$f":"INDEX(AJ:AJ,SMALL(ROW($AJ$1:$AJ$1999)+(1999*($AJ$1:$AJ$1999=\"\")), ROW(A93)))&\"\"","v":""},"",{"$f":"INDEX(AK:AK,SMALL(ROW($AK$1:$AK$1999)+(1999*($AK$1:$AK$1999=\"\")), ROW(A93)))&\"\"","v":""},"","","",null,"",""]
[null,null,null,null,null,null,null,null,null,null,null,null,null,null,null,null,null,null,null,null,null,null,null,null,null,null,null,null,null,null,null,null,{"$f":"INDEX(C:C, SMALL(ROW(C$1:C$5000)+(5000*(C$1:C$5000=\"\")),ROW(A94)))&\"\"","v":""},"",{"$f":"INDEX(B:B, SMALL(ROW(B$1:B$5000)+(5000*(B$1:B$5000=\"\")),ROW(A94)))&\"\"","v":""},"","","",null,null,{"$f":"INDEX(AH:AH,SMALL(ROW($AH$1:$AH$1999)+(1999*($AH$1:$AH$1999=\"\")), ROW(A94)))&\"\"","v":""},"","","","","","","","","","","",{"$f":"IFERROR(IF(ISNUMBER(SEARCH(\"*TE*\",AZ94)),BV94,\"\"),VALUE(0))","v":""},"","","","","","","","","","","","","","","","","","","",{"$f":"INDEX(AJ:AJ,SMALL(ROW($AJ$1:$AJ$1999)+(1999*($AJ$1:$AJ$1999=\"\")), ROW(A94)))&\"\"","v":""},"",{"$f":"INDEX(AK:AK,SMALL(ROW($AK$1:$AK$1999)+(1999*($AK$1:$AK$1999=\"\")), ROW(A94)))&\"\"","v":""},"","","",null,"",""]
[null,null,null,null,null,null,null,null,null,null,null,null,null,null,null,null,null,null,null,null,null,null,null,null,null,null,null,null,null,null,null,null,{"$f":"INDEX(C:C, SMALL(ROW(C$1:C$5000)+(5000*(C$1:C$5000=\"\")),ROW(A95)))&\"\"","v":""},"",{"$f":"INDEX(B:B, SMALL(ROW(B$1:B$5000)+(5000*(B$1:B$5000=\"\")),ROW(A95)))&\"\"","v":""},"","","",null,null,{"$f":"INDEX(AH:AH,SMALL(ROW($AH$1:$AH$1999)+(1999*($AH$1:$AH$1999=\"\")), ROW(A95)))&\"\"","v":""},"","","","","","","","","","","","","","","","","","","","","","","","","","","","","","","",{"$f":"INDEX(AJ:AJ,SMALL(ROW($AJ$1:$AJ$1999)+(1999*($AJ$1:$AJ$1999=\"\")), ROW(A95)))&\"\"","v":""},"",{"$f":"INDEX(AK:AK,SMALL(ROW($AK$1:$AK$1999)+(1999*($AK$1:$AK$1999=\"\")), ROW(A95)))&\"\"","v":""},"","","",null,"",""]
[null,null,null,null,null,null,null,null,null,null,null,null,null,null,null,null,null,null,null,null,null,null,null,null,null,null,null,null,null,null,null,null,{"$f":"INDEX(C:C, SMALL(ROW(C$1:C$5000)+(5000*(C$1:C$5000=\"\")),ROW(A96)))&\"\"","v":""},"",{"$f":"INDEX(B:B, SMALL(ROW(B$1:B$5000)+(5000*(B$1:B$5000=\"\")),ROW(A96)))&\"\"","v":""},"","","",null,null,{"$f":"INDEX(AH:AH,SMALL(ROW($AH$1:$AH$1999)+(1999*($AH$1:$AH$1999=\"\")), ROW(A96)))&\"\"","v":""},"","","","","","","","","","","","","","","","","","","","","","","","","","","","","","","",{"$f":"INDEX(AJ:AJ,SMALL(ROW($AJ$1:$AJ$1999)+(1999*($AJ$1:$AJ$1999=\"\")), ROW(A96)))&\"\"","v":""},"",{"$f":"INDEX(AK:AK,SMALL(ROW($AK$1:$AK$1999)+(1999*($AK$1:$AK$1999=\"\")), ROW(A96)))&\"\"","v":""},"","","",null,"",""]
[null,null,null,null,null,null,null,null,null,null,null,null,null,null,null,null,null,null,null,null,null,null,null,null,null,null,null,null,null,null,null,null,{"$f":"INDEX(C:C, SMALL(ROW(C$1:C$5000)+(5000*(C$1:C$5000=\"\")),ROW(A97)))&\"\"","v":""},"",{"$f":"INDEX(B:B, SMALL(ROW(B$1:B$5000)+(5000*(B$1:B$5000=\"\")),ROW(A97)))&\"\"","v":""},"","","",null,null,{"$f":"INDEX(AH:AH,SMALL(ROW($AH$1:$AH$1999)+(1999*($AH$1:$AH$1999=\"\")), ROW(A97)))&\"\"","v":""},"","","","","","","","","","","","","","","","","","","","","","","","","","","","","","","",{"$f":"INDEX(AJ:AJ,SMALL(ROW($AJ$1:$AJ$1999)+(1999*($AJ$1:$AJ$1999=\"\")), ROW(A97)))&\"\"","v":""},"",{"$f":"INDEX(AK:AK,SMALL(ROW($AK$1:$AK$1999)+(1999*($AK$1:$AK$1999=\"\")), ROW(A97)))&\"\"","v":""},"","","",null,"",""]
[null,null,null,null,null,null,null,null,null,null,null,null,null,null,null,null,null,null,null,null,null,null,null,null,null,null,null,null,null,null,null,null,{"$f":"INDEX(C:C, SMALL(ROW(C$1:C$5000)+(5000*(C$1:C$5000=\"\")),ROW(A98)))&\"\"","v":""},"",{"$f":"INDEX(B:B, SMALL(ROW(B$1:B$5000)+(5000*(B$1:B$5000=\"\")),ROW(A98)))&\"\"","v":""},"","","",null,null,{"$f":"INDEX(AH:AH,SMALL(ROW($AH$1:$AH$1999)+(1999*($AH$1:$AH$1999=\"\")), ROW(A98)))&\"\"","v":""},"","","","","","","","","","","","","","","","","","","","","","","","","","","","","","","",{"$f":"INDEX(AJ:AJ,SMALL(ROW($AJ$1:$AJ$1999)+(1999*($AJ$1:$AJ$1999=\"\")), ROW(A98)))&\"\"","v":""},"",{"$f":"INDEX(AK:AK,SMALL(ROW($AK$1:$AK$1999)+(1999*($AK$1:$AK$1999=\"\")), ROW(A98)))&\"\"","v":""},"","","",null,"",""]
[null,null,null,null,null,null,null,null,null,null,null,null,null,null,null,null,null,null,null,null,null,null,null,null,null,null,null,null,null,null,null,null,{"$f":"INDEX(C:C, SMALL(ROW(C$1:C$5000)+(5000*(C$1:C$5000=\"\")),ROW(A99)))&\"\"","v":""},"",{"$f":"INDEX(B:B, SMALL(ROW(B$1:B$5000)+(5000*(B$1:B$5000=\"\")),ROW(A99)))&\"\"","v":""},"","","",null,null,{"$f":"INDEX(AH:AH,SMALL(ROW($AH$1:$AH$1999)+(1999*($AH$1:$AH$1999=\"\")), ROW(A99)))&\"\"","v":""},"","","","","","","","","","","","","","","","","","","","","","","","","","","","","","","",{"$f":"INDEX(AJ:AJ,SMALL(ROW($AJ$1:$AJ$1999)+(1999*($AJ$1:$AJ$1999=\"\")), ROW(A99)))&\"\"","v":""},"",{"$f":"INDEX(AK:AK,SMALL(ROW($AK$1:$AK$1999)+(1999*($AK$1:$AK$1999=\"\")), ROW(A99)))&\"\"","v":""},"","","",null,"",""]
[null,null,null,null,null,null,null,null,null,null,null,null,null,null,null,null,null,null,null,null,null,null,null,null,null,null,null,null,null,null,null,null,{"$f":"INDEX(C:C, SMALL(ROW(C$1:C$5000)+(5000*(C$1:C$5000=\"\")),ROW(A100)))&\"\"","v":""},"",{"$f":"INDEX(B:B, SMALL(ROW(B$1:B$5000)+(5000*(B$1:B$5000=\"\")),ROW(A100)))&\"\"","v":""},"","","",null,null,{"$f":"INDEX(AH:AH,SMALL(ROW($AH$1:$AH$1999)+(1999*($AH$1:$AH$1999=\"\")), ROW(A100)))&\"\"","v":""},"","","","","","","","","","","","","","","","","","","","","","","","","","","","","","","",{"$f":"INDEX(AJ:AJ,SMALL(ROW($AJ$1:$AJ$1999)+(1999*($AJ$1:$AJ$1999=\"\")), ROW(A100)))&\"\"","v":""},"",{"$f":"INDEX(AK:AK,SMALL(ROW($AK$1:$AK$1999)+(1999*($AK$1:$AK$1999=\"\")), ROW(A100)))&\"\"","v":""},"","","",null,"",""]
[null,null,null,null,null,null,null,null,null,null,null,null,null,null,null,null,null,null,null,null,null,null,null,null,null,null,null,null,null,null,null,null,{"$f":"INDEX(C:C, SMALL(ROW(C$1:C$5000)+(5000*(C$1:C$5000=\"\")),ROW(A101)))&\"\"","v":""},"",{"$f":"INDEX(B:B, SMALL(ROW(B$1:B$5000)+(5000*(B$1:B$5000=\"\")),ROW(A101)))&\"\"","v":""},"","","",null,null,{"$f":"INDEX(AH:AH,SMALL(ROW($AH$1:$AH$1999)+(1999*($AH$1:$AH$1999=\"\")), ROW(A101)))&\"\"","v":""},"","","","","","","","","","","","","","","","","","","","","","","","","","","","","","","",{"$f":"INDEX(AJ:AJ,SMALL(ROW($AJ$1:$AJ$1999)+(1999*($AJ$1:$AJ$1999=\"\")), ROW(A101)))&\"\"","v":""},"",{"$f":"INDEX(AK:AK,SMALL(ROW($AK$1:$AK$1999)+(1999*($AK$1:$AK$1999=\"\")), ROW(A101)))&\"\"","v":""},"","","",null,"",""]
[null,null,null,null,null,null,null,null,null,null,null,null,null,null,null,null,null,null,null,null,null,null,null,null,null,null,null,null,null,null,null,null,{"$f":"INDEX(C:C, SMALL(ROW(C$1:C$5000)+(5000*(C$1:C$5000=\"\")),ROW(A102)))&\"\"","v":""},"",{"$f":"INDEX(B:B, SMALL(ROW(B$1:B$5000)+(5000*(B$1:B$5000=\"\")),ROW(A102)))&\"\"","v":""},"","","",null,null,{"$f":"INDEX(AH:AH,SMALL(ROW($AH$1:$AH$1999)+(1999*($AH$1:$AH$1999=\"\")), ROW(A102)))&\"\"","v":""},"","","","","","","","","","","","","","","","","","","","","","","","","","","","","","","",{"$f":"INDEX(AJ:AJ,SMALL(ROW($AJ$1:$AJ$1999)+(1999*($AJ$1:$AJ$1999=\"\")), ROW(A102)))&\"\"","v":""},"",{"$f":"INDEX(AK:AK,SMALL(ROW($AK$1:$AK$1999)+(1999*($AK$1:$AK$1999=\"\")), ROW(A102)))&\"\"","v":""},"","","",null,"",""]
[null,null,null,null,null,null,null,null,null,null,null,null,null,null,null,null,null,null,null,null,null,null,null,null,null,null,null,null,null,null,null,null,{"$f":"INDEX(C:C, SMALL(ROW(C$1:C$5000)+(5000*(C$1:C$5000=\"\")),ROW(A103)))&\"\"","v":""},"",{"$f":"INDEX(B:B, SMALL(ROW(B$1:B$5000)+(5000*(B$1:B$5000=\"\")),ROW(A103)))&\"\"","v":""},"","","",null,null,{"$f":"INDEX(AH:AH,SMALL(ROW($AH$1:$AH$1999)+(1999*($AH$1:$AH$1999=\"\")), ROW(A103)))&\"\"","v":""},"","","","","","","","","","","","","","","","","","","","","","","","","","","","","","","",{"$f":"INDEX(AJ:AJ,SMALL(ROW($AJ$1:$AJ$1999)+(1999*($AJ$1:$AJ$1999=\"\")), ROW(A103)))&\"\"","v":""},"",{"$f":"INDEX(AK:AK,SMALL(ROW($AK$1:$AK$1999)+(1999*($AK$1:$AK$1999=\"\")), ROW(A103)))&\"\"","v":""},"","","",null,"",""]
[null,null,null,null,null,null,null,null,null,null,null,null,null,null,null,null,null,null,null,null,null,null,null,null,null,null,null,null,null,null,null,null,{"$f":"INDEX(C:C, SMALL(ROW(C$1:C$5000)+(5000*(C$1:C$5000=\"\")),ROW(A104)))&\"\"","v":""},"",{"$f":"INDEX(B:B, SMALL(ROW(B$1:B$5000)+(5000*(B$1:B$5000=\"\")),ROW(A104)))&\"\"","v":""},"","","",null,null,{"$f":"INDEX(AH:AH,SMALL(ROW($AH$1:$AH$1999)+(1999*($AH$1:$AH$1999=\"\")), ROW(A104)))&\"\"","v":""},"","","","","","","","","","","","","","","","","","","","","","","","","","","","","","","",{"$f":"INDEX(AJ:AJ,SMALL(ROW($AJ$1:$AJ$1999)+(1999*($AJ$1:$AJ$1999=\"\")), ROW(A104)))&\"\"","v":""},"",{"$f":"INDEX(AK:AK,SMALL(ROW($AK$1:$AK$1999)+(1999*($AK$1:$AK$1999=\"\")), ROW(A104)))&\"\"","v":""},"","","",null,"",""]
[null,null,null,null,null,null,null,null,null,null,null,null,null,null,null,null,null,null,null,null,null,null,null,null,null,null,null,null,null,null,null,null,{"$f":"INDEX(C:C, SMALL(ROW(C$1:C$5000)+(5000*(C$1:C$5000=\"\")),ROW(A105)))&\"\"","v":""},"",{"$f":"INDEX(B:B, SMALL(ROW(B$1:B$5000)+(5000*(B$1:B$5000=\"\")),ROW(A105)))&\"\"","v":""},"","","",null,null,{"$f":"INDEX(AH:AH,SMALL(ROW($AH$1:$AH$1999)+(1999*($AH$1:$AH$1999=\"\")), ROW(A105)))&\"\"","v":""},"","","","","","","","","","","","","","","","","","","","","","","","","","","","","","","",{"$f":"INDEX(AJ:AJ,SMALL(ROW($AJ$1:$AJ$1999)+(1999*($AJ$1:$AJ$1999=\"\")), ROW(A105)))&\"\"","v":""},"",{"$f":"INDEX(AK:AK,SMALL(ROW($AK$1:$AK$1999)+(1999*($AK$1:$AK$1999=\"\")), ROW(A105)))&\"\"","v":""},"","","",null,"",""]
[null,null,null,null,null,null,null,null,null,null,null,null,null,null,null,null,null,null,null,null,null,null,null,null,null,null,null,null,null,null,null,null,{"$f":"INDEX(C:C, SMALL(ROW(C$1:C$5000)+(5000*(C$1:C$5000=\"\")),ROW(A106)))&\"\"","v":""},"",{"$f":"INDEX(B:B, SMALL(ROW(B$1:B$5000)+(5000*(B$1:B$5000=\"\")),ROW(A106)))&\"\"","v":""},"","","",null,null,{"$f":"INDEX(AH:AH,SMALL(ROW($AH$1:$AH$1999)+(1999*($AH$1:$AH$1999=\"\")), ROW(A106)))&\"\"","v":""},"","","","","","","","","","","","","","","","","","","","","","","","","","","","","","","",{"$f":"INDEX(AJ:AJ,SMALL(ROW($AJ$1:$AJ$1999)+(1999*($AJ$1:$AJ$1999=\"\")), ROW(A106)))&\"\"","v":""},"",{"$f":"INDEX(AK:AK,SMALL(ROW($AK$1:$AK$1999)+(1999*($AK$1:$AK$1999=\"\")), ROW(A106)))&\"\"","v":""},"","","",null,"",""]
[null,null,null,null,null,null,null,null,null,null,null,null,null,null,null,null,null,null,null,null,null,null,null,null,null,null,null,null,null,null,null,null,{"$f":"INDEX(C:C, SMALL(ROW(C$1:C$5000)+(5000*(C$1:C$5000=\"\")),ROW(A107)))&\"\"","v":""},"",{"$f":"INDEX(B:B, SMALL(ROW(B$1:B$5000)+(5000*(B$1:B$5000=\"\")),ROW(A107)))&\"\"","v":""},"","","",null,null,{"$f":"INDEX(AH:AH,SMALL(ROW($AH$1:$AH$1999)+(1999*($AH$1:$AH$1999=\"\")), ROW(A107)))&\"\"","v":""},"","","","","","","","","","","","","","","","","","","","","","","","","","","","","","","",{"$f":"INDEX(AJ:AJ,SMALL(ROW($AJ$1:$AJ$1999)+(1999*($AJ$1:$AJ$1999=\"\")), ROW(A107)))&\"\"","v":""},"",{"$f":"INDEX(AK:AK,SMALL(ROW($AK$1:$AK$1999)+(1999*($AK$1:$AK$1999=\"\")), ROW(A107)))&\"\"","v":""},"","","",null,"",""]
[null,null,null,null,null,null,null,null,null,null,null,null,null,null,null,null,null,null,null,null,null,null,null,null,null,null,null,null,null,null,null,null,{"$f":"INDEX(C:C, SMALL(ROW(C$1:C$5000)+(5000*(C$1:C$5000=\"\")),ROW(A108)))&\"\"","v":""},"",{"$f":"INDEX(B:B, SMALL(ROW(B$1:B$5000)+(5000*(B$1:B$5000=\"\")),ROW(A108)))&\"\"","v":""},"","","",null,null,{"$f":"INDEX(AH:AH,SMALL(ROW($AH$1:$AH$1999)+(1999*($AH$1:$AH$1999=\"\")), ROW(A108)))&\"\"","v":""},"","","","","","","","","","","","","","","","","","","","","","","","","","","","","","","",{"$f":"INDEX(AJ:AJ,SMALL(ROW($AJ$1:$AJ$1999)+(1999*($AJ$1:$AJ$1999=\"\")), ROW(A108)))&\"\"","v":""},"",{"$f":"INDEX(AK:AK,SMALL(ROW($AK$1:$AK$1999)+(1999*($AK$1:$AK$1999=\"\")), ROW(A108)))&\"\"","v":""},"","","",null,"",""]
[null,null,null,null,null,null,null,null,null,null,null,null,null,null,null,null,null,null,null,null,null,null,null,null,null,null,null,null,null,null,null,null,{"$f":"INDEX(C:C, SMALL(ROW(C$1:C$5000)+(5000*(C$1:C$5000=\"\")),ROW(A109)))&\"\"","v":""},"",{"$f":"INDEX(B:B, SMALL(ROW(B$1:B$5000)+(5000*(B$1:B$5000=\"\")),ROW(A109)))&\"\"","v":""},"","","",null,null,{"$f":"INDEX(AH:AH,SMALL(ROW($AH$1:$AH$1999)+(1999*($AH$1:$AH$1999=\"\")), ROW(A109)))&\"\"","v":""},"","","","","","","","","","","","","","","","","","","","","","","","","","","","","","","",{"$f":"INDEX(AJ:AJ,SMALL(ROW($AJ$1:$AJ$1999)+(1999*($AJ$1:$AJ$1999=\"\")), ROW(A109)))&\"\"","v":""},"",{"$f":"INDEX(AK:AK,SMALL(ROW($AK$1:$AK$1999)+(1999*($AK$1:$AK$1999=\"\")), ROW(A109)))&\"\"","v":""},"","","",null,"",""]
[null,null,null,null,null,null,null,null,null,null,null,null,null,null,null,null,null,null,null,null,null,null,null,null,null,null,null,null,null,null,null,null,{"$f":"INDEX(C:C, SMALL(ROW(C$1:C$5000)+(5000*(C$1:C$5000=\"\")),ROW(A110)))&\"\"","v":""},"",{"$f":"INDEX(B:B, SMALL(ROW(B$1:B$5000)+(5000*(B$1:B$5000=\"\")),ROW(A110)))&\"\"","v":""},"","","",null,null,{"$f":"INDEX(AH:AH,SMALL(ROW($AH$1:$AH$1999)+(1999*($AH$1:$AH$1999=\"\")), ROW(A110)))&\"\"","v":""},"","","","","","","","","","","","","","","","","","","","","","","","","","","","","","","",{"$f":"INDEX(AJ:AJ,SMALL(ROW($AJ$1:$AJ$1999)+(1999*($AJ$1:$AJ$1999=\"\")), ROW(A110)))&\"\"","v":""},"",{"$f":"INDEX(AK:AK,SMALL(ROW($AK$1:$AK$1999)+(1999*($AK$1:$AK$1999=\"\")), ROW(A110)))&\"\"","v":""},"","","",null,"",""]
[null,null,null,null,null,null,null,null,null,null,null,null,null,null,null,null,null,null,null,null,null,null,null,null,null,null,null,null,null,null,null,null,{"$f":"INDEX(C:C, SMALL(ROW(C$1:C$5000)+(5000*(C$1:C$5000=\"\")),ROW(A111)))&\"\"","v":""},"",{"$f":"INDEX(B:B, SMALL(ROW(B$1:B$5000)+(5000*(B$1:B$5000=\"\")),ROW(A111)))&\"\"","v":""},"","","",null,null,{"$f":"INDEX(AH:AH,SMALL(ROW($AH$1:$AH$1999)+(1999*($AH$1:$AH$1999=\"\")), ROW(A111)))&\"\"","v":""},"","","","","","","","","","","","","","","","","","","","","","","","","","","","","","","",{"$f":"INDEX(AJ:AJ,SMALL(ROW($AJ$1:$AJ$1999)+(1999*($AJ$1:$AJ$1999=\"\")), ROW(A111)))&\"\"","v":""},"",{"$f":"INDEX(AK:AK,SMALL(ROW($AK$1:$AK$1999)+(1999*($AK$1:$AK$1999=\"\")), ROW(A111)))&\"\"","v":""},"","","",null,"",""]
[null,null,null,null,null,null,null,null,null,null,null,null,null,null,null,null,null,null,null,null,null,null,null,null,null,null,null,null,null,null,null,null,{"$f":"INDEX(C:C, SMALL(ROW(C$1:C$5000)+(5000*(C$1:C$5000=\"\")),ROW(A112)))&\"\"","v":""},"",{"$f":"INDEX(B:B, SMALL(ROW(B$1:B$5000)+(5000*(B$1:B$5000=\"\")),ROW(A112)))&\"\"","v":""},"","","",null,null,{"$f":"INDEX(AH:AH,SMALL(ROW($AH$1:$AH$1999)+(1999*($AH$1:$AH$1999=\"\")), ROW(A112)))&\"\"","v":""},"","","","","","","","","","","","","","","","","","","","","","","","","","","","","","","",{"$f":"INDEX(AJ:AJ,SMALL(ROW($AJ$1:$AJ$1999)+(1999*($AJ$1:$AJ$1999=\"\")), ROW(A112)))&\"\"","v":""},"",{"$f":"INDEX(AK:AK,SMALL(ROW($AK$1:$AK$1999)+(1999*($AK$1:$AK$1999=\"\")), ROW(A112)))&\"\"","v":""},"","","",null,"",""]
[null,null,null,null,null,null,null,null,null,null,null,null,null,null,null,null,null,null,null,null,null,null,null,null,null,null,null,null,null,null,null,null,{"$f":"INDEX(C:C, SMALL(ROW(C$1:C$5000)+(5000*(C$1:C$5000=\"\")),ROW(A113)))&\"\"","v":""},"",{"$f":"INDEX(B:B, SMALL(ROW(B$1:B$5000)+(5000*(B$1:B$5000=\"\")),ROW(A113)))&\"\"","v":""},"","","",null,null,{"$f":"INDEX(AH:AH,SMALL(ROW($AH$1:$AH$1999)+(1999*($AH$1:$AH$1999=\"\")), ROW(A113)))&\"\"","v":""},"","","","","","","","","","","","","","","","","","","","","","","","","","","","","","","",{"$f":"INDEX(AJ:AJ,SMALL(ROW($AJ$1:$AJ$1999)+(1999*($AJ$1:$AJ$1999=\"\")), ROW(A113)))&\"\"","v":""},"",{"$f":"INDEX(AK:AK,SMALL(ROW($AK$1:$AK$1999)+(1999*($AK$1:$AK$1999=\"\")), ROW(A113)))&\"\"","v":""},"","","",null,"",""]
[null,null,null,null,null,null,null,null,null,null,null,null,null,null,null,null,null,null,null,null,null,null,null,null,null,null,null,null,null,null,null,null,{"$f":"INDEX(C:C, SMALL(ROW(C$1:C$5000)+(5000*(C$1:C$5000=\"\")),ROW(A114)))&\"\"","v":""},"",{"$f":"INDEX(B:B, SMALL(ROW(B$1:B$5000)+(5000*(B$1:B$5000=\"\")),ROW(A114)))&\"\"","v":""},"","","",null,null,{"$f":"INDEX(AH:AH,SMALL(ROW($AH$1:$AH$1999)+(1999*($AH$1:$AH$1999=\"\")), ROW(A114)))&\"\"","v":""},"","","","","","","","","","","","","","","","","","","","","","","","","","","","","","","",{"$f":"INDEX(AJ:AJ,SMALL(ROW($AJ$1:$AJ$1999)+(1999*($AJ$1:$AJ$1999=\"\")), ROW(A114)))&\"\"","v":""},"",{"$f":"INDEX(AK:AK,SMALL(ROW($AK$1:$AK$1999)+(1999*($AK$1:$AK$1999=\"\")), ROW(A114)))&\"\"","v":""},"","","",null,"",""]
[null,null,null,null,null,null,null,null,null,null,null,null,null,null,null,null,null,null,null,null,null,null,null,null,null,null,null,null,null,null,null,null,{"$f":"INDEX(C:C, SMALL(ROW(C$1:C$5000)+(5000*(C$1:C$5000=\"\")),ROW(A115)))&\"\"","v":""},"",{"$f":"INDEX(B:B, SMALL(ROW(B$1:B$5000)+(5000*(B$1:B$5000=\"\")),ROW(A115)))&\"\"","v":""},"","","",null,null,{"$f":"INDEX(AH:AH,SMALL(ROW($AH$1:$AH$1999)+(1999*($AH$1:$AH$1999=\"\")), ROW(A115)))&\"\"","v":""},"","","","","","","","","","","","","","","","","","","","","","","","","","","","","","","",{"$f":"INDEX(AJ:AJ,SMALL(ROW($AJ$1:$AJ$1999)+(1999*($AJ$1:$AJ$1999=\"\")), ROW(A115)))&\"\"","v":""},"",{"$f":"INDEX(AK:AK,SMALL(ROW($AK$1:$AK$1999)+(1999*($AK$1:$AK$1999=\"\")), ROW(A115)))&\"\"","v":""},"","","",null,"",""]
[null,null,null,null,null,null,null,null,null,null,null,null,null,null,null,null,null,null,null,null,null,null,null,null,null,null,null,null,null,null,null,null,{"$f":"INDEX(C:C, SMALL(ROW(C$1:C$5000)+(5000*(C$1:C$5000=\"\")),ROW(A116)))&\"\"","v":""},"",{"$f":"INDEX(B:B, SMALL(ROW(B$1:B$5000)+(5000*(B$1:B$5000=\"\")),ROW(A116)))&\"\"","v":""},"","","",null,null,{"$f":"INDEX(AH:AH,SMALL(ROW($AH$1:$AH$1999)+(1999*($AH$1:$AH$1999=\"\")), ROW(A116)))&\"\"","v":""},"","","","","","","","","","","","","","","","","","","","","","","","","","","","","","","",{"$f":"INDEX(AJ:AJ,SMALL(ROW($AJ$1:$AJ$1999)+(1999*($AJ$1:$AJ$1999=\"\")), ROW(A116)))&\"\"","v":""},"",{"$f":"INDEX(AK:AK,SMALL(ROW($AK$1:$AK$1999)+(1999*($AK$1:$AK$1999=\"\")), ROW(A116)))&\"\"","v":""},"","","",null,"",""]
[null,null,null,null,null,null,null,null,null,null,null,null,null,null,null,null,null,null,null,null,null,null,null,null,null,null,null,null,null,null,null,null,{"$f":"INDEX(C:C, SMALL(ROW(C$1:C$5000)+(5000*(C$1:C$5000=\"\")),ROW(A117)))&\"\"","v":""},"",{"$f":"INDEX(B:B, SMALL(ROW(B$1:B$5000)+(5000*(B$1:B$5000=\"\")),ROW(A117)))&\"\"","v":""},"","","",null,null,{"$f":"INDEX(AH:AH,SMALL(ROW($AH$1:$AH$1999)+(1999*($AH$1:$AH$1999=\"\")), ROW(A117)))&\"\"","v":""},"","","","","","","","","","","","","","","","","","","","","","","","","","","","","","","",{"$f":"INDEX(AJ:AJ,SMALL(ROW($AJ$1:$AJ$1999)+(1999*($AJ$1:$AJ$1999=\"\")), ROW(A117)))&\"\"","v":""},"",{"$f":"INDEX(AK:AK,SMALL(ROW($AK$1:$AK$1999)+(1999*($AK$1:$AK$1999=\"\")), ROW(A117)))&\"\"","v":""},"","","",null,"",""]
[null,null,null,null,null,null,null,null,null,null,null,null,null,null,null,null,null,null,null,null,null,null,null,null,null,null,null,null,null,null,null,null,{"$f":"INDEX(C:C, SMALL(ROW(C$1:C$5000)+(5000*(C$1:C$5000=\"\")),ROW(A118)))&\"\"","v":""},"",{"$f":"INDEX(B:B, SMALL(ROW(B$1:B$5000)+(5000*(B$1:B$5000=\"\")),ROW(A118)))&\"\"","v":""},"","","",null,null,{"$f":"INDEX(AH:AH,SMALL(ROW($AH$1:$AH$1999)+(1999*($AH$1:$AH$1999=\"\")), ROW(A118)))&\"\"","v":""},"","","","","","","","","","","","","","","","","","","","","","","","","","","","","","","",{"$f":"INDEX(AJ:AJ,SMALL(ROW($AJ$1:$AJ$1999)+(1999*($AJ$1:$AJ$1999=\"\")), ROW(A118)))&\"\"","v":""},"",{"$f":"INDEX(AK:AK,SMALL(ROW($AK$1:$AK$1999)+(1999*($AK$1:$AK$1999=\"\")), ROW(A118)))&\"\"","v":""},"","","",null,"",""]
[null,null,null,null,null,null,null,null,null,null,null,null,null,null,null,null,null,null,null,null,null,null,null,null,null,null,null,null,null,null,null,null,{"$f":"INDEX(C:C, SMALL(ROW(C$1:C$5000)+(5000*(C$1:C$5000=\"\")),ROW(A119)))&\"\"","v":""},"",{"$f":"INDEX(B:B, SMALL(ROW(B$1:B$5000)+(5000*(B$1:B$5000=\"\")),ROW(A119)))&\"\"","v":""},"","","",null,null,{"$f":"INDEX(AH:AH,SMALL(ROW($AH$1:$AH$1999)+(1999*($AH$1:$AH$1999=\"\")), ROW(A119)))&\"\"","v":""},"","","","","","","","","","","","","","","","","","","","","","","","","","","","","","","",{"$f":"INDEX(AJ:AJ,SMALL(ROW($AJ$1:$AJ$1999)+(1999*($AJ$1:$AJ$1999=\"\")), ROW(A119)))&\"\"","v":""},"",{"$f":"INDEX(AK:AK,SMALL(ROW($AK$1:$AK$1999)+(1999*($AK$1:$AK$1999=\"\")), ROW(A119)))&\"\"","v":""},"","","",null,"",""]
[null,null,null,null,null,null,null,null,null,null,null,null,null,null,null,null,null,null,null,null,null,null,null,null,null,null,null,null,null,null,null,null,{"$f":"INDEX(C:C, SMALL(ROW(C$1:C$5000)+(5000*(C$1:C$5000=\"\")),ROW(A120)))&\"\"","v":""},"",{"$f":"INDEX(B:B, SMALL(ROW(B$1:B$5000)+(5000*(B$1:B$5000=\"\")),ROW(A120)))&\"\"","v":""},"","","",null,null,{"$f":"INDEX(AH:AH,SMALL(ROW($AH$1:$AH$1999)+(1999*($AH$1:$AH$1999=\"\")), ROW(A120)))&\"\"","v":""},"","","","","","","","","","","","","","","","","","","","","","","","","","","","","","","",{"$f":"INDEX(AJ:AJ,SMALL(ROW($AJ$1:$AJ$1999)+(1999*($AJ$1:$AJ$1999=\"\")), ROW(A120)))&\"\"","v":""},"",{"$f":"INDEX(AK:AK,SMALL(ROW($AK$1:$AK$1999)+(1999*($AK$1:$AK$1999=\"\")), ROW(A120)))&\"\"","v":""},"","","",null,"",""]
[null,null,null,null,null,null,null,null,null,null,null,null,null,null,null,null,null,null,null,null,null,null,null,null,null,null,null,null,null,null,null,null,{"$f":"INDEX(C:C, SMALL(ROW(C$1:C$5000)+(5000*(C$1:C$5000=\"\")),ROW(A121)))&\"\"","v":""},"",{"$f":"INDEX(B:B, SMALL(ROW(B$1:B$5000)+(5000*(B$1:B$5000=\"\")),ROW(A121)))&\"\"","v":""},"","","",null,null,{"$f":"INDEX(AH:AH,SMALL(ROW($AH$1:$AH$1999)+(1999*($AH$1:$AH$1999=\"\")), ROW(A121)))&\"\"","v":""},"","","","","","","","","","","","","","","","","","","","","","","","","","","","","","","",{"$f":"INDEX(AJ:AJ,SMALL(ROW($AJ$1:$AJ$1999)+(1999*($AJ$1:$AJ$1999=\"\")), ROW(A121)))&\"\"","v":""},"",{"$f":"INDEX(AK:AK,SMALL(ROW($AK$1:$AK$1999)+(1999*($AK$1:$AK$1999=\"\")), ROW(A121)))&\"\"","v":""},"","","",null,"",""]
[null,null,null,null,null,null,null,null,null,null,null,null,null,null,null,null,null,null,null,null,null,null,null,null,null,null,null,null,null,null,null,null,{"$f":"INDEX(C:C, SMALL(ROW(C$1:C$5000)+(5000*(C$1:C$5000=\"\")),ROW(A122)))&\"\"","v":""},"",{"$f":"INDEX(B:B, SMALL(ROW(B$1:B$5000)+(5000*(B$1:B$5000=\"\")),ROW(A122)))&\"\"","v":""},"","","",null,null,{"$f":"INDEX(AH:AH,SMALL(ROW($AH$1:$AH$1999)+(1999*($AH$1:$AH$1999=\"\")), ROW(A122)))&\"\"","v":""},"","","","","","","","","","","","","","","","","","","","","","","","","","","","","","","",{"$f":"INDEX(AJ:AJ,SMALL(ROW($AJ$1:$AJ$1999)+(1999*($AJ$1:$AJ$1999=\"\")), ROW(A122)))&\"\"","v":""},"",{"$f":"INDEX(AK:AK,SMALL(ROW($AK$1:$AK$1999)+(1999*($AK$1:$AK$1999=\"\")), ROW(A122)))&\"\"","v":""},"","","",null,"",""]
[null,null,null,null,null,null,null,null,null,null,null,null,null,null,null,null,null,null,null,null,null,null,null,null,null,null,null,null,null,null,null,null,{"$f":"INDEX(C:C, SMALL(ROW(C$1:C$5000)+(5000*(C$1:C$5000=\"\")),ROW(A123)))&\"\"","v":""},"",{"$f":"INDEX(B:B, SMALL(ROW(B$1:B$5000)+(5000*(B$1:B$5000=\"\")),ROW(A123)))&\"\"","v":""},"","","",null,null,{"$f":"INDEX(AH:AH,SMALL(ROW($AH$1:$AH$1999)+(1999*($AH$1:$AH$1999=\"\")), ROW(A123)))&\"\"","v":""},"","","","","","","","","","","","","","","","","","","","","","","","","","","","","","","",{"$f":"INDEX(AJ:AJ,SMALL(ROW($AJ$1:$AJ$1999)+(1999*($AJ$1:$AJ$1999=\"\")), ROW(A123)))&\"\"","v":""},"",{"$f":"INDEX(AK:AK,SMALL(ROW($AK$1:$AK$1999)+(1999*($AK$1:$AK$1999=\"\")), ROW(A123)))&\"\"","v":""},"","","",null,"",""]
[null,null,null,null,null,null,null,null,null,null,null,null,null,null,null,null,null,null,null,null,null,null,null,null,null,null,null,null,null,null,null,null,{"$f":"INDEX(C:C, SMALL(ROW(C$1:C$5000)+(5000*(C$1:C$5000=\"\")),ROW(A124)))&\"\"","v":""},"",{"$f":"INDEX(B:B, SMALL(ROW(B$1:B$5000)+(5000*(B$1:B$5000=\"\")),ROW(A124)))&\"\"","v":""},"","","",null,null,{"$f":"INDEX(AH:AH,SMALL(ROW($AH$1:$AH$1999)+(1999*($AH$1:$AH$1999=\"\")), ROW(A124)))&\"\"","v":""},"","","","","","","","","","","","","","","","","","","","","","","","","","","","","","","",{"$f":"INDEX(AJ:AJ,SMALL(ROW($AJ$1:$AJ$1999)+(1999*($AJ$1:$AJ$1999=\"\")), ROW(A124)))&\"\"","v":""},"",{"$f":"INDEX(AK:AK,SMALL(ROW($AK$1:$AK$1999)+(1999*($AK$1:$AK$1999=\"\")), ROW(A124)))&\"\"","v":""},"","","",null,"",""]
[null,null,null,null,null,null,null,null,null,null,null,null,null,null,null,null,null,null,null,null,null,null,null,null,null,null,null,null,null,null,null,null,{"$f":"INDEX(C:C, SMALL(ROW(C$1:C$5000)+(5000*(C$1:C$5000=\"\")),ROW(A125)))&\"\"","v":""},"",{"$f":"INDEX(B:B, SMALL(ROW(B$1:B$5000)+(5000*(B$1:B$5000=\"\")),ROW(A125)))&\"\"","v":""},"","","",null,null,{"$f":"INDEX(AH:AH,SMALL(ROW($AH$1:$AH$1999)+(1999*($AH$1:$AH$1999=\"\")), ROW(A125)))&\"\"","v":""},"","","","","","","","","","","","","","","","","","","","","","","","","","","","","","","",{"$f":"INDEX(AJ:AJ,SMALL(ROW($AJ$1:$AJ$1999)+(1999*($AJ$1:$AJ$1999=\"\")), ROW(A125)))&\"\"","v":""},"",{"$f":"INDEX(AK:AK,SMALL(ROW($AK$1:$AK$1999)+(1999*($AK$1:$AK$1999=\"\")), ROW(A125)))&\"\"","v":""},"","","",null,"",""]
[null,null,null,null,null,null,null,null,null,null,null,null,null,null,null,null,null,null,null,null,null,null,null,null,null,null,null,null,null,null,null,null,{"$f":"INDEX(C:C, SMALL(ROW(C$1:C$5000)+(5000*(C$1:C$5000=\"\")),ROW(A126)))&\"\"","v":""},"",{"$f":"INDEX(B:B, SMALL(ROW(B$1:B$5000)+(5000*(B$1:B$5000=\"\")),ROW(A126)))&\"\"","v":""},"","","",null,null,{"$f":"INDEX(AH:AH,SMALL(ROW($AH$1:$AH$1999)+(1999*($AH$1:$AH$1999=\"\")), ROW(A126)))&\"\"","v":""},"","","","","","","","","","","","","","","","","","","","","","","","","","","","","","","",{"$f":"INDEX(AJ:AJ,SMALL(ROW($AJ$1:$AJ$1999)+(1999*($AJ$1:$AJ$1999=\"\")), ROW(A126)))&\"\"","v":""},"",{"$f":"INDEX(AK:AK,SMALL(ROW($AK$1:$AK$1999)+(1999*($AK$1:$AK$1999=\"\")), ROW(A126)))&\"\"","v":""},"","","",null,"",""]
[null,null,null,null,null,null,null,null,null,null,null,null,null,null,null,null,null,null,null,null,null,null,null,null,null,null,null,null,null,null,null,null,{"$f":"INDEX(C:C, SMALL(ROW(C$1:C$5000)+(5000*(C$1:C$5000=\"\")),ROW(A127)))&\"\"","v":""},"",{"$f":"INDEX(B:B, SMALL(ROW(B$1:B$5000)+(5000*(B$1:B$5000=\"\")),ROW(A127)))&\"\"","v":""},"","","",null,null,{"$f":"INDEX(AH:AH,SMALL(ROW($AH$1:$AH$1999)+(1999*($AH$1:$AH$1999=\"\")), ROW(A127)))&\"\"","v":""},"","","","","","","","","","","","","","","","","","","","","","","","","","","","","","","",{"$f":"INDEX(AJ:AJ,SMALL(ROW($AJ$1:$AJ$1999)+(1999*($AJ$1:$AJ$1999=\"\")), ROW(A127)))&\"\"","v":""},"",{"$f":"INDEX(AK:AK,SMALL(ROW($AK$1:$AK$1999)+(1999*($AK$1:$AK$1999=\"\")), ROW(A127)))&\"\"","v":""},"","","",null,"",""]
[null,null,null,null,null,null,null,null,null,null,null,null,null,null,null,null,null,null,null,null,null,null,null,null,null,null,null,null,null,null,null,null,{"$f":"INDEX(C:C, SMALL(ROW(C$1:C$5000)+(5000*(C$1:C$5000=\"\")),ROW(A128)))&\"\"","v":""},"",{"$f":"INDEX(B:B, SMALL(ROW(B$1:B$5000)+(5000*(B$1:B$5000=\"\")),ROW(A128)))&\"\"","v":""},"","","",null,null,{"$f":"INDEX(AH:AH,SMALL(ROW($AH$1:$AH$1999)+(1999*($AH$1:$AH$1999=\"\")), ROW(A128)))&\"\"","v":""},"","","","","","","","","","","","","","","","","","","","","","","","","","","","","","","",{"$f":"INDEX(AJ:AJ,SMALL(ROW($AJ$1:$AJ$1999)+(1999*($AJ$1:$AJ$1999=\"\")), ROW(A128)))&\"\"","v":""},"",{"$f":"INDEX(AK:AK,SMALL(ROW($AK$1:$AK$1999)+(1999*($AK$1:$AK$1999=\"\")), ROW(A128)))&\"\"","v":""},"","","",null,"",""]
[null,null,null,null,null,null,null,null,null,null,null,null,null,null,null,null,null,null,null,null,null,null,null,null,null,null,null,null,null,null,null,null,{"$f":"INDEX(C:C, SMALL(ROW(C$1:C$5000)+(5000*(C$1:C$5000=\"\")),ROW(A129)))&\"\"","v":""},{"$f":"IF(ISNUMBER(SEARCH(\"*,*\",AG129)),AG129,\"\")","v":""},{"$f":"INDEX(B:B, SMALL(ROW(B$1:B$5000)+(5000*(B$1:B$5000=\"\")),ROW(A129)))&\"\"","v":""},"","",{"$f":"IF(ISNUMBER(SEARCH(\"*Round*\",AI129)),AI129,\"\")","v":""},null,null,{"$f":"INDEX(AH:AH,SMALL(ROW($AH$1:$AH$1999)+(1999*($AH$1:$AH$1999=\"\")), ROW(A129)))&\"\"","v":""},"","","","","","","","","","","","","","","","","","","","","","","","","","","","","","","",{"$f":"INDEX(AJ:AJ,SMALL(ROW($AJ$1:$AJ$1999)+(1999*($AJ$1:$AJ$1999=\"\")), ROW(A129)))&\"\"","v":""},"",{"$f":"INDEX(AK:AK,SMALL(ROW($AK$1:$AK$1999)+(1999*($AK$1:$AK$1999=\"\")), ROW(A129)))&\"\"","v":""},"","","",null,"",""]
[null,null,null,null,null,null,null,null,null,null,null,null,null,null,null,null,null,null,null,null,null,null,null,null,null,null,null,null,null,null,null,null,{"$f":"INDEX(C:C, SMALL(ROW(C$1:C$5000)+(5000*(C$1:C$5000=\"\")),ROW(A130)))&\"\"","v":""},"",{"$f":"INDEX(B:B, SMALL(ROW(B$1:B$5000)+(5000*(B$1:B$5000=\"\")),ROW(A130)))&\"\"","v":""},{"$f":"IF(ISNUMBER(SEARCH(\"*years*\",AI130)),AI130,\"\")","v":""},{"$f":"IF(ISNUMBER(SEARCH(\"*, 19*\",AI130)),AI130,\"\")","v":""},"",null,null,{"$f":"INDEX(AH:AH,SMALL(ROW($AH$1:$AH$1999)+(1999*($AH$1:$AH$1999=\"\")), ROW(A130)))&\"\"","v":""},{"$f":"TRIM(TEXT(RIGHT(AO130,2),))","v":""},{"$f":"IF(ISNUMBER(SEARCH(\"*QB*\",AP130)),AO130,\"\")","v":""},{"$f":"IFERROR(IF(ISNUMBER(SEARCH(\"*QB*\",AQ130)),BV130,\"\"),VALUE(0))","v":""},{"$f":"IFERROR(IF(ISNUMBER(SEARCH(\"*QB*\",AQ130)),BX130,\"\"),VALUE(0))","v":""},{"$f":"IF(ISNUMBER(SEARCH(\"*RB*\",AP130)),AO130,\"\")","v":""},{"$f":"IFERROR(IF(ISNUMBER(SEARCH(\"*RB*\",AT130)),BV130,\"\"),VALUE(0))","v":""},{"$f":"IFERROR(IF(ISNUMBER(SEARCH(\"*RB*\",AT130)),BX130,\"\"),VALUE(0))","v":""},{"$f":"IF(ISNUMBER(SEARCH(\"*WR*\",AP130)),AO130,\"\")","v":""},{"$f":"IFERROR(IF(ISNUMBER(SEARCH(\"*WR*\",AW130)),BV130,\"\"),VALUE(0))","v":""},{"$f":"IFERROR(IF(ISNUMBER(SEARCH(\"*WR*\",AW130)),BX130,\"\"),VALUE(0))","v":""},{"$f":"IF(ISNUMBER(SEARCH(\"*TE*\",AP130)),AO130,\"\")","v":""},"",{"$f":"IFERROR(IF(ISNUMBER(SEARCH(\"*TE*\",AZ130)),BX130,\"\"),VALUE(0))","v":""},{"$f":"IF(ISNUMBER(SEARCH(\"*PK*\",AP130)),AO130,\"\")","v":""},{"$f":"IFERROR(IF(ISNUMBER(SEARCH(\"*PK*\",BC130)),BV130,\"\"),VALUE(0))","v":""},{"$f":"IFERROR(IF(ISNUMBER(SEARCH(\"*PK*\",BC130)),BX130,\"\"),VALUE(0))","v":""},{"$f":"IF(ISNUMBER(SEARCH(\"*DT*\",AP130)),AO130,\"\")","v":""},{"$f":"IFERROR(IF(ISNUMBER(SEARCH(\"*DT*\",BF130)),BV130,\"\"),VALUE(0))","v":""},{"$f":"IFERROR(IF(ISNUMBER(SEARCH(\"*DT*\",BF130)),BX130,\"\"),VALUE(0))","v":""},{"$f":"IF(ISNUMBER(SEARCH(\"*DE*\",AP130)),AO130,\"\")","v":""},{"$f":"IFERROR(IF(ISNUMBER(SEARCH(\"*DE*\",BI130)),BV130,\"\"),VALUE(0))","v":""},{"$f":"IFERROR(IF(ISNUMBER(SEARCH(\"*DE*\",BI130)),BX130,\"\"),VALUE(0))","v":""},{"$f":"IF(ISNUMBER(SEARCH(\"*LB*\",AP130)),AO130,\"\")","v":""},{"$f":"IFERROR(IF(ISNUMBER(SEARCH(\"*LB*\",BL130)),BV130,\"\"),VALUE(0))","v":""},{"$f":"IFERROR(IF(ISNUMBER(SEARCH(\"*LB*\",BL130)),BX130,\"\"),VALUE(0))","v":""},{"$f":"IF(ISNUMBER(SEARCH(\"*CB*\",AP130)),AO130,\"\")","v":""},{"$f":"IFERROR(IF(ISNUMBER(SEARCH(\"*CB*\",BO130)),BV130,\"\"),VALUE(0))","v":""},{"$f":"IFERROR(IF(ISNUMBER(SEARCH(\"*CB*\",BO130)),BX130,\"\"),VALUE(0))","v":""},{"$f":"IF(ISNUMBER(SEARCH(\"*S*\",AP130)),AO130,\"\")","v":""},{"$f":"IFERROR(IF(ISNUMBER(SEARCH(\"*S*\",BR130)),BV130,\"\"),VALUE(0))","v":""},{"$f":"IFERROR(IF(ISNUMBER(SEARCH(\"*S*\",BR130)),BX130,\"\"),VALUE(0))","v":""},{"$f":"INDEX(AJ:AJ,SMALL(ROW($AJ$1:$AJ$1999)+(1999*($AJ$1:$AJ$1999=\"\")), ROW(A130)))&\"\"","v":""},{"$f":"IFERROR(IF(BW130<>\"\",VALUE(LEFT(BU130,LEN(BU130)-6)),\"\"),VALUE(0))","v":""},{"$f":"INDEX(AK:AK,SMALL(ROW($AK$1:$AK$1999)+(1999*($AK$1:$AK$1999=\"\")), ROW(A130)))&\"\"","v":""},{"$f":"IF(BW130<>\"\",VALUE(RIGHT(BW130,2)),\"\")","v":""},{"$f":"IF(BX130=\"\",\"\",IF(BX130>27,1,0))","v":""},{"$f":"IF(BX130=\"\",\"\",IF(BX130<27,1,0))","v":""},null,{"$f":"IF(BV130=\"\",\"\",IF(BV130>3.5,1,0))","v":""},{"$f":"IF(BV130=\"\",\"\",IF(BV130<3.5,1,0))","v":""}]
[null,null,null,null,null,null,null,null,null,null,null,null,null,null,null,null,null,null,null,null,null,null,null,null,null,null,null,null,null,null,null,null,{"$f":"INDEX(C:C, SMALL(ROW(C$1:C$5000)+(5000*(C$1:C$5000=\"\")),ROW(A131)))&\"\"","v":""},"",{"$f":"INDEX(B:B, SMALL(ROW(B$1:B$5000)+(5000*(B$1:B$5000=\"\")),ROW(A131)))&\"\"","v":""},"","","",null,null,{"$f":"INDEX(AH:AH,SMALL(ROW($AH$1:$AH$1999)+(1999*($AH$1:$AH$1999=\"\")), ROW(A131)))&\"\"","v":""},"","","","","","","","","","","","","","","","","","","","","","","","","","","","","","","",{"$f":"INDEX(AJ:AJ,SMALL(ROW($AJ$1:$AJ$1999)+(1999*($AJ$1:$AJ$1999=\"\")), ROW(A131)))&\"\"","v":""},"",{"$f":"INDEX(AK:AK,SMALL(ROW($AK$1:$AK$1999)+(1999*($AK$1:$AK$1999=\"\")), ROW(A131)))&\"\"","v":""},"","","",null,"",""]
[null,null,null,null,null,null,null,null,null,null,null,null,null,null,null,null,null,null,null,null,null,null,null,null,null,null,null,null,null,null,null,null,{"$f":"INDEX(C:C, SMALL(ROW(C$1:C$5000)+(5000*(C$1:C$5000=\"\")),ROW(A132)))&\"\"","v":""},"",{"$f":"INDEX(B:B, SMALL(ROW(B$1:B$5000)+(5000*(B$1:B$5000=\"\")),ROW(A132)))&\"\"","v":""},"","","",null,null,{"$f":"INDEX(AH:AH,SMALL(ROW($AH$1:$AH$1999)+(1999*($AH$1:$AH$1999=\"\")), ROW(A132)))&\"\"","v":""},"","","","","","","","","","","","","","","","","","","","","","","","","","","","","","","",{"$f":"INDEX(AJ:AJ,SMALL(ROW($AJ$1:$AJ$1999)+(1999*($AJ$1:$AJ$1999=\"\")), ROW(A132)))&\"\"","v":""},"",{"$f":"INDEX(AK:AK,SMALL(ROW($AK$1:$AK$1999)+(1999*($AK$1:$AK$1999=\"\")), ROW(A132)))&\"\"","v":""},"","","",null,"",""]
[null,null,null,null,null,null,null,null,null,null,null,null,null,null,null,null,null,null,null,null,null,null,null,null,null,null,null,null,null,null,null,null,{"$f":"INDEX(C:C, SMALL(ROW(C$1:C$5000)+(5000*(C$1:C$5000=\"\")),ROW(A133)))&\"\"","v":""},"",{"$f":"INDEX(B:B, SMALL(ROW(B$1:B$5000)+(5000*(B$1:B$5000=\"\")),ROW(A133)))&\"\"","v":""},"","","",null,null,{"$f":"INDEX(AH:AH,SMALL(ROW($AH$1:$AH$1999)+(1999*($AH$1:$AH$1999=\"\")), ROW(A133)))&\"\"","v":""},"","","","","","","","","","","","","","","","","","","","","","","","","","","","","","","",{"$f":"INDEX(AJ:AJ,SMALL(ROW($AJ$1:$AJ$1999)+(1999*($AJ$1:$AJ$1999=\"\")), ROW(A133)))&\"\"","v":""},"",{"$f":"INDEX(AK:AK,SMALL(ROW($AK$1:$AK$1999)+(1999*($AK$1:$AK$1999=\"\")), ROW(A133)))&\"\"","v":""},"","","",null,"",""]
[null,null,null,null,null,null,null,null,null,null,null,null,null,null,null,null,null,null,null,null,null,null,null,null,null,null,null,null,null,null,null,null,{"$f":"INDEX(C:C, SMALL(ROW(C$1:C$5000)+(5000*(C$1:C$5000=\"\")),ROW(A134)))&\"\"","v":""},"",{"$f":"INDEX(B:B, SMALL(ROW(B$1:B$5000)+(5000*(B$1:B$5000=\"\")),ROW(A134)))&\"\"","v":""},"","","",null,null,{"$f":"INDEX(AH:AH,SMALL(ROW($AH$1:$AH$1999)+(1999*($AH$1:$AH$1999=\"\")), ROW(A134)))&\"\"","v":""},"","","","","","","","","","","","","","","","","","","","","","","","","","","","","","","",{"$f":"INDEX(AJ:AJ,SMALL(ROW($AJ$1:$AJ$1999)+(1999*($AJ$1:$AJ$1999=\"\")), ROW(A134)))&\"\"","v":""},"",{"$f":"INDEX(AK:AK,SMALL(ROW($AK$1:$AK$1999)+(1999*($AK$1:$AK$1999=\"\")), ROW(A134)))&\"\"","v":""},"","","",null,"",""]
[null,null,null,null,null,null,null,null,null,null,null,null,null,null,null,null,null,null,null,null,null,null,null,null,null,null,null,null,null,null,null,null,{"$f":"INDEX(C:C, SMALL(ROW(C$1:C$5000)+(5000*(C$1:C$5000=\"\")),ROW(A135)))&\"\"","v":""},"",{"$f":"INDEX(B:B, SMALL(ROW(B$1:B$5000)+(5000*(B$1:B$5000=\"\")),ROW(A135)))&\"\"","v":""},"","","",null,null,{"$f":"INDEX(AH:AH,SMALL(ROW($AH$1:$AH$1999)+(1999*($AH$1:$AH$1999=\"\")), ROW(A135)))&\"\"","v":""},"","","","","","","","","","","","","","","","","","","","","","","","","","","","","","","",{"$f":"INDEX(AJ:AJ,SMALL(ROW($AJ$1:$AJ$1999)+(1999*($AJ$1:$AJ$1999=\"\")), ROW(A135)))&\"\"","v":""},"",{"$f":"INDEX(AK:AK,SMALL(ROW($AK$1:$AK$1999)+(1999*($AK$1:$AK$1999=\"\")), ROW(A135)))&\"\"","v":""},"","","",null,"",""]
[null,null,null,null,null,null,null,null,null,null,null,null,null,null,null,null,null,null,null,null,null,null,null,null,null,null,null,null,null,null,null,null,{"$f":"INDEX(C:C, SMALL(ROW(C$1:C$5000)+(5000*(C$1:C$5000=\"\")),ROW(A136)))&\"\"","v":""},"",{"$f":"INDEX(B:B, SMALL(ROW(B$1:B$5000)+(5000*(B$1:B$5000=\"\")),ROW(A136)))&\"\"","v":""},"","","",null,null,{"$f":"INDEX(AH:AH,SMALL(ROW($AH$1:$AH$1999)+(1999*($AH$1:$AH$1999=\"\")), ROW(A136)))&\"\"","v":""},"","","","","","","","","","","","","","","","","","","","","","","","","","","","","","","",{"$f":"INDEX(AJ:AJ,SMALL(ROW($AJ$1:$AJ$1999)+(1999*($AJ$1:$AJ$1999=\"\")), ROW(A136)))&\"\"","v":""},"",{"$f":"INDEX(AK:AK,SMALL(ROW($AK$1:$AK$1999)+(1999*($AK$1:$AK$1999=\"\")), ROW(A136)))&\"\"","v":""},"","","",null,"",""]
[null,null,null,null,null,null,null,null,null,null,null,null,null,null,null,null,null,null,null,null,null,null,null,null,null,null,null,null,null,null,null,null,{"$f":"INDEX(C:C, SMALL(ROW(C$1:C$5000)+(5000*(C$1:C$5000=\"\")),ROW(A137)))&\"\"","v":""},"",{"$f":"INDEX(B:B, SMALL(ROW(B$1:B$5000)+(5000*(B$1:B$5000=\"\")),ROW(A137)))&\"\"","v":""},"","","",null,null,{"$f":"INDEX(AH:AH,SMALL(ROW($AH$1:$AH$1999)+(1999*($AH$1:$AH$1999=\"\")), ROW(A137)))&\"\"","v":""},"","","","","","","","","","","","","","","","","","","","","","","","","","","","","","","",{"$f":"INDEX(AJ:AJ,SMALL(ROW($AJ$1:$AJ$1999)+(1999*($AJ$1:$AJ$1999=\"\")), ROW(A137)))&\"\"","v":""},"",{"$f":"INDEX(AK:AK,SMALL(ROW($AK$1:$AK$1999)+(1999*($AK$1:$AK$1999=\"\")), ROW(A137)))&\"\"","v":""},"","","",null,"",""]
[null,null,null,null,null,null,null,null,null,null,null,null,null,null,null,null,null,null,null,null,null,null,null,null,null,null,null,null,null,null,null,null,{"$f":"INDEX(C:C, SMALL(ROW(C$1:C$5000)+(5000*(C$1:C$5000=\"\")),ROW(A138)))&\"\"","v":""},"",{"$f":"INDEX(B:B, SMALL(ROW(B$1:B$5000)+(5000*(B$1:B$5000=\"\")),ROW(A138)))&\"\"","v":""},"","","",null,null,{"$f":"INDEX(AH:AH,SMALL(ROW($AH$1:$AH$1999)+(1999*($AH$1:$AH$1999=\"\")), ROW(A138)))&\"\"","v":""},"","","","","","","","","","","","","","","","","","","","","","","","","","","","","","","",{"$f":"INDEX(AJ:AJ,SMALL(ROW($AJ$1:$AJ$1999)+(1999*($AJ$1:$AJ$1999=\"\")), ROW(A138)))&\"\"","v":""},"",{"$f":"INDEX(AK:AK,SMALL(ROW($AK$1:$AK$1999)+(1999*($AK$1:$AK$1999=\"\")), ROW(A138)))&\"\"","v":""},"","","",null,"",""]
[null,null,null,null,null,null,null,null,null,null,null,null,null,null,null,null,null,null,null,null,null,null,null,null,null,null,null,null,null,null,null,null,{"$f":"INDEX(C:C, SMALL(ROW(C$1:C$5000)+(5000*(C$1:C$5000=\"\")),ROW(A139)))&\"\"","v":""},"",{"$f":"INDEX(B:B, SMALL(ROW(B$1:B$5000)+(5000*(B$1:B$5000=\"\")),ROW(A139)))&\"\"","v":""},"","","",null,null,{"$f":"INDEX(AH:AH,SMALL(ROW($AH$1:$AH$1999)+(1999*($AH$1:$AH$1999=\"\")), ROW(A139)))&\"\"","v":""},"","","","","","","","","","","","","","","","","","","","","","","","","","","","","","","",{"$f":"INDEX(AJ:AJ,SMALL(ROW($AJ$1:$AJ$1999)+(1999*($AJ$1:$AJ$1999=\"\")), ROW(A139)))&\"\"","v":""},"",{"$f":"INDEX(AK:AK,SMALL(ROW($AK$1:$AK$1999)+(1999*($AK$1:$AK$1999=\"\")), ROW(A139)))&\"\"","v":""},"","","",null,"",""]
[null,null,null,null,null,null,null,null,null,null,null,null,null,null,null,null,null,null,null,null,null,null,null,null,null,null,null,null,null,null,null,null,{"$f":"INDEX(C:C, SMALL(ROW(C$1:C$5000)+(5000*(C$1:C$5000=\"\")),ROW(A140)))&\"\"","v":""},"",{"$f":"INDEX(B:B, SMALL(ROW(B$1:B$5000)+(5000*(B$1:B$5000=\"\")),ROW(A140)))&\"\"","v":""},"","","",null,null,{"$f":"INDEX(AH:AH,SMALL(ROW($AH$1:$AH$1999)+(1999*($AH$1:$AH$1999=\"\")), ROW(A140)))&\"\"","v":""},"","","","","","","","","","","","","","","","","","","","","","","","","","","","","","","",{"$f":"INDEX(AJ:AJ,SMALL(ROW($AJ$1:$AJ$1999)+(1999*($AJ$1:$AJ$1999=\"\")), ROW(A140)))&\"\"","v":""},"",{"$f":"INDEX(AK:AK,SMALL(ROW($AK$1:$AK$1999)+(1999*($AK$1:$AK$1999=\"\")), ROW(A140)))&\"\"","v":""},"","","",null,"",""]
[null,null,null,null,null,null,null,null,null,null,null,null,null,null,null,null,null,null,null,null,null,null,null,null,null,null,null,null,null,null,null,null,{"$f":"INDEX(C:C, SMALL(ROW(C$1:C$5000)+(5000*(C$1:C$5000=\"\")),ROW(A141)))&\"\"","v":""},"",{"$f":"INDEX(B:B, SMALL(ROW(B$1:B$5000)+(5000*(B$1:B$5000=\"\")),ROW(A141)))&\"\"","v":""},"","","",null,null,{"$f":"INDEX(AH:AH,SMALL(ROW($AH$1:$AH$1999)+(1999*($AH$1:$AH$1999=\"\")), ROW(A141)))&\"\"","v":""},"","","","","","","","","","","","","","","","","","","","","","","","","","","","","","","",{"$f":"INDEX(AJ:AJ,SMALL(ROW($AJ$1:$AJ$1999)+(1999*($AJ$1:$AJ$1999=\"\")), ROW(A141)))&\"\"","v":""},"",{"$f":"INDEX(AK:AK,SMALL(ROW($AK$1:$AK$1999)+(1999*($AK$1:$AK$1999=\"\")), ROW(A141)))&\"\"","v":""},"","","",null,"",""]
[null,null,null,null,null,null,null,null,null,null,null,null,null,null,null,null,null,null,null,null,null,null,null,null,null,null,null,null,null,null,null,null,{"$f":"INDEX(C:C, SMALL(ROW(C$1:C$5000)+(5000*(C$1:C$5000=\"\")),ROW(A142)))&\"\"","v":""},"",{"$f":"INDEX(B:B, SMALL(ROW(B$1:B$5000)+(5000*(B$1:B$5000=\"\")),ROW(A142)))&\"\"","v":""},"","","",null,null,{"$f":"INDEX(AH:AH,SMALL(ROW($AH$1:$AH$1999)+(1999*($AH$1:$AH$1999=\"\")), ROW(A142)))&\"\"","v":""},"","","","","","","","","","","","","","","","","","","","","","","","","","","","","","","",{"$f":"INDEX(AJ:AJ,SMALL(ROW($AJ$1:$AJ$1999)+(1999*($AJ$1:$AJ$1999=\"\")), ROW(A142)))&\"\"","v":""},"",{"$f":"INDEX(AK:AK,SMALL(ROW($AK$1:$AK$1999)+(1999*($AK$1:$AK$1999=\"\")), ROW(A142)))&\"\"","v":""},"","","",null,"",""]
[null,null,null,null,null,null,null,null,null,null,null,null,null,null,null,null,null,null,null,null,null,null,null,null,null,null,null,null,null,null,null,null,{"$f":"INDEX(C:C, SMALL(ROW(C$1:C$5000)+(5000*(C$1:C$5000=\"\")),ROW(A143)))&\"\"","v":""},"",{"$f":"INDEX(B:B, SMALL(ROW(B$1:B$5000)+(5000*(B$1:B$5000=\"\")),ROW(A143)))&\"\"","v":""},"","","",null,null,{"$f":"INDEX(AH:AH,SMALL(ROW($AH$1:$AH$1999)+(1999*($AH$1:$AH$1999=\"\")), ROW(A143)))&\"\"","v":""},"","","","","","","","","","","","","","","","","","","","","","","","","","","","","","","",{"$f":"INDEX(AJ:AJ,SMALL(ROW($AJ$1:$AJ$1999)+(1999*($AJ$1:$AJ$1999=\"\")), ROW(A143)))&\"\"","v":""},"",{"$f":"INDEX(AK:AK,SMALL(ROW($AK$1:$AK$1999)+(1999*($AK$1:$AK$1999=\"\")), ROW(A143)))&\"\"","v":""},"","","",null,"",""]
[null,null,null,null,null,null,null,null,null,null,null,null,null,null,null,null,null,null,null,null,null,null,null,null,null,null,null,null,null,null,null,null,{"$f":"INDEX(C:C, SMALL(ROW(C$1:C$5000)+(5000*(C$1:C$5000=\"\")),ROW(A144)))&\"\"","v":""},"",{"$f":"INDEX(B:B, SMALL(ROW(B$1:B$5000)+(5000*(B$1:B$5000=\"\")),ROW(A144)))&\"\"","v":""},"","","",null,null,{"$f":"INDEX(AH:AH,SMALL(ROW($AH$1:$AH$1999)+(1999*($AH$1:$AH$1999=\"\")), ROW(A144)))&\"\"","v":""},"","","","","","","","","","","","","","","","","","","","","","","","","","","","","","","",{"$f":"INDEX(AJ:AJ,SMALL(ROW($AJ$1:$AJ$1999)+(1999*($AJ$1:$AJ$1999=\"\")), ROW(A144)))&\"\"","v":""},"",{"$f":"INDEX(AK:AK,SMALL(ROW($AK$1:$AK$1999)+(1999*($AK$1:$AK$1999=\"\")), ROW(A144)))&\"\"","v":""},"","","",null,"",""]
[null,null,null,null,null,null,null,null,null,null,null,null,null,null,null,null,null,null,null,null,null,null,null,null,null,null,null,null,null,null,null,null,{"$f":"INDEX(C:C, SMALL(ROW(C$1:C$5000)+(5000*(C$1:C$5000=\"\")),ROW(A145)))&\"\"","v":""},"",{"$f":"INDEX(B:B, SMALL(ROW(B$1:B$5000)+(5000*(B$1:B$5000=\"\")),ROW(A145)))&\"\"","v":""},"","","",null,null,{"$f":"INDEX(AH:AH,SMALL(ROW($AH$1:$AH$1999)+(1999*($AH$1:$AH$1999=\"\")), ROW(A145)))&\"\"","v":""},"","","","","","","","","","","","","","","","","","","","","","","","","","","","","","","",{"$f":"INDEX(AJ:AJ,SMALL(ROW($AJ$1:$AJ$1999)+(1999*($AJ$1:$AJ$1999=\"\")), ROW(A145)))&\"\"","v":""},"",{"$f":"INDEX(AK:AK,SMALL(ROW($AK$1:$AK$1999)+(1999*($AK$1:$AK$1999=\"\")), ROW(A145)))&\"\"","v":""},"","","",null,"",""]
[null,null,null,null,null,null,null,null,null,null,null,null,null,null,null,null,null,null,null,null,null,null,null,null,null,null,null,null,null,null,null,null,{"$f":"INDEX(C:C, SMALL(ROW(C$1:C$5000)+(5000*(C$1:C$5000=\"\")),ROW(A146)))&\"\"","v":""},"",{"$f":"INDEX(B:B, SMALL(ROW(B$1:B$5000)+(5000*(B$1:B$5000=\"\")),ROW(A146)))&\"\"","v":""},"","","",null,null,{"$f":"INDEX(AH:AH,SMALL(ROW($AH$1:$AH$1999)+(1999*($AH$1:$AH$1999=\"\")), ROW(A146)))&\"\"","v":""},"","","","","","","","","","","","","","","","","","","","","","","","","","","","","","","",{"$f":"INDEX(AJ:AJ,SMALL(ROW($AJ$1:$AJ$1999)+(1999*($AJ$1:$AJ$1999=\"\")), ROW(A146)))&\"\"","v":""},"",{"$f":"INDEX(AK:AK,SMALL(ROW($AK$1:$AK$1999)+(1999*($AK$1:$AK$1999=\"\")), ROW(A146)))&\"\"","v":""},"","","",null,"",""]
[null,null,null,null,null,null,null,null,null,null,null,null,null,null,null,null,null,null,null,null,null,null,null,null,null,null,null,null,null,null,null,null,{"$f":"INDEX(C:C, SMALL(ROW(C$1:C$5000)+(5000*(C$1:C$5000=\"\")),ROW(A147)))&\"\"","v":""},"",{"$f":"INDEX(B:B, SMALL(ROW(B$1:B$5000)+(5000*(B$1:B$5000=\"\")),ROW(A147)))&\"\"","v":""},"","","",null,null,{"$f":"INDEX(AH:AH,SMALL(ROW($AH$1:$AH$1999)+(1999*($AH$1:$AH$1999=\"\")), ROW(A147)))&\"\"","v":""},"","","","","","","","","","","","","","","","","","","","","","","","","","","","","","","",{"$f":"INDEX(AJ:AJ,SMALL(ROW($AJ$1:$AJ$1999)+(1999*($AJ$1:$AJ$1999=\"\")), ROW(A147)))&\"\"","v":""},"",{"$f":"INDEX(AK:AK,SMALL(ROW($AK$1:$AK$1999)+(1999*($AK$1:$AK$1999=\"\")), ROW(A147)))&\"\"","v":""},"","","",null,"",""]
[null,null,null,null,null,null,null,null,null,null,null,null,null,null,null,null,null,null,null,null,null,null,null,null,null,null,null,null,null,null,null,null,{"$f":"INDEX(C:C, SMALL(ROW(C$1:C$5000)+(5000*(C$1:C$5000=\"\")),ROW(A148)))&\"\"","v":""},"",{"$f":"INDEX(B:B, SMALL(ROW(B$1:B$5000)+(5000*(B$1:B$5000=\"\")),ROW(A148)))&\"\"","v":""},"","","",null,null,{"$f":"INDEX(AH:AH,SMALL(ROW($AH$1:$AH$1999)+(1999*($AH$1:$AH$1999=\"\")), ROW(A148)))&\"\"","v":""},"","","","","","","","","","","","","","","","","","","","","","","","","","","","","","","",{"$f":"INDEX(AJ:AJ,SMALL(ROW($AJ$1:$AJ$1999)+(1999*($AJ$1:$AJ$1999=\"\")), ROW(A148)))&\"\"","v":""},"",{"$f":"INDEX(AK:AK,SMALL(ROW($AK$1:$AK$1999)+(1999*($AK$1:$AK$1999=\"\")), ROW(A148)))&\"\"","v":""},"","","",null,"",""]
[null,null,null,null,null,null,null,null,null,null,null,null,null,null,null,null,null,null,null,null,null,null,null,null,null,null,null,null,null,null,null,null,{"$f":"INDEX(C:C, SMALL(ROW(C$1:C$5000)+(5000*(C$1:C$5000=\"\")),ROW(A149)))&\"\"","v":""},"",{"$f":"INDEX(B:B, SMALL(ROW(B$1:B$5000)+(5000*(B$1:B$5000=\"\")),ROW(A149)))&\"\"","v":""},"","","",null,null,{"$f":"INDEX(AH:AH,SMALL(ROW($AH$1:$AH$1999)+(1999*($AH$1:$AH$1999=\"\")), ROW(A149)))&\"\"","v":""},"","","","","","","","","","","","","","","","","","","","","","","","","","","","","","","",{"$f":"INDEX(AJ:AJ,SMALL(ROW($AJ$1:$AJ$1999)+(1999*($AJ$1:$AJ$1999=\"\")), ROW(A149)))&\"\"","v":""},"",{"$f":"INDEX(AK:AK,SMALL(ROW($AK$1:$AK$1999)+(1999*($AK$1:$AK$1999=\"\")), ROW(A149)))&\"\"","v":""},"","","",null,"",""]
[null,null,null,null,null,null,null,null,null,null,null,null,null,null,null,null,null,null,null,null,null,null,null,null,null,null,null,null,null,null,null,null,{"$f":"INDEX(C:C, SMALL(ROW(C$1:C$5000)+(5000*(C$1:C$5000=\"\")),ROW(A150)))&\"\"","v":""},"",{"$f":"INDEX(B:B, SMALL(ROW(B$1:B$5000)+(5000*(B$1:B$5000=\"\")),ROW(A150)))&\"\"","v":""},"","","",null,null,{"$f":"INDEX(AH:AH,SMALL(ROW($AH$1:$AH$1999)+(1999*($AH$1:$AH$1999=\"\")), ROW(A150)))&\"\"","v":""},"","","","","","","","","","","","","","","","","","","","","","","","","","","","","","","",{"$f":"INDEX(AJ:AJ,SMALL(ROW($AJ$1:$AJ$1999)+(1999*($AJ$1:$AJ$1999=\"\")), ROW(A150)))&\"\"","v":""},"",{"$f":"INDEX(AK:AK,SMALL(ROW($AK$1:$AK$1999)+(1999*($AK$1:$AK$1999=\"\")), ROW(A150)))&\"\"","v":""},"","","",null,"",""]
[null,null,null,null,null,null,null,null,null,null,null,null,null,null,null,null,null,null,null,null,null,null,null,null,null,null,null,null,null,null,null,null,{"$f":"INDEX(C:C, SMALL(ROW(C$1:C$5000)+(5000*(C$1:C$5000=\"\")),ROW(A151)))&\"\"","v":""},"",{"$f":"INDEX(B:B, SMALL(ROW(B$1:B$5000)+(5000*(B$1:B$5000=\"\")),ROW(A151)))&\"\"","v":""},"","","",null,null,{"$f":"INDEX(AH:AH,SMALL(ROW($AH$1:$AH$1999)+(1999*($AH$1:$AH$1999=\"\")), ROW(A151)))&\"\"","v":""},"","","","","","","","","","","","","","","","","","","","","","","","","","","","","","","",{"$f":"INDEX(AJ:AJ,SMALL(ROW($AJ$1:$AJ$1999)+(1999*($AJ$1:$AJ$1999=\"\")), ROW(A151)))&\"\"","v":""},"",{"$f":"INDEX(AK:AK,SMALL(ROW($AK$1:$AK$1999)+(1999*($AK$1:$AK$1999=\"\")), ROW(A151)))&\"\"","v":""},"","","",null,"",""]
[null,null,null,null,null,null,null,null,null,null,null,null,null,null,null,null,null,null,null,null,null,null,null,null,null,null,null,null,null,null,null,null,{"$f":"INDEX(C:C, SMALL(ROW(C$1:C$5000)+(5000*(C$1:C$5000=\"\")),ROW(A152)))&\"\"","v":""},"",{"$f":"INDEX(B:B, SMALL(ROW(B$1:B$5000)+(5000*(B$1:B$5000=\"\")),ROW(A152)))&\"\"","v":""},"","","",null,null,{"$f":"INDEX(AH:AH,SMALL(ROW($AH$1:$AH$1999)+(1999*($AH$1:$AH$1999=\"\")), ROW(A152)))&\"\"","v":""},"","","","","","","","","","","","","","","","","","","","","","","","","","","","","","","",{"$f":"INDEX(AJ:AJ,SMALL(ROW($AJ$1:$AJ$1999)+(1999*($AJ$1:$AJ$1999=\"\")), ROW(A152)))&\"\"","v":""},"",{"$f":"INDEX(AK:AK,SMALL(ROW($AK$1:$AK$1999)+(1999*($AK$1:$AK$1999=\"\")), ROW(A152)))&\"\"","v":""},"","","",null,"",""]
[null,null,null,null,null,null,null,null,null,null,null,null,null,null,null,null,null,null,null,null,null,null,null,null,null,null,null,null,null,null,null,null,{"$f":"INDEX(C:C, SMALL(ROW(C$1:C$5000)+(5000*(C$1:C$5000=\"\")),ROW(A153)))&\"\"","v":""},"",{"$f":"INDEX(B:B, SMALL(ROW(B$1:B$5000)+(5000*(B$1:B$5000=\"\")),ROW(A153)))&\"\"","v":""},"","","",null,null,{"$f":"INDEX(AH:AH,SMALL(ROW($AH$1:$AH$1999)+(1999*($AH$1:$AH$1999=\"\")), ROW(A153)))&\"\"","v":""},"","","","","","","","","","","","","","","","","","","","","","","","","","","","","","","",{"$f":"INDEX(AJ:AJ,SMALL(ROW($AJ$1:$AJ$1999)+(1999*($AJ$1:$AJ$1999=\"\")), ROW(A153)))&\"\"","v":""},"",{"$f":"INDEX(AK:AK,SMALL(ROW($AK$1:$AK$1999)+(1999*($AK$1:$AK$1999=\"\")), ROW(A153)))&\"\"","v":""},"","","",null,"",""]
[null,null,null,null,null,null,null,null,null,null,null,null,null,null,null,null,null,null,null,null,null,null,null,null,null,null,null,null,null,null,null,null,{"$f":"INDEX(C:C, SMALL(ROW(C$1:C$5000)+(5000*(C$1:C$5000=\"\")),ROW(A154)))&\"\"","v":""},"",{"$f":"INDEX(B:B, SMALL(ROW(B$1:B$5000)+(5000*(B$1:B$5000=\"\")),ROW(A154)))&\"\"","v":""},"","","",null,null,{"$f":"INDEX(AH:AH,SMALL(ROW($AH$1:$AH$1999)+(1999*($AH$1:$AH$1999=\"\")), ROW(A154)))&\"\"","v":""},"","","","","","","","","","","","","","","","","","","","","","","","","","","","","","","",{"$f":"INDEX(AJ:AJ,SMALL(ROW($AJ$1:$AJ$1999)+(1999*($AJ$1:$AJ$1999=\"\")), ROW(A154)))&\"\"","v":""},"",{"$f":"INDEX(AK:AK,SMALL(ROW($AK$1:$AK$1999)+(1999*($AK$1:$AK$1999=\"\")), ROW(A154)))&\"\"","v":""},"","","",null,"",""]
[null,null,null,null,null,null,null,null,null,null,null,null,null,null,null,null,null,null,null,null,null,null,null,null,null,null,null,null,null,null,null,null,{"$f":"INDEX(C:C, SMALL(ROW(C$1:C$5000)+(5000*(C$1:C$5000=\"\")),ROW(A155)))&\"\"","v":""},"",{"$f":"INDEX(B:B, SMALL(ROW(B$1:B$5000)+(5000*(B$1:B$5000=\"\")),ROW(A155)))&\"\"","v":""},"","","",null,null,{"$f":"INDEX(AH:AH,SMALL(ROW($AH$1:$AH$1999)+(1999*($AH$1:$AH$1999=\"\")), ROW(A155)))&\"\"","v":""},"","","","","","","","","","","","","","","","","","","","","","","","","","","","","","","",{"$f":"INDEX(AJ:AJ,SMALL(ROW($AJ$1:$AJ$1999)+(1999*($AJ$1:$AJ$1999=\"\")), ROW(A155)))&\"\"","v":""},"",{"$f":"INDEX(AK:AK,SMALL(ROW($AK$1:$AK$1999)+(1999*($AK$1:$AK$1999=\"\")), ROW(A155)))&\"\"","v":""},"","","",null,"",""]
[null,null,null,null,null,null,null,null,null,null,null,null,null,null,null,null,null,null,null,null,null,null,null,null,null,null,null,null,null,null,null,null,{"$f":"INDEX(C:C, SMALL(ROW(C$1:C$5000)+(5000*(C$1:C$5000=\"\")),ROW(A156)))&\"\"","v":""},"",{"$f":"INDEX(B:B, SMALL(ROW(B$1:B$5000)+(5000*(B$1:B$5000=\"\")),ROW(A156)))&\"\"","v":""},"","","",null,null,{"$f":"INDEX(AH:AH,SMALL(ROW($AH$1:$AH$1999)+(1999*($AH$1:$AH$1999=\"\")), ROW(A156)))&\"\"","v":""},"","","","","","","","","","","","","","","","","","","","","","","","","","","","","","","",{"$f":"INDEX(AJ:AJ,SMALL(ROW($AJ$1:$AJ$1999)+(1999*($AJ$1:$AJ$1999=\"\")), ROW(A156)))&\"\"","v":""},"",{"$f":"INDEX(AK:AK,SMALL(ROW($AK$1:$AK$1999)+(1999*($AK$1:$AK$1999=\"\")), ROW(A156)))&\"\"","v":""},"","","",null,"",""]
[null,null,null,null,null,null,null,null,null,null,null,null,null,null,null,null,null,null,null,null,null,null,null,null,null,null,null,null,null,null,null,null,{"$f":"INDEX(C:C, SMALL(ROW(C$1:C$5000)+(5000*(C$1:C$5000=\"\")),ROW(A157)))&\"\"","v":""},"",{"$f":"INDEX(B:B, SMALL(ROW(B$1:B$5000)+(5000*(B$1:B$5000=\"\")),ROW(A157)))&\"\"","v":""},"","","",null,null,{"$f":"INDEX(AH:AH,SMALL(ROW($AH$1:$AH$1999)+(1999*($AH$1:$AH$1999=\"\")), ROW(A157)))&\"\"","v":""},"","","","","","","","","","","","","","","","","","","","","","","","","","","","","","","",{"$f":"INDEX(AJ:AJ,SMALL(ROW($AJ$1:$AJ$1999)+(1999*($AJ$1:$AJ$1999=\"\")), ROW(A157)))&\"\"","v":""},"",{"$f":"INDEX(AK:AK,SMALL(ROW($AK$1:$AK$1999)+(1999*($AK$1:$AK$1999=\"\")), ROW(A157)))&\"\"","v":""},"","","",null,"",""]
[null,null,null,null,null,null,null,null,null,null,null,null,null,null,null,null,null,null,null,null,null,null,null,null,null,null,null,null,null,null,null,null,{"$f":"INDEX(C:C, SMALL(ROW(C$1:C$5000)+(5000*(C$1:C$5000=\"\")),ROW(A158)))&\"\"","v":""},"",{"$f":"INDEX(B:B, SMALL(ROW(B$1:B$5000)+(5000*(B$1:B$5000=\"\")),ROW(A158)))&\"\"","v":""},"","","",null,null,{"$f":"INDEX(AH:AH,SMALL(ROW($AH$1:$AH$1999)+(1999*($AH$1:$AH$1999=\"\")), ROW(A158)))&\"\"","v":""},"","","","","","","","","","","",{"$f":"IFERROR(IF(ISNUMBER(SEARCH(\"*TE*\",AZ158)),BV158,\"\"),VALUE(0))","v":""},"","","","","","","","","","","","","","","","","","","",{"$f":"INDEX(AJ:AJ,SMALL(ROW($AJ$1:$AJ$1999)+(1999*($AJ$1:$AJ$1999=\"\")), ROW(A158)))&\"\"","v":""},"",{"$f":"INDEX(AK:AK,SMALL(ROW($AK$1:$AK$1999)+(1999*($AK$1:$AK$1999=\"\")), ROW(A158)))&\"\"","v":""},"","","",null,"",""]
[null,null,null,null,null,null,null,null,null,null,null,null,null,null,null,null,null,null,null,null,null,null,null,null,null,null,null,null,null,null,null,null,{"$f":"INDEX(C:C, SMALL(ROW(C$1:C$5000)+(5000*(C$1:C$5000=\"\")),ROW(A159)))&\"\"","v":""},"",{"$f":"INDEX(B:B, SMALL(ROW(B$1:B$5000)+(5000*(B$1:B$5000=\"\")),ROW(A159)))&\"\"","v":""},"","","",null,null,{"$f":"INDEX(AH:AH,SMALL(ROW($AH$1:$AH$1999)+(1999*($AH$1:$AH$1999=\"\")), ROW(A159)))&\"\"","v":""},"","","","","","","","","","","","","","","","","","","","","","","","","","","","","","","",{"$f":"INDEX(AJ:AJ,SMALL(ROW($AJ$1:$AJ$1999)+(1999*($AJ$1:$AJ$1999=\"\")), ROW(A159)))&\"\"","v":""},"",{"$f":"INDEX(AK:AK,SMALL(ROW($AK$1:$AK$1999)+(1999*($AK$1:$AK$1999=\"\")), ROW(A159)))&\"\"","v":""},"","","",null,"",""]
[null,null,null,null,null,null,null,null,null,null,null,null,null,null,null,null,null,null,null,null,null,null,null,null,null,null,null,null,null,null,null,null,{"$f":"INDEX(C:C, SMALL(ROW(C$1:C$5000)+(5000*(C$1:C$5000=\"\")),ROW(A160)))&\"\"","v":""},"",{"$f":"INDEX(B:B, SMALL(ROW(B$1:B$5000)+(5000*(B$1:B$5000=\"\")),ROW(A160)))&\"\"","v":""},"","","",null,null,{"$f":"INDEX(AH:AH,SMALL(ROW($AH$1:$AH$1999)+(1999*($AH$1:$AH$1999=\"\")), ROW(A160)))&\"\"","v":""},"","","","","","","","","","","","","","","","","","","","","","","","","","","","","","","",{"$f":"INDEX(AJ:AJ,SMALL(ROW($AJ$1:$AJ$1999)+(1999*($AJ$1:$AJ$1999=\"\")), ROW(A160)))&\"\"","v":""},"",{"$f":"INDEX(AK:AK,SMALL(ROW($AK$1:$AK$1999)+(1999*($AK$1:$AK$1999=\"\")), ROW(A160)))&\"\"","v":""},"","","",null,"",""]
[null,null,null,null,null,null,null,null,null,null,null,null,null,null,null,null,null,null,null,null,null,null,null,null,null,null,null,null,null,null,null,null,{"$f":"INDEX(C:C, SMALL(ROW(C$1:C$5000)+(5000*(C$1:C$5000=\"\")),ROW(A161)))&\"\"","v":""},"",{"$f":"INDEX(B:B, SMALL(ROW(B$1:B$5000)+(5000*(B$1:B$5000=\"\")),ROW(A161)))&\"\"","v":""},"","","",null,null,{"$f":"INDEX(AH:AH,SMALL(ROW($AH$1:$AH$1999)+(1999*($AH$1:$AH$1999=\"\")), ROW(A161)))&\"\"","v":""},"","","","","","","","","","","","","","","","","","","","","","","","","","","","","","","",{"$f":"INDEX(AJ:AJ,SMALL(ROW($AJ$1:$AJ$1999)+(1999*($AJ$1:$AJ$1999=\"\")), ROW(A161)))&\"\"","v":""},"",{"$f":"INDEX(AK:AK,SMALL(ROW($AK$1:$AK$1999)+(1999*($AK$1:$AK$1999=\"\")), ROW(A161)))&\"\"","v":""},"","","",null,"",""]
[null,null,null,null,null,null,null,null,null,null,null,null,null,null,null,null,null,null,null,null,null,null,null,null,null,null,null,null,null,null,null,null,{"$f":"INDEX(C:C, SMALL(ROW(C$1:C$5000)+(5000*(C$1:C$5000=\"\")),ROW(A162)))&\"\"","v":""},"",{"$f":"INDEX(B:B, SMALL(ROW(B$1:B$5000)+(5000*(B$1:B$5000=\"\")),ROW(A162)))&\"\"","v":""},"","","",null,null,{"$f":"INDEX(AH:AH,SMALL(ROW($AH$1:$AH$1999)+(1999*($AH$1:$AH$1999=\"\")), ROW(A162)))&\"\"","v":""},"","","","","","","","","","","","","","","","","","","","","","","","","","","","","","","",{"$f":"INDEX(AJ:AJ,SMALL(ROW($AJ$1:$AJ$1999)+(1999*($AJ$1:$AJ$1999=\"\")), ROW(A162)))&\"\"","v":""},"",{"$f":"INDEX(AK:AK,SMALL(ROW($AK$1:$AK$1999)+(1999*($AK$1:$AK$1999=\"\")), ROW(A162)))&\"\"","v":""},"","","",null,"",""]
[null,null,null,null,null,null,null,null,null,null,null,null,null,null,null,null,null,null,null,null,null,null,null,null,null,null,null,null,null,null,null,null,{"$f":"INDEX(C:C, SMALL(ROW(C$1:C$5000)+(5000*(C$1:C$5000=\"\")),ROW(A163)))&\"\"","v":""},"",{"$f":"INDEX(B:B, SMALL(ROW(B$1:B$5000)+(5000*(B$1:B$5000=\"\")),ROW(A163)))&\"\"","v":""},"","","",null,null,{"$f":"INDEX(AH:AH,SMALL(ROW($AH$1:$AH$1999)+(1999*($AH$1:$AH$1999=\"\")), ROW(A163)))&\"\"","v":""},"","","","","","","","","","","","","","","","","","","","","","","","","","","","","","","",{"$f":"INDEX(AJ:AJ,SMALL(ROW($AJ$1:$AJ$1999)+(1999*($AJ$1:$AJ$1999=\"\")), ROW(A163)))&\"\"","v":""},"",{"$f":"INDEX(AK:AK,SMALL(ROW($AK$1:$AK$1999)+(1999*($AK$1:$AK$1999=\"\")), ROW(A163)))&\"\"","v":""},"","","",null,"",""]
[null,null,null,null,null,null,null,null,null,null,null,null,null,null,null,null,null,null,null,null,null,null,null,null,null,null,null,null,null,null,null,null,{"$f":"INDEX(C:C, SMALL(ROW(C$1:C$5000)+(5000*(C$1:C$5000=\"\")),ROW(A164)))&\"\"","v":""},"",{"$f":"INDEX(B:B, SMALL(ROW(B$1:B$5000)+(5000*(B$1:B$5000=\"\")),ROW(A164)))&\"\"","v":""},"","","",null,null,{"$f":"INDEX(AH:AH,SMALL(ROW($AH$1:$AH$1999)+(1999*($AH$1:$AH$1999=\"\")), ROW(A164)))&\"\"","v":""},"","","","","","","","","","","","","","","","","","","","","","","","","","","","","","","",{"$f":"INDEX(AJ:AJ,SMALL(ROW($AJ$1:$AJ$1999)+(1999*($AJ$1:$AJ$1999=\"\")), ROW(A164)))&\"\"","v":""},"",{"$f":"INDEX(AK:AK,SMALL(ROW($AK$1:$AK$1999)+(1999*($AK$1:$AK$1999=\"\")), ROW(A164)))&\"\"","v":""},"","","",null,"",""]
[null,null,null,null,null,null,null,null,null,null,null,null,null,null,null,null,null,null,null,null,null,null,null,null,null,null,null,null,null,null,null,null,{"$f":"INDEX(C:C, SMALL(ROW(C$1:C$5000)+(5000*(C$1:C$5000=\"\")),ROW(A165)))&\"\"","v":""},"",{"$f":"INDEX(B:B, SMALL(ROW(B$1:B$5000)+(5000*(B$1:B$5000=\"\")),ROW(A165)))&\"\"","v":""},"","","",null,null,{"$f":"INDEX(AH:AH,SMALL(ROW($AH$1:$AH$1999)+(1999*($AH$1:$AH$1999=\"\")), ROW(A165)))&\"\"","v":""},"","","","","","","","","","","","","","","","","","","","","","","","","","","","","","","",{"$f":"INDEX(AJ:AJ,SMALL(ROW($AJ$1:$AJ$1999)+(1999*($AJ$1:$AJ$1999=\"\")), ROW(A165)))&\"\"","v":""},"",{"$f":"INDEX(AK:AK,SMALL(ROW($AK$1:$AK$1999)+(1999*($AK$1:$AK$1999=\"\")), ROW(A165)))&\"\"","v":""},"","","",null,"",""]
[null,null,null,null,null,null,null,null,null,null,null,null,null,null,null,null,null,null,null,null,null,null,null,null,null,null,null,null,null,null,null,null,{"$f":"INDEX(C:C, SMALL(ROW(C$1:C$5000)+(5000*(C$1:C$5000=\"\")),ROW(A166)))&\"\"","v":""},"",{"$f":"INDEX(B:B, SMALL(ROW(B$1:B$5000)+(5000*(B$1:B$5000=\"\")),ROW(A166)))&\"\"","v":""},"","","",null,null,{"$f":"INDEX(AH:AH,SMALL(ROW($AH$1:$AH$1999)+(1999*($AH$1:$AH$1999=\"\")), ROW(A166)))&\"\"","v":""},"","","","","","","","","","","","","","","","","","","","","","","","","","","","","","","",{"$f":"INDEX(AJ:AJ,SMALL(ROW($AJ$1:$AJ$1999)+(1999*($AJ$1:$AJ$1999=\"\")), ROW(A166)))&\"\"","v":""},"",{"$f":"INDEX(AK:AK,SMALL(ROW($AK$1:$AK$1999)+(1999*($AK$1:$AK$1999=\"\")), ROW(A166)))&\"\"","v":""},"","","",null,"",""]
[null,null,null,null,null,null,null,null,null,null,null,null,null,null,null,null,null,null,null,null,null,null,null,null,null,null,null,null,null,null,null,null,{"$f":"INDEX(C:C, SMALL(ROW(C$1:C$5000)+(5000*(C$1:C$5000=\"\")),ROW(A167)))&\"\"","v":""},"",{"$f":"INDEX(B:B, SMALL(ROW(B$1:B$5000)+(5000*(B$1:B$5000=\"\")),ROW(A167)))&\"\"","v":""},"","","",null,null,{"$f":"INDEX(AH:AH,SMALL(ROW($AH$1:$AH$1999)+(1999*($AH$1:$AH$1999=\"\")), ROW(A167)))&\"\"","v":""},"","","","","","","","","","","","","","","","","","","","","","","","","","","","","","","",{"$f":"INDEX(AJ:AJ,SMALL(ROW($AJ$1:$AJ$1999)+(1999*($AJ$1:$AJ$1999=\"\")), ROW(A167)))&\"\"","v":""},"",{"$f":"INDEX(AK:AK,SMALL(ROW($AK$1:$AK$1999)+(1999*($AK$1:$AK$1999=\"\")), ROW(A167)))&\"\"","v":""},"","","",null,"",""]
[null,null,null,null,null,null,null,null,null,null,null,null,null,null,null,null,null,null,null,null,null,null,null,null,null,null,null,null,null,null,null,null,{"$f":"INDEX(C:C, SMALL(ROW(C$1:C$5000)+(5000*(C$1:C$5000=\"\")),ROW(A168)))&\"\"","v":""},"",{"$f":"INDEX(B:B, SMALL(ROW(B$1:B$5000)+(5000*(B$1:B$5000=\"\")),ROW(A168)))&\"\"","v":""},"","","",null,null,{"$f":"INDEX(AH:AH,SMALL(ROW($AH$1:$AH$1999)+(1999*($AH$1:$AH$1999=\"\")), ROW(A168)))&\"\"","v":""},"","","","","","","","","","","","","","","","","","","","","","","","","","","","","","","",{"$f":"INDEX(AJ:AJ,SMALL(ROW($AJ$1:$AJ$1999)+(1999*($AJ$1:$AJ$1999=\"\")), ROW(A168)))&\"\"","v":""},"",{"$f":"INDEX(AK:AK,SMALL(ROW($AK$1:$AK$1999)+(1999*($AK$1:$AK$1999=\"\")), ROW(A168)))&\"\"","v":""},"","","",null,"",""]
[null,null,null,null,null,null,null,null,null,null,null,null,null,null,null,null,null,null,null,null,null,null,null,null,null,null,null,null,null,null,null,null,{"$f":"INDEX(C:C, SMALL(ROW(C$1:C$5000)+(5000*(C$1:C$5000=\"\")),ROW(A169)))&\"\"","v":""},"",{"$f":"INDEX(B:B, SMALL(ROW(B$1:B$5000)+(5000*(B$1:B$5000=\"\")),ROW(A169)))&\"\"","v":""},"","","",null,null,{"$f":"INDEX(AH:AH,SMALL(ROW($AH$1:$AH$1999)+(1999*($AH$1:$AH$1999=\"\")), ROW(A169)))&\"\"","v":""},"","","","","","","","","","","","","","","","","","","","","","","","","","","","","","","",{"$f":"INDEX(AJ:AJ,SMALL(ROW($AJ$1:$AJ$1999)+(1999*($AJ$1:$AJ$1999=\"\")), ROW(A169)))&\"\"","v":""},"",{"$f":"INDEX(AK:AK,SMALL(ROW($AK$1:$AK$1999)+(1999*($AK$1:$AK$1999=\"\")), ROW(A169)))&\"\"","v":""},"","","",null,"",""]
[null,null,null,null,null,null,null,null,null,null,null,null,null,null,null,null,null,null,null,null,null,null,null,null,null,null,null,null,null,null,null,null,{"$f":"INDEX(C:C, SMALL(ROW(C$1:C$5000)+(5000*(C$1:C$5000=\"\")),ROW(A170)))&\"\"","v":""},"",{"$f":"INDEX(B:B, SMALL(ROW(B$1:B$5000)+(5000*(B$1:B$5000=\"\")),ROW(A170)))&\"\"","v":""},"","","",null,null,{"$f":"INDEX(AH:AH,SMALL(ROW($AH$1:$AH$1999)+(1999*($AH$1:$AH$1999=\"\")), ROW(A170)))&\"\"","v":""},"","","","","","","","","","","","","","","","","","","","","","","","","","","","","","","",{"$f":"INDEX(AJ:AJ,SMALL(ROW($AJ$1:$AJ$1999)+(1999*($AJ$1:$AJ$1999=\"\")), ROW(A170)))&\"\"","v":""},"",{"$f":"INDEX(AK:AK,SMALL(ROW($AK$1:$AK$1999)+(1999*($AK$1:$AK$1999=\"\")), ROW(A170)))&\"\"","v":""},"","","",null,"",""]
[null,null,null,null,null,null,null,null,null,null,null,null,null,null,null,null,null,null,null,null,null,null,null,null,null,null,null,null,null,null,null,null,{"$f":"INDEX(C:C, SMALL(ROW(C$1:C$5000)+(5000*(C$1:C$5000=\"\")),ROW(A171)))&\"\"","v":""},"",{"$f":"INDEX(B:B, SMALL(ROW(B$1:B$5000)+(5000*(B$1:B$5000=\"\")),ROW(A171)))&\"\"","v":""},"","","",null,null,{"$f":"INDEX(AH:AH,SMALL(ROW($AH$1:$AH$1999)+(1999*($AH$1:$AH$1999=\"\")), ROW(A171)))&\"\"","v":""},"","","","","","","","","","","","","","","","","","","","","","","","","","","","","","","",{"$f":"INDEX(AJ:AJ,SMALL(ROW($AJ$1:$AJ$1999)+(1999*($AJ$1:$AJ$1999=\"\")), ROW(A171)))&\"\"","v":""},"",{"$f":"INDEX(AK:AK,SMALL(ROW($AK$1:$AK$1999)+(1999*($AK$1:$AK$1999=\"\")), ROW(A171)))&\"\"","v":""},"","","",null,"",""]
[null,null,null,null,null,null,null,null,null,null,null,null,null,null,null,null,null,null,null,null,null,null,null,null,null,null,null,null,null,null,null,null,{"$f":"INDEX(C:C, SMALL(ROW(C$1:C$5000)+(5000*(C$1:C$5000=\"\")),ROW(A172)))&\"\"","v":""},"",{"$f":"INDEX(B:B, SMALL(ROW(B$1:B$5000)+(5000*(B$1:B$5000=\"\")),ROW(A172)))&\"\"","v":""},"","","",null,null,{"$f":"INDEX(AH:AH,SMALL(ROW($AH$1:$AH$1999)+(1999*($AH$1:$AH$1999=\"\")), ROW(A172)))&\"\"","v":""},"","","","","","","","","","","","","","","","","","","","","","","","","","","","","","","",{"$f":"INDEX(AJ:AJ,SMALL(ROW($AJ$1:$AJ$1999)+(1999*($AJ$1:$AJ$1999=\"\")), ROW(A172)))&\"\"","v":""},"",{"$f":"INDEX(AK:AK,SMALL(ROW($AK$1:$AK$1999)+(1999*($AK$1:$AK$1999=\"\")), ROW(A172)))&\"\"","v":""},"","","",null,"",""]
[null,null,null,null,null,null,null,null,null,null,null,null,null,null,null,null,null,null,null,null,null,null,null,null,null,null,null,null,null,null,null,null,{"$f":"INDEX(C:C, SMALL(ROW(C$1:C$5000)+(5000*(C$1:C$5000=\"\")),ROW(A173)))&\"\"","v":""},"",{"$f":"INDEX(B:B, SMALL(ROW(B$1:B$5000)+(5000*(B$1:B$5000=\"\")),ROW(A173)))&\"\"","v":""},"","","",null,null,{"$f":"INDEX(AH:AH,SMALL(ROW($AH$1:$AH$1999)+(1999*($AH$1:$AH$1999=\"\")), ROW(A173)))&\"\"","v":""},"","","","","","","","","","","","","","","","","","","","","","","","","","","","","","","",{"$f":"INDEX(AJ:AJ,SMALL(ROW($AJ$1:$AJ$1999)+(1999*($AJ$1:$AJ$1999=\"\")), ROW(A173)))&\"\"","v":""},"",{"$f":"INDEX(AK:AK,SMALL(ROW($AK$1:$AK$1999)+(1999*($AK$1:$AK$1999=\"\")), ROW(A173)))&\"\"","v":""},"","","",null,"",""]
[null,null,null,null,null,null,null,null,null,null,null,null,null,null,null,null,null,null,null,null,null,null,null,null,null,null,null,null,null,null,null,null,{"$f":"INDEX(C:C, SMALL(ROW(C$1:C$5000)+(5000*(C$1:C$5000=\"\")),ROW(A174)))&\"\"","v":""},"",{"$f":"INDEX(B:B, SMALL(ROW(B$1:B$5000)+(5000*(B$1:B$5000=\"\")),ROW(A174)))&\"\"","v":""},"","","",null,null,{"$f":"INDEX(AH:AH,SMALL(ROW($AH$1:$AH$1999)+(1999*($AH$1:$AH$1999=\"\")), ROW(A174)))&\"\"","v":""},"","","","","","","","","","","","","","","","","","","","","","","","","","","","","","","",{"$f":"INDEX(AJ:AJ,SMALL(ROW($AJ$1:$AJ$1999)+(1999*($AJ$1:$AJ$1999=\"\")), ROW(A174)))&\"\"","v":""},"",{"$f":"INDEX(AK:AK,SMALL(ROW($AK$1:$AK$1999)+(1999*($AK$1:$AK$1999=\"\")), ROW(A174)))&\"\"","v":""},"","","",null,"",""]
[null,null,null,null,null,null,null,null,null,null,null,null,null,null,null,null,null,null,null,null,null,null,null,null,null,null,null,null,null,null,null,null,{"$f":"INDEX(C:C, SMALL(ROW(C$1:C$5000)+(5000*(C$1:C$5000=\"\")),ROW(A175)))&\"\"","v":""},"",{"$f":"INDEX(B:B, SMALL(ROW(B$1:B$5000)+(5000*(B$1:B$5000=\"\")),ROW(A175)))&\"\"","v":""},"","","",null,null,{"$f":"INDEX(AH:AH,SMALL(ROW($AH$1:$AH$1999)+(1999*($AH$1:$AH$1999=\"\")), ROW(A175)))&\"\"","v":""},"","","","","","","","","","","","","","","","","","","","","","","","","","","","","","","",{"$f":"INDEX(AJ:AJ,SMALL(ROW($AJ$1:$AJ$1999)+(1999*($AJ$1:$AJ$1999=\"\")), ROW(A175)))&\"\"","v":""},"",{"$f":"INDEX(AK:AK,SMALL(ROW($AK$1:$AK$1999)+(1999*($AK$1:$AK$1999=\"\")), ROW(A175)))&\"\"","v":""},"","","",null,"",""]
[null,null,null,null,null,null,null,null,null,null,null,null,null,null,null,null,null,null,null,null,null,null,null,null,null,null,null,null,null,null,null,null,{"$f":"INDEX(C:C, SMALL(ROW(C$1:C$5000)+(5000*(C$1:C$5000=\"\")),ROW(A176)))&\"\"","v":""},"",{"$f":"INDEX(B:B, SMALL(ROW(B$1:B$5000)+(5000*(B$1:B$5000=\"\")),ROW(A176)))&\"\"","v":""},"","","",null,null,{"$f":"INDEX(AH:AH,SMALL(ROW($AH$1:$AH$1999)+(1999*($AH$1:$AH$1999=\"\")), ROW(A176)))&\"\"","v":""},"","","","","","","","","","","","","","","","","","","","","","","","","","","","","","","",{"$f":"INDEX(AJ:AJ,SMALL(ROW($AJ$1:$AJ$1999)+(1999*($AJ$1:$AJ$1999=\"\")), ROW(A176)))&\"\"","v":""},"",{"$f":"INDEX(AK:AK,SMALL(ROW($AK$1:$AK$1999)+(1999*($AK$1:$AK$1999=\"\")), ROW(A176)))&\"\"","v":""},"","","",null,"",""]
[null,null,null,null,null,null,null,null,null,null,null,null,null,null,null,null,null,null,null,null,null,null,null,null,null,null,null,null,null,null,null,null,{"$f":"INDEX(C:C, SMALL(ROW(C$1:C$5000)+(5000*(C$1:C$5000=\"\")),ROW(A177)))&\"\"","v":""},"",{"$f":"INDEX(B:B, SMALL(ROW(B$1:B$5000)+(5000*(B$1:B$5000=\"\")),ROW(A177)))&\"\"","v":""},"","","",null,null,{"$f":"INDEX(AH:AH,SMALL(ROW($AH$1:$AH$1999)+(1999*($AH$1:$AH$1999=\"\")), ROW(A177)))&\"\"","v":""},"","","","","","","","","","","","","","","","","","","","","","","","","","","","","","","",{"$f":"INDEX(AJ:AJ,SMALL(ROW($AJ$1:$AJ$1999)+(1999*($AJ$1:$AJ$1999=\"\")), ROW(A177)))&\"\"","v":""},"",{"$f":"INDEX(AK:AK,SMALL(ROW($AK$1:$AK$1999)+(1999*($AK$1:$AK$1999=\"\")), ROW(A177)))&\"\"","v":""},"","","",null,"",""]
[null,null,null,null,null,null,null,null,null,null,null,null,null,null,null,null,null,null,null,null,null,null,null,null,null,null,null,null,null,null,null,null,{"$f":"INDEX(C:C, SMALL(ROW(C$1:C$5000)+(5000*(C$1:C$5000=\"\")),ROW(A178)))&\"\"","v":""},"",{"$f":"INDEX(B:B, SMALL(ROW(B$1:B$5000)+(5000*(B$1:B$5000=\"\")),ROW(A178)))&\"\"","v":""},"","","",null,null,{"$f":"INDEX(AH:AH,SMALL(ROW($AH$1:$AH$1999)+(1999*($AH$1:$AH$1999=\"\")), ROW(A178)))&\"\"","v":""},"","","","","","","","","","","","","","","","","","","","","","","","","","","","","","","",{"$f":"INDEX(AJ:AJ,SMALL(ROW($AJ$1:$AJ$1999)+(1999*($AJ$1:$AJ$1999=\"\")), ROW(A178)))&\"\"","v":""},"",{"$f":"INDEX(AK:AK,SMALL(ROW($AK$1:$AK$1999)+(1999*($AK$1:$AK$1999=\"\")), ROW(A178)))&\"\"","v":""},"","","",null,"",""]
[null,null,null,null,null,null,null,null,null,null,null,null,null,null,null,null,null,null,null,null,null,null,null,null,null,null,null,null,null,null,null,null,{"$f":"INDEX(C:C, SMALL(ROW(C$1:C$5000)+(5000*(C$1:C$5000=\"\")),ROW(A179)))&\"\"","v":""},"",{"$f":"INDEX(B:B, SMALL(ROW(B$1:B$5000)+(5000*(B$1:B$5000=\"\")),ROW(A179)))&\"\"","v":""},"","","",null,null,{"$f":"INDEX(AH:AH,SMALL(ROW($AH$1:$AH$1999)+(1999*($AH$1:$AH$1999=\"\")), ROW(A179)))&\"\"","v":""},"","","","","","","","","","","","","","","","","","","","","","","","","","","","","","","",{"$f":"INDEX(AJ:AJ,SMALL(ROW($AJ$1:$AJ$1999)+(1999*($AJ$1:$AJ$1999=\"\")), ROW(A179)))&\"\"","v":""},"",{"$f":"INDEX(AK:AK,SMALL(ROW($AK$1:$AK$1999)+(1999*($AK$1:$AK$1999=\"\")), ROW(A179)))&\"\"","v":""},"","","",null,"",""]
[null,null,null,null,null,null,null,null,null,null,null,null,null,null,null,null,null,null,null,null,null,null,null,null,null,null,null,null,null,null,null,null,{"$f":"INDEX(C:C, SMALL(ROW(C$1:C$5000)+(5000*(C$1:C$5000=\"\")),ROW(A180)))&\"\"","v":""},"",{"$f":"INDEX(B:B, SMALL(ROW(B$1:B$5000)+(5000*(B$1:B$5000=\"\")),ROW(A180)))&\"\"","v":""},"","","",null,null,{"$f":"INDEX(AH:AH,SMALL(ROW($AH$1:$AH$1999)+(1999*($AH$1:$AH$1999=\"\")), ROW(A180)))&\"\"","v":""},"","","","","","","","","","","","","","","","","","","","","","","","","","","","","","","",{"$f":"INDEX(AJ:AJ,SMALL(ROW($AJ$1:$AJ$1999)+(1999*($AJ$1:$AJ$1999=\"\")), ROW(A180)))&\"\"","v":""},"",{"$f":"INDEX(AK:AK,SMALL(ROW($AK$1:$AK$1999)+(1999*($AK$1:$AK$1999=\"\")), ROW(A180)))&\"\"","v":""},"","","",null,"",""]
[null,null,null,null,null,null,null,null,null,null,null,null,null,null,null,null,null,null,null,null,null,null,null,null,null,null,null,null,null,null,null,null,{"$f":"INDEX(C:C, SMALL(ROW(C$1:C$5000)+(5000*(C$1:C$5000=\"\")),ROW(A181)))&\"\"","v":""},"",{"$f":"INDEX(B:B, SMALL(ROW(B$1:B$5000)+(5000*(B$1:B$5000=\"\")),ROW(A181)))&\"\"","v":""},"","","",null,null,{"$f":"INDEX(AH:AH,SMALL(ROW($AH$1:$AH$1999)+(1999*($AH$1:$AH$1999=\"\")), ROW(A181)))&\"\"","v":""},"","","","","","","","","","","","","","","","","","","","","","","","","","","","","","","",{"$f":"INDEX(AJ:AJ,SMALL(ROW($AJ$1:$AJ$1999)+(1999*($AJ$1:$AJ$1999=\"\")), ROW(A181)))&\"\"","v":""},"",{"$f":"INDEX(AK:AK,SMALL(ROW($AK$1:$AK$1999)+(1999*($AK$1:$AK$1999=\"\")), ROW(A181)))&\"\"","v":""},"","","",null,"",""]
[null,null,null,null,null,null,null,null,null,null,null,null,null,null,null,null,null,null,null,null,null,null,null,null,null,null,null,null,null,null,null,null,{"$f":"INDEX(C:C, SMALL(ROW(C$1:C$5000)+(5000*(C$1:C$5000=\"\")),ROW(A182)))&\"\"","v":""},"",{"$f":"INDEX(B:B, SMALL(ROW(B$1:B$5000)+(5000*(B$1:B$5000=\"\")),ROW(A182)))&\"\"","v":""},"","","",null,null,{"$f":"INDEX(AH:AH,SMALL(ROW($AH$1:$AH$1999)+(1999*($AH$1:$AH$1999=\"\")), ROW(A182)))&\"\"","v":""},"","","","","","","","","","","","","","","","","","","","","","","","","","","","","","","",{"$f":"INDEX(AJ:AJ,SMALL(ROW($AJ$1:$AJ$1999)+(1999*($AJ$1:$AJ$1999=\"\")), ROW(A182)))&\"\"","v":""},"",{"$f":"INDEX(AK:AK,SMALL(ROW($AK$1:$AK$1999)+(1999*($AK$1:$AK$1999=\"\")), ROW(A182)))&\"\"","v":""},"","","",null,"",""]
[null,null,null,null,null,null,null,null,null,null,null,null,null,null,null,null,null,null,null,null,null,null,null,null,null,null,null,null,null,null,null,null,{"$f":"INDEX(C:C, SMALL(ROW(C$1:C$5000)+(5000*(C$1:C$5000=\"\")),ROW(A183)))&\"\"","v":""},"",{"$f":"INDEX(B:B, SMALL(ROW(B$1:B$5000)+(5000*(B$1:B$5000=\"\")),ROW(A183)))&\"\"","v":""},"","","",null,null,{"$f":"INDEX(AH:AH,SMALL(ROW($AH$1:$AH$1999)+(1999*($AH$1:$AH$1999=\"\")), ROW(A183)))&\"\"","v":""},"","","","","","","","","","","","","","","","","","","","","","","","","","","","","","","",{"$f":"INDEX(AJ:AJ,SMALL(ROW($AJ$1:$AJ$1999)+(1999*($AJ$1:$AJ$1999=\"\")), ROW(A183)))&\"\"","v":""},"",{"$f":"INDEX(AK:AK,SMALL(ROW($AK$1:$AK$1999)+(1999*($AK$1:$AK$1999=\"\")), ROW(A183)))&\"\"","v":""},"","","",null,"",""]
[null,null,null,null,null,null,null,null,null,null,null,null,null,null,null,null,null,null,null,null,null,null,null,null,null,null,null,null,null,null,null,null,{"$f":"INDEX(C:C, SMALL(ROW(C$1:C$5000)+(5000*(C$1:C$5000=\"\")),ROW(A184)))&\"\"","v":""},"",{"$f":"INDEX(B:B, SMALL(ROW(B$1:B$5000)+(5000*(B$1:B$5000=\"\")),ROW(A184)))&\"\"","v":""},"","","",null,null,{"$f":"INDEX(AH:AH,SMALL(ROW($AH$1:$AH$1999)+(1999*($AH$1:$AH$1999=\"\")), ROW(A184)))&\"\"","v":""},"","","","","","","","","","","","","","","","","","","","","","","","","","","","","","","",{"$f":"INDEX(AJ:AJ,SMALL(ROW($AJ$1:$AJ$1999)+(1999*($AJ$1:$AJ$1999=\"\")), ROW(A184)))&\"\"","v":""},"",{"$f":"INDEX(AK:AK,SMALL(ROW($AK$1:$AK$1999)+(1999*($AK$1:$AK$1999=\"\")), ROW(A184)))&\"\"","v":""},"","","",null,"",""]
[null,null,null,null,null,null,null,null,null,null,null,null,null,null,null,null,null,null,null,null,null,null,null,null,null,null,null,null,null,null,null,null,{"$f":"INDEX(C:C, SMALL(ROW(C$1:C$5000)+(5000*(C$1:C$5000=\"\")),ROW(A185)))&\"\"","v":""},"",{"$f":"INDEX(B:B, SMALL(ROW(B$1:B$5000)+(5000*(B$1:B$5000=\"\")),ROW(A185)))&\"\"","v":""},"","","",null,null,{"$f":"INDEX(AH:AH,SMALL(ROW($AH$1:$AH$1999)+(1999*($AH$1:$AH$1999=\"\")), ROW(A185)))&\"\"","v":""},"","","","","","","","","","","","","","","","","","","","","","","","","","","","","","","",{"$f":"INDEX(AJ:AJ,SMALL(ROW($AJ$1:$AJ$1999)+(1999*($AJ$1:$AJ$1999=\"\")), ROW(A185)))&\"\"","v":""},"",{"$f":"INDEX(AK:AK,SMALL(ROW($AK$1:$AK$1999)+(1999*($AK$1:$AK$1999=\"\")), ROW(A185)))&\"\"","v":""},"","","",null,"",""]
[null,null,null,null,null,null,null,null,null,null,null,null,null,null,null,null,null,null,null,null,null,null,null,null,null,null,null,null,null,null,null,null,{"$f":"INDEX(C:C, SMALL(ROW(C$1:C$5000)+(5000*(C$1:C$5000=\"\")),ROW(A186)))&\"\"","v":""},"",{"$f":"INDEX(B:B, SMALL(ROW(B$1:B$5000)+(5000*(B$1:B$5000=\"\")),ROW(A186)))&\"\"","v":""},"","","",null,null,{"$f":"INDEX(AH:AH,SMALL(ROW($AH$1:$AH$1999)+(1999*($AH$1:$AH$1999=\"\")), ROW(A186)))&\"\"","v":""},"","","","","","","","","","","","","","","","","","","","","","","","","","","","","","","",{"$f":"INDEX(AJ:AJ,SMALL(ROW($AJ$1:$AJ$1999)+(1999*($AJ$1:$AJ$1999=\"\")), ROW(A186)))&\"\"","v":""},"",{"$f":"INDEX(AK:AK,SMALL(ROW($AK$1:$AK$1999)+(1999*($AK$1:$AK$1999=\"\")), ROW(A186)))&\"\"","v":""},"","","",null,"",""]
[null,null,null,null,null,null,null,null,null,null,null,null,null,null,null,null,null,null,null,null,null,null,null,null,null,null,null,null,null,null,null,null,{"$f":"INDEX(C:C, SMALL(ROW(C$1:C$5000)+(5000*(C$1:C$5000=\"\")),ROW(A187)))&\"\"","v":""},"",{"$f":"INDEX(B:B, SMALL(ROW(B$1:B$5000)+(5000*(B$1:B$5000=\"\")),ROW(A187)))&\"\"","v":""},"","","",null,null,{"$f":"INDEX(AH:AH,SMALL(ROW($AH$1:$AH$1999)+(1999*($AH$1:$AH$1999=\"\")), ROW(A187)))&\"\"","v":""},"","","","","","","","","","","","","","","","","","","","","","","","","","","","","","","",{"$f":"INDEX(AJ:AJ,SMALL(ROW($AJ$1:$AJ$1999)+(1999*($AJ$1:$AJ$1999=\"\")), ROW(A187)))&\"\"","v":""},"",{"$f":"INDEX(AK:AK,SMALL(ROW($AK$1:$AK$1999)+(1999*($AK$1:$AK$1999=\"\")), ROW(A187)))&\"\"","v":""},"","","",null,"",""]
[null,null,null,null,null,null,null,null,null,null,null,null,null,null,null,null,null,null,null,null,null,null,null,null,null,null,null,null,null,null,null,null,{"$f":"INDEX(C:C, SMALL(ROW(C$1:C$5000)+(5000*(C$1:C$5000=\"\")),ROW(A188)))&\"\"","v":""},"",{"$f":"INDEX(B:B, SMALL(ROW(B$1:B$5000)+(5000*(B$1:B$5000=\"\")),ROW(A188)))&\"\"","v":""},"","","",null,null,{"$f":"INDEX(AH:AH,SMALL(ROW($AH$1:$AH$1999)+(1999*($AH$1:$AH$1999=\"\")), ROW(A188)))&\"\"","v":""},"","","","","","","","","","","","","","","","","","","","","","","","","","","","","","","",{"$f":"INDEX(AJ:AJ,SMALL(ROW($AJ$1:$AJ$1999)+(1999*($AJ$1:$AJ$1999=\"\")), ROW(A188)))&\"\"","v":""},"",{"$f":"INDEX(AK:AK,SMALL(ROW($AK$1:$AK$1999)+(1999*($AK$1:$AK$1999=\"\")), ROW(A188)))&\"\"","v":""},"","","",null,"",""]
[null,null,null,null,null,null,null,null,null,null,null,null,null,null,null,null,null,null,null,null,null,null,null,null,null,null,null,null,null,null,null,null,{"$f":"INDEX(C:C, SMALL(ROW(C$1:C$5000)+(5000*(C$1:C$5000=\"\")),ROW(A189)))&\"\"","v":""},"",{"$f":"INDEX(B:B, SMALL(ROW(B$1:B$5000)+(5000*(B$1:B$5000=\"\")),ROW(A189)))&\"\"","v":""},"","","",null,null,{"$f":"INDEX(AH:AH,SMALL(ROW($AH$1:$AH$1999)+(1999*($AH$1:$AH$1999=\"\")), ROW(A189)))&\"\"","v":""},"","","","","","","","","","","","","","","","","","","","","","","","","","","","","","","",{"$f":"INDEX(AJ:AJ,SMALL(ROW($AJ$1:$AJ$1999)+(1999*($AJ$1:$AJ$1999=\"\")), ROW(A189)))&\"\"","v":""},"",{"$f":"INDEX(AK:AK,SMALL(ROW($AK$1:$AK$1999)+(1999*($AK$1:$AK$1999=\"\")), ROW(A189)))&\"\"","v":""},"","","",null,"",""]
[null,null,null,null,null,null,null,null,null,null,null,null,null,null,null,null,null,null,null,null,null,null,null,null,null,null,null,null,null,null,null,null,{"$f":"INDEX(C:C, SMALL(ROW(C$1:C$5000)+(5000*(C$1:C$5000=\"\")),ROW(A190)))&\"\"","v":""},"",{"$f":"INDEX(B:B, SMALL(ROW(B$1:B$5000)+(5000*(B$1:B$5000=\"\")),ROW(A190)))&\"\"","v":""},"","","",null,null,{"$f":"INDEX(AH:AH,SMALL(ROW($AH$1:$AH$1999)+(1999*($AH$1:$AH$1999=\"\")), ROW(A190)))&\"\"","v":""},"","","","","","","","","","","","","","","","","","","","","","","","","","","","","","","",{"$f":"INDEX(AJ:AJ,SMALL(ROW($AJ$1:$AJ$1999)+(1999*($AJ$1:$AJ$1999=\"\")), ROW(A190)))&\"\"","v":""},"",{"$f":"INDEX(AK:AK,SMALL(ROW($AK$1:$AK$1999)+(1999*($AK$1:$AK$1999=\"\")), ROW(A190)))&\"\"","v":""},"","","",null,"",""]
[null,null,null,null,null,null,null,null,null,null,null,null,null,null,null,null,null,null,null,null,null,null,null,null,null,null,null,null,null,null,null,null,{"$f":"INDEX(C:C, SMALL(ROW(C$1:C$5000)+(5000*(C$1:C$5000=\"\")),ROW(A191)))&\"\"","v":""},"",{"$f":"INDEX(B:B, SMALL(ROW(B$1:B$5000)+(5000*(B$1:B$5000=\"\")),ROW(A191)))&\"\"","v":""},"","","",null,null,{"$f":"INDEX(AH:AH,SMALL(ROW($AH$1:$AH$1999)+(1999*($AH$1:$AH$1999=\"\")), ROW(A191)))&\"\"","v":""},"","","","","","","","","","","","","","","","","","","","","","","","","","","","","","","",{"$f":"INDEX(AJ:AJ,SMALL(ROW($AJ$1:$AJ$1999)+(1999*($AJ$1:$AJ$1999=\"\")), ROW(A191)))&\"\"","v":""},"",{"$f":"INDEX(AK:AK,SMALL(ROW($AK$1:$AK$1999)+(1999*($AK$1:$AK$1999=\"\")), ROW(A191)))&\"\"","v":""},"","","",null,"",""]
[null,null,null,null,null,null,null,null,null,null,null,null,null,null,null,null,null,null,null,null,null,null,null,null,null,null,null,null,null,null,null,null,{"$f":"INDEX(C:C, SMALL(ROW(C$1:C$5000)+(5000*(C$1:C$5000=\"\")),ROW(A192)))&\"\"","v":""},"",{"$f":"INDEX(B:B, SMALL(ROW(B$1:B$5000)+(5000*(B$1:B$5000=\"\")),ROW(A192)))&\"\"","v":""},"","","",null,null,{"$f":"INDEX(AH:AH,SMALL(ROW($AH$1:$AH$1999)+(1999*($AH$1:$AH$1999=\"\")), ROW(A192)))&\"\"","v":""},"","","","","","","","","","","","","","","","","","","","","","","","","","","","","","","",{"$f":"INDEX(AJ:AJ,SMALL(ROW($AJ$1:$AJ$1999)+(1999*($AJ$1:$AJ$1999=\"\")), ROW(A192)))&\"\"","v":""},"",{"$f":"INDEX(AK:AK,SMALL(ROW($AK$1:$AK$1999)+(1999*($AK$1:$AK$1999=\"\")), ROW(A192)))&\"\"","v":""},"","","",null,"",""]
[null,null,null,null,null,null,null,null,null,null,null,null,null,null,null,null,null,null,null,null,null,null,null,null,null,null,null,null,null,null,null,null,{"$f":"INDEX(C:C, SMALL(ROW(C$1:C$5000)+(5000*(C$1:C$5000=\"\")),ROW(A193)))&\"\"","v":""},{"$f":"IF(ISNUMBER(SEARCH(\"*,*\",AG193)),AG193,\"\")","v":""},{"$f":"INDEX(B:B, SMALL(ROW(B$1:B$5000)+(5000*(B$1:B$5000=\"\")),ROW(A193)))&\"\"","v":""},"","",{"$f":"IF(ISNUMBER(SEARCH(\"*Round*\",AI193)),AI193,\"\")","v":""},null,null,{"$f":"INDEX(AH:AH,SMALL(ROW($AH$1:$AH$1999)+(1999*($AH$1:$AH$1999=\"\")), ROW(A193)))&\"\"","v":""},"","","","","","","","","","","","","","","","","","","","","","","","","","","","","","","",{"$f":"INDEX(AJ:AJ,SMALL(ROW($AJ$1:$AJ$1999)+(1999*($AJ$1:$AJ$1999=\"\")), ROW(A193)))&\"\"","v":""},"",{"$f":"INDEX(AK:AK,SMALL(ROW($AK$1:$AK$1999)+(1999*($AK$1:$AK$1999=\"\")), ROW(A193)))&\"\"","v":""},"","","",null,"",""]
[null,null,null,null,null,null,null,null,null,null,null,null,null,null,null,null,null,null,null,null,null,null,null,null,null,null,null,null,null,null,null,null,{"$f":"INDEX(C:C, SMALL(ROW(C$1:C$5000)+(5000*(C$1:C$5000=\"\")),ROW(A194)))&\"\"","v":""},"",{"$f":"INDEX(B:B, SMALL(ROW(B$1:B$5000)+(5000*(B$1:B$5000=\"\")),ROW(A194)))&\"\"","v":""},{"$f":"IF(ISNUMBER(SEARCH(\"*years*\",AI194)),AI194,\"\")","v":""},{"$f":"IF(ISNUMBER(SEARCH(\"*, 19*\",AI194)),AI194,\"\")","v":""},"",null,null,{"$f":"INDEX(AH:AH,SMALL(ROW($AH$1:$AH$1999)+(1999*($AH$1:$AH$1999=\"\")), ROW(A194)))&\"\"","v":""},{"$f":"TRIM(TEXT(RIGHT(AO194,2),))","v":""},{"$f":"IF(ISNUMBER(SEARCH(\"*QB*\",AP194)),AO194,\"\")","v":""},{"$f":"IFERROR(IF(ISNUMBER(SEARCH(\"*QB*\",AQ194)),BV194,\"\"),VALUE(0))","v":""},{"$f":"IFERROR(IF(ISNUMBER(SEARCH(\"*QB*\",AQ194)),BX194,\"\"),VALUE(0))","v":""},{"$f":"IF(ISNUMBER(SEARCH(\"*RB*\",AP194)),AO194,\"\")","v":""},{"$f":"IFERROR(IF(ISNUMBER(SEARCH(\"*RB*\",AT194)),BV194,\"\"),VALUE(0))","v":""},{"$f":"IFERROR(IF(ISNUMBER(SEARCH(\"*RB*\",AT194)),BX194,\"\"),VALUE(0))","v":""},{"$f":"IF(ISNUMBER(SEARCH(\"*WR*\",AP194)),AO194,\"\")","v":""},{"$f":"IFERROR(IF(ISNUMBER(SEARCH(\"*WR*\",AW194)),BV194,\"\"),VALUE(0))","v":""},{"$f":"IFERROR(IF(ISNUMBER(SEARCH(\"*WR*\",AW194)),BX194,\"\"),VALUE(0))","v":""},{"$f":"IF(ISNUMBER(SEARCH(\"*TE*\",AP194)),AO194,\"\")","v":""},"",{"$f":"IFERROR(IF(ISNUMBER(SEARCH(\"*TE*\",AZ194)),BX194,\"\"),VALUE(0))","v":""},{"$f":"IF(ISNUMBER(SEARCH(\"*PK*\",AP194)),AO194,\"\")","v":""},{"$f":"IFERROR(IF(ISNUMBER(SEARCH(\"*PK*\",BC194)),BV194,\"\"),VALUE(0))","v":""},{"$f":"IFERROR(IF(ISNUMBER(SEARCH(\"*PK*\",BC194)),BX194,\"\"),VALUE(0))","v":""},{"$f":"IF(ISNUMBER(SEARCH(\"*DT*\",AP194)),AO194,\"\")","v":""},{"$f":"IFERROR(IF(ISNUMBER(SEARCH(\"*DT*\",BF194)),BV194,\"\"),VALUE(0))","v":""},{"$f":"IFERROR(IF(ISNUMBER(SEARCH(\"*DT*\",BF194)),BX194,\"\"),VALUE(0))","v":""},{"$f":"IF(ISNUMBER(SEARCH(\"*DE*\",AP194)),AO194,\"\")","v":""},{"$f":"IFERROR(IF(ISNUMBER(SEARCH(\"*DE*\",BI194)),BV194,\"\"),VALUE(0))","v":""},{"$f":"IFERROR(IF(ISNUMBER(SEARCH(\"*DE*\",BI194)),BX194,\"\"),VALUE(0))","v":""},{"$f":"IF(ISNUMBER(SEARCH(\"*LB*\",AP194)),AO194,\"\")","v":""},{"$f":"IFERROR(IF(ISNUMBER(SEARCH(\"*LB*\",BL194)),BV194,\"\"),VALUE(0))","v":""},{"$f":"IFERROR(IF(ISNUMBER(SEARCH(\"*LB*\",BL194)),BX194,\"\"),VALUE(0))","v":""},{"$f":"IF(ISNUMBER(SEARCH(\"*CB*\",AP194)),AO194,\"\")","v":""},{"$f":"IFERROR(IF(ISNUMBER(SEARCH(\"*CB*\",BO194)),BV194,\"\"),VALUE(0))","v":""},{"$f":"IFERROR(IF(ISNUMBER(SEARCH(\"*CB*\",BO194)),BX194,\"\"),VALUE(0))","v":""},{"$f":"IF(ISNUMBER(SEARCH(\"*S*\",AP194)),AO194,\"\")","v":""},{"$f":"IFERROR(IF(ISNUMBER(SEARCH(\"*S*\",BR194)),BV194,\"\"),VALUE(0))","v":""},{"$f":"IFERROR(IF(ISNUMBER(SEARCH(\"*S*\",BR194)),BX194,\"\"),VALUE(0))","v":""},{"$f":"INDEX(AJ:AJ,SMALL(ROW($AJ$1:$AJ$1999)+(1999*($AJ$1:$AJ$1999=\"\")), ROW(A194)))&\"\"","v":""},{"$f":"IFERROR(IF(BW194<>\"\",VALUE(LEFT(BU194,LEN(BU194)-6)),\"\"),VALUE(0))","v":""},{"$f":"INDEX(AK:AK,SMALL(ROW($AK$1:$AK$1999)+(1999*($AK$1:$AK$1999=\"\")), ROW(A194)))&\"\"","v":""},{"$f":"IF(BW194<>\"\",VALUE(RIGHT(BW194,2)),\"\")","v":""},{"$f":"IF(BX194=\"\",\"\",IF(BX194>27,1,0))","v":""},{"$f":"IF(BX194=\"\",\"\",IF(BX194<27,1,0))","v":""},null,{"$f":"IF(BV194=\"\",\"\",IF(BV194>3.5,1,0))","v":""},{"$f":"IF(BV194=\"\",\"\",IF(BV194<3.5,1,0))","v":""}]
[null,null,null,null,null,null,null,null,null,null,null,null,null,null,null,null,null,null,null,null,null,null,null,null,null,null,null,null,null,null,null,null,{"$f":"INDEX(C:C, SMALL(ROW(C$1:C$5000)+(5000*(C$1:C$5000=\"\")),ROW(A195)))&\"\"","v":""},"",{"$f":"INDEX(B:B, SMALL(ROW(B$1:B$5000)+(5000*(B$1:B$5000=\"\")),ROW(A195)))&\"\"","v":""},"","","",null,null,{"$f":"INDEX(AH:AH,SMALL(ROW($AH$1:$AH$1999)+(1999*($AH$1:$AH$1999=\"\")), ROW(A195)))&\"\"","v":""},"","","","","","","","","","","","","","","","","","","","","","","","","","","","","","","",{"$f":"INDEX(AJ:AJ,SMALL(ROW($AJ$1:$AJ$1999)+(1999*($AJ$1:$AJ$1999=\"\")), ROW(A195)))&\"\"","v":""},"",{"$f":"INDEX(AK:AK,SMALL(ROW($AK$1:$AK$1999)+(1999*($AK$1:$AK$1999=\"\")), ROW(A195)))&\"\"","v":""},"","","",null,"",""]
[null,null,null,null,null,null,null,null,null,null,null,null,null,null,null,null,null,null,null,null,null,null,null,null,null,null,null,null,null,null,null,null,{"$f":"INDEX(C:C, SMALL(ROW(C$1:C$5000)+(5000*(C$1:C$5000=\"\")),ROW(A196)))&\"\"","v":""},"",{"$f":"INDEX(B:B, SMALL(ROW(B$1:B$5000)+(5000*(B$1:B$5000=\"\")),ROW(A196)))&\"\"","v":""},"","","",null,null,{"$f":"INDEX(AH:AH,SMALL(ROW($AH$1:$AH$1999)+(1999*($AH$1:$AH$1999=\"\")), ROW(A196)))&\"\"","v":""},"","","","","","","","","","","","","","","","","","","","","","","","","","","","","","","",{"$f":"INDEX(AJ:AJ,SMALL(ROW($AJ$1:$AJ$1999)+(1999*($AJ$1:$AJ$1999=\"\")), ROW(A196)))&\"\"","v":""},"",{"$f":"INDEX(AK:AK,SMALL(ROW($AK$1:$AK$1999)+(1999*($AK$1:$AK$1999=\"\")), ROW(A196)))&\"\"","v":""},"","","",null,"",""]
[null,null,null,null,null,null,null,null,null,null,null,null,null,null,null,null,null,null,null,null,null,null,null,null,null,null,null,null,null,null,null,null,{"$f":"INDEX(C:C, SMALL(ROW(C$1:C$5000)+(5000*(C$1:C$5000=\"\")),ROW(A197)))&\"\"","v":""},"",{"$f":"INDEX(B:B, SMALL(ROW(B$1:B$5000)+(5000*(B$1:B$5000=\"\")),ROW(A197)))&\"\"","v":""},"","","",null,null,{"$f":"INDEX(AH:AH,SMALL(ROW($AH$1:$AH$1999)+(1999*($AH$1:$AH$1999=\"\")), ROW(A197)))&\"\"","v":""},"","","","","","","","","","","","","","","","","","","","","","","","","","","","","","","",{"$f":"INDEX(AJ:AJ,SMALL(ROW($AJ$1:$AJ$1999)+(1999*($AJ$1:$AJ$1999=\"\")), ROW(A197)))&\"\"","v":""},"",{"$f":"INDEX(AK:AK,SMALL(ROW($AK$1:$AK$1999)+(1999*($AK$1:$AK$1999=\"\")), ROW(A197)))&\"\"","v":""},"","","",null,"",""]
[null,null,null,null,null,null,null,null,null,null,null,null,null,null,null,null,null,null,null,null,null,null,null,null,null,null,null,null,null,null,null,null,{"$f":"INDEX(C:C, SMALL(ROW(C$1:C$5000)+(5000*(C$1:C$5000=\"\")),ROW(A198)))&\"\"","v":""},"",{"$f":"INDEX(B:B, SMALL(ROW(B$1:B$5000)+(5000*(B$1:B$5000=\"\")),ROW(A198)))&\"\"","v":""},"","","",null,null,{"$f":"INDEX(AH:AH,SMALL(ROW($AH$1:$AH$1999)+(1999*($AH$1:$AH$1999=\"\")), ROW(A198)))&\"\"","v":""},"","","","","","","","","","","","","","","","","","","","","","","","","","","","","","","",{"$f":"INDEX(AJ:AJ,SMALL(ROW($AJ$1:$AJ$1999)+(1999*($AJ$1:$AJ$1999=\"\")), ROW(A198)))&\"\"","v":""},"",{"$f":"INDEX(AK:AK,SMALL(ROW($AK$1:$AK$1999)+(1999*($AK$1:$AK$1999=\"\")), ROW(A198)))&\"\"","v":""},"","","",null,"",""]
[null,null,null,null,null,null,null,null,null,null,null,null,null,null,null,null,null,null,null,null,null,null,null,null,null,null,null,null,null,null,null,null,{"$f":"INDEX(C:C, SMALL(ROW(C$1:C$5000)+(5000*(C$1:C$5000=\"\")),ROW(A199)))&\"\"","v":""},"",{"$f":"INDEX(B:B, SMALL(ROW(B$1:B$5000)+(5000*(B$1:B$5000=\"\")),ROW(A199)))&\"\"","v":""},"","","",null,null,{"$f":"INDEX(AH:AH,SMALL(ROW($AH$1:$AH$1999)+(1999*($AH$1:$AH$1999=\"\")), ROW(A199)))&\"\"","v":""},"","","","","","","","","","","","","","","","","","","","","","","","","","","","","","","",{"$f":"INDEX(AJ:AJ,SMALL(ROW($AJ$1:$AJ$1999)+(1999*($AJ$1:$AJ$1999=\"\")), ROW(A199)))&\"\"","v":""},"",{"$f":"INDEX(AK:AK,SMALL(ROW($AK$1:$AK$1999)+(1999*($AK$1:$AK$1999=\"\")), ROW(A199)))&\"\"","v":""},"","","",null,"",""]
[null,null,null,null,null,null,null,null,null,null,null,null,null,null,null,null,null,null,null,null,null,null,null,null,null,null,null,null,null,null,null,null,{"$f":"INDEX(C:C, SMALL(ROW(C$1:C$5000)+(5000*(C$1:C$5000=\"\")),ROW(A200)))&\"\"","v":""},"",{"$f":"INDEX(B:B, SMALL(ROW(B$1:B$5000)+(5000*(B$1:B$5000=\"\")),ROW(A200)))&\"\"","v":""},"","","",null,null,{"$f":"INDEX(AH:AH,SMALL(ROW($AH$1:$AH$1999)+(1999*($AH$1:$AH$1999=\"\")), ROW(A200)))&\"\"","v":""},"","","","","","","","","","","","","","","","","","","","","","","","","","","","","","","",{"$f":"INDEX(AJ:AJ,SMALL(ROW($AJ$1:$AJ$1999)+(1999*($AJ$1:$AJ$1999=\"\")), ROW(A200)))&\"\"","v":""},"",{"$f":"INDEX(AK:AK,SMALL(ROW($AK$1:$AK$1999)+(1999*($AK$1:$AK$1999=\"\")), ROW(A200)))&\"\"","v":""},"","","",null,"",""]
[null,null,null,null,null,null,null,null,null,null,null,null,null,null,null,null,null,null,null,null,null,null,null,null,null,null,null,null,null,null,null,null,{"$f":"INDEX(C:C, SMALL(ROW(C$1:C$5000)+(5000*(C$1:C$5000=\"\")),ROW(A201)))&\"\"","v":""},"",{"$f":"INDEX(B:B, SMALL(ROW(B$1:B$5000)+(5000*(B$1:B$5000=\"\")),ROW(A201)))&\"\"","v":""},"","","",null,null,{"$f":"INDEX(AH:AH,SMALL(ROW($AH$1:$AH$1999)+(1999*($AH$1:$AH$1999=\"\")), ROW(A201)))&\"\"","v":""},"","","","","","","","","","","","","","","","","","","","","","","","","","","","","","","",{"$f":"INDEX(AJ:AJ,SMALL(ROW($AJ$1:$AJ$1999)+(1999*($AJ$1:$AJ$1999=\"\")), ROW(A201)))&\"\"","v":""},"",{"$f":"INDEX(AK:AK,SMALL(ROW($AK$1:$AK$1999)+(1999*($AK$1:$AK$1999=\"\")), ROW(A201)))&\"\"","v":""},"","","",null,"",""]
[null,null,null,null,null,null,null,null,null,null,null,null,null,null,null,null,null,null,null,null,null,null,null,null,null,null,null,null,null,null,null,null,{"$f":"INDEX(C:C, SMALL(ROW(C$1:C$5000)+(5000*(C$1:C$5000=\"\")),ROW(A202)))&\"\"","v":""},"",{"$f":"INDEX(B:B, SMALL(ROW(B$1:B$5000)+(5000*(B$1:B$5000=\"\")),ROW(A202)))&\"\"","v":""},"","","",null,null,{"$f":"INDEX(AH:AH,SMALL(ROW($AH$1:$AH$1999)+(1999*($AH$1:$AH$1999=\"\")), ROW(A202)))&\"\"","v":""},"","","","","","","","","","","","","","","","","","","","","","","","","","","","","","","",{"$f":"INDEX(AJ:AJ,SMALL(ROW($AJ$1:$AJ$1999)+(1999*($AJ$1:$AJ$1999=\"\")), ROW(A202)))&\"\"","v":""},"",{"$f":"INDEX(AK:AK,SMALL(ROW($AK$1:$AK$1999)+(1999*($AK$1:$AK$1999=\"\")), ROW(A202)))&\"\"","v":""},"","","",null,"",""]
[null,null,null,null,null,null,null,null,null,null,null,null,null,null,null,null,null,null,null,null,null,null,null,null,null,null,null,null,null,null,null,null,{"$f":"INDEX(C:C, SMALL(ROW(C$1:C$5000)+(5000*(C$1:C$5000=\"\")),ROW(A203)))&\"\"","v":""},"",{"$f":"INDEX(B:B, SMALL(ROW(B$1:B$5000)+(5000*(B$1:B$5000=\"\")),ROW(A203)))&\"\"","v":""},"","","",null,null,{"$f":"INDEX(AH:AH,SMALL(ROW($AH$1:$AH$1999)+(1999*($AH$1:$AH$1999=\"\")), ROW(A203)))&\"\"","v":""},"","","","","","","","","","","","","","","","","","","","","","","","","","","","","","","",{"$f":"INDEX(AJ:AJ,SMALL(ROW($AJ$1:$AJ$1999)+(1999*($AJ$1:$AJ$1999=\"\")), ROW(A203)))&\"\"","v":""},"",{"$f":"INDEX(AK:AK,SMALL(ROW($AK$1:$AK$1999)+(1999*($AK$1:$AK$1999=\"\")), ROW(A203)))&\"\"","v":""},"","","",null,"",""]
[null,null,null,null,null,null,null,null,null,null,null,null,null,null,null,null,null,null,null,null,null,null,null,null,null,null,null,null,null,null,null,null,{"$f":"INDEX(C:C, SMALL(ROW(C$1:C$5000)+(5000*(C$1:C$5000=\"\")),ROW(A204)))&\"\"","v":""},"",{"$f":"INDEX(B:B, SMALL(ROW(B$1:B$5000)+(5000*(B$1:B$5000=\"\")),ROW(A204)))&\"\"","v":""},"","","",null,null,{"$f":"INDEX(AH:AH,SMALL(ROW($AH$1:$AH$1999)+(1999*($AH$1:$AH$1999=\"\")), ROW(A204)))&\"\"","v":""},"","","","","","","","","","","","","","","","","","","","","","","","","","","","","","","",{"$f":"INDEX(AJ:AJ,SMALL(ROW($AJ$1:$AJ$1999)+(1999*($AJ$1:$AJ$1999=\"\")), ROW(A204)))&\"\"","v":""},"",{"$f":"INDEX(AK:AK,SMALL(ROW($AK$1:$AK$1999)+(1999*($AK$1:$AK$1999=\"\")), ROW(A204)))&\"\"","v":""},"","","",null,"",""]
[null,null,null,null,null,null,null,null,null,null,null,null,null,null,null,null,null,null,null,null,null,null,null,null,null,null,null,null,null,null,null,null,{"$f":"INDEX(C:C, SMALL(ROW(C$1:C$5000)+(5000*(C$1:C$5000=\"\")),ROW(A205)))&\"\"","v":""},"",{"$f":"INDEX(B:B, SMALL(ROW(B$1:B$5000)+(5000*(B$1:B$5000=\"\")),ROW(A205)))&\"\"","v":""},"","","",null,null,{"$f":"INDEX(AH:AH,SMALL(ROW($AH$1:$AH$1999)+(1999*($AH$1:$AH$1999=\"\")), ROW(A205)))&\"\"","v":""},"","","","","","","","","","","","","","","","","","","","","","","","","","","","","","","",{"$f":"INDEX(AJ:AJ,SMALL(ROW($AJ$1:$AJ$1999)+(1999*($AJ$1:$AJ$1999=\"\")), ROW(A205)))&\"\"","v":""},"",{"$f":"INDEX(AK:AK,SMALL(ROW($AK$1:$AK$1999)+(1999*($AK$1:$AK$1999=\"\")), ROW(A205)))&\"\"","v":""},"","","",null,"",""]
[null,null,null,null,null,null,null,null,null,null,null,null,null,null,null,null,null,null,null,null,null,null,null,null,null,null,null,null,null,null,null,null,{"$f":"INDEX(C:C, SMALL(ROW(C$1:C$5000)+(5000*(C$1:C$5000=\"\")),ROW(A206)))&\"\"","v":""},"",{"$f":"INDEX(B:B, SMALL(ROW(B$1:B$5000)+(5000*(B$1:B$5000=\"\")),ROW(A206)))&\"\"","v":""},"","","",null,null,{"$f":"INDEX(AH:AH,SMALL(ROW($AH$1:$AH$1999)+(1999*($AH$1:$AH$1999=\"\")), ROW(A206)))&\"\"","v":""},"","","","","","","","","","","","","","","","","","","","","","","","","","","","","","","",{"$f":"INDEX(AJ:AJ,SMALL(ROW($AJ$1:$AJ$1999)+(1999*($AJ$1:$AJ$1999=\"\")), ROW(A206)))&\"\"","v":""},"",{"$f":"INDEX(AK:AK,SMALL(ROW($AK$1:$AK$1999)+(1999*($AK$1:$AK$1999=\"\")), ROW(A206)))&\"\"","v":""},"","","",null,"",""]
[null,null,null,null,null,null,null,null,null,null,null,null,null,null,null,null,null,null,null,null,null,null,null,null,null,null,null,null,null,null,null,null,{"$f":"INDEX(C:C, SMALL(ROW(C$1:C$5000)+(5000*(C$1:C$5000=\"\")),ROW(A207)))&\"\"","v":""},"",{"$f":"INDEX(B:B, SMALL(ROW(B$1:B$5000)+(5000*(B$1:B$5000=\"\")),ROW(A207)))&\"\"","v":""},"","","",null,null,{"$f":"INDEX(AH:AH,SMALL(ROW($AH$1:$AH$1999)+(1999*($AH$1:$AH$1999=\"\")), ROW(A207)))&\"\"","v":""},"","","","","","","","","","","","","","","","","","","","","","","","","","","","","","","",{"$f":"INDEX(AJ:AJ,SMALL(ROW($AJ$1:$AJ$1999)+(1999*($AJ$1:$AJ$1999=\"\")), ROW(A207)))&\"\"","v":""},"",{"$f":"INDEX(AK:AK,SMALL(ROW($AK$1:$AK$1999)+(1999*($AK$1:$AK$1999=\"\")), ROW(A207)))&\"\"","v":""},"","","",null,"",""]
[null,null,null,null,null,null,null,null,null,null,null,null,null,null,null,null,null,null,null,null,null,null,null,null,null,null,null,null,null,null,null,null,{"$f":"INDEX(C:C, SMALL(ROW(C$1:C$5000)+(5000*(C$1:C$5000=\"\")),ROW(A208)))&\"\"","v":""},"",{"$f":"INDEX(B:B, SMALL(ROW(B$1:B$5000)+(5000*(B$1:B$5000=\"\")),ROW(A208)))&\"\"","v":""},"","","",null,null,{"$f":"INDEX(AH:AH,SMALL(ROW($AH$1:$AH$1999)+(1999*($AH$1:$AH$1999=\"\")), ROW(A208)))&\"\"","v":""},"","","","","","","","","","","","","","","","","","","","","","","","","","","","","","","",{"$f":"INDEX(AJ:AJ,SMALL(ROW($AJ$1:$AJ$1999)+(1999*($AJ$1:$AJ$1999=\"\")), ROW(A208)))&\"\"","v":""},"",{"$f":"INDEX(AK:AK,SMALL(ROW($AK$1:$AK$1999)+(1999*($AK$1:$AK$1999=\"\")), ROW(A208)))&\"\"","v":""},"","","",null,"",""]
[null,null,null,null,null,null,null,null,null,null,null,null,null,null,null,null,null,null,null,null,null,null,null,null,null,null,null,null,null,null,null,null,{"$f":"INDEX(C:C, SMALL(ROW(C$1:C$5000)+(5000*(C$1:C$5000=\"\")),ROW(A209)))&\"\"","v":""},"",{"$f":"INDEX(B:B, SMALL(ROW(B$1:B$5000)+(5000*(B$1:B$5000=\"\")),ROW(A209)))&\"\"","v":""},"","","",null,null,{"$f":"INDEX(AH:AH,SMALL(ROW($AH$1:$AH$1999)+(1999*($AH$1:$AH$1999=\"\")), ROW(A209)))&\"\"","v":""},"","","","","","","","","","","","","","","","","","","","","","","","","","","","","","","",{"$f":"INDEX(AJ:AJ,SMALL(ROW($AJ$1:$AJ$1999)+(1999*($AJ$1:$AJ$1999=\"\")), ROW(A209)))&\"\"","v":""},"",{"$f":"INDEX(AK:AK,SMALL(ROW($AK$1:$AK$1999)+(1999*($AK$1:$AK$1999=\"\")), ROW(A209)))&\"\"","v":""},"","","",null,"",""]
[null,null,null,null,null,null,null,null,null,null,null,null,null,null,null,null,null,null,null,null,null,null,null,null,null,null,null,null,null,null,null,null,{"$f":"INDEX(C:C, SMALL(ROW(C$1:C$5000)+(5000*(C$1:C$5000=\"\")),ROW(A210)))&\"\"","v":""},"",{"$f":"INDEX(B:B, SMALL(ROW(B$1:B$5000)+(5000*(B$1:B$5000=\"\")),ROW(A210)))&\"\"","v":""},"","","",null,null,{"$f":"INDEX(AH:AH,SMALL(ROW($AH$1:$AH$1999)+(1999*($AH$1:$AH$1999=\"\")), ROW(A210)))&\"\"","v":""},"","","","","","","","","","","","","","","","","","","","","","","","","","","","","","","",{"$f":"INDEX(AJ:AJ,SMALL(ROW($AJ$1:$AJ$1999)+(1999*($AJ$1:$AJ$1999=\"\")), ROW(A210)))&\"\"","v":""},"",{"$f":"INDEX(AK:AK,SMALL(ROW($AK$1:$AK$1999)+(1999*($AK$1:$AK$1999=\"\")), ROW(A210)))&\"\"","v":""},"","","",null,"",""]
[null,null,null,null,null,null,null,null,null,null,null,null,null,null,null,null,null,null,null,null,null,null,null,null,null,null,null,null,null,null,null,null,{"$f":"INDEX(C:C, SMALL(ROW(C$1:C$5000)+(5000*(C$1:C$5000=\"\")),ROW(A211)))&\"\"","v":""},"",{"$f":"INDEX(B:B, SMALL(ROW(B$1:B$5000)+(5000*(B$1:B$5000=\"\")),ROW(A211)))&\"\"","v":""},"","","",null,null,{"$f":"INDEX(AH:AH,SMALL(ROW($AH$1:$AH$1999)+(1999*($AH$1:$AH$1999=\"\")), ROW(A211)))&\"\"","v":""},"","","","","","","","","","","","","","","","","","","","","","","","","","","","","","","",{"$f":"INDEX(AJ:AJ,SMALL(ROW($AJ$1:$AJ$1999)+(1999*($AJ$1:$AJ$1999=\"\")), ROW(A211)))&\"\"","v":""},"",{"$f":"INDEX(AK:AK,SMALL(ROW($AK$1:$AK$1999)+(1999*($AK$1:$AK$1999=\"\")), ROW(A211)))&\"\"","v":""},"","","",null,"",""]
[null,null,null,null,null,null,null,null,null,null,null,null,null,null,null,null,null,null,null,null,null,null,null,null,null,null,null,null,null,null,null,null,{"$f":"INDEX(C:C, SMALL(ROW(C$1:C$5000)+(5000*(C$1:C$5000=\"\")),ROW(A212)))&\"\"","v":""},"",{"$f":"INDEX(B:B, SMALL(ROW(B$1:B$5000)+(5000*(B$1:B$5000=\"\")),ROW(A212)))&\"\"","v":""},"","","",null,null,{"$f":"INDEX(AH:AH,SMALL(ROW($AH$1:$AH$1999)+(1999*($AH$1:$AH$1999=\"\")), ROW(A212)))&\"\"","v":""},"","","","","","","","","","","","","","","","","","","","","","","","","","","","","","","",{"$f":"INDEX(AJ:AJ,SMALL(ROW($AJ$1:$AJ$1999)+(1999*($AJ$1:$AJ$1999=\"\")), ROW(A212)))&\"\"","v":""},"",{"$f":"INDEX(AK:AK,SMALL(ROW($AK$1:$AK$1999)+(1999*($AK$1:$AK$1999=\"\")), ROW(A212)))&\"\"","v":""},"","","",null,"",""]
[null,null,null,null,null,null,null,null,null,null,null,null,null,null,null,null,null,null,null,null,null,null,null,null,null,null,null,null,null,null,null,null,{"$f":"INDEX(C:C, SMALL(ROW(C$1:C$5000)+(5000*(C$1:C$5000=\"\")),ROW(A213)))&\"\"","v":""},"",{"$f":"INDEX(B:B, SMALL(ROW(B$1:B$5000)+(5000*(B$1:B$5000=\"\")),ROW(A213)))&\"\"","v":""},"","","",null,null,{"$f":"INDEX(AH:AH,SMALL(ROW($AH$1:$AH$1999)+(1999*($AH$1:$AH$1999=\"\")), ROW(A213)))&\"\"","v":""},"","","","","","","","","","","","","","","","","","","","","","","","","","","","","","","",{"$f":"INDEX(AJ:AJ,SMALL(ROW($AJ$1:$AJ$1999)+(1999*($AJ$1:$AJ$1999=\"\")), ROW(A213)))&\"\"","v":""},"",{"$f":"INDEX(AK:AK,SMALL(ROW($AK$1:$AK$1999)+(1999*($AK$1:$AK$1999=\"\")), ROW(A213)))&\"\"","v":""},"","","",null,"",""]
[null,null,null,null,null,null,null,null,null,null,null,null,null,null,null,null,null,null,null,null,null,null,null,null,null,null,null,null,null,null,null,null,{"$f":"INDEX(C:C, SMALL(ROW(C$1:C$5000)+(5000*(C$1:C$5000=\"\")),ROW(A214)))&\"\"","v":""},"",{"$f":"INDEX(B:B, SMALL(ROW(B$1:B$5000)+(5000*(B$1:B$5000=\"\")),ROW(A214)))&\"\"","v":""},"","","",null,null,{"$f":"INDEX(AH:AH,SMALL(ROW($AH$1:$AH$1999)+(1999*($AH$1:$AH$1999=\"\")), ROW(A214)))&\"\"","v":""},"","","","","","","","","","","","","","","","","","","","","","","","","","","","","","","",{"$f":"INDEX(AJ:AJ,SMALL(ROW($AJ$1:$AJ$1999)+(1999*($AJ$1:$AJ$1999=\"\")), ROW(A214)))&\"\"","v":""},"",{"$f":"INDEX(AK:AK,SMALL(ROW($AK$1:$AK$1999)+(1999*($AK$1:$AK$1999=\"\")), ROW(A214)))&\"\"","v":""},"","","",null,"",""]
[null,null,null,null,null,null,null,null,null,null,null,null,null,null,null,null,null,null,null,null,null,null,null,null,null,null,null,null,null,null,null,null,{"$f":"INDEX(C:C, SMALL(ROW(C$1:C$5000)+(5000*(C$1:C$5000=\"\")),ROW(A215)))&\"\"","v":""},"",{"$f":"INDEX(B:B, SMALL(ROW(B$1:B$5000)+(5000*(B$1:B$5000=\"\")),ROW(A215)))&\"\"","v":""},"","","",null,null,{"$f":"INDEX(AH:AH,SMALL(ROW($AH$1:$AH$1999)+(1999*($AH$1:$AH$1999=\"\")), ROW(A215)))&\"\"","v":""},"","","","","","","","","","","","","","","","","","","","","","","","","","","","","","","",{"$f":"INDEX(AJ:AJ,SMALL(ROW($AJ$1:$AJ$1999)+(1999*($AJ$1:$AJ$1999=\"\")), ROW(A215)))&\"\"","v":""},"",{"$f":"INDEX(AK:AK,SMALL(ROW($AK$1:$AK$1999)+(1999*($AK$1:$AK$1999=\"\")), ROW(A215)))&\"\"","v":""},"","","",null,"",""]
[null,null,null,null,null,null,null,null,null,null,null,null,null,null,null,null,null,null,null,null,null,null,null,null,null,null,null,null,null,null,null,null,{"$f":"INDEX(C:C, SMALL(ROW(C$1:C$5000)+(5000*(C$1:C$5000=\"\")),ROW(A216)))&\"\"","v":""},"",{"$f":"INDEX(B:B, SMALL(ROW(B$1:B$5000)+(5000*(B$1:B$5000=\"\")),ROW(A216)))&\"\"","v":""},"","","",null,null,{"$f":"INDEX(AH:AH,SMALL(ROW($AH$1:$AH$1999)+(1999*($AH$1:$AH$1999=\"\")), ROW(A216)))&\"\"","v":""},"","","","","","","","","","","","","","","","","","","","","","","","","","","","","","","",{"$f":"INDEX(AJ:AJ,SMALL(ROW($AJ$1:$AJ$1999)+(1999*($AJ$1:$AJ$1999=\"\")), ROW(A216)))&\"\"","v":""},"",{"$f":"INDEX(AK:AK,SMALL(ROW($AK$1:$AK$1999)+(1999*($AK$1:$AK$1999=\"\")), ROW(A216)))&\"\"","v":""},"","","",null,"",""]
[null,null,null,null,null,null,null,null,null,null,null,null,null,null,null,null,null,null,null,null,null,null,null,null,null,null,null,null,null,null,null,null,{"$f":"INDEX(C:C, SMALL(ROW(C$1:C$5000)+(5000*(C$1:C$5000=\"\")),ROW(A217)))&\"\"","v":""},"",{"$f":"INDEX(B:B, SMALL(ROW(B$1:B$5000)+(5000*(B$1:B$5000=\"\")),ROW(A217)))&\"\"","v":""},"","","",null,null,{"$f":"INDEX(AH:AH,SMALL(ROW($AH$1:$AH$1999)+(1999*($AH$1:$AH$1999=\"\")), ROW(A217)))&\"\"","v":""},"","","","","","","","","","","","","","","","","","","","","","","","","","","","","","","",{"$f":"INDEX(AJ:AJ,SMALL(ROW($AJ$1:$AJ$1999)+(1999*($AJ$1:$AJ$1999=\"\")), ROW(A217)))&\"\"","v":""},"",{"$f":"INDEX(AK:AK,SMALL(ROW($AK$1:$AK$1999)+(1999*($AK$1:$AK$1999=\"\")), ROW(A217)))&\"\"","v":""},"","","",null,"",""]
[null,null,null,null,null,null,null,null,null,null,null,null,null,null,null,null,null,null,null,null,null,null,null,null,null,null,null,null,null,null,null,null,{"$f":"INDEX(C:C, SMALL(ROW(C$1:C$5000)+(5000*(C$1:C$5000=\"\")),ROW(A218)))&\"\"","v":""},"",{"$f":"INDEX(B:B, SMALL(ROW(B$1:B$5000)+(5000*(B$1:B$5000=\"\")),ROW(A218)))&\"\"","v":""},"","","",null,null,{"$f":"INDEX(AH:AH,SMALL(ROW($AH$1:$AH$1999)+(1999*($AH$1:$AH$1999=\"\")), ROW(A218)))&\"\"","v":""},"","","","","","","","","","","","","","","","","","","","","","","","","","","","","","","",{"$f":"INDEX(AJ:AJ,SMALL(ROW($AJ$1:$AJ$1999)+(1999*($AJ$1:$AJ$1999=\"\")), ROW(A218)))&\"\"","v":""},"",{"$f":"INDEX(AK:AK,SMALL(ROW($AK$1:$AK$1999)+(1999*($AK$1:$AK$1999=\"\")), ROW(A218)))&\"\"","v":""},"","","",null,"",""]
[null,null,null,null,null,null,null,null,null,null,null,null,null,null,null,null,null,null,null,null,null,null,null,null,null,null,null,null,null,null,null,null,{"$f":"INDEX(C:C, SMALL(ROW(C$1:C$5000)+(5000*(C$1:C$5000=\"\")),ROW(A219)))&\"\"","v":""},"",{"$f":"INDEX(B:B, SMALL(ROW(B$1:B$5000)+(5000*(B$1:B$5000=\"\")),ROW(A219)))&\"\"","v":""},"","","",null,null,{"$f":"INDEX(AH:AH,SMALL(ROW($AH$1:$AH$1999)+(1999*($AH$1:$AH$1999=\"\")), ROW(A219)))&\"\"","v":""},"","","","","","","","","","","","","","","","","","","","","","","","","","","","","","","",{"$f":"INDEX(AJ:AJ,SMALL(ROW($AJ$1:$AJ$1999)+(1999*($AJ$1:$AJ$1999=\"\")), ROW(A219)))&\"\"","v":""},"",{"$f":"INDEX(AK:AK,SMALL(ROW($AK$1:$AK$1999)+(1999*($AK$1:$AK$1999=\"\")), ROW(A219)))&\"\"","v":""},"","","",null,"",""]
[null,null,null,null,null,null,null,null,null,null,null,null,null,null,null,null,null,null,null,null,null,null,null,null,null,null,null,null,null,null,null,null,{"$f":"INDEX(C:C, SMALL(ROW(C$1:C$5000)+(5000*(C$1:C$5000=\"\")),ROW(A220)))&\"\"","v":""},"",{"$f":"INDEX(B:B, SMALL(ROW(B$1:B$5000)+(5000*(B$1:B$5000=\"\")),ROW(A220)))&\"\"","v":""},"","","",null,null,{"$f":"INDEX(AH:AH,SMALL(ROW($AH$1:$AH$1999)+(1999*($AH$1:$AH$1999=\"\")), ROW(A220)))&\"\"","v":""},"","","","","","","","","","","","","","","","","","","","","","","","","","","","","","","",{"$f":"INDEX(AJ:AJ,SMALL(ROW($AJ$1:$AJ$1999)+(1999*($AJ$1:$AJ$1999=\"\")), ROW(A220)))&\"\"","v":""},"",{"$f":"INDEX(AK:AK,SMALL(ROW($AK$1:$AK$1999)+(1999*($AK$1:$AK$1999=\"\")), ROW(A220)))&\"\"","v":""},"","","",null,"",""]
[null,null,null,null,null,null,null,null,null,null,null,null,null,null,null,null,null,null,null,null,null,null,null,null,null,null,null,null,null,null,null,null,{"$f":"INDEX(C:C, SMALL(ROW(C$1:C$5000)+(5000*(C$1:C$5000=\"\")),ROW(A221)))&\"\"","v":""},"",{"$f":"INDEX(B:B, SMALL(ROW(B$1:B$5000)+(5000*(B$1:B$5000=\"\")),ROW(A221)))&\"\"","v":""},"","","",null,null,{"$f":"INDEX(AH:AH,SMALL(ROW($AH$1:$AH$1999)+(1999*($AH$1:$AH$1999=\"\")), ROW(A221)))&\"\"","v":""},"","","","","","","","","","","","","","","","","","","","","","","","","","","","","","","",{"$f":"INDEX(AJ:AJ,SMALL(ROW($AJ$1:$AJ$1999)+(1999*($AJ$1:$AJ$1999=\"\")), ROW(A221)))&\"\"","v":""},"",{"$f":"INDEX(AK:AK,SMALL(ROW($AK$1:$AK$1999)+(1999*($AK$1:$AK$1999=\"\")), ROW(A221)))&\"\"","v":""},"","","",null,"",""]
[null,null,null,null,null,null,null,null,null,null,null,null,null,null,null,null,null,null,null,null,null,null,null,null,null,null,null,null,null,null,null,null,{"$f":"INDEX(C:C, SMALL(ROW(C$1:C$5000)+(5000*(C$1:C$5000=\"\")),ROW(A222)))&\"\"","v":""},"",{"$f":"INDEX(B:B, SMALL(ROW(B$1:B$5000)+(5000*(B$1:B$5000=\"\")),ROW(A222)))&\"\"","v":""},"","","",null,null,{"$f":"INDEX(AH:AH,SMALL(ROW($AH$1:$AH$1999)+(1999*($AH$1:$AH$1999=\"\")), ROW(A222)))&\"\"","v":""},"","","","","","","","","","","",{"$f":"IFERROR(IF(ISNUMBER(SEARCH(\"*TE*\",AZ222)),BV222,\"\"),VALUE(0))","v":""},"","","","","","","","","","","","","","","","","","","",{"$f":"INDEX(AJ:AJ,SMALL(ROW($AJ$1:$AJ$1999)+(1999*($AJ$1:$AJ$1999=\"\")), ROW(A222)))&\"\"","v":""},"",{"$f":"INDEX(AK:AK,SMALL(ROW($AK$1:$AK$1999)+(1999*($AK$1:$AK$1999=\"\")), ROW(A222)))&\"\"","v":""},"","","",null,"",""]
[null,null,null,null,null,null,null,null,null,null,null,null,null,null,null,null,null,null,null,null,null,null,null,null,null,null,null,null,null,null,null,null,{"$f":"INDEX(C:C, SMALL(ROW(C$1:C$5000)+(5000*(C$1:C$5000=\"\")),ROW(A223)))&\"\"","v":""},"",{"$f":"INDEX(B:B, SMALL(ROW(B$1:B$5000)+(5000*(B$1:B$5000=\"\")),ROW(A223)))&\"\"","v":""},"","","",null,null,{"$f":"INDEX(AH:AH,SMALL(ROW($AH$1:$AH$1999)+(1999*($AH$1:$AH$1999=\"\")), ROW(A223)))&\"\"","v":""},"","","","","","","","","","","","","","","","","","","","","","","","","","","","","","","",{"$f":"INDEX(AJ:AJ,SMALL(ROW($AJ$1:$AJ$1999)+(1999*($AJ$1:$AJ$1999=\"\")), ROW(A223)))&\"\"","v":""},"",{"$f":"INDEX(AK:AK,SMALL(ROW($AK$1:$AK$1999)+(1999*($AK$1:$AK$1999=\"\")), ROW(A223)))&\"\"","v":""},"","","",null,"",""]
[null,null,null,null,null,null,null,null,null,null,null,null,null,null,null,null,null,null,null,null,null,null,null,null,null,null,null,null,null,null,null,null,{"$f":"INDEX(C:C, SMALL(ROW(C$1:C$5000)+(5000*(C$1:C$5000=\"\")),ROW(A224)))&\"\"","v":""},"",{"$f":"INDEX(B:B, SMALL(ROW(B$1:B$5000)+(5000*(B$1:B$5000=\"\")),ROW(A224)))&\"\"","v":""},"","","",null,null,{"$f":"INDEX(AH:AH,SMALL(ROW($AH$1:$AH$1999)+(1999*($AH$1:$AH$1999=\"\")), ROW(A224)))&\"\"","v":""},"","","","","","","","","","","","","","","","","","","","","","","","","","","","","","","",{"$f":"INDEX(AJ:AJ,SMALL(ROW($AJ$1:$AJ$1999)+(1999*($AJ$1:$AJ$1999=\"\")), ROW(A224)))&\"\"","v":""},"",{"$f":"INDEX(AK:AK,SMALL(ROW($AK$1:$AK$1999)+(1999*($AK$1:$AK$1999=\"\")), ROW(A224)))&\"\"","v":""},"","","",null,"",""]
[null,null,null,null,null,null,null,null,null,null,null,null,null,null,null,null,null,null,null,null,null,null,null,null,null,null,null,null,null,null,null,null,{"$f":"INDEX(C:C, SMALL(ROW(C$1:C$5000)+(5000*(C$1:C$5000=\"\")),ROW(A225)))&\"\"","v":""},"",{"$f":"INDEX(B:B, SMALL(ROW(B$1:B$5000)+(5000*(B$1:B$5000=\"\")),ROW(A225)))&\"\"","v":""},"","","",null,null,{"$f":"INDEX(AH:AH,SMALL(ROW($AH$1:$AH$1999)+(1999*($AH$1:$AH$1999=\"\")), ROW(A225)))&\"\"","v":""},"","","","","","","","","","","","","","","","","","","","","","","","","","","","","","","",{"$f":"INDEX(AJ:AJ,SMALL(ROW($AJ$1:$AJ$1999)+(1999*($AJ$1:$AJ$1999=\"\")), ROW(A225)))&\"\"","v":""},"",{"$f":"INDEX(AK:AK,SMALL(ROW($AK$1:$AK$1999)+(1999*($AK$1:$AK$1999=\"\")), ROW(A225)))&\"\"","v":""},"","","",null,"",""]
[null,null,null,null,null,null,null,null,null,null,null,null,null,null,null,null,null,null,null,null,null,null,null,null,null,null,null,null,null,null,null,null,{"$f":"INDEX(C:C, SMALL(ROW(C$1:C$5000)+(5000*(C$1:C$5000=\"\")),ROW(A226)))&\"\"","v":""},"",{"$f":"INDEX(B:B, SMALL(ROW(B$1:B$5000)+(5000*(B$1:B$5000=\"\")),ROW(A226)))&\"\"","v":""},"","","",null,null,{"$f":"INDEX(AH:AH,SMALL(ROW($AH$1:$AH$1999)+(1999*($AH$1:$AH$1999=\"\")), ROW(A226)))&\"\"","v":""},"","","","","","","","","","","","","","","","","","","","","","","","","","","","","","","",{"$f":"INDEX(AJ:AJ,SMALL(ROW($AJ$1:$AJ$1999)+(1999*($AJ$1:$AJ$1999=\"\")), ROW(A226)))&\"\"","v":""},"",{"$f":"INDEX(AK:AK,SMALL(ROW($AK$1:$AK$1999)+(1999*($AK$1:$AK$1999=\"\")), ROW(A226)))&\"\"","v":""},"","","",null,"",""]
[null,null,null,null,null,null,null,null,null,null,null,null,null,null,null,null,null,null,null,null,null,null,null,null,null,null,null,null,null,null,null,null,{"$f":"INDEX(C:C, SMALL(ROW(C$1:C$5000)+(5000*(C$1:C$5000=\"\")),ROW(A227)))&\"\"","v":""},"",{"$f":"INDEX(B:B, SMALL(ROW(B$1:B$5000)+(5000*(B$1:B$5000=\"\")),ROW(A227)))&\"\"","v":""},"","","",null,null,{"$f":"INDEX(AH:AH,SMALL(ROW($AH$1:$AH$1999)+(1999*($AH$1:$AH$1999=\"\")), ROW(A227)))&\"\"","v":""},"","","","","","","","","","","","","","","","","","","","","","","","","","","","","","","",{"$f":"INDEX(AJ:AJ,SMALL(ROW($AJ$1:$AJ$1999)+(1999*($AJ$1:$AJ$1999=\"\")), ROW(A227)))&\"\"","v":""},"",{"$f":"INDEX(AK:AK,SMALL(ROW($AK$1:$AK$1999)+(1999*($AK$1:$AK$1999=\"\")), ROW(A227)))&\"\"","v":""},"","","",null,"",""]
[null,null,null,null,null,null,null,null,null,null,null,null,null,null,null,null,null,null,null,null,null,null,null,null,null,null,null,null,null,null,null,null,{"$f":"INDEX(C:C, SMALL(ROW(C$1:C$5000)+(5000*(C$1:C$5000=\"\")),ROW(A228)))&\"\"","v":""},"",{"$f":"INDEX(B:B, SMALL(ROW(B$1:B$5000)+(5000*(B$1:B$5000=\"\")),ROW(A228)))&\"\"","v":""},"","","",null,null,{"$f":"INDEX(AH:AH,SMALL(ROW($AH$1:$AH$1999)+(1999*($AH$1:$AH$1999=\"\")), ROW(A228)))&\"\"","v":""},"","","","","","","","","","","","","","","","","","","","","","","","","","","","","","","",{"$f":"INDEX(AJ:AJ,SMALL(ROW($AJ$1:$AJ$1999)+(1999*($AJ$1:$AJ$1999=\"\")), ROW(A228)))&\"\"","v":""},"",{"$f":"INDEX(AK:AK,SMALL(ROW($AK$1:$AK$1999)+(1999*($AK$1:$AK$1999=\"\")), ROW(A228)))&\"\"","v":""},"","","",null,"",""]
[null,null,null,null,null,null,null,null,null,null,null,null,null,null,null,null,null,null,null,null,null,null,null,null,null,null,null,null,null,null,null,null,{"$f":"INDEX(C:C, SMALL(ROW(C$1:C$5000)+(5000*(C$1:C$5000=\"\")),ROW(A229)))&\"\"","v":""},"",{"$f":"INDEX(B:B, SMALL(ROW(B$1:B$5000)+(5000*(B$1:B$5000=\"\")),ROW(A229)))&\"\"","v":""},"","","",null,null,{"$f":"INDEX(AH:AH,SMALL(ROW($AH$1:$AH$1999)+(1999*($AH$1:$AH$1999=\"\")), ROW(A229)))&\"\"","v":""},"","","","","","","","","","","","","","","","","","","","","","","","","","","","","","","",{"$f":"INDEX(AJ:AJ,SMALL(ROW($AJ$1:$AJ$1999)+(1999*($AJ$1:$AJ$1999=\"\")), ROW(A229)))&\"\"","v":""},"",{"$f":"INDEX(AK:AK,SMALL(ROW($AK$1:$AK$1999)+(1999*($AK$1:$AK$1999=\"\")), ROW(A229)))&\"\"","v":""},"","","",null,"",""]
[null,null,null,null,null,null,null,null,null,null,null,null,null,null,null,null,null,null,null,null,null,null,null,null,null,null,null,null,null,null,null,null,{"$f":"INDEX(C:C, SMALL(ROW(C$1:C$5000)+(5000*(C$1:C$5000=\"\")),ROW(A230)))&\"\"","v":""},"",{"$f":"INDEX(B:B, SMALL(ROW(B$1:B$5000)+(5000*(B$1:B$5000=\"\")),ROW(A230)))&\"\"","v":""},"","","",null,null,{"$f":"INDEX(AH:AH,SMALL(ROW($AH$1:$AH$1999)+(1999*($AH$1:$AH$1999=\"\")), ROW(A230)))&\"\"","v":""},"","","","","","","","","","","","","","","","","","","","","","","","","","","","","","","",{"$f":"INDEX(AJ:AJ,SMALL(ROW($AJ$1:$AJ$1999)+(1999*($AJ$1:$AJ$1999=\"\")), ROW(A230)))&\"\"","v":""},"",{"$f":"INDEX(AK:AK,SMALL(ROW($AK$1:$AK$1999)+(1999*($AK$1:$AK$1999=\"\")), ROW(A230)))&\"\"","v":""},"","","",null,"",""]
[null,null,null,null,null,null,null,null,null,null,null,null,null,null,null,null,null,null,null,null,null,null,null,null,null,null,null,null,null,null,null,null,{"$f":"INDEX(C:C, SMALL(ROW(C$1:C$5000)+(5000*(C$1:C$5000=\"\")),ROW(A231)))&\"\"","v":""},"",{"$f":"INDEX(B:B, SMALL(ROW(B$1:B$5000)+(5000*(B$1:B$5000=\"\")),ROW(A231)))&\"\"","v":""},"","","",null,null,{"$f":"INDEX(AH:AH,SMALL(ROW($AH$1:$AH$1999)+(1999*($AH$1:$AH$1999=\"\")), ROW(A231)))&\"\"","v":""},"","","","","","","","","","","","","","","","","","","","","","","","","","","","","","","",{"$f":"INDEX(AJ:AJ,SMALL(ROW($AJ$1:$AJ$1999)+(1999*($AJ$1:$AJ$1999=\"\")), ROW(A231)))&\"\"","v":""},"",{"$f":"INDEX(AK:AK,SMALL(ROW($AK$1:$AK$1999)+(1999*($AK$1:$AK$1999=\"\")), ROW(A231)))&\"\"","v":""},"","","",null,"",""]
[null,null,null,null,null,null,null,null,null,null,null,null,null,null,null,null,null,null,null,null,null,null,null,null,null,null,null,null,null,null,null,null,{"$f":"INDEX(C:C, SMALL(ROW(C$1:C$5000)+(5000*(C$1:C$5000=\"\")),ROW(A232)))&\"\"","v":""},"",{"$f":"INDEX(B:B, SMALL(ROW(B$1:B$5000)+(5000*(B$1:B$5000=\"\")),ROW(A232)))&\"\"","v":""},"","","",null,null,{"$f":"INDEX(AH:AH,SMALL(ROW($AH$1:$AH$1999)+(1999*($AH$1:$AH$1999=\"\")), ROW(A232)))&\"\"","v":""},"","","","","","","","","","","","","","","","","","","","","","","","","","","","","","","",{"$f":"INDEX(AJ:AJ,SMALL(ROW($AJ$1:$AJ$1999)+(1999*($AJ$1:$AJ$1999=\"\")), ROW(A232)))&\"\"","v":""},"",{"$f":"INDEX(AK:AK,SMALL(ROW($AK$1:$AK$1999)+(1999*($AK$1:$AK$1999=\"\")), ROW(A232)))&\"\"","v":""},"","","",null,"",""]
[null,null,null,null,null,null,null,null,null,null,null,null,null,null,null,null,null,null,null,null,null,null,null,null,null,null,null,null,null,null,null,null,{"$f":"INDEX(C:C, SMALL(ROW(C$1:C$5000)+(5000*(C$1:C$5000=\"\")),ROW(A233)))&\"\"","v":""},"",{"$f":"INDEX(B:B, SMALL(ROW(B$1:B$5000)+(5000*(B$1:B$5000=\"\")),ROW(A233)))&\"\"","v":""},"","","",null,null,{"$f":"INDEX(AH:AH,SMALL(ROW($AH$1:$AH$1999)+(1999*($AH$1:$AH$1999=\"\")), ROW(A233)))&\"\"","v":""},"","","","","","","","","","","","","","","","","","","","","","","","","","","","","","","",{"$f":"INDEX(AJ:AJ,SMALL(ROW($AJ$1:$AJ$1999)+(1999*($AJ$1:$AJ$1999=\"\")), ROW(A233)))&\"\"","v":""},"",{"$f":"INDEX(AK:AK,SMALL(ROW($AK$1:$AK$1999)+(1999*($AK$1:$AK$1999=\"\")), ROW(A233)))&\"\"","v":""},"","","",null,"",""]
[null,null,null,null,null,null,null,null,null,null,null,null,null,null,null,null,null,null,null,null,null,null,null,null,null,null,null,null,null,null,null,null,{"$f":"INDEX(C:C, SMALL(ROW(C$1:C$5000)+(5000*(C$1:C$5000=\"\")),ROW(A234)))&\"\"","v":""},"",{"$f":"INDEX(B:B, SMALL(ROW(B$1:B$5000)+(5000*(B$1:B$5000=\"\")),ROW(A234)))&\"\"","v":""},"","","",null,null,{"$f":"INDEX(AH:AH,SMALL(ROW($AH$1:$AH$1999)+(1999*($AH$1:$AH$1999=\"\")), ROW(A234)))&\"\"","v":""},"","","","","","","","","","","","","","","","","","","","","","","","","","","","","","","",{"$f":"INDEX(AJ:AJ,SMALL(ROW($AJ$1:$AJ$1999)+(1999*($AJ$1:$AJ$1999=\"\")), ROW(A234)))&\"\"","v":""},"",{"$f":"INDEX(AK:AK,SMALL(ROW($AK$1:$AK$1999)+(1999*($AK$1:$AK$1999=\"\")), ROW(A234)))&\"\"","v":""},"","","",null,"",""]
[null,null,null,null,null,null,null,null,null,null,null,null,null,null,null,null,null,null,null,null,null,null,null,null,null,null,null,null,null,null,null,null,{"$f":"INDEX(C:C, SMALL(ROW(C$1:C$5000)+(5000*(C$1:C$5000=\"\")),ROW(A235)))&\"\"","v":""},"",{"$f":"INDEX(B:B, SMALL(ROW(B$1:B$5000)+(5000*(B$1:B$5000=\"\")),ROW(A235)))&\"\"","v":""},"","","",null,null,{"$f":"INDEX(AH:AH,SMALL(ROW($AH$1:$AH$1999)+(1999*($AH$1:$AH$1999=\"\")), ROW(A235)))&\"\"","v":""},"","","","","","","","","","","","","","","","","","","","","","","","","","","","","","","",{"$f":"INDEX(AJ:AJ,SMALL(ROW($AJ$1:$AJ$1999)+(1999*($AJ$1:$AJ$1999=\"\")), ROW(A235)))&\"\"","v":""},"",{"$f":"INDEX(AK:AK,SMALL(ROW($AK$1:$AK$1999)+(1999*($AK$1:$AK$1999=\"\")), ROW(A235)))&\"\"","v":""},"","","",null,"",""]
[null,null,null,null,null,null,null,null,null,null,null,null,null,null,null,null,null,null,null,null,null,null,null,null,null,null,null,null,null,null,null,null,{"$f":"INDEX(C:C, SMALL(ROW(C$1:C$5000)+(5000*(C$1:C$5000=\"\")),ROW(A236)))&\"\"","v":""},"",{"$f":"INDEX(B:B, SMALL(ROW(B$1:B$5000)+(5000*(B$1:B$5000=\"\")),ROW(A236)))&\"\"","v":""},"","","",null,null,{"$f":"INDEX(AH:AH,SMALL(ROW($AH$1:$AH$1999)+(1999*($AH$1:$AH$1999=\"\")), ROW(A236)))&\"\"","v":""},"","","","","","","","","","","","","","","","","","","","","","","","","","","","","","","",{"$f":"INDEX(AJ:AJ,SMALL(ROW($AJ$1:$AJ$1999)+(1999*($AJ$1:$AJ$1999=\"\")), ROW(A236)))&\"\"","v":""},"",{"$f":"INDEX(AK:AK,SMALL(ROW($AK$1:$AK$1999)+(1999*($AK$1:$AK$1999=\"\")), ROW(A236)))&\"\"","v":""},"","","",null,"",""]
[null,null,null,null,null,null,null,null,null,null,null,null,null,null,null,null,null,null,null,null,null,null,null,null,null,null,null,null,null,null,null,null,{"$f":"INDEX(C:C, SMALL(ROW(C$1:C$5000)+(5000*(C$1:C$5000=\"\")),ROW(A237)))&\"\"","v":""},"",{"$f":"INDEX(B:B, SMALL(ROW(B$1:B$5000)+(5000*(B$1:B$5000=\"\")),ROW(A237)))&\"\"","v":""},"","","",null,null,{"$f":"INDEX(AH:AH,SMALL(ROW($AH$1:$AH$1999)+(1999*($AH$1:$AH$1999=\"\")), ROW(A237)))&\"\"","v":""},"","","","","","","","","","","","","","","","","","","","","","","","","","","","","","","",{"$f":"INDEX(AJ:AJ,SMALL(ROW($AJ$1:$AJ$1999)+(1999*($AJ$1:$AJ$1999=\"\")), ROW(A237)))&\"\"","v":""},"",{"$f":"INDEX(AK:AK,SMALL(ROW($AK$1:$AK$1999)+(1999*($AK$1:$AK$1999=\"\")), ROW(A237)))&\"\"","v":""},"","","",null,"",""]
[null,null,null,null,null,null,null,null,null,null,null,null,null,null,null,null,null,null,null,null,null,null,null,null,null,null,null,null,null,null,null,null,{"$f":"INDEX(C:C, SMALL(ROW(C$1:C$5000)+(5000*(C$1:C$5000=\"\")),ROW(A238)))&\"\"","v":""},"",{"$f":"INDEX(B:B, SMALL(ROW(B$1:B$5000)+(5000*(B$1:B$5000=\"\")),ROW(A238)))&\"\"","v":""},"","","",null,null,{"$f":"INDEX(AH:AH,SMALL(ROW($AH$1:$AH$1999)+(1999*($AH$1:$AH$1999=\"\")), ROW(A238)))&\"\"","v":""},"","","","","","","","","","","","","","","","","","","","","","","","","","","","","","","",{"$f":"INDEX(AJ:AJ,SMALL(ROW($AJ$1:$AJ$1999)+(1999*($AJ$1:$AJ$1999=\"\")), ROW(A238)))&\"\"","v":""},"",{"$f":"INDEX(AK:AK,SMALL(ROW($AK$1:$AK$1999)+(1999*($AK$1:$AK$1999=\"\")), ROW(A238)))&\"\"","v":""},"","","",null,"",""]
[null,null,null,null,null,null,null,null,null,null,null,null,null,null,null,null,null,null,null,null,null,null,null,null,null,null,null,null,null,null,null,null,{"$f":"INDEX(C:C, SMALL(ROW(C$1:C$5000)+(5000*(C$1:C$5000=\"\")),ROW(A239)))&\"\"","v":""},"",{"$f":"INDEX(B:B, SMALL(ROW(B$1:B$5000)+(5000*(B$1:B$5000=\"\")),ROW(A239)))&\"\"","v":""},"","","",null,null,{"$f":"INDEX(AH:AH,SMALL(ROW($AH$1:$AH$1999)+(1999*($AH$1:$AH$1999=\"\")), ROW(A239)))&\"\"","v":""},"","","","","","","","","","","","","","","","","","","","","","","","","","","","","","","",{"$f":"INDEX(AJ:AJ,SMALL(ROW($AJ$1:$AJ$1999)+(1999*($AJ$1:$AJ$1999=\"\")), ROW(A239)))&\"\"","v":""},"",{"$f":"INDEX(AK:AK,SMALL(ROW($AK$1:$AK$1999)+(1999*($AK$1:$AK$1999=\"\")), ROW(A239)))&\"\"","v":""},"","","",null,"",""]
[null,null,null,null,null,null,null,null,null,null,null,null,null,null,null,null,null,null,null,null,null,null,null,null,null,null,null,null,null,null,null,null,{"$f":"INDEX(C:C, SMALL(ROW(C$1:C$5000)+(5000*(C$1:C$5000=\"\")),ROW(A240)))&\"\"","v":""},"",{"$f":"INDEX(B:B, SMALL(ROW(B$1:B$5000)+(5000*(B$1:B$5000=\"\")),ROW(A240)))&\"\"","v":""},"","","",null,null,{"$f":"INDEX(AH:AH,SMALL(ROW($AH$1:$AH$1999)+(1999*($AH$1:$AH$1999=\"\")), ROW(A240)))&\"\"","v":""},"","","","","","","","","","","","","","","","","","","","","","","","","","","","","","","",{"$f":"INDEX(AJ:AJ,SMALL(ROW($AJ$1:$AJ$1999)+(1999*($AJ$1:$AJ$1999=\"\")), ROW(A240)))&\"\"","v":""},"",{"$f":"INDEX(AK:AK,SMALL(ROW($AK$1:$AK$1999)+(1999*($AK$1:$AK$1999=\"\")), ROW(A240)))&\"\"","v":""},"","","",null,"",""]
[null,null,null,null,null,null,null,null,null,null,null,null,null,null,null,null,null,null,null,null,null,null,null,null,null,null,null,null,null,null,null,null,{"$f":"INDEX(C:C, SMALL(ROW(C$1:C$5000)+(5000*(C$1:C$5000=\"\")),ROW(A241)))&\"\"","v":""},"",{"$f":"INDEX(B:B, SMALL(ROW(B$1:B$5000)+(5000*(B$1:B$5000=\"\")),ROW(A241)))&\"\"","v":""},"","","",null,null,{"$f":"INDEX(AH:AH,SMALL(ROW($AH$1:$AH$1999)+(1999*($AH$1:$AH$1999=\"\")), ROW(A241)))&\"\"","v":""},"","","","","","","","","","","","","","","","","","","","","","","","","","","","","","","",{"$f":"INDEX(AJ:AJ,SMALL(ROW($AJ$1:$AJ$1999)+(1999*($AJ$1:$AJ$1999=\"\")), ROW(A241)))&\"\"","v":""},"",{"$f":"INDEX(AK:AK,SMALL(ROW($AK$1:$AK$1999)+(1999*($AK$1:$AK$1999=\"\")), ROW(A241)))&\"\"","v":""},"","","",null,"",""]
[null,null,null,null,null,null,null,null,null,null,null,null,null,null,null,null,null,null,null,null,null,null,null,null,null,null,null,null,null,null,null,null,{"$f":"INDEX(C:C, SMALL(ROW(C$1:C$5000)+(5000*(C$1:C$5000=\"\")),ROW(A242)))&\"\"","v":""},"",{"$f":"INDEX(B:B, SMALL(ROW(B$1:B$5000)+(5000*(B$1:B$5000=\"\")),ROW(A242)))&\"\"","v":""},"","","",null,null,{"$f":"INDEX(AH:AH,SMALL(ROW($AH$1:$AH$1999)+(1999*($AH$1:$AH$1999=\"\")), ROW(A242)))&\"\"","v":""},"","","","","","","","","","","","","","","","","","","","","","","","","","","","","","","",{"$f":"INDEX(AJ:AJ,SMALL(ROW($AJ$1:$AJ$1999)+(1999*($AJ$1:$AJ$1999=\"\")), ROW(A242)))&\"\"","v":""},"",{"$f":"INDEX(AK:AK,SMALL(ROW($AK$1:$AK$1999)+(1999*($AK$1:$AK$1999=\"\")), ROW(A242)))&\"\"","v":""},"","","",null,"",""]
[null,null,null,null,null,null,null,null,null,null,null,null,null,null,null,null,null,null,null,null,null,null,null,null,null,null,null,null,null,null,null,null,{"$f":"INDEX(C:C, SMALL(ROW(C$1:C$5000)+(5000*(C$1:C$5000=\"\")),ROW(A243)))&\"\"","v":""},"",{"$f":"INDEX(B:B, SMALL(ROW(B$1:B$5000)+(5000*(B$1:B$5000=\"\")),ROW(A243)))&\"\"","v":""},"","","",null,null,{"$f":"INDEX(AH:AH,SMALL(ROW($AH$1:$AH$1999)+(1999*($AH$1:$AH$1999=\"\")), ROW(A243)))&\"\"","v":""},"","","","","","","","","","","","","","","","","","","","","","","","","","","","","","","",{"$f":"INDEX(AJ:AJ,SMALL(ROW($AJ$1:$AJ$1999)+(1999*($AJ$1:$AJ$1999=\"\")), ROW(A243)))&\"\"","v":""},"",{"$f":"INDEX(AK:AK,SMALL(ROW($AK$1:$AK$1999)+(1999*($AK$1:$AK$1999=\"\")), ROW(A243)))&\"\"","v":""},"","","",null,"",""]
[null,null,null,null,null,null,null,null,null,null,null,null,null,null,null,null,null,null,null,null,null,null,null,null,null,null,null,null,null,null,null,null,{"$f":"INDEX(C:C, SMALL(ROW(C$1:C$5000)+(5000*(C$1:C$5000=\"\")),ROW(A244)))&\"\"","v":""},"",{"$f":"INDEX(B:B, SMALL(ROW(B$1:B$5000)+(5000*(B$1:B$5000=\"\")),ROW(A244)))&\"\"","v":""},"","","",null,null,{"$f":"INDEX(AH:AH,SMALL(ROW($AH$1:$AH$1999)+(1999*($AH$1:$AH$1999=\"\")), ROW(A244)))&\"\"","v":""},"","","","","","","","","","","","","","","","","","","","","","","","","","","","","","","",{"$f":"INDEX(AJ:AJ,SMALL(ROW($AJ$1:$AJ$1999)+(1999*($AJ$1:$AJ$1999=\"\")), ROW(A244)))&\"\"","v":""},"",{"$f":"INDEX(AK:AK,SMALL(ROW($AK$1:$AK$1999)+(1999*($AK$1:$AK$1999=\"\")), ROW(A244)))&\"\"","v":""},"","","",null,"",""]
[null,null,null,null,null,null,null,null,null,null,null,null,null,null,null,null,null,null,null,null,null,null,null,null,null,null,null,null,null,null,null,null,{"$f":"INDEX(C:C, SMALL(ROW(C$1:C$5000)+(5000*(C$1:C$5000=\"\")),ROW(A245)))&\"\"","v":""},"",{"$f":"INDEX(B:B, SMALL(ROW(B$1:B$5000)+(5000*(B$1:B$5000=\"\")),ROW(A245)))&\"\"","v":""},"","","",null,null,{"$f":"INDEX(AH:AH,SMALL(ROW($AH$1:$AH$1999)+(1999*($AH$1:$AH$1999=\"\")), ROW(A245)))&\"\"","v":""},"","","","","","","","","","","","","","","","","","","","","","","","","","","","","","","",{"$f":"INDEX(AJ:AJ,SMALL(ROW($AJ$1:$AJ$1999)+(1999*($AJ$1:$AJ$1999=\"\")), ROW(A245)))&\"\"","v":""},"",{"$f":"INDEX(AK:AK,SMALL(ROW($AK$1:$AK$1999)+(1999*($AK$1:$AK$1999=\"\")), ROW(A245)))&\"\"","v":""},"","","",null,"",""]
[null,null,null,null,null,null,null,null,null,null,null,null,null,null,null,null,null,null,null,null,null,null,null,null,null,null,null,null,null,null,null,null,{"$f":"INDEX(C:C, SMALL(ROW(C$1:C$5000)+(5000*(C$1:C$5000=\"\")),ROW(A246)))&\"\"","v":""},"",{"$f":"INDEX(B:B, SMALL(ROW(B$1:B$5000)+(5000*(B$1:B$5000=\"\")),ROW(A246)))&\"\"","v":""},"","","",null,null,{"$f":"INDEX(AH:AH,SMALL(ROW($AH$1:$AH$1999)+(1999*($AH$1:$AH$1999=\"\")), ROW(A246)))&\"\"","v":""},"","","","","","","","","","","","","","","","","","","","","","","","","","","","","","","",{"$f":"INDEX(AJ:AJ,SMALL(ROW($AJ$1:$AJ$1999)+(1999*($AJ$1:$AJ$1999=\"\")), ROW(A246)))&\"\"","v":""},"",{"$f":"INDEX(AK:AK,SMALL(ROW($AK$1:$AK$1999)+(1999*($AK$1:$AK$1999=\"\")), ROW(A246)))&\"\"","v":""},"","","",null,"",""]
[null,null,null,null,null,null,null,null,null,null,null,null,null,null,null,null,null,null,null,null,null,null,null,null,null,null,null,null,null,null,null,null,{"$f":"INDEX(C:C, SMALL(ROW(C$1:C$5000)+(5000*(C$1:C$5000=\"\")),ROW(A247)))&\"\"","v":""},"",{"$f":"INDEX(B:B, SMALL(ROW(B$1:B$5000)+(5000*(B$1:B$5000=\"\")),ROW(A247)))&\"\"","v":""},"","","",null,null,{"$f":"INDEX(AH:AH,SMALL(ROW($AH$1:$AH$1999)+(1999*($AH$1:$AH$1999=\"\")), ROW(A247)))&\"\"","v":""},"","","","","","","","","","","","","","","","","","","","","","","","","","","","","","","",{"$f":"INDEX(AJ:AJ,SMALL(ROW($AJ$1:$AJ$1999)+(1999*($AJ$1:$AJ$1999=\"\")), ROW(A247)))&\"\"","v":""},"",{"$f":"INDEX(AK:AK,SMALL(ROW($AK$1:$AK$1999)+(1999*($AK$1:$AK$1999=\"\")), ROW(A247)))&\"\"","v":""},"","","",null,"",""]
[null,null,null,null,null,null,null,null,null,null,null,null,null,null,null,null,null,null,null,null,null,null,null,null,null,null,null,null,null,null,null,null,{"$f":"INDEX(C:C, SMALL(ROW(C$1:C$5000)+(5000*(C$1:C$5000=\"\")),ROW(A248)))&\"\"","v":""},"",{"$f":"INDEX(B:B, SMALL(ROW(B$1:B$5000)+(5000*(B$1:B$5000=\"\")),ROW(A248)))&\"\"","v":""},"","","",null,null,{"$f":"INDEX(AH:AH,SMALL(ROW($AH$1:$AH$1999)+(1999*($AH$1:$AH$1999=\"\")), ROW(A248)))&\"\"","v":""},"","","","","","","","","","","","","","","","","","","","","","","","","","","","","","","",{"$f":"INDEX(AJ:AJ,SMALL(ROW($AJ$1:$AJ$1999)+(1999*($AJ$1:$AJ$1999=\"\")), ROW(A248)))&\"\"","v":""},"",{"$f":"INDEX(AK:AK,SMALL(ROW($AK$1:$AK$1999)+(1999*($AK$1:$AK$1999=\"\")), ROW(A248)))&\"\"","v":""},"","","",null,"",""]
[null,null,null,null,null,null,null,null,null,null,null,null,null,null,null,null,null,null,null,null,null,null,null,null,null,null,null,null,null,null,null,null,{"$f":"INDEX(C:C, SMALL(ROW(C$1:C$5000)+(5000*(C$1:C$5000=\"\")),ROW(A249)))&\"\"","v":""},"",{"$f":"INDEX(B:B, SMALL(ROW(B$1:B$5000)+(5000*(B$1:B$5000=\"\")),ROW(A249)))&\"\"","v":""},"","","",null,null,{"$f":"INDEX(AH:AH,SMALL(ROW($AH$1:$AH$1999)+(1999*($AH$1:$AH$1999=\"\")), ROW(A249)))&\"\"","v":""},"","","","","","","","","","","","","","","","","","","","","","","","","","","","","","","",{"$f":"INDEX(AJ:AJ,SMALL(ROW($AJ$1:$AJ$1999)+(1999*($AJ$1:$AJ$1999=\"\")), ROW(A249)))&\"\"","v":""},"",{"$f":"INDEX(AK:AK,SMALL(ROW($AK$1:$AK$1999)+(1999*($AK$1:$AK$1999=\"\")), ROW(A249)))&\"\"","v":""},"","","",null,"",""]
[null,null,null,null,null,null,null,null,null,null,null,null,null,null,null,null,null,null,null,null,null,null,null,null,null,null,null,null,null,null,null,null,{"$f":"INDEX(C:C, SMALL(ROW(C$1:C$5000)+(5000*(C$1:C$5000=\"\")),ROW(A250)))&\"\"","v":""},"",{"$f":"INDEX(B:B, SMALL(ROW(B$1:B$5000)+(5000*(B$1:B$5000=\"\")),ROW(A250)))&\"\"","v":""},"","","",null,null,{"$f":"INDEX(AH:AH,SMALL(ROW($AH$1:$AH$1999)+(1999*($AH$1:$AH$1999=\"\")), ROW(A250)))&\"\"","v":""},"","","","","","","","","","","","","","","","","","","","","","","","","","","","","","","",{"$f":"INDEX(AJ:AJ,SMALL(ROW($AJ$1:$AJ$1999)+(1999*($AJ$1:$AJ$1999=\"\")), ROW(A250)))&\"\"","v":""},"",{"$f":"INDEX(AK:AK,SMALL(ROW($AK$1:$AK$1999)+(1999*($AK$1:$AK$1999=\"\")), ROW(A250)))&\"\"","v":""},"","","",null,"",""]
[null,null,null,null,null,null,null,null,null,null,null,null,null,null,null,null,null,null,null,null,null,null,null,null,null,null,null,null,null,null,null,null,{"$f":"INDEX(C:C, SMALL(ROW(C$1:C$5000)+(5000*(C$1:C$5000=\"\")),ROW(A251)))&\"\"","v":""},"",{"$f":"INDEX(B:B, SMALL(ROW(B$1:B$5000)+(5000*(B$1:B$5000=\"\")),ROW(A251)))&\"\"","v":""},"","","",null,null,{"$f":"INDEX(AH:AH,SMALL(ROW($AH$1:$AH$1999)+(1999*($AH$1:$AH$1999=\"\")), ROW(A251)))&\"\"","v":""},"","","","","","","","","","","","","","","","","","","","","","","","","","","","","","","",{"$f":"INDEX(AJ:AJ,SMALL(ROW($AJ$1:$AJ$1999)+(1999*($AJ$1:$AJ$1999=\"\")), ROW(A251)))&\"\"","v":""},"",{"$f":"INDEX(AK:AK,SMALL(ROW($AK$1:$AK$1999)+(1999*($AK$1:$AK$1999=\"\")), ROW(A251)))&\"\"","v":""},"","","",null,"",""]
[null,null,null,null,null,null,null,null,null,null,null,null,null,null,null,null,null,null,null,null,null,null,null,null,null,null,null,null,null,null,null,null,{"$f":"INDEX(C:C, SMALL(ROW(C$1:C$5000)+(5000*(C$1:C$5000=\"\")),ROW(A252)))&\"\"","v":""},"",{"$f":"INDEX(B:B, SMALL(ROW(B$1:B$5000)+(5000*(B$1:B$5000=\"\")),ROW(A252)))&\"\"","v":""},"","","",null,null,{"$f":"INDEX(AH:AH,SMALL(ROW($AH$1:$AH$1999)+(1999*($AH$1:$AH$1999=\"\")), ROW(A252)))&\"\"","v":""},"","","","","","","","","","","","","","","","","","","","","","","","","","","","","","","",{"$f":"INDEX(AJ:AJ,SMALL(ROW($AJ$1:$AJ$1999)+(1999*($AJ$1:$AJ$1999=\"\")), ROW(A252)))&\"\"","v":""},"",{"$f":"INDEX(AK:AK,SMALL(ROW($AK$1:$AK$1999)+(1999*($AK$1:$AK$1999=\"\")), ROW(A252)))&\"\"","v":""},"","","",null,"",""]
[null,null,null,null,null,null,null,null,null,null,null,null,null,null,null,null,null,null,null,null,null,null,null,null,null,null,null,null,null,null,null,null,{"$f":"INDEX(C:C, SMALL(ROW(C$1:C$5000)+(5000*(C$1:C$5000=\"\")),ROW(A253)))&\"\"","v":""},"",{"$f":"INDEX(B:B, SMALL(ROW(B$1:B$5000)+(5000*(B$1:B$5000=\"\")),ROW(A253)))&\"\"","v":""},"","","",null,null,{"$f":"INDEX(AH:AH,SMALL(ROW($AH$1:$AH$1999)+(1999*($AH$1:$AH$1999=\"\")), ROW(A253)))&\"\"","v":""},"","","","","","","","","","","","","","","","","","","","","","","","","","","","","","","",{"$f":"INDEX(AJ:AJ,SMALL(ROW($AJ$1:$AJ$1999)+(1999*($AJ$1:$AJ$1999=\"\")), ROW(A253)))&\"\"","v":""},"",{"$f":"INDEX(AK:AK,SMALL(ROW($AK$1:$AK$1999)+(1999*($AK$1:$AK$1999=\"\")), ROW(A253)))&\"\"","v":""},"","","",null,"",""]
[null,null,null,null,null,null,null,null,null,null,null,null,null,null,null,null,null,null,null,null,null,null,null,null,null,null,null,null,null,null,null,null,{"$f":"INDEX(C:C, SMALL(ROW(C$1:C$5000)+(5000*(C$1:C$5000=\"\")),ROW(A254)))&\"\"","v":""},"",{"$f":"INDEX(B:B, SMALL(ROW(B$1:B$5000)+(5000*(B$1:B$5000=\"\")),ROW(A254)))&\"\"","v":""},"","","",null,null,{"$f":"INDEX(AH:AH,SMALL(ROW($AH$1:$AH$1999)+(1999*($AH$1:$AH$1999=\"\")), ROW(A254)))&\"\"","v":""},"","","","","","","","","","","","","","","","","","","","","","","","","","","","","","","",{"$f":"INDEX(AJ:AJ,SMALL(ROW($AJ$1:$AJ$1999)+(1999*($AJ$1:$AJ$1999=\"\")), ROW(A254)))&\"\"","v":""},"",{"$f":"INDEX(AK:AK,SMALL(ROW($AK$1:$AK$1999)+(1999*($AK$1:$AK$1999=\"\")), ROW(A254)))&\"\"","v":""},"","","",null,"",""]
[null,null,null,null,null,null,null,null,null,null,null,null,null,null,null,null,null,null,null,null,null,null,null,null,null,null,null,null,null,null,null,null,{"$f":"INDEX(C:C, SMALL(ROW(C$1:C$5000)+(5000*(C$1:C$5000=\"\")),ROW(A255)))&\"\"","v":""},"",{"$f":"INDEX(B:B, SMALL(ROW(B$1:B$5000)+(5000*(B$1:B$5000=\"\")),ROW(A255)))&\"\"","v":""},"","","",null,null,{"$f":"INDEX(AH:AH,SMALL(ROW($AH$1:$AH$1999)+(1999*($AH$1:$AH$1999=\"\")), ROW(A255)))&\"\"","v":""},"","","","","","","","","","","","","","","","","","","","","","","","","","","","","","","",{"$f":"INDEX(AJ:AJ,SMALL(ROW($AJ$1:$AJ$1999)+(1999*($AJ$1:$AJ$1999=\"\")), ROW(A255)))&\"\"","v":""},"",{"$f":"INDEX(AK:AK,SMALL(ROW($AK$1:$AK$1999)+(1999*($AK$1:$AK$1999=\"\")), ROW(A255)))&\"\"","v":""},"","","",null,"",""]
[null,null,null,null,null,null,null,null,null,null,null,null,null,null,null,null,null,null,null,null,null,null,null,null,null,null,null,null,null,null,null,null,{"$f":"INDEX(C:C, SMALL(ROW(C$1:C$5000)+(5000*(C$1:C$5000=\"\")),ROW(A256)))&\"\"","v":""},"",{"$f":"INDEX(B:B, SMALL(ROW(B$1:B$5000)+(5000*(B$1:B$5000=\"\")),ROW(A256)))&\"\"","v":""},"","","",null,null,{"$f":"INDEX(AH:AH,SMALL(ROW($AH$1:$AH$1999)+(1999*($AH$1:$AH$1999=\"\")), ROW(A256)))&\"\"","v":""},"","","","","","","","","","","","","","","","","","","","","","","","","","","","","","","",{"$f":"INDEX(AJ:AJ,SMALL(ROW($AJ$1:$AJ$1999)+(1999*($AJ$1:$AJ$1999=\"\")), ROW(A256)))&\"\"","v":""},"",{"$f":"INDEX(AK:AK,SMALL(ROW($AK$1:$AK$1999)+(1999*($AK$1:$AK$1999=\"\")), ROW(A256)))&\"\"","v":""},"","","",null,"",""]
[null,null,null,null,null,null,null,null,null,null,null,null,null,null,null,null,null,null,null,null,null,null,null,null,null,null,null,null,null,null,null,null,{"$f":"INDEX(C:C, SMALL(ROW(C$1:C$5000)+(5000*(C$1:C$5000=\"\")),ROW(A257)))&\"\"","v":""},{"$f":"IF(ISNUMBER(SEARCH(\"*,*\",AG257)),AG257,\"\")","v":""},{"$f":"INDEX(B:B, SMALL(ROW(B$1:B$5000)+(5000*(B$1:B$5000=\"\")),ROW(A257)))&\"\"","v":""},"","",{"$f":"IF(ISNUMBER(SEARCH(\"*Round*\",AI257)),AI257,\"\")","v":""},null,null,{"$f":"INDEX(AH:AH,SMALL(ROW($AH$1:$AH$1999)+(1999*($AH$1:$AH$1999=\"\")), ROW(A257)))&\"\"","v":""},"","","","","","","","","","","","","","","","","","","","","","","","","","","","","","","",{"$f":"INDEX(AJ:AJ,SMALL(ROW($AJ$1:$AJ$1999)+(1999*($AJ$1:$AJ$1999=\"\")), ROW(A257)))&\"\"","v":""},"",{"$f":"INDEX(AK:AK,SMALL(ROW($AK$1:$AK$1999)+(1999*($AK$1:$AK$1999=\"\")), ROW(A257)))&\"\"","v":""},"","","",null,"",""]
[null,null,null,null,null,null,null,null,null,null,null,null,null,null,null,null,null,null,null,null,null,null,null,null,null,null,null,null,null,null,null,null,{"$f":"INDEX(C:C, SMALL(ROW(C$1:C$5000)+(5000*(C$1:C$5000=\"\")),ROW(A258)))&\"\"","v":""},"",{"$f":"INDEX(B:B, SMALL(ROW(B$1:B$5000)+(5000*(B$1:B$5000=\"\")),ROW(A258)))&\"\"","v":""},{"$f":"IF(ISNUMBER(SEARCH(\"*years*\",AI258)),AI258,\"\")","v":""},{"$f":"IF(ISNUMBER(SEARCH(\"*, 19*\",AI258)),AI258,\"\")","v":""},"",null,null,{"$f":"INDEX(AH:AH,SMALL(ROW($AH$1:$AH$1999)+(1999*($AH$1:$AH$1999=\"\")), ROW(A258)))&\"\"","v":""},{"$f":"TRIM(TEXT(RIGHT(AO258,2),))","v":""},{"$f":"IF(ISNUMBER(SEARCH(\"*QB*\",AP258)),AO258,\"\")","v":""},{"$f":"IFERROR(IF(ISNUMBER(SEARCH(\"*QB*\",AQ258)),BV258,\"\"),VALUE(0))","v":""},{"$f":"IFERROR(IF(ISNUMBER(SEARCH(\"*QB*\",AQ258)),BX258,\"\"),VALUE(0))","v":""},{"$f":"IF(ISNUMBER(SEARCH(\"*RB*\",AP258)),AO258,\"\")","v":""},{"$f":"IFERROR(IF(ISNUMBER(SEARCH(\"*RB*\",AT258)),BV258,\"\"),VALUE(0))","v":""},{"$f":"IFERROR(IF(ISNUMBER(SEARCH(\"*RB*\",AT258)),BX258,\"\"),VALUE(0))","v":""},{"$f":"IF(ISNUMBER(SEARCH(\"*WR*\",AP258)),AO258,\"\")","v":""},{"$f":"IFERROR(IF(ISNUMBER(SEARCH(\"*WR*\",AW258)),BV258,\"\"),VALUE(0))","v":""},{"$f":"IFERROR(IF(ISNUMBER(SEARCH(\"*WR*\",AW258)),BX258,\"\"),VALUE(0))","v":""},{"$f":"IF(ISNUMBER(SEARCH(\"*TE*\",AP258)),AO258,\"\")","v":""},"",{"$f":"IFERROR(IF(ISNUMBER(SEARCH(\"*TE*\",AZ258)),BX258,\"\"),VALUE(0))","v":""},{"$f":"IF(ISNUMBER(SEARCH(\"*PK*\",AP258)),AO258,\"\")","v":""},{"$f":"IFERROR(IF(ISNUMBER(SEARCH(\"*PK*\",BC258)),BV258,\"\"),VALUE(0))","v":""},{"$f":"IFERROR(IF(ISNUMBER(SEARCH(\"*PK*\",BC258)),BX258,\"\"),VALUE(0))","v":""},{"$f":"IF(ISNUMBER(SEARCH(\"*DT*\",AP258)),AO258,\"\")","v":""},{"$f":"IFERROR(IF(ISNUMBER(SEARCH(\"*DT*\",BF258)),BV258,\"\"),VALUE(0))","v":""},{"$f":"IFERROR(IF(ISNUMBER(SEARCH(\"*DT*\",BF258)),BX258,\"\"),VALUE(0))","v":""},{"$f":"IF(ISNUMBER(SEARCH(\"*DE*\",AP258)),AO258,\"\")","v":""},{"$f":"IFERROR(IF(ISNUMBER(SEARCH(\"*DE*\",BI258)),BV258,\"\"),VALUE(0))","v":""},{"$f":"IFERROR(IF(ISNUMBER(SEARCH(\"*DE*\",BI258)),BX258,\"\"),VALUE(0))","v":""},{"$f":"IF(ISNUMBER(SEARCH(\"*LB*\",AP258)),AO258,\"\")","v":""},{"$f":"IFERROR(IF(ISNUMBER(SEARCH(\"*LB*\",BL258)),BV258,\"\"),VALUE(0))","v":""},{"$f":"IFERROR(IF(ISNUMBER(SEARCH(\"*LB*\",BL258)),BX258,\"\"),VALUE(0))","v":""},{"$f":"IF(ISNUMBER(SEARCH(\"*CB*\",AP258)),AO258,\"\")","v":""},{"$f":"IFERROR(IF(ISNUMBER(SEARCH(\"*CB*\",BO258)),BV258,\"\"),VALUE(0))","v":""},{"$f":"IFERROR(IF(ISNUMBER(SEARCH(\"*CB*\",BO258)),BX258,\"\"),VALUE(0))","v":""},{"$f":"IF(ISNUMBER(SEARCH(\"*S*\",AP258)),AO258,\"\")","v":""},{"$f":"IFERROR(IF(ISNUMBER(SEARCH(\"*S*\",BR258)),BV258,\"\"),VALUE(0))","v":""},{"$f":"IFERROR(IF(ISNUMBER(SEARCH(\"*S*\",BR258)),BX258,\"\"),VALUE(0))","v":""},{"$f":"INDEX(AJ:AJ,SMALL(ROW($AJ$1:$AJ$1999)+(1999*($AJ$1:$AJ$1999=\"\")), ROW(A258)))&\"\"","v":""},{"$f":"IFERROR(IF(BW258<>\"\",VALUE(LEFT(BU258,LEN(BU258)-6)),\"\"),VALUE(0))","v":""},{"$f":"INDEX(AK:AK,SMALL(ROW($AK$1:$AK$1999)+(1999*($AK$1:$AK$1999=\"\")), ROW(A258)))&\"\"","v":""},{"$f":"IF(BW258<>\"\",VALUE(RIGHT(BW258,2)),\"\")","v":""},{"$f":"IF(BX258=\"\",\"\",IF(BX258>27,1,0))","v":""},{"$f":"IF(BX258=\"\",\"\",IF(BX258<27,1,0))","v":""},null,{"$f":"IF(BV258=\"\",\"\",IF(BV258>3.5,1,0))","v":""},{"$f":"IF(BV258=\"\",\"\",IF(BV258<3.5,1,0))","v":""}]
[null,null,null,null,null,null,null,null,null,null,null,null,null,null,null,null,null,null,null,null,null,null,null,null,null,null,null,null,null,null,null,null,{"$f":"INDEX(C:C, SMALL(ROW(C$1:C$5000)+(5000*(C$1:C$5000=\"\")),ROW(A259)))&\"\"","v":""},"",{"$f":"INDEX(B:B, SMALL(ROW(B$1:B$5000)+(5000*(B$1:B$5000=\"\")),ROW(A259)))&\"\"","v":""},"","","",null,null,{"$f":"INDEX(AH:AH,SMALL(ROW($AH$1:$AH$1999)+(1999*($AH$1:$AH$1999=\"\")), ROW(A259)))&\"\"","v":""},"","","","","","","","","","","","","","","","","","","","","","","","","","","","","","","",{"$f":"INDEX(AJ:AJ,SMALL(ROW($AJ$1:$AJ$1999)+(1999*($AJ$1:$AJ$1999=\"\")), ROW(A259)))&\"\"","v":""},"",{"$f":"INDEX(AK:AK,SMALL(ROW($AK$1:$AK$1999)+(1999*($AK$1:$AK$1999=\"\")), ROW(A259)))&\"\"","v":""},"","","",null,"",""]
[null,null,null,null,null,null,null,null,null,null,null,null,null,null,null,null,null,null,null,null,null,null,null,null,null,null,null,null,null,null,null,null,{"$f":"INDEX(C:C, SMALL(ROW(C$1:C$5000)+(5000*(C$1:C$5000=\"\")),ROW(A260)))&\"\"","v":""},"",{"$f":"INDEX(B:B, SMALL(ROW(B$1:B$5000)+(5000*(B$1:B$5000=\"\")),ROW(A260)))&\"\"","v":""},"","","",null,null,{"$f":"INDEX(AH:AH,SMALL(ROW($AH$1:$AH$1999)+(1999*($AH$1:$AH$1999=\"\")), ROW(A260)))&\"\"","v":""},"","","","","","","","","","","","","","","","","","","","","","","","","","","","","","","",{"$f":"INDEX(AJ:AJ,SMALL(ROW($AJ$1:$AJ$1999)+(1999*($AJ$1:$AJ$1999=\"\")), ROW(A260)))&\"\"","v":""},"",{"$f":"INDEX(AK:AK,SMALL(ROW($AK$1:$AK$1999)+(1999*($AK$1:$AK$1999=\"\")), ROW(A260)))&\"\"","v":""},"","","",null,"",""]
[null,null,null,null,null,null,null,null,null,null,null,null,null,null,null,null,null,null,null,null,null,null,null,null,null,null,null,null,null,null,null,null,{"$f":"INDEX(C:C, SMALL(ROW(C$1:C$5000)+(5000*(C$1:C$5000=\"\")),ROW(A261)))&\"\"","v":""},"",{"$f":"INDEX(B:B, SMALL(ROW(B$1:B$5000)+(5000*(B$1:B$5000=\"\")),ROW(A261)))&\"\"","v":""},"","","",null,null,{"$f":"INDEX(AH:AH,SMALL(ROW($AH$1:$AH$1999)+(1999*($AH$1:$AH$1999=\"\")), ROW(A261)))&\"\"","v":""},"","","","","","","","","","","","","","","","","","","","","","","","","","","","","","","",{"$f":"INDEX(AJ:AJ,SMALL(ROW($AJ$1:$AJ$1999)+(1999*($AJ$1:$AJ$1999=\"\")), ROW(A261)))&\"\"","v":""},"",{"$f":"INDEX(AK:AK,SMALL(ROW($AK$1:$AK$1999)+(1999*($AK$1:$AK$1999=\"\")), ROW(A261)))&\"\"","v":""},"","","",null,"",""]
[null,null,null,null,null,null,null,null,null,null,null,null,null,null,null,null,null,null,null,null,null,null,null,null,null,null,null,null,null,null,null,null,{"$f":"INDEX(C:C, SMALL(ROW(C$1:C$5000)+(5000*(C$1:C$5000=\"\")),ROW(A262)))&\"\"","v":""},"",{"$f":"INDEX(B:B, SMALL(ROW(B$1:B$5000)+(5000*(B$1:B$5000=\"\")),ROW(A262)))&\"\"","v":""},"","","",null,null,{"$f":"INDEX(AH:AH,SMALL(ROW($AH$1:$AH$1999)+(1999*($AH$1:$AH$1999=\"\")), ROW(A262)))&\"\"","v":""},"","","","","","","","","","","","","","","","","","","","","","","","","","","","","","","",{"$f":"INDEX(AJ:AJ,SMALL(ROW($AJ$1:$AJ$1999)+(1999*($AJ$1:$AJ$1999=\"\")), ROW(A262)))&\"\"","v":""},"",{"$f":"INDEX(AK:AK,SMALL(ROW($AK$1:$AK$1999)+(1999*($AK$1:$AK$1999=\"\")), ROW(A262)))&\"\"","v":""},"","","",null,"",""]
[null,null,null,null,null,null,null,null,null,null,null,null,null,null,null,null,null,null,null,null,null,null,null,null,null,null,null,null,null,null,null,null,{"$f":"INDEX(C:C, SMALL(ROW(C$1:C$5000)+(5000*(C$1:C$5000=\"\")),ROW(A263)))&\"\"","v":""},"",{"$f":"INDEX(B:B, SMALL(ROW(B$1:B$5000)+(5000*(B$1:B$5000=\"\")),ROW(A263)))&\"\"","v":""},"","","",null,null,{"$f":"INDEX(AH:AH,SMALL(ROW($AH$1:$AH$1999)+(1999*($AH$1:$AH$1999=\"\")), ROW(A263)))&\"\"","v":""},"","","","","","","","","","","","","","","","","","","","","","","","","","","","","","","",{"$f":"INDEX(AJ:AJ,SMALL(ROW($AJ$1:$AJ$1999)+(1999*($AJ$1:$AJ$1999=\"\")), ROW(A263)))&\"\"","v":""},"",{"$f":"INDEX(AK:AK,SMALL(ROW($AK$1:$AK$1999)+(1999*($AK$1:$AK$1999=\"\")), ROW(A263)))&\"\"","v":""},"","","",null,"",""]
[null,null,null,null,null,null,null,null,null,null,null,null,null,null,null,null,null,null,null,null,null,null,null,null,null,null,null,null,null,null,null,null,{"$f":"INDEX(C:C, SMALL(ROW(C$1:C$5000)+(5000*(C$1:C$5000=\"\")),ROW(A264)))&\"\"","v":""},"",{"$f":"INDEX(B:B, SMALL(ROW(B$1:B$5000)+(5000*(B$1:B$5000=\"\")),ROW(A264)))&\"\"","v":""},"","","",null,null,{"$f":"INDEX(AH:AH,SMALL(ROW($AH$1:$AH$1999)+(1999*($AH$1:$AH$1999=\"\")), ROW(A264)))&\"\"","v":""},"","","","","","","","","","","","","","","","","","","","","","","","","","","","","","","",{"$f":"INDEX(AJ:AJ,SMALL(ROW($AJ$1:$AJ$1999)+(1999*($AJ$1:$AJ$1999=\"\")), ROW(A264)))&\"\"","v":""},"",{"$f":"INDEX(AK:AK,SMALL(ROW($AK$1:$AK$1999)+(1999*($AK$1:$AK$1999=\"\")), ROW(A264)))&\"\"","v":""},"","","",null,"",""]
[null,null,null,null,null,null,null,null,null,null,null,null,null,null,null,null,null,null,null,null,null,null,null,null,null,null,null,null,null,null,null,null,{"$f":"INDEX(C:C, SMALL(ROW(C$1:C$5000)+(5000*(C$1:C$5000=\"\")),ROW(A265)))&\"\"","v":""},"",{"$f":"INDEX(B:B, SMALL(ROW(B$1:B$5000)+(5000*(B$1:B$5000=\"\")),ROW(A265)))&\"\"","v":""},"","","",null,null,{"$f":"INDEX(AH:AH,SMALL(ROW($AH$1:$AH$1999)+(1999*($AH$1:$AH$1999=\"\")), ROW(A265)))&\"\"","v":""},"","","","","","","","","","","","","","","","","","","","","","","","","","","","","","","",{"$f":"INDEX(AJ:AJ,SMALL(ROW($AJ$1:$AJ$1999)+(1999*($AJ$1:$AJ$1999=\"\")), ROW(A265)))&\"\"","v":""},"",{"$f":"INDEX(AK:AK,SMALL(ROW($AK$1:$AK$1999)+(1999*($AK$1:$AK$1999=\"\")), ROW(A265)))&\"\"","v":""},"","","",null,"",""]
[null,null,null,null,null,null,null,null,null,null,null,null,null,null,null,null,null,null,null,null,null,null,null,null,null,null,null,null,null,null,null,null,{"$f":"INDEX(C:C, SMALL(ROW(C$1:C$5000)+(5000*(C$1:C$5000=\"\")),ROW(A266)))&\"\"","v":""},"",{"$f":"INDEX(B:B, SMALL(ROW(B$1:B$5000)+(5000*(B$1:B$5000=\"\")),ROW(A266)))&\"\"","v":""},"","","",null,null,{"$f":"INDEX(AH:AH,SMALL(ROW($AH$1:$AH$1999)+(1999*($AH$1:$AH$1999=\"\")), ROW(A266)))&\"\"","v":""},"","","","","","","","","","","","","","","","","","","","","","","","","","","","","","","",{"$f":"INDEX(AJ:AJ,SMALL(ROW($AJ$1:$AJ$1999)+(1999*($AJ$1:$AJ$1999=\"\")), ROW(A266)))&\"\"","v":""},"",{"$f":"INDEX(AK:AK,SMALL(ROW($AK$1:$AK$1999)+(1999*($AK$1:$AK$1999=\"\")), ROW(A266)))&\"\"","v":""},"","","",null,"",""]
[null,null,null,null,null,null,null,null,null,null,null,null,null,null,null,null,null,null,null,null,null,null,null,null,null,null,null,null,null,null,null,null,{"$f":"INDEX(C:C, SMALL(ROW(C$1:C$5000)+(5000*(C$1:C$5000=\"\")),ROW(A267)))&\"\"","v":""},"",{"$f":"INDEX(B:B, SMALL(ROW(B$1:B$5000)+(5000*(B$1:B$5000=\"\")),ROW(A267)))&\"\"","v":""},"","","",null,null,{"$f":"INDEX(AH:AH,SMALL(ROW($AH$1:$AH$1999)+(1999*($AH$1:$AH$1999=\"\")), ROW(A267)))&\"\"","v":""},"","","","","","","","","","","","","","","","","","","","","","","","","","","","","","","",{"$f":"INDEX(AJ:AJ,SMALL(ROW($AJ$1:$AJ$1999)+(1999*($AJ$1:$AJ$1999=\"\")), ROW(A267)))&\"\"","v":""},"",{"$f":"INDEX(AK:AK,SMALL(ROW($AK$1:$AK$1999)+(1999*($AK$1:$AK$1999=\"\")), ROW(A267)))&\"\"","v":""},"","","",null,"",""]
[null,null,null,null,null,null,null,null,null,null,null,null,null,null,null,null,null,null,null,null,null,null,null,null,null,null,null,null,null,null,null,null,{"$f":"INDEX(C:C, SMALL(ROW(C$1:C$5000)+(5000*(C$1:C$5000=\"\")),ROW(A268)))&\"\"","v":""},"",{"$f":"INDEX(B:B, SMALL(ROW(B$1:B$5000)+(5000*(B$1:B$5000=\"\")),ROW(A268)))&\"\"","v":""},"","","",null,null,{"$f":"INDEX(AH:AH,SMALL(ROW($AH$1:$AH$1999)+(1999*($AH$1:$AH$1999=\"\")), ROW(A268)))&\"\"","v":""},"","","","","","","","","","","","","","","","","","","","","","","","","","","","","","","",{"$f":"INDEX(AJ:AJ,SMALL(ROW($AJ$1:$AJ$1999)+(1999*($AJ$1:$AJ$1999=\"\")), ROW(A268)))&\"\"","v":""},"",{"$f":"INDEX(AK:AK,SMALL(ROW($AK$1:$AK$1999)+(1999*($AK$1:$AK$1999=\"\")), ROW(A268)))&\"\"","v":""},"","","",null,"",""]
[null,null,null,null,null,null,null,null,null,null,null,null,null,null,null,null,null,null,null,null,null,null,null,null,null,null,null,null,null,null,null,null,{"$f":"INDEX(C:C, SMALL(ROW(C$1:C$5000)+(5000*(C$1:C$5000=\"\")),ROW(A269)))&\"\"","v":""},"",{"$f":"INDEX(B:B, SMALL(ROW(B$1:B$5000)+(5000*(B$1:B$5000=\"\")),ROW(A269)))&\"\"","v":""},"","","",null,null,{"$f":"INDEX(AH:AH,SMALL(ROW($AH$1:$AH$1999)+(1999*($AH$1:$AH$1999=\"\")), ROW(A269)))&\"\"","v":""},"","","","","","","","","","","","","","","","","","","","","","","","","","","","","","","",{"$f":"INDEX(AJ:AJ,SMALL(ROW($AJ$1:$AJ$1999)+(1999*($AJ$1:$AJ$1999=\"\")), ROW(A269)))&\"\"","v":""},"",{"$f":"INDEX(AK:AK,SMALL(ROW($AK$1:$AK$1999)+(1999*($AK$1:$AK$1999=\"\")), ROW(A269)))&\"\"","v":""},"","","",null,"",""]
[null,null,null,null,null,null,null,null,null,null,null,null,null,null,null,null,null,null,null,null,null,null,null,null,null,null,null,null,null,null,null,null,{"$f":"INDEX(C:C, SMALL(ROW(C$1:C$5000)+(5000*(C$1:C$5000=\"\")),ROW(A270)))&\"\"","v":""},"",{"$f":"INDEX(B:B, SMALL(ROW(B$1:B$5000)+(5000*(B$1:B$5000=\"\")),ROW(A270)))&\"\"","v":""},"","","",null,null,{"$f":"INDEX(AH:AH,SMALL(ROW($AH$1:$AH$1999)+(1999*($AH$1:$AH$1999=\"\")), ROW(A270)))&\"\"","v":""},"","","","","","","","","","","","","","","","","","","","","","","","","","","","","","","",{"$f":"INDEX(AJ:AJ,SMALL(ROW($AJ$1:$AJ$1999)+(1999*($AJ$1:$AJ$1999=\"\")), ROW(A270)))&\"\"","v":""},"",{"$f":"INDEX(AK:AK,SMALL(ROW($AK$1:$AK$1999)+(1999*($AK$1:$AK$1999=\"\")), ROW(A270)))&\"\"","v":""},"","","",null,"",""]
[null,null,null,null,null,null,null,null,null,null,null,null,null,null,null,null,null,null,null,null,null,null,null,null,null,null,null,null,null,null,null,null,{"$f":"INDEX(C:C, SMALL(ROW(C$1:C$5000)+(5000*(C$1:C$5000=\"\")),ROW(A271)))&\"\"","v":""},"",{"$f":"INDEX(B:B, SMALL(ROW(B$1:B$5000)+(5000*(B$1:B$5000=\"\")),ROW(A271)))&\"\"","v":""},"","","",null,null,{"$f":"INDEX(AH:AH,SMALL(ROW($AH$1:$AH$1999)+(1999*($AH$1:$AH$1999=\"\")), ROW(A271)))&\"\"","v":""},"","","","","","","","","","","","","","","","","","","","","","","","","","","","","","","",{"$f":"INDEX(AJ:AJ,SMALL(ROW($AJ$1:$AJ$1999)+(1999*($AJ$1:$AJ$1999=\"\")), ROW(A271)))&\"\"","v":""},"",{"$f":"INDEX(AK:AK,SMALL(ROW($AK$1:$AK$1999)+(1999*($AK$1:$AK$1999=\"\")), ROW(A271)))&\"\"","v":""},"","","",null,"",""]
[null,null,null,null,null,null,null,null,null,null,null,null,null,null,null,null,null,null,null,null,null,null,null,null,null,null,null,null,null,null,null,null,{"$f":"INDEX(C:C, SMALL(ROW(C$1:C$5000)+(5000*(C$1:C$5000=\"\")),ROW(A272)))&\"\"","v":""},"",{"$f":"INDEX(B:B, SMALL(ROW(B$1:B$5000)+(5000*(B$1:B$5000=\"\")),ROW(A272)))&\"\"","v":""},"","","",null,null,{"$f":"INDEX(AH:AH,SMALL(ROW($AH$1:$AH$1999)+(1999*($AH$1:$AH$1999=\"\")), ROW(A272)))&\"\"","v":""},"","","","","","","","","","","","","","","","","","","","","","","","","","","","","","","",{"$f":"INDEX(AJ:AJ,SMALL(ROW($AJ$1:$AJ$1999)+(1999*($AJ$1:$AJ$1999=\"\")), ROW(A272)))&\"\"","v":""},"",{"$f":"INDEX(AK:AK,SMALL(ROW($AK$1:$AK$1999)+(1999*($AK$1:$AK$1999=\"\")), ROW(A272)))&\"\"","v":""},"","","",null,"",""]
[null,null,null,null,null,null,null,null,null,null,null,null,null,null,null,null,null,null,null,null,null,null,null,null,null,null,null,null,null,null,null,null,{"$f":"INDEX(C:C, SMALL(ROW(C$1:C$5000)+(5000*(C$1:C$5000=\"\")),ROW(A273)))&\"\"","v":""},"",{"$f":"INDEX(B:B, SMALL(ROW(B$1:B$5000)+(5000*(B$1:B$5000=\"\")),ROW(A273)))&\"\"","v":""},"","","",null,null,{"$f":"INDEX(AH:AH,SMALL(ROW($AH$1:$AH$1999)+(1999*($AH$1:$AH$1999=\"\")), ROW(A273)))&\"\"","v":""},"","","","","","","","","","","","","","","","","","","","","","","","","","","","","","","",{"$f":"INDEX(AJ:AJ,SMALL(ROW($AJ$1:$AJ$1999)+(1999*($AJ$1:$AJ$1999=\"\")), ROW(A273)))&\"\"","v":""},"",{"$f":"INDEX(AK:AK,SMALL(ROW($AK$1:$AK$1999)+(1999*($AK$1:$AK$1999=\"\")), ROW(A273)))&\"\"","v":""},"","","",null,"",""]
[null,null,null,null,null,null,null,null,null,null,null,null,null,null,null,null,null,null,null,null,null,null,null,null,null,null,null,null,null,null,null,null,{"$f":"INDEX(C:C, SMALL(ROW(C$1:C$5000)+(5000*(C$1:C$5000=\"\")),ROW(A274)))&\"\"","v":""},"",{"$f":"INDEX(B:B, SMALL(ROW(B$1:B$5000)+(5000*(B$1:B$5000=\"\")),ROW(A274)))&\"\"","v":""},"","","",null,null,{"$f":"INDEX(AH:AH,SMALL(ROW($AH$1:$AH$1999)+(1999*($AH$1:$AH$1999=\"\")), ROW(A274)))&\"\"","v":""},"","","","","","","","","","","","","","","","","","","","","","","","","","","","","","","",{"$f":"INDEX(AJ:AJ,SMALL(ROW($AJ$1:$AJ$1999)+(1999*($AJ$1:$AJ$1999=\"\")), ROW(A274)))&\"\"","v":""},"",{"$f":"INDEX(AK:AK,SMALL(ROW($AK$1:$AK$1999)+(1999*($AK$1:$AK$1999=\"\")), ROW(A274)))&\"\"","v":""},"","","",null,"",""]
[null,null,null,null,null,null,null,null,null,null,null,null,null,null,null,null,null,null,null,null,null,null,null,null,null,null,null,null,null,null,null,null,{"$f":"INDEX(C:C, SMALL(ROW(C$1:C$5000)+(5000*(C$1:C$5000=\"\")),ROW(A275)))&\"\"","v":""},"",{"$f":"INDEX(B:B, SMALL(ROW(B$1:B$5000)+(5000*(B$1:B$5000=\"\")),ROW(A275)))&\"\"","v":""},"","","",null,null,{"$f":"INDEX(AH:AH,SMALL(ROW($AH$1:$AH$1999)+(1999*($AH$1:$AH$1999=\"\")), ROW(A275)))&\"\"","v":""},"","","","","","","","","","","","","","","","","","","","","","","","","","","","","","","",{"$f":"INDEX(AJ:AJ,SMALL(ROW($AJ$1:$AJ$1999)+(1999*($AJ$1:$AJ$1999=\"\")), ROW(A275)))&\"\"","v":""},"",{"$f":"INDEX(AK:AK,SMALL(ROW($AK$1:$AK$1999)+(1999*($AK$1:$AK$1999=\"\")), ROW(A275)))&\"\"","v":""},"","","",null,"",""]
[null,null,null,null,null,null,null,null,null,null,null,null,null,null,null,null,null,null,null,null,null,null,null,null,null,null,null,null,null,null,null,null,{"$f":"INDEX(C:C, SMALL(ROW(C$1:C$5000)+(5000*(C$1:C$5000=\"\")),ROW(A276)))&\"\"","v":""},"",{"$f":"INDEX(B:B, SMALL(ROW(B$1:B$5000)+(5000*(B$1:B$5000=\"\")),ROW(A276)))&\"\"","v":""},"","","",null,null,{"$f":"INDEX(AH:AH,SMALL(ROW($AH$1:$AH$1999)+(1999*($AH$1:$AH$1999=\"\")), ROW(A276)))&\"\"","v":""},"","","","","","","","","","","","","","","","","","","","","","","","","","","","","","","",{"$f":"INDEX(AJ:AJ,SMALL(ROW($AJ$1:$AJ$1999)+(1999*($AJ$1:$AJ$1999=\"\")), ROW(A276)))&\"\"","v":""},"",{"$f":"INDEX(AK:AK,SMALL(ROW($AK$1:$AK$1999)+(1999*($AK$1:$AK$1999=\"\")), ROW(A276)))&\"\"","v":""},"","","",null,"",""]
[null,null,null,null,null,null,null,null,null,null,null,null,null,null,null,null,null,null,null,null,null,null,null,null,null,null,null,null,null,null,null,null,{"$f":"INDEX(C:C, SMALL(ROW(C$1:C$5000)+(5000*(C$1:C$5000=\"\")),ROW(A277)))&\"\"","v":""},"",{"$f":"INDEX(B:B, SMALL(ROW(B$1:B$5000)+(5000*(B$1:B$5000=\"\")),ROW(A277)))&\"\"","v":""},"","","",null,null,{"$f":"INDEX(AH:AH,SMALL(ROW($AH$1:$AH$1999)+(1999*($AH$1:$AH$1999=\"\")), ROW(A277)))&\"\"","v":""},"","","","","","","","","","","","","","","","","","","","","","","","","","","","","","","",{"$f":"INDEX(AJ:AJ,SMALL(ROW($AJ$1:$AJ$1999)+(1999*($AJ$1:$AJ$1999=\"\")), ROW(A277)))&\"\"","v":""},"",{"$f":"INDEX(AK:AK,SMALL(ROW($AK$1:$AK$1999)+(1999*($AK$1:$AK$1999=\"\")), ROW(A277)))&\"\"","v":""},"","","",null,"",""]
[null,null,null,null,null,null,null,null,null,null,null,null,null,null,null,null,null,null,null,null,null,null,null,null,null,null,null,null,null,null,null,null,{"$f":"INDEX(C:C, SMALL(ROW(C$1:C$5000)+(5000*(C$1:C$5000=\"\")),ROW(A278)))&\"\"","v":""},"",{"$f":"INDEX(B:B, SMALL(ROW(B$1:B$5000)+(5000*(B$1:B$5000=\"\")),ROW(A278)))&\"\"","v":""},"","","",null,null,{"$f":"INDEX(AH:AH,SMALL(ROW($AH$1:$AH$1999)+(1999*($AH$1:$AH$1999=\"\")), ROW(A278)))&\"\"","v":""},"","","","","","","","","","","","","","","","","","","","","","","","","","","","","","","",{"$f":"INDEX(AJ:AJ,SMALL(ROW($AJ$1:$AJ$1999)+(1999*($AJ$1:$AJ$1999=\"\")), ROW(A278)))&\"\"","v":""},"",{"$f":"INDEX(AK:AK,SMALL(ROW($AK$1:$AK$1999)+(1999*($AK$1:$AK$1999=\"\")), ROW(A278)))&\"\"","v":""},"","","",null,"",""]
[null,null,null,null,null,null,null,null,null,null,null,null,null,null,null,null,null,null,null,null,null,null,null,null,null,null,null,null,null,null,null,null,{"$f":"INDEX(C:C, SMALL(ROW(C$1:C$5000)+(5000*(C$1:C$5000=\"\")),ROW(A279)))&\"\"","v":""},"",{"$f":"INDEX(B:B, SMALL(ROW(B$1:B$5000)+(5000*(B$1:B$5000=\"\")),ROW(A279)))&\"\"","v":""},"","","",null,null,{"$f":"INDEX(AH:AH,SMALL(ROW($AH$1:$AH$1999)+(1999*($AH$1:$AH$1999=\"\")), ROW(A279)))&\"\"","v":""},"","","","","","","","","","","","","","","","","","","","","","","","","","","","","","","",{"$f":"INDEX(AJ:AJ,SMALL(ROW($AJ$1:$AJ$1999)+(1999*($AJ$1:$AJ$1999=\"\")), ROW(A279)))&\"\"","v":""},"",{"$f":"INDEX(AK:AK,SMALL(ROW($AK$1:$AK$1999)+(1999*($AK$1:$AK$1999=\"\")), ROW(A279)))&\"\"","v":""},"","","",null,"",""]
[null,null,null,null,null,null,null,null,null,null,null,null,null,null,null,null,null,null,null,null,null,null,null,null,null,null,null,null,null,null,null,null,{"$f":"INDEX(C:C, SMALL(ROW(C$1:C$5000)+(5000*(C$1:C$5000=\"\")),ROW(A280)))&\"\"","v":""},"",{"$f":"INDEX(B:B, SMALL(ROW(B$1:B$5000)+(5000*(B$1:B$5000=\"\")),ROW(A280)))&\"\"","v":""},"","","",null,null,{"$f":"INDEX(AH:AH,SMALL(ROW($AH$1:$AH$1999)+(1999*($AH$1:$AH$1999=\"\")), ROW(A280)))&\"\"","v":""},"","","","","","","","","","","","","","","","","","","","","","","","","","","","","","","",{"$f":"INDEX(AJ:AJ,SMALL(ROW($AJ$1:$AJ$1999)+(1999*($AJ$1:$AJ$1999=\"\")), ROW(A280)))&\"\"","v":""},"",{"$f":"INDEX(AK:AK,SMALL(ROW($AK$1:$AK$1999)+(1999*($AK$1:$AK$1999=\"\")), ROW(A280)))&\"\"","v":""},"","","",null,"",""]
[null,null,null,null,null,null,null,null,null,null,null,null,null,null,null,null,null,null,null,null,null,null,null,null,null,null,null,null,null,null,null,null,{"$f":"INDEX(C:C, SMALL(ROW(C$1:C$5000)+(5000*(C$1:C$5000=\"\")),ROW(A281)))&\"\"","v":""},"",{"$f":"INDEX(B:B, SMALL(ROW(B$1:B$5000)+(5000*(B$1:B$5000=\"\")),ROW(A281)))&\"\"","v":""},"","","",null,null,{"$f":"INDEX(AH:AH,SMALL(ROW($AH$1:$AH$1999)+(1999*($AH$1:$AH$1999=\"\")), ROW(A281)))&\"\"","v":""},"","","","","","","","","","","","","","","","","","","","","","","","","","","","","","","",{"$f":"INDEX(AJ:AJ,SMALL(ROW($AJ$1:$AJ$1999)+(1999*($AJ$1:$AJ$1999=\"\")), ROW(A281)))&\"\"","v":""},"",{"$f":"INDEX(AK:AK,SMALL(ROW($AK$1:$AK$1999)+(1999*($AK$1:$AK$1999=\"\")), ROW(A281)))&\"\"","v":""},"","","",null,"",""]
[null,null,null,null,null,null,null,null,null,null,null,null,null,null,null,null,null,null,null,null,null,null,null,null,null,null,null,null,null,null,null,null,{"$f":"INDEX(C:C, SMALL(ROW(C$1:C$5000)+(5000*(C$1:C$5000=\"\")),ROW(A282)))&\"\"","v":""},"",{"$f":"INDEX(B:B, SMALL(ROW(B$1:B$5000)+(5000*(B$1:B$5000=\"\")),ROW(A282)))&\"\"","v":""},"","","",null,null,{"$f":"INDEX(AH:AH,SMALL(ROW($AH$1:$AH$1999)+(1999*($AH$1:$AH$1999=\"\")), ROW(A282)))&\"\"","v":""},"","","","","","","","","","","","","","","","","","","","","","","","","","","","","","","",{"$f":"INDEX(AJ:AJ,SMALL(ROW($AJ$1:$AJ$1999)+(1999*($AJ$1:$AJ$1999=\"\")), ROW(A282)))&\"\"","v":""},"",{"$f":"INDEX(AK:AK,SMALL(ROW($AK$1:$AK$1999)+(1999*($AK$1:$AK$1999=\"\")), ROW(A282)))&\"\"","v":""},"","","",null,"",""]
[null,null,null,null,null,null,null,null,null,null,null,null,null,null,null,null,null,null,null,null,null,null,null,null,null,null,null,null,null,null,null,null,{"$f":"INDEX(C:C, SMALL(ROW(C$1:C$5000)+(5000*(C$1:C$5000=\"\")),ROW(A283)))&\"\"","v":""},"",{"$f":"INDEX(B:B, SMALL(ROW(B$1:B$5000)+(5000*(B$1:B$5000=\"\")),ROW(A283)))&\"\"","v":""},"","","",null,null,{"$f":"INDEX(AH:AH,SMALL(ROW($AH$1:$AH$1999)+(1999*($AH$1:$AH$1999=\"\")), ROW(A283)))&\"\"","v":""},"","","","","","","","","","","","","","","","","","","","","","","","","","","","","","","",{"$f":"INDEX(AJ:AJ,SMALL(ROW($AJ$1:$AJ$1999)+(1999*($AJ$1:$AJ$1999=\"\")), ROW(A283)))&\"\"","v":""},"",{"$f":"INDEX(AK:AK,SMALL(ROW($AK$1:$AK$1999)+(1999*($AK$1:$AK$1999=\"\")), ROW(A283)))&\"\"","v":""},"","","",null,"",""]
[null,null,null,null,null,null,null,null,null,null,null,null,null,null,null,null,null,null,null,null,null,null,null,null,null,null,null,null,null,null,null,null,{"$f":"INDEX(C:C, SMALL(ROW(C$1:C$5000)+(5000*(C$1:C$5000=\"\")),ROW(A284)))&\"\"","v":""},"",{"$f":"INDEX(B:B, SMALL(ROW(B$1:B$5000)+(5000*(B$1:B$5000=\"\")),ROW(A284)))&\"\"","v":""},"","","",null,null,{"$f":"INDEX(AH:AH,SMALL(ROW($AH$1:$AH$1999)+(1999*($AH$1:$AH$1999=\"\")), ROW(A284)))&\"\"","v":""},"","","","","","","","","","","","","","","","","","","","","","","","","","","","","","","",{"$f":"INDEX(AJ:AJ,SMALL(ROW($AJ$1:$AJ$1999)+(1999*($AJ$1:$AJ$1999=\"\")), ROW(A284)))&\"\"","v":""},"",{"$f":"INDEX(AK:AK,SMALL(ROW($AK$1:$AK$1999)+(1999*($AK$1:$AK$1999=\"\")), ROW(A284)))&\"\"","v":""},"","","",null,"",""]
[null,null,null,null,null,null,null,null,null,null,null,null,null,null,null,null,null,null,null,null,null,null,null,null,null,null,null,null,null,null,null,null,{"$f":"INDEX(C:C, SMALL(ROW(C$1:C$5000)+(5000*(C$1:C$5000=\"\")),ROW(A285)))&\"\"","v":""},"",{"$f":"INDEX(B:B, SMALL(ROW(B$1:B$5000)+(5000*(B$1:B$5000=\"\")),ROW(A285)))&\"\"","v":""},"","","",null,null,{"$f":"INDEX(AH:AH,SMALL(ROW($AH$1:$AH$1999)+(1999*($AH$1:$AH$1999=\"\")), ROW(A285)))&\"\"","v":""},"","","","","","","","","","","","","","","","","","","","","","","","","","","","","","","",{"$f":"INDEX(AJ:AJ,SMALL(ROW($AJ$1:$AJ$1999)+(1999*($AJ$1:$AJ$1999=\"\")), ROW(A285)))&\"\"","v":""},"",{"$f":"INDEX(AK:AK,SMALL(ROW($AK$1:$AK$1999)+(1999*($AK$1:$AK$1999=\"\")), ROW(A285)))&\"\"","v":""},"","","",null,"",""]
[null,null,null,null,null,null,null,null,null,null,null,null,null,null,null,null,null,null,null,null,null,null,null,null,null,null,null,null,null,null,null,null,{"$f":"INDEX(C:C, SMALL(ROW(C$1:C$5000)+(5000*(C$1:C$5000=\"\")),ROW(A286)))&\"\"","v":""},"",{"$f":"INDEX(B:B, SMALL(ROW(B$1:B$5000)+(5000*(B$1:B$5000=\"\")),ROW(A286)))&\"\"","v":""},"","","",null,null,{"$f":"INDEX(AH:AH,SMALL(ROW($AH$1:$AH$1999)+(1999*($AH$1:$AH$1999=\"\")), ROW(A286)))&\"\"","v":""},"","","","","","","","","","","",{"$f":"IFERROR(IF(ISNUMBER(SEARCH(\"*TE*\",AZ286)),BV286,\"\"),VALUE(0))","v":""},"","","","","","","","","","","","","","","","","","","",{"$f":"INDEX(AJ:AJ,SMALL(ROW($AJ$1:$AJ$1999)+(1999*($AJ$1:$AJ$1999=\"\")), ROW(A286)))&\"\"","v":""},"",{"$f":"INDEX(AK:AK,SMALL(ROW($AK$1:$AK$1999)+(1999*($AK$1:$AK$1999=\"\")), ROW(A286)))&\"\"","v":""},"","","",null,"",""]
[null,null,null,null,null,null,null,null,null,null,null,null,null,null,null,null,null,null,null,null,null,null,null,null,null,null,null,null,null,null,null,null,{"$f":"INDEX(C:C, SMALL(ROW(C$1:C$5000)+(5000*(C$1:C$5000=\"\")),ROW(A287)))&\"\"","v":""},"",{"$f":"INDEX(B:B, SMALL(ROW(B$1:B$5000)+(5000*(B$1:B$5000=\"\")),ROW(A287)))&\"\"","v":""},"","","",null,null,{"$f":"INDEX(AH:AH,SMALL(ROW($AH$1:$AH$1999)+(1999*($AH$1:$AH$1999=\"\")), ROW(A287)))&\"\"","v":""},"","","","","","","","","","","","","","","","","","","","","","","","","","","","","","","",{"$f":"INDEX(AJ:AJ,SMALL(ROW($AJ$1:$AJ$1999)+(1999*($AJ$1:$AJ$1999=\"\")), ROW(A287)))&\"\"","v":""},"",{"$f":"INDEX(AK:AK,SMALL(ROW($AK$1:$AK$1999)+(1999*($AK$1:$AK$1999=\"\")), ROW(A287)))&\"\"","v":""},"","","",null,"",""]
[null,null,null,null,null,null,null,null,null,null,null,null,null,null,null,null,null,null,null,null,null,null,null,null,null,null,null,null,null,null,null,null,{"$f":"INDEX(C:C, SMALL(ROW(C$1:C$5000)+(5000*(C$1:C$5000=\"\")),ROW(A288)))&\"\"","v":""},"",{"$f":"INDEX(B:B, SMALL(ROW(B$1:B$5000)+(5000*(B$1:B$5000=\"\")),ROW(A288)))&\"\"","v":""},"","","",null,null,{"$f":"INDEX(AH:AH,SMALL(ROW($AH$1:$AH$1999)+(1999*($AH$1:$AH$1999=\"\")), ROW(A288)))&\"\"","v":""},"","","","","","","","","","","","","","","","","","","","","","","","","","","","","","","",{"$f":"INDEX(AJ:AJ,SMALL(ROW($AJ$1:$AJ$1999)+(1999*($AJ$1:$AJ$1999=\"\")), ROW(A288)))&\"\"","v":""},"",{"$f":"INDEX(AK:AK,SMALL(ROW($AK$1:$AK$1999)+(1999*($AK$1:$AK$1999=\"\")), ROW(A288)))&\"\"","v":""},"","","",null,"",""]
[null,null,null,null,null,null,null,null,null,null,null,null,null,null,null,null,null,null,null,null,null,null,null,null,null,null,null,null,null,null,null,null,{"$f":"INDEX(C:C, SMALL(ROW(C$1:C$5000)+(5000*(C$1:C$5000=\"\")),ROW(A289)))&\"\"","v":""},"",{"$f":"INDEX(B:B, SMALL(ROW(B$1:B$5000)+(5000*(B$1:B$5000=\"\")),ROW(A289)))&\"\"","v":""},"","","",null,null,{"$f":"INDEX(AH:AH,SMALL(ROW($AH$1:$AH$1999)+(1999*($AH$1:$AH$1999=\"\")), ROW(A289)))&\"\"","v":""},"","","","","","","","","","","","","","","","","","","","","","","","","","","","","","","",{"$f":"INDEX(AJ:AJ,SMALL(ROW($AJ$1:$AJ$1999)+(1999*($AJ$1:$AJ$1999=\"\")), ROW(A289)))&\"\"","v":""},"",{"$f":"INDEX(AK:AK,SMALL(ROW($AK$1:$AK$1999)+(1999*($AK$1:$AK$1999=\"\")), ROW(A289)))&\"\"","v":""},"","","",null,"",""]
[null,null,null,null,null,null,null,null,null,null,null,null,null,null,null,null,null,null,null,null,null,null,null,null,null,null,null,null,null,null,null,null,{"$f":"INDEX(C:C, SMALL(ROW(C$1:C$5000)+(5000*(C$1:C$5000=\"\")),ROW(A290)))&\"\"","v":""},"",{"$f":"INDEX(B:B, SMALL(ROW(B$1:B$5000)+(5000*(B$1:B$5000=\"\")),ROW(A290)))&\"\"","v":""},"","","",null,null,{"$f":"INDEX(AH:AH,SMALL(ROW($AH$1:$AH$1999)+(1999*($AH$1:$AH$1999=\"\")), ROW(A290)))&\"\"","v":""},"","","","","","","","","","","","","","","","","","","","","","","","","","","","","","","",{"$f":"INDEX(AJ:AJ,SMALL(ROW($AJ$1:$AJ$1999)+(1999*($AJ$1:$AJ$1999=\"\")), ROW(A290)))&\"\"","v":""},"",{"$f":"INDEX(AK:AK,SMALL(ROW($AK$1:$AK$1999)+(1999*($AK$1:$AK$1999=\"\")), ROW(A290)))&\"\"","v":""},"","","",null,"",""]
[null,null,null,null,null,null,null,null,null,null,null,null,null,null,null,null,null,null,null,null,null,null,null,null,null,null,null,null,null,null,null,null,{"$f":"INDEX(C:C, SMALL(ROW(C$1:C$5000)+(5000*(C$1:C$5000=\"\")),ROW(A291)))&\"\"","v":""},"",{"$f":"INDEX(B:B, SMALL(ROW(B$1:B$5000)+(5000*(B$1:B$5000=\"\")),ROW(A291)))&\"\"","v":""},"","","",null,null,{"$f":"INDEX(AH:AH,SMALL(ROW($AH$1:$AH$1999)+(1999*($AH$1:$AH$1999=\"\")), ROW(A291)))&\"\"","v":""},"","","","","","","","","","","","","","","","","","","","","","","","","","","","","","","",{"$f":"INDEX(AJ:AJ,SMALL(ROW($AJ$1:$AJ$1999)+(1999*($AJ$1:$AJ$1999=\"\")), ROW(A291)))&\"\"","v":""},"",{"$f":"INDEX(AK:AK,SMALL(ROW($AK$1:$AK$1999)+(1999*($AK$1:$AK$1999=\"\")), ROW(A291)))&\"\"","v":""},"","","",null,"",""]
[null,null,null,null,null,null,null,null,null,null,null,null,null,null,null,null,null,null,null,null,null,null,null,null,null,null,null,null,null,null,null,null,{"$f":"INDEX(C:C, SMALL(ROW(C$1:C$5000)+(5000*(C$1:C$5000=\"\")),ROW(A292)))&\"\"","v":""},"",{"$f":"INDEX(B:B, SMALL(ROW(B$1:B$5000)+(5000*(B$1:B$5000=\"\")),ROW(A292)))&\"\"","v":""},"","","",null,null,{"$f":"INDEX(AH:AH,SMALL(ROW($AH$1:$AH$1999)+(1999*($AH$1:$AH$1999=\"\")), ROW(A292)))&\"\"","v":""},"","","","","","","","","","","","","","","","","","","","","","","","","","","","","","","",{"$f":"INDEX(AJ:AJ,SMALL(ROW($AJ$1:$AJ$1999)+(1999*($AJ$1:$AJ$1999=\"\")), ROW(A292)))&\"\"","v":""},"",{"$f":"INDEX(AK:AK,SMALL(ROW($AK$1:$AK$1999)+(1999*($AK$1:$AK$1999=\"\")), ROW(A292)))&\"\"","v":""},"","","",null,"",""]
[null,null,null,null,null,null,null,null,null,null,null,null,null,null,null,null,null,null,null,null,null,null,null,null,null,null,null,null,null,null,null,null,{"$f":"INDEX(C:C, SMALL(ROW(C$1:C$5000)+(5000*(C$1:C$5000=\"\")),ROW(A293)))&\"\"","v":""},"",{"$f":"INDEX(B:B, SMALL(ROW(B$1:B$5000)+(5000*(B$1:B$5000=\"\")),ROW(A293)))&\"\"","v":""},"","","",null,null,{"$f":"INDEX(AH:AH,SMALL(ROW($AH$1:$AH$1999)+(1999*($AH$1:$AH$1999=\"\")), ROW(A293)))&\"\"","v":""},"","","","","","","","","","","","","","","","","","","","","","","","","","","","","","","",{"$f":"INDEX(AJ:AJ,SMALL(ROW($AJ$1:$AJ$1999)+(1999*($AJ$1:$AJ$1999=\"\")), ROW(A293)))&\"\"","v":""},"",{"$f":"INDEX(AK:AK,SMALL(ROW($AK$1:$AK$1999)+(1999*($AK$1:$AK$1999=\"\")), ROW(A293)))&\"\"","v":""},"","","",null,"",""]
[null,null,null,null,null,null,null,null,null,null,null,null,null,null,null,null,null,null,null,null,null,null,null,null,null,null,null,null,null,null,null,null,{"$f":"INDEX(C:C, SMALL(ROW(C$1:C$5000)+(5000*(C$1:C$5000=\"\")),ROW(A294)))&\"\"","v":""},"",{"$f":"INDEX(B:B, SMALL(ROW(B$1:B$5000)+(5000*(B$1:B$5000=\"\")),ROW(A294)))&\"\"","v":""},"","","",null,null,{"$f":"INDEX(AH:AH,SMALL(ROW($AH$1:$AH$1999)+(1999*($AH$1:$AH$1999=\"\")), ROW(A294)))&\"\"","v":""},"","","","","","","","","","","","","","","","","","","","","","","","","","","","","","","",{"$f":"INDEX(AJ:AJ,SMALL(ROW($AJ$1:$AJ$1999)+(1999*($AJ$1:$AJ$1999=\"\")), ROW(A294)))&\"\"","v":""},"",{"$f":"INDEX(AK:AK,SMALL(ROW($AK$1:$AK$1999)+(1999*($AK$1:$AK$1999=\"\")), ROW(A294)))&\"\"","v":""},"","","",null,"",""]
[null,null,null,null,null,null,null,null,null,null,null,null,null,null,null,null,null,null,null,null,null,null,null,null,null,null,null,null,null,null,null,null,{"$f":"INDEX(C:C, SMALL(ROW(C$1:C$5000)+(5000*(C$1:C$5000=\"\")),ROW(A295)))&\"\"","v":""},"",{"$f":"INDEX(B:B, SMALL(ROW(B$1:B$5000)+(5000*(B$1:B$5000=\"\")),ROW(A295)))&\"\"","v":""},"","","",null,null,{"$f":"INDEX(AH:AH,SMALL(ROW($AH$1:$AH$1999)+(1999*($AH$1:$AH$1999=\"\")), ROW(A295)))&\"\"","v":""},"","","","","","","","","","","","","","","","","","","","","","","","","","","","","","","",{"$f":"INDEX(AJ:AJ,SMALL(ROW($AJ$1:$AJ$1999)+(1999*($AJ$1:$AJ$1999=\"\")), ROW(A295)))&\"\"","v":""},"",{"$f":"INDEX(AK:AK,SMALL(ROW($AK$1:$AK$1999)+(1999*($AK$1:$AK$1999=\"\")), ROW(A295)))&\"\"","v":""},"","","",null,"",""]
[null,null,null,null,null,null,null,null,null,null,null,null,null,null,null,null,null,null,null,null,null,null,null,null,null,null,null,null,null,null,null,null,{"$f":"INDEX(C:C, SMALL(ROW(C$1:C$5000)+(5000*(C$1:C$5000=\"\")),ROW(A296)))&\"\"","v":""},"",{"$f":"INDEX(B:B, SMALL(ROW(B$1:B$5000)+(5000*(B$1:B$5000=\"\")),ROW(A296)))&\"\"","v":""},"","","",null,null,{"$f":"INDEX(AH:AH,SMALL(ROW($AH$1:$AH$1999)+(1999*($AH$1:$AH$1999=\"\")), ROW(A296)))&\"\"","v":""},"","","","","","","","","","","","","","","","","","","","","","","","","","","","","","","",{"$f":"INDEX(AJ:AJ,SMALL(ROW($AJ$1:$AJ$1999)+(1999*($AJ$1:$AJ$1999=\"\")), ROW(A296)))&\"\"","v":""},"",{"$f":"INDEX(AK:AK,SMALL(ROW($AK$1:$AK$1999)+(1999*($AK$1:$AK$1999=\"\")), ROW(A296)))&\"\"","v":""},"","","",null,"",""]
[null,null,null,null,null,null,null,null,null,null,null,null,null,null,null,null,null,null,null,null,null,null,null,null,null,null,null,null,null,null,null,null,{"$f":"INDEX(C:C, SMALL(ROW(C$1:C$5000)+(5000*(C$1:C$5000=\"\")),ROW(A297)))&\"\"","v":""},"",{"$f":"INDEX(B:B, SMALL(ROW(B$1:B$5000)+(5000*(B$1:B$5000=\"\")),ROW(A297)))&\"\"","v":""},"","","",null,null,{"$f":"INDEX(AH:AH,SMALL(ROW($AH$1:$AH$1999)+(1999*($AH$1:$AH$1999=\"\")), ROW(A297)))&\"\"","v":""},"","","","","","","","","","","","","","","","","","","","","","","","","","","","","","","",{"$f":"INDEX(AJ:AJ,SMALL(ROW($AJ$1:$AJ$1999)+(1999*($AJ$1:$AJ$1999=\"\")), ROW(A297)))&\"\"","v":""},"",{"$f":"INDEX(AK:AK,SMALL(ROW($AK$1:$AK$1999)+(1999*($AK$1:$AK$1999=\"\")), ROW(A297)))&\"\"","v":""},"","","",null,"",""]
[null,null,null,null,null,null,null,null,null,null,null,null,null,null,null,null,null,null,null,null,null,null,null,null,null,null,null,null,null,null,null,null,{"$f":"INDEX(C:C, SMALL(ROW(C$1:C$5000)+(5000*(C$1:C$5000=\"\")),ROW(A298)))&\"\"","v":""},"",{"$f":"INDEX(B:B, SMALL(ROW(B$1:B$5000)+(5000*(B$1:B$5000=\"\")),ROW(A298)))&\"\"","v":""},"","","",null,null,{"$f":"INDEX(AH:AH,SMALL(ROW($AH$1:$AH$1999)+(1999*($AH$1:$AH$1999=\"\")), ROW(A298)))&\"\"","v":""},"","","","","","","","","","","","","","","","","","","","","","","","","","","","","","","",{"$f":"INDEX(AJ:AJ,SMALL(ROW($AJ$1:$AJ$1999)+(1999*($AJ$1:$AJ$1999=\"\")), ROW(A298)))&\"\"","v":""},"",{"$f":"INDEX(AK:AK,SMALL(ROW($AK$1:$AK$1999)+(1999*($AK$1:$AK$1999=\"\")), ROW(A298)))&\"\"","v":""},"","","",null,"",""]
[null,null,null,null,null,null,null,null,null,null,null,null,null,null,null,null,null,null,null,null,null,null,null,null,null,null,null,null,null,null,null,null,{"$f":"INDEX(C:C, SMALL(ROW(C$1:C$5000)+(5000*(C$1:C$5000=\"\")),ROW(A299)))&\"\"","v":""},"",{"$f":"INDEX(B:B, SMALL(ROW(B$1:B$5000)+(5000*(B$1:B$5000=\"\")),ROW(A299)))&\"\"","v":""},"","","",null,null,{"$f":"INDEX(AH:AH,SMALL(ROW($AH$1:$AH$1999)+(1999*($AH$1:$AH$1999=\"\")), ROW(A299)))&\"\"","v":""},"","","","","","","","","","","","","","","","","","","","","","","","","","","","","","","",{"$f":"INDEX(AJ:AJ,SMALL(ROW($AJ$1:$AJ$1999)+(1999*($AJ$1:$AJ$1999=\"\")), ROW(A299)))&\"\"","v":""},"",{"$f":"INDEX(AK:AK,SMALL(ROW($AK$1:$AK$1999)+(1999*($AK$1:$AK$1999=\"\")), ROW(A299)))&\"\"","v":""},"","","",null,"",""]
[null,null,null,null,null,null,null,null,null,null,null,null,null,null,null,null,null,null,null,null,null,null,null,null,null,null,null,null,null,null,null,null,{"$f":"INDEX(C:C, SMALL(ROW(C$1:C$5000)+(5000*(C$1:C$5000=\"\")),ROW(A300)))&\"\"","v":""},"",{"$f":"INDEX(B:B, SMALL(ROW(B$1:B$5000)+(5000*(B$1:B$5000=\"\")),ROW(A300)))&\"\"","v":""},"","","",null,null,{"$f":"INDEX(AH:AH,SMALL(ROW($AH$1:$AH$1999)+(1999*($AH$1:$AH$1999=\"\")), ROW(A300)))&\"\"","v":""},"","","","","","","","","","","","","","","","","","","","","","","","","","","","","","","",{"$f":"INDEX(AJ:AJ,SMALL(ROW($AJ$1:$AJ$1999)+(1999*($AJ$1:$AJ$1999=\"\")), ROW(A300)))&\"\"","v":""},"",{"$f":"INDEX(AK:AK,SMALL(ROW($AK$1:$AK$1999)+(1999*($AK$1:$AK$1999=\"\")), ROW(A300)))&\"\"","v":""},"","","",null,"",""]
[null,null,null,null,null,null,null,null,null,null,null,null,null,null,null,null,null,null,null,null,null,null,null,null,null,null,null,null,null,null,null,null,{"$f":"INDEX(C:C, SMALL(ROW(C$1:C$5000)+(5000*(C$1:C$5000=\"\")),ROW(A301)))&\"\"","v":""},"",{"$f":"INDEX(B:B, SMALL(ROW(B$1:B$5000)+(5000*(B$1:B$5000=\"\")),ROW(A301)))&\"\"","v":""},"","","",null,null,{"$f":"INDEX(AH:AH,SMALL(ROW($AH$1:$AH$1999)+(1999*($AH$1:$AH$1999=\"\")), ROW(A301)))&\"\"","v":""},"","","","","","","","","","","","","","","","","","","","","","","","","","","","","","","",{"$f":"INDEX(AJ:AJ,SMALL(ROW($AJ$1:$AJ$1999)+(1999*($AJ$1:$AJ$1999=\"\")), ROW(A301)))&\"\"","v":""},"",{"$f":"INDEX(AK:AK,SMALL(ROW($AK$1:$AK$1999)+(1999*($AK$1:$AK$1999=\"\")), ROW(A301)))&\"\"","v":""},"","","",null,"",""]
[null,null,null,null,null,null,null,null,null,null,null,null,null,null,null,null,null,null,null,null,null,null,null,null,null,null,null,null,null,null,null,null,{"$f":"INDEX(C:C, SMALL(ROW(C$1:C$5000)+(5000*(C$1:C$5000=\"\")),ROW(A302)))&\"\"","v":""},"",{"$f":"INDEX(B:B, SMALL(ROW(B$1:B$5000)+(5000*(B$1:B$5000=\"\")),ROW(A302)))&\"\"","v":""},"","","",null,null,{"$f":"INDEX(AH:AH,SMALL(ROW($AH$1:$AH$1999)+(1999*($AH$1:$AH$1999=\"\")), ROW(A302)))&\"\"","v":""},"","","","","","","","","","","","","","","","","","","","","","","","","","","","","","","",{"$f":"INDEX(AJ:AJ,SMALL(ROW($AJ$1:$AJ$1999)+(1999*($AJ$1:$AJ$1999=\"\")), ROW(A302)))&\"\"","v":""},"",{"$f":"INDEX(AK:AK,SMALL(ROW($AK$1:$AK$1999)+(1999*($AK$1:$AK$1999=\"\")), ROW(A302)))&\"\"","v":""},"","","",null,"",""]
[null,null,null,null,null,null,null,null,null,null,null,null,null,null,null,null,null,null,null,null,null,null,null,null,null,null,null,null,null,null,null,null,{"$f":"INDEX(C:C, SMALL(ROW(C$1:C$5000)+(5000*(C$1:C$5000=\"\")),ROW(A303)))&\"\"","v":""},"",{"$f":"INDEX(B:B, SMALL(ROW(B$1:B$5000)+(5000*(B$1:B$5000=\"\")),ROW(A303)))&\"\"","v":""},"","","",null,null,{"$f":"INDEX(AH:AH,SMALL(ROW($AH$1:$AH$1999)+(1999*($AH$1:$AH$1999=\"\")), ROW(A303)))&\"\"","v":""},"","","","","","","","","","","","","","","","","","","","","","","","","","","","","","","",{"$f":"INDEX(AJ:AJ,SMALL(ROW($AJ$1:$AJ$1999)+(1999*($AJ$1:$AJ$1999=\"\")), ROW(A303)))&\"\"","v":""},"",{"$f":"INDEX(AK:AK,SMALL(ROW($AK$1:$AK$1999)+(1999*($AK$1:$AK$1999=\"\")), ROW(A303)))&\"\"","v":""},"","","",null,"",""]
[null,null,null,null,null,null,null,null,null,null,null,null,null,null,null,null,null,null,null,null,null,null,null,null,null,null,null,null,null,null,null,null,{"$f":"INDEX(C:C, SMALL(ROW(C$1:C$5000)+(5000*(C$1:C$5000=\"\")),ROW(A304)))&\"\"","v":""},"",{"$f":"INDEX(B:B, SMALL(ROW(B$1:B$5000)+(5000*(B$1:B$5000=\"\")),ROW(A304)))&\"\"","v":""},"","","",null,null,{"$f":"INDEX(AH:AH,SMALL(ROW($AH$1:$AH$1999)+(1999*($AH$1:$AH$1999=\"\")), ROW(A304)))&\"\"","v":""},"","","","","","","","","","","","","","","","","","","","","","","","","","","","","","","",{"$f":"INDEX(AJ:AJ,SMALL(ROW($AJ$1:$AJ$1999)+(1999*($AJ$1:$AJ$1999=\"\")), ROW(A304)))&\"\"","v":""},"",{"$f":"INDEX(AK:AK,SMALL(ROW($AK$1:$AK$1999)+(1999*($AK$1:$AK$1999=\"\")), ROW(A304)))&\"\"","v":""},"","","",null,"",""]
[null,null,null,null,null,null,null,null,null,null,null,null,null,null,null,null,null,null,null,null,null,null,null,null,null,null,null,null,null,null,null,null,{"$f":"INDEX(C:C, SMALL(ROW(C$1:C$5000)+(5000*(C$1:C$5000=\"\")),ROW(A305)))&\"\"","v":""},"",{"$f":"INDEX(B:B, SMALL(ROW(B$1:B$5000)+(5000*(B$1:B$5000=\"\")),ROW(A305)))&\"\"","v":""},"","","",null,null,{"$f":"INDEX(AH:AH,SMALL(ROW($AH$1:$AH$1999)+(1999*($AH$1:$AH$1999=\"\")), ROW(A305)))&\"\"","v":""},"","","","","","","","","","","","","","","","","","","","","","","","","","","","","","","",{"$f":"INDEX(AJ:AJ,SMALL(ROW($AJ$1:$AJ$1999)+(1999*($AJ$1:$AJ$1999=\"\")), ROW(A305)))&\"\"","v":""},"",{"$f":"INDEX(AK:AK,SMALL(ROW($AK$1:$AK$1999)+(1999*($AK$1:$AK$1999=\"\")), ROW(A305)))&\"\"","v":""},"","","",null,"",""]
[null,null,null,null,null,null,null,null,null,null,null,null,null,null,null,null,null,null,null,null,null,null,null,null,null,null,null,null,null,null,null,null,{"$f":"INDEX(C:C, SMALL(ROW(C$1:C$5000)+(5000*(C$1:C$5000=\"\")),ROW(A306)))&\"\"","v":""},"",{"$f":"INDEX(B:B, SMALL(ROW(B$1:B$5000)+(5000*(B$1:B$5000=\"\")),ROW(A306)))&\"\"","v":""},"","","",null,null,{"$f":"INDEX(AH:AH,SMALL(ROW($AH$1:$AH$1999)+(1999*($AH$1:$AH$1999=\"\")), ROW(A306)))&\"\"","v":""},"","","","","","","","","","","","","","","","","","","","","","","","","","","","","","","",{"$f":"INDEX(AJ:AJ,SMALL(ROW($AJ$1:$AJ$1999)+(1999*($AJ$1:$AJ$1999=\"\")), ROW(A306)))&\"\"","v":""},"",{"$f":"INDEX(AK:AK,SMALL(ROW($AK$1:$AK$1999)+(1999*($AK$1:$AK$1999=\"\")), ROW(A306)))&\"\"","v":""},"","","",null,"",""]
[null,null,null,null,null,null,null,null,null,null,null,null,null,null,null,null,null,null,null,null,null,null,null,null,null,null,null,null,null,null,null,null,{"$f":"INDEX(C:C, SMALL(ROW(C$1:C$5000)+(5000*(C$1:C$5000=\"\")),ROW(A307)))&\"\"","v":""},"",{"$f":"INDEX(B:B, SMALL(ROW(B$1:B$5000)+(5000*(B$1:B$5000=\"\")),ROW(A307)))&\"\"","v":""},"","","",null,null,{"$f":"INDEX(AH:AH,SMALL(ROW($AH$1:$AH$1999)+(1999*($AH$1:$AH$1999=\"\")), ROW(A307)))&\"\"","v":""},"","","","","","","","","","","","","","","","","","","","","","","","","","","","","","","",{"$f":"INDEX(AJ:AJ,SMALL(ROW($AJ$1:$AJ$1999)+(1999*($AJ$1:$AJ$1999=\"\")), ROW(A307)))&\"\"","v":""},"",{"$f":"INDEX(AK:AK,SMALL(ROW($AK$1:$AK$1999)+(1999*($AK$1:$AK$1999=\"\")), ROW(A307)))&\"\"","v":""},"","","",null,"",""]
[null,null,null,null,null,null,null,null,null,null,null,null,null,null,null,null,null,null,null,null,null,null,null,null,null,null,null,null,null,null,null,null,{"$f":"INDEX(C:C, SMALL(ROW(C$1:C$5000)+(5000*(C$1:C$5000=\"\")),ROW(A308)))&\"\"","v":""},"",{"$f":"INDEX(B:B, SMALL(ROW(B$1:B$5000)+(5000*(B$1:B$5000=\"\")),ROW(A308)))&\"\"","v":""},"","","",null,null,{"$f":"INDEX(AH:AH,SMALL(ROW($AH$1:$AH$1999)+(1999*($AH$1:$AH$1999=\"\")), ROW(A308)))&\"\"","v":""},"","","","","","","","","","","","","","","","","","","","","","","","","","","","","","","",{"$f":"INDEX(AJ:AJ,SMALL(ROW($AJ$1:$AJ$1999)+(1999*($AJ$1:$AJ$1999=\"\")), ROW(A308)))&\"\"","v":""},"",{"$f":"INDEX(AK:AK,SMALL(ROW($AK$1:$AK$1999)+(1999*($AK$1:$AK$1999=\"\")), ROW(A308)))&\"\"","v":""},"","","",null,"",""]
[null,null,null,null,null,null,null,null,null,null,null,null,null,null,null,null,null,null,null,null,null,null,null,null,null,null,null,null,null,null,null,null,{"$f":"INDEX(C:C, SMALL(ROW(C$1:C$5000)+(5000*(C$1:C$5000=\"\")),ROW(A309)))&\"\"","v":""},"",{"$f":"INDEX(B:B, SMALL(ROW(B$1:B$5000)+(5000*(B$1:B$5000=\"\")),ROW(A309)))&\"\"","v":""},"","","",null,null,{"$f":"INDEX(AH:AH,SMALL(ROW($AH$1:$AH$1999)+(1999*($AH$1:$AH$1999=\"\")), ROW(A309)))&\"\"","v":""},"","","","","","","","","","","","","","","","","","","","","","","","","","","","","","","",{"$f":"INDEX(AJ:AJ,SMALL(ROW($AJ$1:$AJ$1999)+(1999*($AJ$1:$AJ$1999=\"\")), ROW(A309)))&\"\"","v":""},"",{"$f":"INDEX(AK:AK,SMALL(ROW($AK$1:$AK$1999)+(1999*($AK$1:$AK$1999=\"\")), ROW(A309)))&\"\"","v":""},"","","",null,"",""]
[null,null,null,null,null,null,null,null,null,null,null,null,null,null,null,null,null,null,null,null,null,null,null,null,null,null,null,null,null,null,null,null,{"$f":"INDEX(C:C, SMALL(ROW(C$1:C$5000)+(5000*(C$1:C$5000=\"\")),ROW(A310)))&\"\"","v":""},"",{"$f":"INDEX(B:B, SMALL(ROW(B$1:B$5000)+(5000*(B$1:B$5000=\"\")),ROW(A310)))&\"\"","v":""},"","","",null,null,{"$f":"INDEX(AH:AH,SMALL(ROW($AH$1:$AH$1999)+(1999*($AH$1:$AH$1999=\"\")), ROW(A310)))&\"\"","v":""},"","","","","","","","","","","","","","","","","","","","","","","","","","","","","","","",{"$f":"INDEX(AJ:AJ,SMALL(ROW($AJ$1:$AJ$1999)+(1999*($AJ$1:$AJ$1999=\"\")), ROW(A310)))&\"\"","v":""},"",{"$f":"INDEX(AK:AK,SMALL(ROW($AK$1:$AK$1999)+(1999*($AK$1:$AK$1999=\"\")), ROW(A310)))&\"\"","v":""},"","","",null,"",""]
[null,null,null,null,null,null,null,null,null,null,null,null,null,null,null,null,null,null,null,null,null,null,null,null,null,null,null,null,null,null,null,null,{"$f":"INDEX(C:C, SMALL(ROW(C$1:C$5000)+(5000*(C$1:C$5000=\"\")),ROW(A311)))&\"\"","v":""},"",{"$f":"INDEX(B:B, SMALL(ROW(B$1:B$5000)+(5000*(B$1:B$5000=\"\")),ROW(A311)))&\"\"","v":""},"","","",null,null,{"$f":"INDEX(AH:AH,SMALL(ROW($AH$1:$AH$1999)+(1999*($AH$1:$AH$1999=\"\")), ROW(A311)))&\"\"","v":""},"","","","","","","","","","","","","","","","","","","","","","","","","","","","","","","",{"$f":"INDEX(AJ:AJ,SMALL(ROW($AJ$1:$AJ$1999)+(1999*($AJ$1:$AJ$1999=\"\")), ROW(A311)))&\"\"","v":""},"",{"$f":"INDEX(AK:AK,SMALL(ROW($AK$1:$AK$1999)+(1999*($AK$1:$AK$1999=\"\")), ROW(A311)))&\"\"","v":""},"","","",null,"",""]
[null,null,null,null,null,null,null,null,null,null,null,null,null,null,null,null,null,null,null,null,null,null,null,null,null,null,null,null,null,null,null,null,{"$f":"INDEX(C:C, SMALL(ROW(C$1:C$5000)+(5000*(C$1:C$5000=\"\")),ROW(A312)))&\"\"","v":""},"",{"$f":"INDEX(B:B, SMALL(ROW(B$1:B$5000)+(5000*(B$1:B$5000=\"\")),ROW(A312)))&\"\"","v":""},"","","",null,null,{"$f":"INDEX(AH:AH,SMALL(ROW($AH$1:$AH$1999)+(1999*($AH$1:$AH$1999=\"\")), ROW(A312)))&\"\"","v":""},"","","","","","","","","","","","","","","","","","","","","","","","","","","","","","","",{"$f":"INDEX(AJ:AJ,SMALL(ROW($AJ$1:$AJ$1999)+(1999*($AJ$1:$AJ$1999=\"\")), ROW(A312)))&\"\"","v":""},"",{"$f":"INDEX(AK:AK,SMALL(ROW($AK$1:$AK$1999)+(1999*($AK$1:$AK$1999=\"\")), ROW(A312)))&\"\"","v":""},"","","",null,"",""]
[null,null,null,null,null,null,null,null,null,null,null,null,null,null,null,null,null,null,null,null,null,null,null,null,null,null,null,null,null,null,null,null,{"$f":"INDEX(C:C, SMALL(ROW(C$1:C$5000)+(5000*(C$1:C$5000=\"\")),ROW(A313)))&\"\"","v":""},"",{"$f":"INDEX(B:B, SMALL(ROW(B$1:B$5000)+(5000*(B$1:B$5000=\"\")),ROW(A313)))&\"\"","v":""},"","","",null,null,{"$f":"INDEX(AH:AH,SMALL(ROW($AH$1:$AH$1999)+(1999*($AH$1:$AH$1999=\"\")), ROW(A313)))&\"\"","v":""},"","","","","","","","","","","","","","","","","","","","","","","","","","","","","","","",{"$f":"INDEX(AJ:AJ,SMALL(ROW($AJ$1:$AJ$1999)+(1999*($AJ$1:$AJ$1999=\"\")), ROW(A313)))&\"\"","v":""},"",{"$f":"INDEX(AK:AK,SMALL(ROW($AK$1:$AK$1999)+(1999*($AK$1:$AK$1999=\"\")), ROW(A313)))&\"\"","v":""},"","","",null,"",""]
[null,null,null,null,null,null,null,null,null,null,null,null,null,null,null,null,null,null,null,null,null,null,null,null,null,null,null,null,null,null,null,null,{"$f":"INDEX(C:C, SMALL(ROW(C$1:C$5000)+(5000*(C$1:C$5000=\"\")),ROW(A314)))&\"\"","v":""},"",{"$f":"INDEX(B:B, SMALL(ROW(B$1:B$5000)+(5000*(B$1:B$5000=\"\")),ROW(A314)))&\"\"","v":""},"","","",null,null,{"$f":"INDEX(AH:AH,SMALL(ROW($AH$1:$AH$1999)+(1999*($AH$1:$AH$1999=\"\")), ROW(A314)))&\"\"","v":""},"","","","","","","","","","","","","","","","","","","","","","","","","","","","","","","",{"$f":"INDEX(AJ:AJ,SMALL(ROW($AJ$1:$AJ$1999)+(1999*($AJ$1:$AJ$1999=\"\")), ROW(A314)))&\"\"","v":""},"",{"$f":"INDEX(AK:AK,SMALL(ROW($AK$1:$AK$1999)+(1999*($AK$1:$AK$1999=\"\")), ROW(A314)))&\"\"","v":""},"","","",null,"",""]
[null,null,null,null,null,null,null,null,null,null,null,null,null,null,null,null,null,null,null,null,null,null,null,null,null,null,null,null,null,null,null,null,{"$f":"INDEX(C:C, SMALL(ROW(C$1:C$5000)+(5000*(C$1:C$5000=\"\")),ROW(A315)))&\"\"","v":""},"",{"$f":"INDEX(B:B, SMALL(ROW(B$1:B$5000)+(5000*(B$1:B$5000=\"\")),ROW(A315)))&\"\"","v":""},"","","",null,null,{"$f":"INDEX(AH:AH,SMALL(ROW($AH$1:$AH$1999)+(1999*($AH$1:$AH$1999=\"\")), ROW(A315)))&\"\"","v":""},"","","","","","","","","","","","","","","","","","","","","","","","","","","","","","","",{"$f":"INDEX(AJ:AJ,SMALL(ROW($AJ$1:$AJ$1999)+(1999*($AJ$1:$AJ$1999=\"\")), ROW(A315)))&\"\"","v":""},"",{"$f":"INDEX(AK:AK,SMALL(ROW($AK$1:$AK$1999)+(1999*($AK$1:$AK$1999=\"\")), ROW(A315)))&\"\"","v":""},"","","",null,"",""]
[null,null,null,null,null,null,null,null,null,null,null,null,null,null,null,null,null,null,null,null,null,null,null,null,null,null,null,null,null,null,null,null,{"$f":"INDEX(C:C, SMALL(ROW(C$1:C$5000)+(5000*(C$1:C$5000=\"\")),ROW(A316)))&\"\"","v":""},"",{"$f":"INDEX(B:B, SMALL(ROW(B$1:B$5000)+(5000*(B$1:B$5000=\"\")),ROW(A316)))&\"\"","v":""},"","","",null,null,{"$f":"INDEX(AH:AH,SMALL(ROW($AH$1:$AH$1999)+(1999*($AH$1:$AH$1999=\"\")), ROW(A316)))&\"\"","v":""},"","","","","","","","","","","","","","","","","","","","","","","","","","","","","","","",{"$f":"INDEX(AJ:AJ,SMALL(ROW($AJ$1:$AJ$1999)+(1999*($AJ$1:$AJ$1999=\"\")), ROW(A316)))&\"\"","v":""},"",{"$f":"INDEX(AK:AK,SMALL(ROW($AK$1:$AK$1999)+(1999*($AK$1:$AK$1999=\"\")), ROW(A316)))&\"\"","v":""},"","","",null,"",""]
[null,null,null,null,null,null,null,null,null,null,null,null,null,null,null,null,null,null,null,null,null,null,null,null,null,null,null,null,null,null,null,null,{"$f":"INDEX(C:C, SMALL(ROW(C$1:C$5000)+(5000*(C$1:C$5000=\"\")),ROW(A317)))&\"\"","v":""},"",{"$f":"INDEX(B:B, SMALL(ROW(B$1:B$5000)+(5000*(B$1:B$5000=\"\")),ROW(A317)))&\"\"","v":""},"","","",null,null,{"$f":"INDEX(AH:AH,SMALL(ROW($AH$1:$AH$1999)+(1999*($AH$1:$AH$1999=\"\")), ROW(A317)))&\"\"","v":""},"","","","","","","","","","","","","","","","","","","","","","","","","","","","","","","",{"$f":"INDEX(AJ:AJ,SMALL(ROW($AJ$1:$AJ$1999)+(1999*($AJ$1:$AJ$1999=\"\")), ROW(A317)))&\"\"","v":""},"",{"$f":"INDEX(AK:AK,SMALL(ROW($AK$1:$AK$1999)+(1999*($AK$1:$AK$1999=\"\")), ROW(A317)))&\"\"","v":""},"","","",null,"",""]
[null,null,null,null,null,null,null,null,null,null,null,null,null,null,null,null,null,null,null,null,null,null,null,null,null,null,null,null,null,null,null,null,{"$f":"INDEX(C:C, SMALL(ROW(C$1:C$5000)+(5000*(C$1:C$5000=\"\")),ROW(A318)))&\"\"","v":""},"",{"$f":"INDEX(B:B, SMALL(ROW(B$1:B$5000)+(5000*(B$1:B$5000=\"\")),ROW(A318)))&\"\"","v":""},"","","",null,null,{"$f":"INDEX(AH:AH,SMALL(ROW($AH$1:$AH$1999)+(1999*($AH$1:$AH$1999=\"\")), ROW(A318)))&\"\"","v":""},"","","","","","","","","","","","","","","","","","","","","","","","","","","","","","","",{"$f":"INDEX(AJ:AJ,SMALL(ROW($AJ$1:$AJ$1999)+(1999*($AJ$1:$AJ$1999=\"\")), ROW(A318)))&\"\"","v":""},"",{"$f":"INDEX(AK:AK,SMALL(ROW($AK$1:$AK$1999)+(1999*($AK$1:$AK$1999=\"\")), ROW(A318)))&\"\"","v":""},"","","",null,"",""]
[null,null,null,null,null,null,null,null,null,null,null,null,null,null,null,null,null,null,null,null,null,null,null,null,null,null,null,null,null,null,null,null,{"$f":"INDEX(C:C, SMALL(ROW(C$1:C$5000)+(5000*(C$1:C$5000=\"\")),ROW(A319)))&\"\"","v":""},"",{"$f":"INDEX(B:B, SMALL(ROW(B$1:B$5000)+(5000*(B$1:B$5000=\"\")),ROW(A319)))&\"\"","v":""},"","","",null,null,{"$f":"INDEX(AH:AH,SMALL(ROW($AH$1:$AH$1999)+(1999*($AH$1:$AH$1999=\"\")), ROW(A319)))&\"\"","v":""},"","","","","","","","","","","","","","","","","","","","","","","","","","","","","","","",{"$f":"INDEX(AJ:AJ,SMALL(ROW($AJ$1:$AJ$1999)+(1999*($AJ$1:$AJ$1999=\"\")), ROW(A319)))&\"\"","v":""},"",{"$f":"INDEX(AK:AK,SMALL(ROW($AK$1:$AK$1999)+(1999*($AK$1:$AK$1999=\"\")), ROW(A319)))&\"\"","v":""},"","","",null,"",""]
[null,null,null,null,null,null,null,null,null,null,null,null,null,null,null,null,null,null,null,null,null,null,null,null,null,null,null,null,null,null,null,null,{"$f":"INDEX(C:C, SMALL(ROW(C$1:C$5000)+(5000*(C$1:C$5000=\"\")),ROW(A320)))&\"\"","v":""},"",{"$f":"INDEX(B:B, SMALL(ROW(B$1:B$5000)+(5000*(B$1:B$5000=\"\")),ROW(A320)))&\"\"","v":""},"","","",null,null,{"$f":"INDEX(AH:AH,SMALL(ROW($AH$1:$AH$1999)+(1999*($AH$1:$AH$1999=\"\")), ROW(A320)))&\"\"","v":""},"","","","","","","","","","","","","","","","","","","","","","","","","","","","","","","",{"$f":"INDEX(AJ:AJ,SMALL(ROW($AJ$1:$AJ$1999)+(1999*($AJ$1:$AJ$1999=\"\")), ROW(A320)))&\"\"","v":""},"",{"$f":"INDEX(AK:AK,SMALL(ROW($AK$1:$AK$1999)+(1999*($AK$1:$AK$1999=\"\")), ROW(A320)))&\"\"","v":""},"","","",null,"",""]
[null,null,null,null,null,null,null,null,null,null,null,null,null,null,null,null,null,null,null,null,null,null,null,null,null,null,null,null,null,null,null,null,{"$f":"INDEX(C:C, SMALL(ROW(C$1:C$5000)+(5000*(C$1:C$5000=\"\")),ROW(A321)))&\"\"","v":""},{"$f":"IF(ISNUMBER(SEARCH(\"*,*\",AG321)),AG321,\"\")","v":""},{"$f":"INDEX(B:B, SMALL(ROW(B$1:B$5000)+(5000*(B$1:B$5000=\"\")),ROW(A321)))&\"\"","v":""},"","",{"$f":"IF(ISNUMBER(SEARCH(\"*Round*\",AI321)),AI321,\"\")","v":""},null,null,{"$f":"INDEX(AH:AH,SMALL(ROW($AH$1:$AH$1999)+(1999*($AH$1:$AH$1999=\"\")), ROW(A321)))&\"\"","v":""},"","","","","","","","","","","","","","","","","","","","","","","","","","","","","","","",{"$f":"INDEX(AJ:AJ,SMALL(ROW($AJ$1:$AJ$1999)+(1999*($AJ$1:$AJ$1999=\"\")), ROW(A321)))&\"\"","v":""},"",{"$f":"INDEX(AK:AK,SMALL(ROW($AK$1:$AK$1999)+(1999*($AK$1:$AK$1999=\"\")), ROW(A321)))&\"\"","v":""},"","","",null,"",""]
[null,null,null,null,null,null,null,null,null,null,null,null,null,null,null,null,null,null,null,null,null,null,null,null,null,null,null,null,null,null,null,null,{"$f":"INDEX(C:C, SMALL(ROW(C$1:C$5000)+(5000*(C$1:C$5000=\"\")),ROW(A322)))&\"\"","v":""},"",{"$f":"INDEX(B:B, SMALL(ROW(B$1:B$5000)+(5000*(B$1:B$5000=\"\")),ROW(A322)))&\"\"","v":""},{"$f":"IF(ISNUMBER(SEARCH(\"*years*\",AI322)),AI322,\"\")","v":""},{"$f":"IF(ISNUMBER(SEARCH(\"*, 19*\",AI322)),AI322,\"\")","v":""},"",null,null,{"$f":"INDEX(AH:AH,SMALL(ROW($AH$1:$AH$1999)+(1999*($AH$1:$AH$1999=\"\")), ROW(A322)))&\"\"","v":""},{"$f":"TRIM(TEXT(RIGHT(AO322,2),))","v":""},{"$f":"IF(ISNUMBER(SEARCH(\"*QB*\",AP322)),AO322,\"\")","v":""},{"$f":"IFERROR(IF(ISNUMBER(SEARCH(\"*QB*\",AQ322)),BV322,\"\"),VALUE(0))","v":""},{"$f":"IFERROR(IF(ISNUMBER(SEARCH(\"*QB*\",AQ322)),BX322,\"\"),VALUE(0))","v":""},{"$f":"IF(ISNUMBER(SEARCH(\"*RB*\",AP322)),AO322,\"\")","v":""},{"$f":"IFERROR(IF(ISNUMBER(SEARCH(\"*RB*\",AT322)),BV322,\"\"),VALUE(0))","v":""},{"$f":"IFERROR(IF(ISNUMBER(SEARCH(\"*RB*\",AT322)),BX322,\"\"),VALUE(0))","v":""},{"$f":"IF(ISNUMBER(SEARCH(\"*WR*\",AP322)),AO322,\"\")","v":""},{"$f":"IFERROR(IF(ISNUMBER(SEARCH(\"*WR*\",AW322)),BV322,\"\"),VALUE(0))","v":""},{"$f":"IFERROR(IF(ISNUMBER(SEARCH(\"*WR*\",AW322)),BX322,\"\"),VALUE(0))","v":""},{"$f":"IF(ISNUMBER(SEARCH(\"*TE*\",AP322)),AO322,\"\")","v":""},"",{"$f":"IFERROR(IF(ISNUMBER(SEARCH(\"*TE*\",AZ322)),BX322,\"\"),VALUE(0))","v":""},{"$f":"IF(ISNUMBER(SEARCH(\"*PK*\",AP322)),AO322,\"\")","v":""},{"$f":"IFERROR(IF(ISNUMBER(SEARCH(\"*PK*\",BC322)),BV322,\"\"),VALUE(0))","v":""},{"$f":"IFERROR(IF(ISNUMBER(SEARCH(\"*PK*\",BC322)),BX322,\"\"),VALUE(0))","v":""},{"$f":"IF(ISNUMBER(SEARCH(\"*DT*\",AP322)),AO322,\"\")","v":""},{"$f":"IFERROR(IF(ISNUMBER(SEARCH(\"*DT*\",BF322)),BV322,\"\"),VALUE(0))","v":""},{"$f":"IFERROR(IF(ISNUMBER(SEARCH(\"*DT*\",BF322)),BX322,\"\"),VALUE(0))","v":""},{"$f":"IF(ISNUMBER(SEARCH(\"*DE*\",AP322)),AO322,\"\")","v":""},{"$f":"IFERROR(IF(ISNUMBER(SEARCH(\"*DE*\",BI322)),BV322,\"\"),VALUE(0))","v":""},{"$f":"IFERROR(IF(ISNUMBER(SEARCH(\"*DE*\",BI322)),BX322,\"\"),VALUE(0))","v":""},{"$f":"IF(ISNUMBER(SEARCH(\"*LB*\",AP322)),AO322,\"\")","v":""},{"$f":"IFERROR(IF(ISNUMBER(SEARCH(\"*LB*\",BL322)),BV322,\"\"),VALUE(0))","v":""},{"$f":"IFERROR(IF(ISNUMBER(SEARCH(\"*LB*\",BL322)),BX322,\"\"),VALUE(0))","v":""},{"$f":"IF(ISNUMBER(SEARCH(\"*CB*\",AP322)),AO322,\"\")","v":""},{"$f":"IFERROR(IF(ISNUMBER(SEARCH(\"*CB*\",BO322)),BV322,\"\"),VALUE(0))","v":""},{"$f":"IFERROR(IF(ISNUMBER(SEARCH(\"*CB*\",BO322)),BX322,\"\"),VALUE(0))","v":""},{"$f":"IF(ISNUMBER(SEARCH(\"*S*\",AP322)),AO322,\"\")","v":""},{"$f":"IFERROR(IF(ISNUMBER(SEARCH(\"*S*\",BR322)),BV322,\"\"),VALUE(0))","v":""},{"$f":"IFERROR(IF(ISNUMBER(SEARCH(\"*S*\",BR322)),BX322,\"\"),VALUE(0))","v":""},{"$f":"INDEX(AJ:AJ,SMALL(ROW($AJ$1:$AJ$1999)+(1999*($AJ$1:$AJ$1999=\"\")), ROW(A322)))&\"\"","v":""},{"$f":"IFERROR(IF(BW322<>\"\",VALUE(LEFT(BU322,LEN(BU322)-6)),\"\"),VALUE(0))","v":""},{"$f":"INDEX(AK:AK,SMALL(ROW($AK$1:$AK$1999)+(1999*($AK$1:$AK$1999=\"\")), ROW(A322)))&\"\"","v":""},{"$f":"IF(BW322<>\"\",VALUE(RIGHT(BW322,2)),\"\")","v":""},{"$f":"IF(BX322=\"\",\"\",IF(BX322>27,1,0))","v":""},{"$f":"IF(BX322=\"\",\"\",IF(BX322<27,1,0))","v":""},null,{"$f":"IF(BV322=\"\",\"\",IF(BV322>3.5,1,0))","v":""},{"$f":"IF(BV322=\"\",\"\",IF(BV322<3.5,1,0))","v":""}]
[null,null,null,null,null,null,null,null,null,null,null,null,null,null,null,null,null,null,null,null,null,null,null,null,null,null,null,null,null,null,null,null,{"$f":"INDEX(C:C, SMALL(ROW(C$1:C$5000)+(5000*(C$1:C$5000=\"\")),ROW(A323)))&\"\"","v":""},"",{"$f":"INDEX(B:B, SMALL(ROW(B$1:B$5000)+(5000*(B$1:B$5000=\"\")),ROW(A323)))&\"\"","v":""},"","","",null,null,{"$f":"INDEX(AH:AH,SMALL(ROW($AH$1:$AH$1999)+(1999*($AH$1:$AH$1999=\"\")), ROW(A323)))&\"\"","v":""},"","","","","","","","","","","","","","","","","","","","","","","","","","","","","","","",{"$f":"INDEX(AJ:AJ,SMALL(ROW($AJ$1:$AJ$1999)+(1999*($AJ$1:$AJ$1999=\"\")), ROW(A323)))&\"\"","v":""},"",{"$f":"INDEX(AK:AK,SMALL(ROW($AK$1:$AK$1999)+(1999*($AK$1:$AK$1999=\"\")), ROW(A323)))&\"\"","v":""},"","","",null,"",""]
[null,null,null,null,null,null,null,null,null,null,null,null,null,null,null,null,null,null,null,null,null,null,null,null,null,null,null,null,null,null,null,null,{"$f":"INDEX(C:C, SMALL(ROW(C$1:C$5000)+(5000*(C$1:C$5000=\"\")),ROW(A324)))&\"\"","v":""},"",{"$f":"INDEX(B:B, SMALL(ROW(B$1:B$5000)+(5000*(B$1:B$5000=\"\")),ROW(A324)))&\"\"","v":""},"","","",null,null,{"$f":"INDEX(AH:AH,SMALL(ROW($AH$1:$AH$1999)+(1999*($AH$1:$AH$1999=\"\")), ROW(A324)))&\"\"","v":""},"","","","","","","","","","","","","","","","","","","","","","","","","","","","","","","",{"$f":"INDEX(AJ:AJ,SMALL(ROW($AJ$1:$AJ$1999)+(1999*($AJ$1:$AJ$1999=\"\")), ROW(A324)))&\"\"","v":""},"",{"$f":"INDEX(AK:AK,SMALL(ROW($AK$1:$AK$1999)+(1999*($AK$1:$AK$1999=\"\")), ROW(A324)))&\"\"","v":""},"","","",null,"",""]
[null,null,null,null,null,null,null,null,null,null,null,null,null,null,null,null,null,null,null,null,null,null,null,null,null,null,null,null,null,null,null,null,{"$f":"INDEX(C:C, SMALL(ROW(C$1:C$5000)+(5000*(C$1:C$5000=\"\")),ROW(A325)))&\"\"","v":""},"",{"$f":"INDEX(B:B, SMALL(ROW(B$1:B$5000)+(5000*(B$1:B$5000=\"\")),ROW(A325)))&\"\"","v":""},"","","",null,null,{"$f":"INDEX(AH:AH,SMALL(ROW($AH$1:$AH$1999)+(1999*($AH$1:$AH$1999=\"\")), ROW(A325)))&\"\"","v":""},"","","","","","","","","","","","","","","","","","","","","","","","","","","","","","","",{"$f":"INDEX(AJ:AJ,SMALL(ROW($AJ$1:$AJ$1999)+(1999*($AJ$1:$AJ$1999=\"\")), ROW(A325)))&\"\"","v":""},"",{"$f":"INDEX(AK:AK,SMALL(ROW($AK$1:$AK$1999)+(1999*($AK$1:$AK$1999=\"\")), ROW(A325)))&\"\"","v":""},"","","",null,"",""]
[null,null,null,null,null,null,null,null,null,null,null,null,null,null,null,null,null,null,null,null,null,null,null,null,null,null,null,null,null,null,null,null,{"$f":"INDEX(C:C, SMALL(ROW(C$1:C$5000)+(5000*(C$1:C$5000=\"\")),ROW(A326)))&\"\"","v":""},"",{"$f":"INDEX(B:B, SMALL(ROW(B$1:B$5000)+(5000*(B$1:B$5000=\"\")),ROW(A326)))&\"\"","v":""},"","","",null,null,{"$f":"INDEX(AH:AH,SMALL(ROW($AH$1:$AH$1999)+(1999*($AH$1:$AH$1999=\"\")), ROW(A326)))&\"\"","v":""},"","","","","","","","","","","","","","","","","","","","","","","","","","","","","","","",{"$f":"INDEX(AJ:AJ,SMALL(ROW($AJ$1:$AJ$1999)+(1999*($AJ$1:$AJ$1999=\"\")), ROW(A326)))&\"\"","v":""},"",{"$f":"INDEX(AK:AK,SMALL(ROW($AK$1:$AK$1999)+(1999*($AK$1:$AK$1999=\"\")), ROW(A326)))&\"\"","v":""},"","","",null,"",""]
[null,null,null,null,null,null,null,null,null,null,null,null,null,null,null,null,null,null,null,null,null,null,null,null,null,null,null,null,null,null,null,null,{"$f":"INDEX(C:C, SMALL(ROW(C$1:C$5000)+(5000*(C$1:C$5000=\"\")),ROW(A327)))&\"\"","v":""},"",{"$f":"INDEX(B:B, SMALL(ROW(B$1:B$5000)+(5000*(B$1:B$5000=\"\")),ROW(A327)))&\"\"","v":""},"","","",null,null,{"$f":"INDEX(AH:AH,SMALL(ROW($AH$1:$AH$1999)+(1999*($AH$1:$AH$1999=\"\")), ROW(A327)))&\"\"","v":""},"","","","","","","","","","","","","","","","","","","","","","","","","","","","","","","",{"$f":"INDEX(AJ:AJ,SMALL(ROW($AJ$1:$AJ$1999)+(1999*($AJ$1:$AJ$1999=\"\")), ROW(A327)))&\"\"","v":""},"",{"$f":"INDEX(AK:AK,SMALL(ROW($AK$1:$AK$1999)+(1999*($AK$1:$AK$1999=\"\")), ROW(A327)))&\"\"","v":""},"","","",null,"",""]
[null,null,null,null,null,null,null,null,null,null,null,null,null,null,null,null,null,null,null,null,null,null,null,null,null,null,null,null,null,null,null,null,{"$f":"INDEX(C:C, SMALL(ROW(C$1:C$5000)+(5000*(C$1:C$5000=\"\")),ROW(A328)))&\"\"","v":""},"",{"$f":"INDEX(B:B, SMALL(ROW(B$1:B$5000)+(5000*(B$1:B$5000=\"\")),ROW(A328)))&\"\"","v":""},"","","",null,null,{"$f":"INDEX(AH:AH,SMALL(ROW($AH$1:$AH$1999)+(1999*($AH$1:$AH$1999=\"\")), ROW(A328)))&\"\"","v":""},"","","","","","","","","","","","","","","","","","","","","","","","","","","","","","","",{"$f":"INDEX(AJ:AJ,SMALL(ROW($AJ$1:$AJ$1999)+(1999*($AJ$1:$AJ$1999=\"\")), ROW(A328)))&\"\"","v":""},"",{"$f":"INDEX(AK:AK,SMALL(ROW($AK$1:$AK$1999)+(1999*($AK$1:$AK$1999=\"\")), ROW(A328)))&\"\"","v":""},"","","",null,"",""]
[null,null,null,null,null,null,null,null,null,null,null,null,null,null,null,null,null,null,null,null,null,null,null,null,null,null,null,null,null,null,null,null,{"$f":"INDEX(C:C, SMALL(ROW(C$1:C$5000)+(5000*(C$1:C$5000=\"\")),ROW(A329)))&\"\"","v":""},"",{"$f":"INDEX(B:B, SMALL(ROW(B$1:B$5000)+(5000*(B$1:B$5000=\"\")),ROW(A329)))&\"\"","v":""},"","","",null,null,{"$f":"INDEX(AH:AH,SMALL(ROW($AH$1:$AH$1999)+(1999*($AH$1:$AH$1999=\"\")), ROW(A329)))&\"\"","v":""},"","","","","","","","","","","","","","","","","","","","","","","","","","","","","","","",{"$f":"INDEX(AJ:AJ,SMALL(ROW($AJ$1:$AJ$1999)+(1999*($AJ$1:$AJ$1999=\"\")), ROW(A329)))&\"\"","v":""},"",{"$f":"INDEX(AK:AK,SMALL(ROW($AK$1:$AK$1999)+(1999*($AK$1:$AK$1999=\"\")), ROW(A329)))&\"\"","v":""},"","","",null,"",""]
[null,null,null,null,null,null,null,null,null,null,null,null,null,null,null,null,null,null,null,null,null,null,null,null,null,null,null,null,null,null,null,null,{"$f":"INDEX(C:C, SMALL(ROW(C$1:C$5000)+(5000*(C$1:C$5000=\"\")),ROW(A330)))&\"\"","v":""},"",{"$f":"INDEX(B:B, SMALL(ROW(B$1:B$5000)+(5000*(B$1:B$5000=\"\")),ROW(A330)))&\"\"","v":""},"","","",null,null,{"$f":"INDEX(AH:AH,SMALL(ROW($AH$1:$AH$1999)+(1999*($AH$1:$AH$1999=\"\")), ROW(A330)))&\"\"","v":""},"","","","","","","","","","","","","","","","","","","","","","","","","","","","","","","",{"$f":"INDEX(AJ:AJ,SMALL(ROW($AJ$1:$AJ$1999)+(1999*($AJ$1:$AJ$1999=\"\")), ROW(A330)))&\"\"","v":""},"",{"$f":"INDEX(AK:AK,SMALL(ROW($AK$1:$AK$1999)+(1999*($AK$1:$AK$1999=\"\")), ROW(A330)))&\"\"","v":""},"","","",null,"",""]
[null,null,null,null,null,null,null,null,null,null,null,null,null,null,null,null,null,null,null,null,null,null,null,null,null,null,null,null,null,null,null,null,{"$f":"INDEX(C:C, SMALL(ROW(C$1:C$5000)+(5000*(C$1:C$5000=\"\")),ROW(A331)))&\"\"","v":""},"",{"$f":"INDEX(B:B, SMALL(ROW(B$1:B$5000)+(5000*(B$1:B$5000=\"\")),ROW(A331)))&\"\"","v":""},"","","",null,null,{"$f":"INDEX(AH:AH,SMALL(ROW($AH$1:$AH$1999)+(1999*($AH$1:$AH$1999=\"\")), ROW(A331)))&\"\"","v":""},"","","","","","","","","","","","","","","","","","","","","","","","","","","","","","","",{"$f":"INDEX(AJ:AJ,SMALL(ROW($AJ$1:$AJ$1999)+(1999*($AJ$1:$AJ$1999=\"\")), ROW(A331)))&\"\"","v":""},"",{"$f":"INDEX(AK:AK,SMALL(ROW($AK$1:$AK$1999)+(1999*($AK$1:$AK$1999=\"\")), ROW(A331)))&\"\"","v":""},"","","",null,"",""]
[null,null,null,null,null,null,null,null,null,null,null,null,null,null,null,null,null,null,null,null,null,null,null,null,null,null,null,null,null,null,null,null,{"$f":"INDEX(C:C, SMALL(ROW(C$1:C$5000)+(5000*(C$1:C$5000=\"\")),ROW(A332)))&\"\"","v":""},"",{"$f":"INDEX(B:B, SMALL(ROW(B$1:B$5000)+(5000*(B$1:B$5000=\"\")),ROW(A332)))&\"\"","v":""},"","","",null,null,{"$f":"INDEX(AH:AH,SMALL(ROW($AH$1:$AH$1999)+(1999*($AH$1:$AH$1999=\"\")), ROW(A332)))&\"\"","v":""},"","","","","","","","","","","","","","","","","","","","","","","","","","","","","","","",{"$f":"INDEX(AJ:AJ,SMALL(ROW($AJ$1:$AJ$1999)+(1999*($AJ$1:$AJ$1999=\"\")), ROW(A332)))&\"\"","v":""},"",{"$f":"INDEX(AK:AK,SMALL(ROW($AK$1:$AK$1999)+(1999*($AK$1:$AK$1999=\"\")), ROW(A332)))&\"\"","v":""},"","","",null,"",""]
[null,null,null,null,null,null,null,null,null,null,null,null,null,null,null,null,null,null,null,null,null,null,null,null,null,null,null,null,null,null,null,null,{"$f":"INDEX(C:C, SMALL(ROW(C$1:C$5000)+(5000*(C$1:C$5000=\"\")),ROW(A333)))&\"\"","v":""},"",{"$f":"INDEX(B:B, SMALL(ROW(B$1:B$5000)+(5000*(B$1:B$5000=\"\")),ROW(A333)))&\"\"","v":""},"","","",null,null,{"$f":"INDEX(AH:AH,SMALL(ROW($AH$1:$AH$1999)+(1999*($AH$1:$AH$1999=\"\")), ROW(A333)))&\"\"","v":""},"","","","","","","","","","","","","","","","","","","","","","","","","","","","","","","",{"$f":"INDEX(AJ:AJ,SMALL(ROW($AJ$1:$AJ$1999)+(1999*($AJ$1:$AJ$1999=\"\")), ROW(A333)))&\"\"","v":""},"",{"$f":"INDEX(AK:AK,SMALL(ROW($AK$1:$AK$1999)+(1999*($AK$1:$AK$1999=\"\")), ROW(A333)))&\"\"","v":""},"","","",null,"",""]
[null,null,null,null,null,null,null,null,null,null,null,null,null,null,null,null,null,null,null,null,null,null,null,null,null,null,null,null,null,null,null,null,{"$f":"INDEX(C:C, SMALL(ROW(C$1:C$5000)+(5000*(C$1:C$5000=\"\")),ROW(A334)))&\"\"","v":""},"",{"$f":"INDEX(B:B, SMALL(ROW(B$1:B$5000)+(5000*(B$1:B$5000=\"\")),ROW(A334)))&\"\"","v":""},"","","",null,null,{"$f":"INDEX(AH:AH,SMALL(ROW($AH$1:$AH$1999)+(1999*($AH$1:$AH$1999=\"\")), ROW(A334)))&\"\"","v":""},"","","","","","","","","","","","","","","","","","","","","","","","","","","","","","","",{"$f":"INDEX(AJ:AJ,SMALL(ROW($AJ$1:$AJ$1999)+(1999*($AJ$1:$AJ$1999=\"\")), ROW(A334)))&\"\"","v":""},"",{"$f":"INDEX(AK:AK,SMALL(ROW($AK$1:$AK$1999)+(1999*($AK$1:$AK$1999=\"\")), ROW(A334)))&\"\"","v":""},"","","",null,"",""]
[null,null,null,null,null,null,null,null,null,null,null,null,null,null,null,null,null,null,null,null,null,null,null,null,null,null,null,null,null,null,null,null,{"$f":"INDEX(C:C, SMALL(ROW(C$1:C$5000)+(5000*(C$1:C$5000=\"\")),ROW(A335)))&\"\"","v":""},"",{"$f":"INDEX(B:B, SMALL(ROW(B$1:B$5000)+(5000*(B$1:B$5000=\"\")),ROW(A335)))&\"\"","v":""},"","","",null,null,{"$f":"INDEX(AH:AH,SMALL(ROW($AH$1:$AH$1999)+(1999*($AH$1:$AH$1999=\"\")), ROW(A335)))&\"\"","v":""},"","","","","","","","","","","","","","","","","","","","","","","","","","","","","","","",{"$f":"INDEX(AJ:AJ,SMALL(ROW($AJ$1:$AJ$1999)+(1999*($AJ$1:$AJ$1999=\"\")), ROW(A335)))&\"\"","v":""},"",{"$f":"INDEX(AK:AK,SMALL(ROW($AK$1:$AK$1999)+(1999*($AK$1:$AK$1999=\"\")), ROW(A335)))&\"\"","v":""},"","","",null,"",""]
[null,null,null,null,null,null,null,null,null,null,null,null,null,null,null,null,null,null,null,null,null,null,null,null,null,null,null,null,null,null,null,null,{"$f":"INDEX(C:C, SMALL(ROW(C$1:C$5000)+(5000*(C$1:C$5000=\"\")),ROW(A336)))&\"\"","v":""},"",{"$f":"INDEX(B:B, SMALL(ROW(B$1:B$5000)+(5000*(B$1:B$5000=\"\")),ROW(A336)))&\"\"","v":""},"","","",null,null,{"$f":"INDEX(AH:AH,SMALL(ROW($AH$1:$AH$1999)+(1999*($AH$1:$AH$1999=\"\")), ROW(A336)))&\"\"","v":""},"","","","","","","","","","","","","","","","","","","","","","","","","","","","","","","",{"$f":"INDEX(AJ:AJ,SMALL(ROW($AJ$1:$AJ$1999)+(1999*($AJ$1:$AJ$1999=\"\")), ROW(A336)))&\"\"","v":""},"",{"$f":"INDEX(AK:AK,SMALL(ROW($AK$1:$AK$1999)+(1999*($AK$1:$AK$1999=\"\")), ROW(A336)))&\"\"","v":""},"","","",null,"",""]
[null,null,null,null,null,null,null,null,null,null,null,null,null,null,null,null,null,null,null,null,null,null,null,null,null,null,null,null,null,null,null,null,{"$f":"INDEX(C:C, SMALL(ROW(C$1:C$5000)+(5000*(C$1:C$5000=\"\")),ROW(A337)))&\"\"","v":""},"",{"$f":"INDEX(B:B, SMALL(ROW(B$1:B$5000)+(5000*(B$1:B$5000=\"\")),ROW(A337)))&\"\"","v":""},"","","",null,null,{"$f":"INDEX(AH:AH,SMALL(ROW($AH$1:$AH$1999)+(1999*($AH$1:$AH$1999=\"\")), ROW(A337)))&\"\"","v":""},"","","","","","","","","","","","","","","","","","","","","","","","","","","","","","","",{"$f":"INDEX(AJ:AJ,SMALL(ROW($AJ$1:$AJ$1999)+(1999*($AJ$1:$AJ$1999=\"\")), ROW(A337)))&\"\"","v":""},"",{"$f":"INDEX(AK:AK,SMALL(ROW($AK$1:$AK$1999)+(1999*($AK$1:$AK$1999=\"\")), ROW(A337)))&\"\"","v":""},"","","",null,"",""]
[null,null,null,null,null,null,null,null,null,null,null,null,null,null,null,null,null,null,null,null,null,null,null,null,null,null,null,null,null,null,null,null,{"$f":"INDEX(C:C, SMALL(ROW(C$1:C$5000)+(5000*(C$1:C$5000=\"\")),ROW(A338)))&\"\"","v":""},"",{"$f":"INDEX(B:B, SMALL(ROW(B$1:B$5000)+(5000*(B$1:B$5000=\"\")),ROW(A338)))&\"\"","v":""},"","","",null,null,{"$f":"INDEX(AH:AH,SMALL(ROW($AH$1:$AH$1999)+(1999*($AH$1:$AH$1999=\"\")), ROW(A338)))&\"\"","v":""},"","","","","","","","","","","","","","","","","","","","","","","","","","","","","","","",{"$f":"INDEX(AJ:AJ,SMALL(ROW($AJ$1:$AJ$1999)+(1999*($AJ$1:$AJ$1999=\"\")), ROW(A338)))&\"\"","v":""},"",{"$f":"INDEX(AK:AK,SMALL(ROW($AK$1:$AK$1999)+(1999*($AK$1:$AK$1999=\"\")), ROW(A338)))&\"\"","v":""},"","","",null,"",""]
[null,null,null,null,null,null,null,null,null,null,null,null,null,null,null,null,null,null,null,null,null,null,null,null,null,null,null,null,null,null,null,null,{"$f":"INDEX(C:C, SMALL(ROW(C$1:C$5000)+(5000*(C$1:C$5000=\"\")),ROW(A339)))&\"\"","v":""},"",{"$f":"INDEX(B:B, SMALL(ROW(B$1:B$5000)+(5000*(B$1:B$5000=\"\")),ROW(A339)))&\"\"","v":""},"","","",null,null,{"$f":"INDEX(AH:AH,SMALL(ROW($AH$1:$AH$1999)+(1999*($AH$1:$AH$1999=\"\")), ROW(A339)))&\"\"","v":""},"","","","","","","","","","","","","","","","","","","","","","","","","","","","","","","",{"$f":"INDEX(AJ:AJ,SMALL(ROW($AJ$1:$AJ$1999)+(1999*($AJ$1:$AJ$1999=\"\")), ROW(A339)))&\"\"","v":""},"",{"$f":"INDEX(AK:AK,SMALL(ROW($AK$1:$AK$1999)+(1999*($AK$1:$AK$1999=\"\")), ROW(A339)))&\"\"","v":""},"","","",null,"",""]
[null,null,null,null,null,null,null,null,null,null,null,null,null,null,null,null,null,null,null,null,null,null,null,null,null,null,null,null,null,null,null,null,{"$f":"INDEX(C:C, SMALL(ROW(C$1:C$5000)+(5000*(C$1:C$5000=\"\")),ROW(A340)))&\"\"","v":""},"",{"$f":"INDEX(B:B, SMALL(ROW(B$1:B$5000)+(5000*(B$1:B$5000=\"\")),ROW(A340)))&\"\"","v":""},"","","",null,null,{"$f":"INDEX(AH:AH,SMALL(ROW($AH$1:$AH$1999)+(1999*($AH$1:$AH$1999=\"\")), ROW(A340)))&\"\"","v":""},"","","","","","","","","","","","","","","","","","","","","","","","","","","","","","","",{"$f":"INDEX(AJ:AJ,SMALL(ROW($AJ$1:$AJ$1999)+(1999*($AJ$1:$AJ$1999=\"\")), ROW(A340)))&\"\"","v":""},"",{"$f":"INDEX(AK:AK,SMALL(ROW($AK$1:$AK$1999)+(1999*($AK$1:$AK$1999=\"\")), ROW(A340)))&\"\"","v":""},"","","",null,"",""]
[null,null,null,null,null,null,null,null,null,null,null,null,null,null,null,null,null,null,null,null,null,null,null,null,null,null,null,null,null,null,null,null,{"$f":"INDEX(C:C, SMALL(ROW(C$1:C$5000)+(5000*(C$1:C$5000=\"\")),ROW(A341)))&\"\"","v":""},"",{"$f":"INDEX(B:B, SMALL(ROW(B$1:B$5000)+(5000*(B$1:B$5000=\"\")),ROW(A341)))&\"\"","v":""},"","","",null,null,{"$f":"INDEX(AH:AH,SMALL(ROW($AH$1:$AH$1999)+(1999*($AH$1:$AH$1999=\"\")), ROW(A341)))&\"\"","v":""},"","","","","","","","","","","","","","","","","","","","","","","","","","","","","","","",{"$f":"INDEX(AJ:AJ,SMALL(ROW($AJ$1:$AJ$1999)+(1999*($AJ$1:$AJ$1999=\"\")), ROW(A341)))&\"\"","v":""},"",{"$f":"INDEX(AK:AK,SMALL(ROW($AK$1:$AK$1999)+(1999*($AK$1:$AK$1999=\"\")), ROW(A341)))&\"\"","v":""},"","","",null,"",""]
[null,null,null,null,null,null,null,null,null,null,null,null,null,null,null,null,null,null,null,null,null,null,null,null,null,null,null,null,null,null,null,null,{"$f":"INDEX(C:C, SMALL(ROW(C$1:C$5000)+(5000*(C$1:C$5000=\"\")),ROW(A342)))&\"\"","v":""},"",{"$f":"INDEX(B:B, SMALL(ROW(B$1:B$5000)+(5000*(B$1:B$5000=\"\")),ROW(A342)))&\"\"","v":""},"","","",null,null,{"$f":"INDEX(AH:AH,SMALL(ROW($AH$1:$AH$1999)+(1999*($AH$1:$AH$1999=\"\")), ROW(A342)))&\"\"","v":""},"","","","","","","","","","","","","","","","","","","","","","","","","","","","","","","",{"$f":"INDEX(AJ:AJ,SMALL(ROW($AJ$1:$AJ$1999)+(1999*($AJ$1:$AJ$1999=\"\")), ROW(A342)))&\"\"","v":""},"",{"$f":"INDEX(AK:AK,SMALL(ROW($AK$1:$AK$1999)+(1999*($AK$1:$AK$1999=\"\")), ROW(A342)))&\"\"","v":""},"","","",null,"",""]
[null,null,null,null,null,null,null,null,null,null,null,null,null,null,null,null,null,null,null,null,null,null,null,null,null,null,null,null,null,null,null,null,{"$f":"INDEX(C:C, SMALL(ROW(C$1:C$5000)+(5000*(C$1:C$5000=\"\")),ROW(A343)))&\"\"","v":""},"",{"$f":"INDEX(B:B, SMALL(ROW(B$1:B$5000)+(5000*(B$1:B$5000=\"\")),ROW(A343)))&\"\"","v":""},"","","",null,null,{"$f":"INDEX(AH:AH,SMALL(ROW($AH$1:$AH$1999)+(1999*($AH$1:$AH$1999=\"\")), ROW(A343)))&\"\"","v":""},"","","","","","","","","","","","","","","","","","","","","","","","","","","","","","","",{"$f":"INDEX(AJ:AJ,SMALL(ROW($AJ$1:$AJ$1999)+(1999*($AJ$1:$AJ$1999=\"\")), ROW(A343)))&\"\"","v":""},"",{"$f":"INDEX(AK:AK,SMALL(ROW($AK$1:$AK$1999)+(1999*($AK$1:$AK$1999=\"\")), ROW(A343)))&\"\"","v":""},"","","",null,"",""]
[null,null,null,null,null,null,null,null,null,null,null,null,null,null,null,null,null,null,null,null,null,null,null,null,null,null,null,null,null,null,null,null,{"$f":"INDEX(C:C, SMALL(ROW(C$1:C$5000)+(5000*(C$1:C$5000=\"\")),ROW(A344)))&\"\"","v":""},"",{"$f":"INDEX(B:B, SMALL(ROW(B$1:B$5000)+(5000*(B$1:B$5000=\"\")),ROW(A344)))&\"\"","v":""},"","","",null,null,{"$f":"INDEX(AH:AH,SMALL(ROW($AH$1:$AH$1999)+(1999*($AH$1:$AH$1999=\"\")), ROW(A344)))&\"\"","v":""},"","","","","","","","","","","","","","","","","","","","","","","","","","","","","","","",{"$f":"INDEX(AJ:AJ,SMALL(ROW($AJ$1:$AJ$1999)+(1999*($AJ$1:$AJ$1999=\"\")), ROW(A344)))&\"\"","v":""},"",{"$f":"INDEX(AK:AK,SMALL(ROW($AK$1:$AK$1999)+(1999*($AK$1:$AK$1999=\"\")), ROW(A344)))&\"\"","v":""},"","","",null,"",""]
[null,null,null,null,null,null,null,null,null,null,null,null,null,null,null,null,null,null,null,null,null,null,null,null,null,null,null,null,null,null,null,null,{"$f":"INDEX(C:C, SMALL(ROW(C$1:C$5000)+(5000*(C$1:C$5000=\"\")),ROW(A345)))&\"\"","v":""},"",{"$f":"INDEX(B:B, SMALL(ROW(B$1:B$5000)+(5000*(B$1:B$5000=\"\")),ROW(A345)))&\"\"","v":""},"","","",null,null,{"$f":"INDEX(AH:AH,SMALL(ROW($AH$1:$AH$1999)+(1999*($AH$1:$AH$1999=\"\")), ROW(A345)))&\"\"","v":""},"","","","","","","","","","","","","","","","","","","","","","","","","","","","","","","",{"$f":"INDEX(AJ:AJ,SMALL(ROW($AJ$1:$AJ$1999)+(1999*($AJ$1:$AJ$1999=\"\")), ROW(A345)))&\"\"","v":""},"",{"$f":"INDEX(AK:AK,SMALL(ROW($AK$1:$AK$1999)+(1999*($AK$1:$AK$1999=\"\")), ROW(A345)))&\"\"","v":""},"","","",null,"",""]
[null,null,null,null,null,null,null,null,null,null,null,null,null,null,null,null,null,null,null,null,null,null,null,null,null,null,null,null,null,null,null,null,{"$f":"INDEX(C:C, SMALL(ROW(C$1:C$5000)+(5000*(C$1:C$5000=\"\")),ROW(A346)))&\"\"","v":""},"",{"$f":"INDEX(B:B, SMALL(ROW(B$1:B$5000)+(5000*(B$1:B$5000=\"\")),ROW(A346)))&\"\"","v":""},"","","",null,null,{"$f":"INDEX(AH:AH,SMALL(ROW($AH$1:$AH$1999)+(1999*($AH$1:$AH$1999=\"\")), ROW(A346)))&\"\"","v":""},"","","","","","","","","","","","","","","","","","","","","","","","","","","","","","","",{"$f":"INDEX(AJ:AJ,SMALL(ROW($AJ$1:$AJ$1999)+(1999*($AJ$1:$AJ$1999=\"\")), ROW(A346)))&\"\"","v":""},"",{"$f":"INDEX(AK:AK,SMALL(ROW($AK$1:$AK$1999)+(1999*($AK$1:$AK$1999=\"\")), ROW(A346)))&\"\"","v":""},"","","",null,"",""]
[null,null,null,null,null,null,null,null,null,null,null,null,null,null,null,null,null,null,null,null,null,null,null,null,null,null,null,null,null,null,null,null,{"$f":"INDEX(C:C, SMALL(ROW(C$1:C$5000)+(5000*(C$1:C$5000=\"\")),ROW(A347)))&\"\"","v":""},"",{"$f":"INDEX(B:B, SMALL(ROW(B$1:B$5000)+(5000*(B$1:B$5000=\"\")),ROW(A347)))&\"\"","v":""},"","","",null,null,{"$f":"INDEX(AH:AH,SMALL(ROW($AH$1:$AH$1999)+(1999*($AH$1:$AH$1999=\"\")), ROW(A347)))&\"\"","v":""},"","","","","","","","","","","","","","","","","","","","","","","","","","","","","","","",{"$f":"INDEX(AJ:AJ,SMALL(ROW($AJ$1:$AJ$1999)+(1999*($AJ$1:$AJ$1999=\"\")), ROW(A347)))&\"\"","v":""},"",{"$f":"INDEX(AK:AK,SMALL(ROW($AK$1:$AK$1999)+(1999*($AK$1:$AK$1999=\"\")), ROW(A347)))&\"\"","v":""},"","","",null,"",""]
[null,null,null,null,null,null,null,null,null,null,null,null,null,null,null,null,null,null,null,null,null,null,null,null,null,null,null,null,null,null,null,null,{"$f":"INDEX(C:C, SMALL(ROW(C$1:C$5000)+(5000*(C$1:C$5000=\"\")),ROW(A348)))&\"\"","v":""},"",{"$f":"INDEX(B:B, SMALL(ROW(B$1:B$5000)+(5000*(B$1:B$5000=\"\")),ROW(A348)))&\"\"","v":""},"","","",null,null,{"$f":"INDEX(AH:AH,SMALL(ROW($AH$1:$AH$1999)+(1999*($AH$1:$AH$1999=\"\")), ROW(A348)))&\"\"","v":""},"","","","","","","","","","","","","","","","","","","","","","","","","","","","","","","",{"$f":"INDEX(AJ:AJ,SMALL(ROW($AJ$1:$AJ$1999)+(1999*($AJ$1:$AJ$1999=\"\")), ROW(A348)))&\"\"","v":""},"",{"$f":"INDEX(AK:AK,SMALL(ROW($AK$1:$AK$1999)+(1999*($AK$1:$AK$1999=\"\")), ROW(A348)))&\"\"","v":""},"","","",null,"",""]
[null,null,null,null,null,null,null,null,null,null,null,null,null,null,null,null,null,null,null,null,null,null,null,null,null,null,null,null,null,null,null,null,{"$f":"INDEX(C:C, SMALL(ROW(C$1:C$5000)+(5000*(C$1:C$5000=\"\")),ROW(A349)))&\"\"","v":""},"",{"$f":"INDEX(B:B, SMALL(ROW(B$1:B$5000)+(5000*(B$1:B$5000=\"\")),ROW(A349)))&\"\"","v":""},"","","",null,null,{"$f":"INDEX(AH:AH,SMALL(ROW($AH$1:$AH$1999)+(1999*($AH$1:$AH$1999=\"\")), ROW(A349)))&\"\"","v":""},"","","","","","","","","","","","","","","","","","","","","","","","","","","","","","","",{"$f":"INDEX(AJ:AJ,SMALL(ROW($AJ$1:$AJ$1999)+(1999*($AJ$1:$AJ$1999=\"\")), ROW(A349)))&\"\"","v":""},"",{"$f":"INDEX(AK:AK,SMALL(ROW($AK$1:$AK$1999)+(1999*($AK$1:$AK$1999=\"\")), ROW(A349)))&\"\"","v":""},"","","",null,"",""]
[null,null,null,null,null,null,null,null,null,null,null,null,null,null,null,null,null,null,null,null,null,null,null,null,null,null,null,null,null,null,null,null,{"$f":"INDEX(C:C, SMALL(ROW(C$1:C$5000)+(5000*(C$1:C$5000=\"\")),ROW(A350)))&\"\"","v":""},"",{"$f":"INDEX(B:B, SMALL(ROW(B$1:B$5000)+(5000*(B$1:B$5000=\"\")),ROW(A350)))&\"\"","v":""},"","","",null,null,{"$f":"INDEX(AH:AH,SMALL(ROW($AH$1:$AH$1999)+(1999*($AH$1:$AH$1999=\"\")), ROW(A350)))&\"\"","v":""},"","","","","","","","","","","",{"$f":"IFERROR(IF(ISNUMBER(SEARCH(\"*TE*\",AZ350)),BV350,\"\"),VALUE(0))","v":""},"","","","","","","","","","","","","","","","","","","",{"$f":"INDEX(AJ:AJ,SMALL(ROW($AJ$1:$AJ$1999)+(1999*($AJ$1:$AJ$1999=\"\")), ROW(A350)))&\"\"","v":""},"",{"$f":"INDEX(AK:AK,SMALL(ROW($AK$1:$AK$1999)+(1999*($AK$1:$AK$1999=\"\")), ROW(A350)))&\"\"","v":""},"","","",null,"",""]
[null,null,null,null,null,null,null,null,null,null,null,null,null,null,null,null,null,null,null,null,null,null,null,null,null,null,null,null,null,null,null,null,{"$f":"INDEX(C:C, SMALL(ROW(C$1:C$5000)+(5000*(C$1:C$5000=\"\")),ROW(A351)))&\"\"","v":""},"",{"$f":"INDEX(B:B, SMALL(ROW(B$1:B$5000)+(5000*(B$1:B$5000=\"\")),ROW(A351)))&\"\"","v":""},"","","",null,null,{"$f":"INDEX(AH:AH,SMALL(ROW($AH$1:$AH$1999)+(1999*($AH$1:$AH$1999=\"\")), ROW(A351)))&\"\"","v":""},"","","","","","","","","","","","","","","","","","","","","","","","","","","","","","","",{"$f":"INDEX(AJ:AJ,SMALL(ROW($AJ$1:$AJ$1999)+(1999*($AJ$1:$AJ$1999=\"\")), ROW(A351)))&\"\"","v":""},"",{"$f":"INDEX(AK:AK,SMALL(ROW($AK$1:$AK$1999)+(1999*($AK$1:$AK$1999=\"\")), ROW(A351)))&\"\"","v":""},"","","",null,"",""]
[null,null,null,null,null,null,null,null,null,null,null,null,null,null,null,null,null,null,null,null,null,null,null,null,null,null,null,null,null,null,null,null,{"$f":"INDEX(C:C, SMALL(ROW(C$1:C$5000)+(5000*(C$1:C$5000=\"\")),ROW(A352)))&\"\"","v":""},"",{"$f":"INDEX(B:B, SMALL(ROW(B$1:B$5000)+(5000*(B$1:B$5000=\"\")),ROW(A352)))&\"\"","v":""},"","","",null,null,{"$f":"INDEX(AH:AH,SMALL(ROW($AH$1:$AH$1999)+(1999*($AH$1:$AH$1999=\"\")), ROW(A352)))&\"\"","v":""},"","","","","","","","","","","","","","","","","","","","","","","","","","","","","","","",{"$f":"INDEX(AJ:AJ,SMALL(ROW($AJ$1:$AJ$1999)+(1999*($AJ$1:$AJ$1999=\"\")), ROW(A352)))&\"\"","v":""},"",{"$f":"INDEX(AK:AK,SMALL(ROW($AK$1:$AK$1999)+(1999*($AK$1:$AK$1999=\"\")), ROW(A352)))&\"\"","v":""},"","","",null,"",""]
[null,null,null,null,null,null,null,null,null,null,null,null,null,null,null,null,null,null,null,null,null,null,null,null,null,null,null,null,null,null,null,null,{"$f":"INDEX(C:C, SMALL(ROW(C$1:C$5000)+(5000*(C$1:C$5000=\"\")),ROW(A353)))&\"\"","v":""},"",{"$f":"INDEX(B:B, SMALL(ROW(B$1:B$5000)+(5000*(B$1:B$5000=\"\")),ROW(A353)))&\"\"","v":""},"","","",null,null,{"$f":"INDEX(AH:AH,SMALL(ROW($AH$1:$AH$1999)+(1999*($AH$1:$AH$1999=\"\")), ROW(A353)))&\"\"","v":""},"","","","","","","","","","","","","","","","","","","","","","","","","","","","","","","",{"$f":"INDEX(AJ:AJ,SMALL(ROW($AJ$1:$AJ$1999)+(1999*($AJ$1:$AJ$1999=\"\")), ROW(A353)))&\"\"","v":""},"",{"$f":"INDEX(AK:AK,SMALL(ROW($AK$1:$AK$1999)+(1999*($AK$1:$AK$1999=\"\")), ROW(A353)))&\"\"","v":""},"","","",null,"",""]
[null,null,null,null,null,null,null,null,null,null,null,null,null,null,null,null,null,null,null,null,null,null,null,null,null,null,null,null,null,null,null,null,{"$f":"INDEX(C:C, SMALL(ROW(C$1:C$5000)+(5000*(C$1:C$5000=\"\")),ROW(A354)))&\"\"","v":""},"",{"$f":"INDEX(B:B, SMALL(ROW(B$1:B$5000)+(5000*(B$1:B$5000=\"\")),ROW(A354)))&\"\"","v":""},"","","",null,null,{"$f":"INDEX(AH:AH,SMALL(ROW($AH$1:$AH$1999)+(1999*($AH$1:$AH$1999=\"\")), ROW(A354)))&\"\"","v":""},"","","","","","","","","","","","","","","","","","","","","","","","","","","","","","","",{"$f":"INDEX(AJ:AJ,SMALL(ROW($AJ$1:$AJ$1999)+(1999*($AJ$1:$AJ$1999=\"\")), ROW(A354)))&\"\"","v":""},"",{"$f":"INDEX(AK:AK,SMALL(ROW($AK$1:$AK$1999)+(1999*($AK$1:$AK$1999=\"\")), ROW(A354)))&\"\"","v":""},"","","",null,"",""]
[null,null,null,null,null,null,null,null,null,null,null,null,null,null,null,null,null,null,null,null,null,null,null,null,null,null,null,null,null,null,null,null,{"$f":"INDEX(C:C, SMALL(ROW(C$1:C$5000)+(5000*(C$1:C$5000=\"\")),ROW(A355)))&\"\"","v":""},"",{"$f":"INDEX(B:B, SMALL(ROW(B$1:B$5000)+(5000*(B$1:B$5000=\"\")),ROW(A355)))&\"\"","v":""},"","","",null,null,{"$f":"INDEX(AH:AH,SMALL(ROW($AH$1:$AH$1999)+(1999*($AH$1:$AH$1999=\"\")), ROW(A355)))&\"\"","v":""},"","","","","","","","","","","","","","","","","","","","","","","","","","","","","","","",{"$f":"INDEX(AJ:AJ,SMALL(ROW($AJ$1:$AJ$1999)+(1999*($AJ$1:$AJ$1999=\"\")), ROW(A355)))&\"\"","v":""},"",{"$f":"INDEX(AK:AK,SMALL(ROW($AK$1:$AK$1999)+(1999*($AK$1:$AK$1999=\"\")), ROW(A355)))&\"\"","v":""},"","","",null,"",""]
[null,null,null,null,null,null,null,null,null,null,null,null,null,null,null,null,null,null,null,null,null,null,null,null,null,null,null,null,null,null,null,null,{"$f":"INDEX(C:C, SMALL(ROW(C$1:C$5000)+(5000*(C$1:C$5000=\"\")),ROW(A356)))&\"\"","v":""},"",{"$f":"INDEX(B:B, SMALL(ROW(B$1:B$5000)+(5000*(B$1:B$5000=\"\")),ROW(A356)))&\"\"","v":""},"","","",null,null,{"$f":"INDEX(AH:AH,SMALL(ROW($AH$1:$AH$1999)+(1999*($AH$1:$AH$1999=\"\")), ROW(A356)))&\"\"","v":""},"","","","","","","","","","","","","","","","","","","","","","","","","","","","","","","",{"$f":"INDEX(AJ:AJ,SMALL(ROW($AJ$1:$AJ$1999)+(1999*($AJ$1:$AJ$1999=\"\")), ROW(A356)))&\"\"","v":""},"",{"$f":"INDEX(AK:AK,SMALL(ROW($AK$1:$AK$1999)+(1999*($AK$1:$AK$1999=\"\")), ROW(A356)))&\"\"","v":""},"","","",null,"",""]
[null,null,null,null,null,null,null,null,null,null,null,null,null,null,null,null,null,null,null,null,null,null,null,null,null,null,null,null,null,null,null,null,{"$f":"INDEX(C:C, SMALL(ROW(C$1:C$5000)+(5000*(C$1:C$5000=\"\")),ROW(A357)))&\"\"","v":""},"",{"$f":"INDEX(B:B, SMALL(ROW(B$1:B$5000)+(5000*(B$1:B$5000=\"\")),ROW(A357)))&\"\"","v":""},"","","",null,null,{"$f":"INDEX(AH:AH,SMALL(ROW($AH$1:$AH$1999)+(1999*($AH$1:$AH$1999=\"\")), ROW(A357)))&\"\"","v":""},"","","","","","","","","","","","","","","","","","","","","","","","","","","","","","","",{"$f":"INDEX(AJ:AJ,SMALL(ROW($AJ$1:$AJ$1999)+(1999*($AJ$1:$AJ$1999=\"\")), ROW(A357)))&\"\"","v":""},"",{"$f":"INDEX(AK:AK,SMALL(ROW($AK$1:$AK$1999)+(1999*($AK$1:$AK$1999=\"\")), ROW(A357)))&\"\"","v":""},"","","",null,"",""]
[null,null,null,null,null,null,null,null,null,null,null,null,null,null,null,null,null,null,null,null,null,null,null,null,null,null,null,null,null,null,null,null,{"$f":"INDEX(C:C, SMALL(ROW(C$1:C$5000)+(5000*(C$1:C$5000=\"\")),ROW(A358)))&\"\"","v":""},"",{"$f":"INDEX(B:B, SMALL(ROW(B$1:B$5000)+(5000*(B$1:B$5000=\"\")),ROW(A358)))&\"\"","v":""},"","","",null,null,{"$f":"INDEX(AH:AH,SMALL(ROW($AH$1:$AH$1999)+(1999*($AH$1:$AH$1999=\"\")), ROW(A358)))&\"\"","v":""},"","","","","","","","","","","","","","","","","","","","","","","","","","","","","","","",{"$f":"INDEX(AJ:AJ,SMALL(ROW($AJ$1:$AJ$1999)+(1999*($AJ$1:$AJ$1999=\"\")), ROW(A358)))&\"\"","v":""},"",{"$f":"INDEX(AK:AK,SMALL(ROW($AK$1:$AK$1999)+(1999*($AK$1:$AK$1999=\"\")), ROW(A358)))&\"\"","v":""},"","","",null,"",""]
[null,null,null,null,null,null,null,null,null,null,null,null,null,null,null,null,null,null,null,null,null,null,null,null,null,null,null,null,null,null,null,null,{"$f":"INDEX(C:C, SMALL(ROW(C$1:C$5000)+(5000*(C$1:C$5000=\"\")),ROW(A359)))&\"\"","v":""},"",{"$f":"INDEX(B:B, SMALL(ROW(B$1:B$5000)+(5000*(B$1:B$5000=\"\")),ROW(A359)))&\"\"","v":""},"","","",null,null,{"$f":"INDEX(AH:AH,SMALL(ROW($AH$1:$AH$1999)+(1999*($AH$1:$AH$1999=\"\")), ROW(A359)))&\"\"","v":""},"","","","","","","","","","","","","","","","","","","","","","","","","","","","","","","",{"$f":"INDEX(AJ:AJ,SMALL(ROW($AJ$1:$AJ$1999)+(1999*($AJ$1:$AJ$1999=\"\")), ROW(A359)))&\"\"","v":""},"",{"$f":"INDEX(AK:AK,SMALL(ROW($AK$1:$AK$1999)+(1999*($AK$1:$AK$1999=\"\")), ROW(A359)))&\"\"","v":""},"","","",null,"",""]
[null,null,null,null,null,null,null,null,null,null,null,null,null,null,null,null,null,null,null,null,null,null,null,null,null,null,null,null,null,null,null,null,{"$f":"INDEX(C:C, SMALL(ROW(C$1:C$5000)+(5000*(C$1:C$5000=\"\")),ROW(A360)))&\"\"","v":""},"",{"$f":"INDEX(B:B, SMALL(ROW(B$1:B$5000)+(5000*(B$1:B$5000=\"\")),ROW(A360)))&\"\"","v":""},"","","",null,null,{"$f":"INDEX(AH:AH,SMALL(ROW($AH$1:$AH$1999)+(1999*($AH$1:$AH$1999=\"\")), ROW(A360)))&\"\"","v":""},"","","","","","","","","","","","","","","","","","","","","","","","","","","","","","","",{"$f":"INDEX(AJ:AJ,SMALL(ROW($AJ$1:$AJ$1999)+(1999*($AJ$1:$AJ$1999=\"\")), ROW(A360)))&\"\"","v":""},"",{"$f":"INDEX(AK:AK,SMALL(ROW($AK$1:$AK$1999)+(1999*($AK$1:$AK$1999=\"\")), ROW(A360)))&\"\"","v":""},"","","",null,"",""]
[null,null,null,null,null,null,null,null,null,null,null,null,null,null,null,null,null,null,null,null,null,null,null,null,null,null,null,null,null,null,null,null,{"$f":"INDEX(C:C, SMALL(ROW(C$1:C$5000)+(5000*(C$1:C$5000=\"\")),ROW(A361)))&\"\"","v":""},"",{"$f":"INDEX(B:B, SMALL(ROW(B$1:B$5000)+(5000*(B$1:B$5000=\"\")),ROW(A361)))&\"\"","v":""},"","","",null,null,{"$f":"INDEX(AH:AH,SMALL(ROW($AH$1:$AH$1999)+(1999*($AH$1:$AH$1999=\"\")), ROW(A361)))&\"\"","v":""},"","","","","","","","","","","","","","","","","","","","","","","","","","","","","","","",{"$f":"INDEX(AJ:AJ,SMALL(ROW($AJ$1:$AJ$1999)+(1999*($AJ$1:$AJ$1999=\"\")), ROW(A361)))&\"\"","v":""},"",{"$f":"INDEX(AK:AK,SMALL(ROW($AK$1:$AK$1999)+(1999*($AK$1:$AK$1999=\"\")), ROW(A361)))&\"\"","v":""},"","","",null,"",""]
[null,null,null,null,null,null,null,null,null,null,null,null,null,null,null,null,null,null,null,null,null,null,null,null,null,null,null,null,null,null,null,null,{"$f":"INDEX(C:C, SMALL(ROW(C$1:C$5000)+(5000*(C$1:C$5000=\"\")),ROW(A362)))&\"\"","v":""},"",{"$f":"INDEX(B:B, SMALL(ROW(B$1:B$5000)+(5000*(B$1:B$5000=\"\")),ROW(A362)))&\"\"","v":""},"","","",null,null,{"$f":"INDEX(AH:AH,SMALL(ROW($AH$1:$AH$1999)+(1999*($AH$1:$AH$1999=\"\")), ROW(A362)))&\"\"","v":""},"","","","","","","","","","","","","","","","","","","","","","","","","","","","","","","",{"$f":"INDEX(AJ:AJ,SMALL(ROW($AJ$1:$AJ$1999)+(1999*($AJ$1:$AJ$1999=\"\")), ROW(A362)))&\"\"","v":""},"",{"$f":"INDEX(AK:AK,SMALL(ROW($AK$1:$AK$1999)+(1999*($AK$1:$AK$1999=\"\")), ROW(A362)))&\"\"","v":""},"","","",null,"",""]
[null,null,null,null,null,null,null,null,null,null,null,null,null,null,null,null,null,null,null,null,null,null,null,null,null,null,null,null,null,null,null,null,{"$f":"INDEX(C:C, SMALL(ROW(C$1:C$5000)+(5000*(C$1:C$5000=\"\")),ROW(A363)))&\"\"","v":""},"",{"$f":"INDEX(B:B, SMALL(ROW(B$1:B$5000)+(5000*(B$1:B$5000=\"\")),ROW(A363)))&\"\"","v":""},"","","",null,null,{"$f":"INDEX(AH:AH,SMALL(ROW($AH$1:$AH$1999)+(1999*($AH$1:$AH$1999=\"\")), ROW(A363)))&\"\"","v":""},"","","","","","","","","","","","","","","","","","","","","","","","","","","","","","","",{"$f":"INDEX(AJ:AJ,SMALL(ROW($AJ$1:$AJ$1999)+(1999*($AJ$1:$AJ$1999=\"\")), ROW(A363)))&\"\"","v":""},"",{"$f":"INDEX(AK:AK,SMALL(ROW($AK$1:$AK$1999)+(1999*($AK$1:$AK$1999=\"\")), ROW(A363)))&\"\"","v":""},"","","",null,"",""]
[null,null,null,null,null,null,null,null,null,null,null,null,null,null,null,null,null,null,null,null,null,null,null,null,null,null,null,null,null,null,null,null,{"$f":"INDEX(C:C, SMALL(ROW(C$1:C$5000)+(5000*(C$1:C$5000=\"\")),ROW(A364)))&\"\"","v":""},"",{"$f":"INDEX(B:B, SMALL(ROW(B$1:B$5000)+(5000*(B$1:B$5000=\"\")),ROW(A364)))&\"\"","v":""},"","","",null,null,{"$f":"INDEX(AH:AH,SMALL(ROW($AH$1:$AH$1999)+(1999*($AH$1:$AH$1999=\"\")), ROW(A364)))&\"\"","v":""},"","","","","","","","","","","","","","","","","","","","","","","","","","","","","","","",{"$f":"INDEX(AJ:AJ,SMALL(ROW($AJ$1:$AJ$1999)+(1999*($AJ$1:$AJ$1999=\"\")), ROW(A364)))&\"\"","v":""},"",{"$f":"INDEX(AK:AK,SMALL(ROW($AK$1:$AK$1999)+(1999*($AK$1:$AK$1999=\"\")), ROW(A364)))&\"\"","v":""},"","","",null,"",""]
[null,null,null,null,null,null,null,null,null,null,null,null,null,null,null,null,null,null,null,null,null,null,null,null,null,null,null,null,null,null,null,null,{"$f":"INDEX(C:C, SMALL(ROW(C$1:C$5000)+(5000*(C$1:C$5000=\"\")),ROW(A365)))&\"\"","v":""},"",{"$f":"INDEX(B:B, SMALL(ROW(B$1:B$5000)+(5000*(B$1:B$5000=\"\")),ROW(A365)))&\"\"","v":""},"","","",null,null,{"$f":"INDEX(AH:AH,SMALL(ROW($AH$1:$AH$1999)+(1999*($AH$1:$AH$1999=\"\")), ROW(A365)))&\"\"","v":""},"","","","","","","","","","","","","","","","","","","","","","","","","","","","","","","",{"$f":"INDEX(AJ:AJ,SMALL(ROW($AJ$1:$AJ$1999)+(1999*($AJ$1:$AJ$1999=\"\")), ROW(A365)))&\"\"","v":""},"",{"$f":"INDEX(AK:AK,SMALL(ROW($AK$1:$AK$1999)+(1999*($AK$1:$AK$1999=\"\")), ROW(A365)))&\"\"","v":""},"","","",null,"",""]
[null,null,null,null,null,null,null,null,null,null,null,null,null,null,null,null,null,null,null,null,null,null,null,null,null,null,null,null,null,null,null,null,{"$f":"INDEX(C:C, SMALL(ROW(C$1:C$5000)+(5000*(C$1:C$5000=\"\")),ROW(A366)))&\"\"","v":""},"",{"$f":"INDEX(B:B, SMALL(ROW(B$1:B$5000)+(5000*(B$1:B$5000=\"\")),ROW(A366)))&\"\"","v":""},"","","",null,null,{"$f":"INDEX(AH:AH,SMALL(ROW($AH$1:$AH$1999)+(1999*($AH$1:$AH$1999=\"\")), ROW(A366)))&\"\"","v":""},"","","","","","","","","","","","","","","","","","","","","","","","","","","","","","","",{"$f":"INDEX(AJ:AJ,SMALL(ROW($AJ$1:$AJ$1999)+(1999*($AJ$1:$AJ$1999=\"\")), ROW(A366)))&\"\"","v":""},"",{"$f":"INDEX(AK:AK,SMALL(ROW($AK$1:$AK$1999)+(1999*($AK$1:$AK$1999=\"\")), ROW(A366)))&\"\"","v":""},"","","",null,"",""]
[null,null,null,null,null,null,null,null,null,null,null,null,null,null,null,null,null,null,null,null,null,null,null,null,null,null,null,null,null,null,null,null,{"$f":"INDEX(C:C, SMALL(ROW(C$1:C$5000)+(5000*(C$1:C$5000=\"\")),ROW(A367)))&\"\"","v":""},"",{"$f":"INDEX(B:B, SMALL(ROW(B$1:B$5000)+(5000*(B$1:B$5000=\"\")),ROW(A367)))&\"\"","v":""},"","","",null,null,{"$f":"INDEX(AH:AH,SMALL(ROW($AH$1:$AH$1999)+(1999*($AH$1:$AH$1999=\"\")), ROW(A367)))&\"\"","v":""},"","","","","","","","","","","","","","","","","","","","","","","","","","","","","","","",{"$f":"INDEX(AJ:AJ,SMALL(ROW($AJ$1:$AJ$1999)+(1999*($AJ$1:$AJ$1999=\"\")), ROW(A367)))&\"\"","v":""},"",{"$f":"INDEX(AK:AK,SMALL(ROW($AK$1:$AK$1999)+(1999*($AK$1:$AK$1999=\"\")), ROW(A367)))&\"\"","v":""},"","","",null,"",""]
[null,null,null,null,null,null,null,null,null,null,null,null,null,null,null,null,null,null,null,null,null,null,null,null,null,null,null,null,null,null,null,null,{"$f":"INDEX(C:C, SMALL(ROW(C$1:C$5000)+(5000*(C$1:C$5000=\"\")),ROW(A368)))&\"\"","v":""},"",{"$f":"INDEX(B:B, SMALL(ROW(B$1:B$5000)+(5000*(B$1:B$5000=\"\")),ROW(A368)))&\"\"","v":""},"","","",null,null,{"$f":"INDEX(AH:AH,SMALL(ROW($AH$1:$AH$1999)+(1999*($AH$1:$AH$1999=\"\")), ROW(A368)))&\"\"","v":""},"","","","","","","","","","","","","","","","","","","","","","","","","","","","","","","",{"$f":"INDEX(AJ:AJ,SMALL(ROW($AJ$1:$AJ$1999)+(1999*($AJ$1:$AJ$1999=\"\")), ROW(A368)))&\"\"","v":""},"",{"$f":"INDEX(AK:AK,SMALL(ROW($AK$1:$AK$1999)+(1999*($AK$1:$AK$1999=\"\")), ROW(A368)))&\"\"","v":""},"","","",null,"",""]
[null,null,null,null,null,null,null,null,null,null,null,null,null,null,null,null,null,null,null,null,null,null,null,null,null,null,null,null,null,null,null,null,{"$f":"INDEX(C:C, SMALL(ROW(C$1:C$5000)+(5000*(C$1:C$5000=\"\")),ROW(A369)))&\"\"","v":""},"",{"$f":"INDEX(B:B, SMALL(ROW(B$1:B$5000)+(5000*(B$1:B$5000=\"\")),ROW(A369)))&\"\"","v":""},"","","",null,null,{"$f":"INDEX(AH:AH,SMALL(ROW($AH$1:$AH$1999)+(1999*($AH$1:$AH$1999=\"\")), ROW(A369)))&\"\"","v":""},"","","","","","","","","","","","","","","","","","","","","","","","","","","","","","","",{"$f":"INDEX(AJ:AJ,SMALL(ROW($AJ$1:$AJ$1999)+(1999*($AJ$1:$AJ$1999=\"\")), ROW(A369)))&\"\"","v":""},"",{"$f":"INDEX(AK:AK,SMALL(ROW($AK$1:$AK$1999)+(1999*($AK$1:$AK$1999=\"\")), ROW(A369)))&\"\"","v":""},"","","",null,"",""]
[null,null,null,null,null,null,null,null,null,null,null,null,null,null,null,null,null,null,null,null,null,null,null,null,null,null,null,null,null,null,null,null,{"$f":"INDEX(C:C, SMALL(ROW(C$1:C$5000)+(5000*(C$1:C$5000=\"\")),ROW(A370)))&\"\"","v":""},"",{"$f":"INDEX(B:B, SMALL(ROW(B$1:B$5000)+(5000*(B$1:B$5000=\"\")),ROW(A370)))&\"\"","v":""},"","","",null,null,{"$f":"INDEX(AH:AH,SMALL(ROW($AH$1:$AH$1999)+(1999*($AH$1:$AH$1999=\"\")), ROW(A370)))&\"\"","v":""},"","","","","","","","","","","","","","","","","","","","","","","","","","","","","","","",{"$f":"INDEX(AJ:AJ,SMALL(ROW($AJ$1:$AJ$1999)+(1999*($AJ$1:$AJ$1999=\"\")), ROW(A370)))&\"\"","v":""},"",{"$f":"INDEX(AK:AK,SMALL(ROW($AK$1:$AK$1999)+(1999*($AK$1:$AK$1999=\"\")), ROW(A370)))&\"\"","v":""},"","","",null,"",""]
[null,null,null,null,null,null,null,null,null,null,null,null,null,null,null,null,null,null,null,null,null,null,null,null,null,null,null,null,null,null,null,null,{"$f":"INDEX(C:C, SMALL(ROW(C$1:C$5000)+(5000*(C$1:C$5000=\"\")),ROW(A371)))&\"\"","v":""},"",{"$f":"INDEX(B:B, SMALL(ROW(B$1:B$5000)+(5000*(B$1:B$5000=\"\")),ROW(A371)))&\"\"","v":""},"","","",null,null,{"$f":"INDEX(AH:AH,SMALL(ROW($AH$1:$AH$1999)+(1999*($AH$1:$AH$1999=\"\")), ROW(A371)))&\"\"","v":""},"","","","","","","","","","","","","","","","","","","","","","","","","","","","","","","",{"$f":"INDEX(AJ:AJ,SMALL(ROW($AJ$1:$AJ$1999)+(1999*($AJ$1:$AJ$1999=\"\")), ROW(A371)))&\"\"","v":""},"",{"$f":"INDEX(AK:AK,SMALL(ROW($AK$1:$AK$1999)+(1999*($AK$1:$AK$1999=\"\")), ROW(A371)))&\"\"","v":""},"","","",null,"",""]
[null,null,null,null,null,null,null,null,null,null,null,null,null,null,null,null,null,null,null,null,null,null,null,null,null,null,null,null,null,null,null,null,{"$f":"INDEX(C:C, SMALL(ROW(C$1:C$5000)+(5000*(C$1:C$5000=\"\")),ROW(A372)))&\"\"","v":""},"",{"$f":"INDEX(B:B, SMALL(ROW(B$1:B$5000)+(5000*(B$1:B$5000=\"\")),ROW(A372)))&\"\"","v":""},"","","",null,null,{"$f":"INDEX(AH:AH,SMALL(ROW($AH$1:$AH$1999)+(1999*($AH$1:$AH$1999=\"\")), ROW(A372)))&\"\"","v":""},"","","","","","","","","","","","","","","","","","","","","","","","","","","","","","","",{"$f":"INDEX(AJ:AJ,SMALL(ROW($AJ$1:$AJ$1999)+(1999*($AJ$1:$AJ$1999=\"\")), ROW(A372)))&\"\"","v":""},"",{"$f":"INDEX(AK:AK,SMALL(ROW($AK$1:$AK$1999)+(1999*($AK$1:$AK$1999=\"\")), ROW(A372)))&\"\"","v":""},"","","",null,"",""]
[null,null,null,null,null,null,null,null,null,null,null,null,null,null,null,null,null,null,null,null,null,null,null,null,null,null,null,null,null,null,null,null,{"$f":"INDEX(C:C, SMALL(ROW(C$1:C$5000)+(5000*(C$1:C$5000=\"\")),ROW(A373)))&\"\"","v":""},"",{"$f":"INDEX(B:B, SMALL(ROW(B$1:B$5000)+(5000*(B$1:B$5000=\"\")),ROW(A373)))&\"\"","v":""},"","","",null,null,{"$f":"INDEX(AH:AH,SMALL(ROW($AH$1:$AH$1999)+(1999*($AH$1:$AH$1999=\"\")), ROW(A373)))&\"\"","v":""},"","","","","","","","","","","","","","","","","","","","","","","","","","","","","","","",{"$f":"INDEX(AJ:AJ,SMALL(ROW($AJ$1:$AJ$1999)+(1999*($AJ$1:$AJ$1999=\"\")), ROW(A373)))&\"\"","v":""},"",{"$f":"INDEX(AK:AK,SMALL(ROW($AK$1:$AK$1999)+(1999*($AK$1:$AK$1999=\"\")), ROW(A373)))&\"\"","v":""},"","","",null,"",""]
[null,null,null,null,null,null,null,null,null,null,null,null,null,null,null,null,null,null,null,null,null,null,null,null,null,null,null,null,null,null,null,null,{"$f":"INDEX(C:C, SMALL(ROW(C$1:C$5000)+(5000*(C$1:C$5000=\"\")),ROW(A374)))&\"\"","v":""},"",{"$f":"INDEX(B:B, SMALL(ROW(B$1:B$5000)+(5000*(B$1:B$5000=\"\")),ROW(A374)))&\"\"","v":""},"","","",null,null,{"$f":"INDEX(AH:AH,SMALL(ROW($AH$1:$AH$1999)+(1999*($AH$1:$AH$1999=\"\")), ROW(A374)))&\"\"","v":""},"","","","","","","","","","","","","","","","","","","","","","","","","","","","","","","",{"$f":"INDEX(AJ:AJ,SMALL(ROW($AJ$1:$AJ$1999)+(1999*($AJ$1:$AJ$1999=\"\")), ROW(A374)))&\"\"","v":""},"",{"$f":"INDEX(AK:AK,SMALL(ROW($AK$1:$AK$1999)+(1999*($AK$1:$AK$1999=\"\")), ROW(A374)))&\"\"","v":""},"","","",null,"",""]
[null,null,null,null,null,null,null,null,null,null,null,null,null,null,null,null,null,null,null,null,null,null,null,null,null,null,null,null,null,null,null,null,{"$f":"INDEX(C:C, SMALL(ROW(C$1:C$5000)+(5000*(C$1:C$5000=\"\")),ROW(A375)))&\"\"","v":""},"",{"$f":"INDEX(B:B, SMALL(ROW(B$1:B$5000)+(5000*(B$1:B$5000=\"\")),ROW(A375)))&\"\"","v":""},"","","",null,null,{"$f":"INDEX(AH:AH,SMALL(ROW($AH$1:$AH$1999)+(1999*($AH$1:$AH$1999=\"\")), ROW(A375)))&\"\"","v":""},"","","","","","","","","","","","","","","","","","","","","","","","","","","","","","","",{"$f":"INDEX(AJ:AJ,SMALL(ROW($AJ$1:$AJ$1999)+(1999*($AJ$1:$AJ$1999=\"\")), ROW(A375)))&\"\"","v":""},"",{"$f":"INDEX(AK:AK,SMALL(ROW($AK$1:$AK$1999)+(1999*($AK$1:$AK$1999=\"\")), ROW(A375)))&\"\"","v":""},"","","",null,"",""]
[null,null,null,null,null,null,null,null,null,null,null,null,null,null,null,null,null,null,null,null,null,null,null,null,null,null,null,null,null,null,null,null,{"$f":"INDEX(C:C, SMALL(ROW(C$1:C$5000)+(5000*(C$1:C$5000=\"\")),ROW(A376)))&\"\"","v":""},"",{"$f":"INDEX(B:B, SMALL(ROW(B$1:B$5000)+(5000*(B$1:B$5000=\"\")),ROW(A376)))&\"\"","v":""},"","","",null,null,{"$f":"INDEX(AH:AH,SMALL(ROW($AH$1:$AH$1999)+(1999*($AH$1:$AH$1999=\"\")), ROW(A376)))&\"\"","v":""},"","","","","","","","","","","","","","","","","","","","","","","","","","","","","","","",{"$f":"INDEX(AJ:AJ,SMALL(ROW($AJ$1:$AJ$1999)+(1999*($AJ$1:$AJ$1999=\"\")), ROW(A376)))&\"\"","v":""},"",{"$f":"INDEX(AK:AK,SMALL(ROW($AK$1:$AK$1999)+(1999*($AK$1:$AK$1999=\"\")), ROW(A376)))&\"\"","v":""},"","","",null,"",""]
[null,null,null,null,null,null,null,null,null,null,null,null,null,null,null,null,null,null,null,null,null,null,null,null,null,null,null,null,null,null,null,null,{"$f":"INDEX(C:C, SMALL(ROW(C$1:C$5000)+(5000*(C$1:C$5000=\"\")),ROW(A377)))&\"\"","v":""},"",{"$f":"INDEX(B:B, SMALL(ROW(B$1:B$5000)+(5000*(B$1:B$5000=\"\")),ROW(A377)))&\"\"","v":""},"","","",null,null,{"$f":"INDEX(AH:AH,SMALL(ROW($AH$1:$AH$1999)+(1999*($AH$1:$AH$1999=\"\")), ROW(A377)))&\"\"","v":""},"","","","","","","","","","","","","","","","","","","","","","","","","","","","","","","",{"$f":"INDEX(AJ:AJ,SMALL(ROW($AJ$1:$AJ$1999)+(1999*($AJ$1:$AJ$1999=\"\")), ROW(A377)))&\"\"","v":""},"",{"$f":"INDEX(AK:AK,SMALL(ROW($AK$1:$AK$1999)+(1999*($AK$1:$AK$1999=\"\")), ROW(A377)))&\"\"","v":""},"","","",null,"",""]
[null,null,null,null,null,null,null,null,null,null,null,null,null,null,null,null,null,null,null,null,null,null,null,null,null,null,null,null,null,null,null,null,{"$f":"INDEX(C:C, SMALL(ROW(C$1:C$5000)+(5000*(C$1:C$5000=\"\")),ROW(A378)))&\"\"","v":""},"",{"$f":"INDEX(B:B, SMALL(ROW(B$1:B$5000)+(5000*(B$1:B$5000=\"\")),ROW(A378)))&\"\"","v":""},"","","",null,null,{"$f":"INDEX(AH:AH,SMALL(ROW($AH$1:$AH$1999)+(1999*($AH$1:$AH$1999=\"\")), ROW(A378)))&\"\"","v":""},"","","","","","","","","","","","","","","","","","","","","","","","","","","","","","","",{"$f":"INDEX(AJ:AJ,SMALL(ROW($AJ$1:$AJ$1999)+(1999*($AJ$1:$AJ$1999=\"\")), ROW(A378)))&\"\"","v":""},"",{"$f":"INDEX(AK:AK,SMALL(ROW($AK$1:$AK$1999)+(1999*($AK$1:$AK$1999=\"\")), ROW(A378)))&\"\"","v":""},"","","",null,"",""]
[null,null,null,null,null,null,null,null,null,null,null,null,null,null,null,null,null,null,null,null,null,null,null,null,null,null,null,null,null,null,null,null,{"$f":"INDEX(C:C, SMALL(ROW(C$1:C$5000)+(5000*(C$1:C$5000=\"\")),ROW(A379)))&\"\"","v":""},"",{"$f":"INDEX(B:B, SMALL(ROW(B$1:B$5000)+(5000*(B$1:B$5000=\"\")),ROW(A379)))&\"\"","v":""},"","","",null,null,{"$f":"INDEX(AH:AH,SMALL(ROW($AH$1:$AH$1999)+(1999*($AH$1:$AH$1999=\"\")), ROW(A379)))&\"\"","v":""},"","","","","","","","","","","","","","","","","","","","","","","","","","","","","","","",{"$f":"INDEX(AJ:AJ,SMALL(ROW($AJ$1:$AJ$1999)+(1999*($AJ$1:$AJ$1999=\"\")), ROW(A379)))&\"\"","v":""},"",{"$f":"INDEX(AK:AK,SMALL(ROW($AK$1:$AK$1999)+(1999*($AK$1:$AK$1999=\"\")), ROW(A379)))&\"\"","v":""},"","","",null,"",""]
[null,null,null,null,null,null,null,null,null,null,null,null,null,null,null,null,null,null,null,null,null,null,null,null,null,null,null,null,null,null,null,null,{"$f":"INDEX(C:C, SMALL(ROW(C$1:C$5000)+(5000*(C$1:C$5000=\"\")),ROW(A380)))&\"\"","v":""},"",{"$f":"INDEX(B:B, SMALL(ROW(B$1:B$5000)+(5000*(B$1:B$5000=\"\")),ROW(A380)))&\"\"","v":""},"","","",null,null,{"$f":"INDEX(AH:AH,SMALL(ROW($AH$1:$AH$1999)+(1999*($AH$1:$AH$1999=\"\")), ROW(A380)))&\"\"","v":""},"","","","","","","","","","","","","","","","","","","","","","","","","","","","","","","",{"$f":"INDEX(AJ:AJ,SMALL(ROW($AJ$1:$AJ$1999)+(1999*($AJ$1:$AJ$1999=\"\")), ROW(A380)))&\"\"","v":""},"",{"$f":"INDEX(AK:AK,SMALL(ROW($AK$1:$AK$1999)+(1999*($AK$1:$AK$1999=\"\")), ROW(A380)))&\"\"","v":""},"","","",null,"",""]
[null,null,null,null,null,null,null,null,null,null,null,null,null,null,null,null,null,null,null,null,null,null,null,null,null,null,null,null,null,null,null,null,{"$f":"INDEX(C:C, SMALL(ROW(C$1:C$5000)+(5000*(C$1:C$5000=\"\")),ROW(A381)))&\"\"","v":""},"",{"$f":"INDEX(B:B, SMALL(ROW(B$1:B$5000)+(5000*(B$1:B$5000=\"\")),ROW(A381)))&\"\"","v":""},"","","",null,null,{"$f":"INDEX(AH:AH,SMALL(ROW($AH$1:$AH$1999)+(1999*($AH$1:$AH$1999=\"\")), ROW(A381)))&\"\"","v":""},"","","","","","","","","","","","","","","","","","","","","","","","","","","","","","","",{"$f":"INDEX(AJ:AJ,SMALL(ROW($AJ$1:$AJ$1999)+(1999*($AJ$1:$AJ$1999=\"\")), ROW(A381)))&\"\"","v":""},"",{"$f":"INDEX(AK:AK,SMALL(ROW($AK$1:$AK$1999)+(1999*($AK$1:$AK$1999=\"\")), ROW(A381)))&\"\"","v":""},"","","",null,"",""]
[null,null,null,null,null,null,null,null,null,null,null,null,null,null,null,null,null,null,null,null,null,null,null,null,null,null,null,null,null,null,null,null,{"$f":"INDEX(C:C, SMALL(ROW(C$1:C$5000)+(5000*(C$1:C$5000=\"\")),ROW(A382)))&\"\"","v":""},"",{"$f":"INDEX(B:B, SMALL(ROW(B$1:B$5000)+(5000*(B$1:B$5000=\"\")),ROW(A382)))&\"\"","v":""},"","","",null,null,{"$f":"INDEX(AH:AH,SMALL(ROW($AH$1:$AH$1999)+(1999*($AH$1:$AH$1999=\"\")), ROW(A382)))&\"\"","v":""},"","","","","","","","","","","","","","","","","","","","","","","","","","","","","","","",{"$f":"INDEX(AJ:AJ,SMALL(ROW($AJ$1:$AJ$1999)+(1999*($AJ$1:$AJ$1999=\"\")), ROW(A382)))&\"\"","v":""},"",{"$f":"INDEX(AK:AK,SMALL(ROW($AK$1:$AK$1999)+(1999*($AK$1:$AK$1999=\"\")), ROW(A382)))&\"\"","v":""},"","","",null,"",""]
[null,null,null,null,null,null,null,null,null,null,null,null,null,null,null,null,null,null,null,null,null,null,null,null,null,null,null,null,null,null,null,null,{"$f":"INDEX(C:C, SMALL(ROW(C$1:C$5000)+(5000*(C$1:C$5000=\"\")),ROW(A383)))&\"\"","v":""},"",{"$f":"INDEX(B:B, SMALL(ROW(B$1:B$5000)+(5000*(B$1:B$5000=\"\")),ROW(A383)))&\"\"","v":""},"","","",null,null,{"$f":"INDEX(AH:AH,SMALL(ROW($AH$1:$AH$1999)+(1999*($AH$1:$AH$1999=\"\")), ROW(A383)))&\"\"","v":""},"","","","","","","","","","","","","","","","","","","","","","","","","","","","","","","",{"$f":"INDEX(AJ:AJ,SMALL(ROW($AJ$1:$AJ$1999)+(1999*($AJ$1:$AJ$1999=\"\")), ROW(A383)))&\"\"","v":""},"",{"$f":"INDEX(AK:AK,SMALL(ROW($AK$1:$AK$1999)+(1999*($AK$1:$AK$1999=\"\")), ROW(A383)))&\"\"","v":""},"","","",null,"",""]
[null,null,null,null,null,null,null,null,null,null,null,null,null,null,null,null,null,null,null,null,null,null,null,null,null,null,null,null,null,null,null,null,{"$f":"INDEX(C:C, SMALL(ROW(C$1:C$5000)+(5000*(C$1:C$5000=\"\")),ROW(A384)))&\"\"","v":""},"",{"$f":"INDEX(B:B, SMALL(ROW(B$1:B$5000)+(5000*(B$1:B$5000=\"\")),ROW(A384)))&\"\"","v":""},"","","",null,null,{"$f":"INDEX(AH:AH,SMALL(ROW($AH$1:$AH$1999)+(1999*($AH$1:$AH$1999=\"\")), ROW(A384)))&\"\"","v":""},"","","","","","","","","","","","","","","","","","","","","","","","","","","","","","","",{"$f":"INDEX(AJ:AJ,SMALL(ROW($AJ$1:$AJ$1999)+(1999*($AJ$1:$AJ$1999=\"\")), ROW(A384)))&\"\"","v":""},"",{"$f":"INDEX(AK:AK,SMALL(ROW($AK$1:$AK$1999)+(1999*($AK$1:$AK$1999=\"\")), ROW(A384)))&\"\"","v":""},"","","",null,"",""]
[null,null,null,null,null,null,null,null,null,null,null,null,null,null,null,null,null,null,null,null,null,null,null,null,null,null,null,null,null,null,null,null,{"$f":"INDEX(C:C, SMALL(ROW(C$1:C$5000)+(5000*(C$1:C$5000=\"\")),ROW(A385)))&\"\"","v":""},{"$f":"IF(ISNUMBER(SEARCH(\"*,*\",AG385)),AG385,\"\")","v":""},{"$f":"INDEX(B:B, SMALL(ROW(B$1:B$5000)+(5000*(B$1:B$5000=\"\")),ROW(A385)))&\"\"","v":""},"","",{"$f":"IF(ISNUMBER(SEARCH(\"*Round*\",AI385)),AI385,\"\")","v":""},null,null,{"$f":"INDEX(AH:AH,SMALL(ROW($AH$1:$AH$1999)+(1999*($AH$1:$AH$1999=\"\")), ROW(A385)))&\"\"","v":""},"","","","","","","","","","","","","","","","","","","","","","","","","","","","","","","",{"$f":"INDEX(AJ:AJ,SMALL(ROW($AJ$1:$AJ$1999)+(1999*($AJ$1:$AJ$1999=\"\")), ROW(A385)))&\"\"","v":""},"",{"$f":"INDEX(AK:AK,SMALL(ROW($AK$1:$AK$1999)+(1999*($AK$1:$AK$1999=\"\")), ROW(A385)))&\"\"","v":""},"","","",null,"",""]
[null,null,null,null,null,null,null,null,null,null,null,null,null,null,null,null,null,null,null,null,null,null,null,null,null,null,null,null,null,null,null,null,{"$f":"INDEX(C:C, SMALL(ROW(C$1:C$5000)+(5000*(C$1:C$5000=\"\")),ROW(A386)))&\"\"","v":""},"",{"$f":"INDEX(B:B, SMALL(ROW(B$1:B$5000)+(5000*(B$1:B$5000=\"\")),ROW(A386)))&\"\"","v":""},{"$f":"IF(ISNUMBER(SEARCH(\"*years*\",AI386)),AI386,\"\")","v":""},{"$f":"IF(ISNUMBER(SEARCH(\"*, 19*\",AI386)),AI386,\"\")","v":""},"",null,null,{"$f":"INDEX(AH:AH,SMALL(ROW($AH$1:$AH$1999)+(1999*($AH$1:$AH$1999=\"\")), ROW(A386)))&\"\"","v":""},{"$f":"TRIM(TEXT(RIGHT(AO386,2),))","v":""},{"$f":"IF(ISNUMBER(SEARCH(\"*QB*\",AP386)),AO386,\"\")","v":""},{"$f":"IFERROR(IF(ISNUMBER(SEARCH(\"*QB*\",AQ386)),BV386,\"\"),VALUE(0))","v":""},{"$f":"IFERROR(IF(ISNUMBER(SEARCH(\"*QB*\",AQ386)),BX386,\"\"),VALUE(0))","v":""},{"$f":"IF(ISNUMBER(SEARCH(\"*RB*\",AP386)),AO386,\"\")","v":""},{"$f":"IFERROR(IF(ISNUMBER(SEARCH(\"*RB*\",AT386)),BV386,\"\"),VALUE(0))","v":""},{"$f":"IFERROR(IF(ISNUMBER(SEARCH(\"*RB*\",AT386)),BX386,\"\"),VALUE(0))","v":""},{"$f":"IF(ISNUMBER(SEARCH(\"*WR*\",AP386)),AO386,\"\")","v":""},{"$f":"IFERROR(IF(ISNUMBER(SEARCH(\"*WR*\",AW386)),BV386,\"\"),VALUE(0))","v":""},{"$f":"IFERROR(IF(ISNUMBER(SEARCH(\"*WR*\",AW386)),BX386,\"\"),VALUE(0))","v":""},{"$f":"IF(ISNUMBER(SEARCH(\"*TE*\",AP386)),AO386,\"\")","v":""},"",{"$f":"IFERROR(IF(ISNUMBER(SEARCH(\"*TE*\",AZ386)),BX386,\"\"),VALUE(0))","v":""},{"$f":"IF(ISNUMBER(SEARCH(\"*PK*\",AP386)),AO386,\"\")","v":""},{"$f":"IFERROR(IF(ISNUMBER(SEARCH(\"*PK*\",BC386)),BV386,\"\"),VALUE(0))","v":""},{"$f":"IFERROR(IF(ISNUMBER(SEARCH(\"*PK*\",BC386)),BX386,\"\"),VALUE(0))","v":""},{"$f":"IF(ISNUMBER(SEARCH(\"*DT*\",AP386)),AO386,\"\")","v":""},{"$f":"IFERROR(IF(ISNUMBER(SEARCH(\"*DT*\",BF386)),BV386,\"\"),VALUE(0))","v":""},{"$f":"IFERROR(IF(ISNUMBER(SEARCH(\"*DT*\",BF386)),BX386,\"\"),VALUE(0))","v":""},{"$f":"IF(ISNUMBER(SEARCH(\"*DE*\",AP386)),AO386,\"\")","v":""},{"$f":"IFERROR(IF(ISNUMBER(SEARCH(\"*DE*\",BI386)),BV386,\"\"),VALUE(0))","v":""},{"$f":"IFERROR(IF(ISNUMBER(SEARCH(\"*DE*\",BI386)),BX386,\"\"),VALUE(0))","v":""},{"$f":"IF(ISNUMBER(SEARCH(\"*LB*\",AP386)),AO386,\"\")","v":""},{"$f":"IFERROR(IF(ISNUMBER(SEARCH(\"*LB*\",BL386)),BV386,\"\"),VALUE(0))","v":""},{"$f":"IFERROR(IF(ISNUMBER(SEARCH(\"*LB*\",BL386)),BX386,\"\"),VALUE(0))","v":""},{"$f":"IF(ISNUMBER(SEARCH(\"*CB*\",AP386)),AO386,\"\")","v":""},{"$f":"IFERROR(IF(ISNUMBER(SEARCH(\"*CB*\",BO386)),BV386,\"\"),VALUE(0))","v":""},{"$f":"IFERROR(IF(ISNUMBER(SEARCH(\"*CB*\",BO386)),BX386,\"\"),VALUE(0))","v":""},{"$f":"IF(ISNUMBER(SEARCH(\"*S*\",AP386)),AO386,\"\")","v":""},{"$f":"IFERROR(IF(ISNUMBER(SEARCH(\"*S*\",BR386)),BV386,\"\"),VALUE(0))","v":""},{"$f":"IFERROR(IF(ISNUMBER(SEARCH(\"*S*\",BR386)),BX386,\"\"),VALUE(0))","v":""},{"$f":"INDEX(AJ:AJ,SMALL(ROW($AJ$1:$AJ$1999)+(1999*($AJ$1:$AJ$1999=\"\")), ROW(A386)))&\"\"","v":""},{"$f":"IFERROR(IF(BW386<>\"\",VALUE(LEFT(BU386,LEN(BU386)-6)),\"\"),VALUE(0))","v":""},{"$f":"INDEX(AK:AK,SMALL(ROW($AK$1:$AK$1999)+(1999*($AK$1:$AK$1999=\"\")), ROW(A386)))&\"\"","v":""},{"$f":"IF(BW386<>\"\",VALUE(RIGHT(BW386,2)),\"\")","v":""},{"$f":"IF(BX386=\"\",\"\",IF(BX386>27,1,0))","v":""},{"$f":"IF(BX386=\"\",\"\",IF(BX386<27,1,0))","v":""},null,{"$f":"IF(BV386=\"\",\"\",IF(BV386>3.5,1,0))","v":""},{"$f":"IF(BV386=\"\",\"\",IF(BV386<3.5,1,0))","v":""}]
[null,null,null,null,null,null,null,null,null,null,null,null,null,null,null,null,null,null,null,null,null,null,null,null,null,null,null,null,null,null,null,null,{"$f":"INDEX(C:C, SMALL(ROW(C$1:C$5000)+(5000*(C$1:C$5000=\"\")),ROW(A387)))&\"\"","v":""},"",{"$f":"INDEX(B:B, SMALL(ROW(B$1:B$5000)+(5000*(B$1:B$5000=\"\")),ROW(A387)))&\"\"","v":""},"","","",null,null,{"$f":"INDEX(AH:AH,SMALL(ROW($AH$1:$AH$1999)+(1999*($AH$1:$AH$1999=\"\")), ROW(A387)))&\"\"","v":""},"","","","","","","","","","","","","","","","","","","","","","","","","","","","","","","",{"$f":"INDEX(AJ:AJ,SMALL(ROW($AJ$1:$AJ$1999)+(1999*($AJ$1:$AJ$1999=\"\")), ROW(A387)))&\"\"","v":""},"",{"$f":"INDEX(AK:AK,SMALL(ROW($AK$1:$AK$1999)+(1999*($AK$1:$AK$1999=\"\")), ROW(A387)))&\"\"","v":""},"","","",null,"",""]
[null,null,null,null,null,null,null,null,null,null,null,null,null,null,null,null,null,null,null,null,null,null,null,null,null,null,null,null,null,null,null,null,{"$f":"INDEX(C:C, SMALL(ROW(C$1:C$5000)+(5000*(C$1:C$5000=\"\")),ROW(A388)))&\"\"","v":""},"",{"$f":"INDEX(B:B, SMALL(ROW(B$1:B$5000)+(5000*(B$1:B$5000=\"\")),ROW(A388)))&\"\"","v":""},"","","",null,null,{"$f":"INDEX(AH:AH,SMALL(ROW($AH$1:$AH$1999)+(1999*($AH$1:$AH$1999=\"\")), ROW(A388)))&\"\"","v":""},"","","","","","","","","","","","","","","","","","","","","","","","","","","","","","","",{"$f":"INDEX(AJ:AJ,SMALL(ROW($AJ$1:$AJ$1999)+(1999*($AJ$1:$AJ$1999=\"\")), ROW(A388)))&\"\"","v":""},"",{"$f":"INDEX(AK:AK,SMALL(ROW($AK$1:$AK$1999)+(1999*($AK$1:$AK$1999=\"\")), ROW(A388)))&\"\"","v":""},"","","",null,"",""]
[null,null,null,null,null,null,null,null,null,null,null,null,null,null,null,null,null,null,null,null,null,null,null,null,null,null,null,null,null,null,null,null,{"$f":"INDEX(C:C, SMALL(ROW(C$1:C$5000)+(5000*(C$1:C$5000=\"\")),ROW(A389)))&\"\"","v":""},"",{"$f":"INDEX(B:B, SMALL(ROW(B$1:B$5000)+(5000*(B$1:B$5000=\"\")),ROW(A389)))&\"\"","v":""},"","","",null,null,{"$f":"INDEX(AH:AH,SMALL(ROW($AH$1:$AH$1999)+(1999*($AH$1:$AH$1999=\"\")), ROW(A389)))&\"\"","v":""},"","","","","","","","","","","","","","","","","","","","","","","","","","","","","","","",{"$f":"INDEX(AJ:AJ,SMALL(ROW($AJ$1:$AJ$1999)+(1999*($AJ$1:$AJ$1999=\"\")), ROW(A389)))&\"\"","v":""},"",{"$f":"INDEX(AK:AK,SMALL(ROW($AK$1:$AK$1999)+(1999*($AK$1:$AK$1999=\"\")), ROW(A389)))&\"\"","v":""},"","","",null,"",""]
[null,null,null,null,null,null,null,null,null,null,null,null,null,null,null,null,null,null,null,null,null,null,null,null,null,null,null,null,null,null,null,null,{"$f":"INDEX(C:C, SMALL(ROW(C$1:C$5000)+(5000*(C$1:C$5000=\"\")),ROW(A390)))&\"\"","v":""},"",{"$f":"INDEX(B:B, SMALL(ROW(B$1:B$5000)+(5000*(B$1:B$5000=\"\")),ROW(A390)))&\"\"","v":""},"","","",null,null,{"$f":"INDEX(AH:AH,SMALL(ROW($AH$1:$AH$1999)+(1999*($AH$1:$AH$1999=\"\")), ROW(A390)))&\"\"","v":""},"","","","","","","","","","","","","","","","","","","","","","","","","","","","","","","",{"$f":"INDEX(AJ:AJ,SMALL(ROW($AJ$1:$AJ$1999)+(1999*($AJ$1:$AJ$1999=\"\")), ROW(A390)))&\"\"","v":""},"",{"$f":"INDEX(AK:AK,SMALL(ROW($AK$1:$AK$1999)+(1999*($AK$1:$AK$1999=\"\")), ROW(A390)))&\"\"","v":""},"","","",null,"",""]
[null,null,null,null,null,null,null,null,null,null,null,null,null,null,null,null,null,null,null,null,null,null,null,null,null,null,null,null,null,null,null,null,{"$f":"INDEX(C:C, SMALL(ROW(C$1:C$5000)+(5000*(C$1:C$5000=\"\")),ROW(A391)))&\"\"","v":""},"",{"$f":"INDEX(B:B, SMALL(ROW(B$1:B$5000)+(5000*(B$1:B$5000=\"\")),ROW(A391)))&\"\"","v":""},"","","",null,null,{"$f":"INDEX(AH:AH,SMALL(ROW($AH$1:$AH$1999)+(1999*($AH$1:$AH$1999=\"\")), ROW(A391)))&\"\"","v":""},"","","","","","","","","","","","","","","","","","","","","","","","","","","","","","","",{"$f":"INDEX(AJ:AJ,SMALL(ROW($AJ$1:$AJ$1999)+(1999*($AJ$1:$AJ$1999=\"\")), ROW(A391)))&\"\"","v":""},"",{"$f":"INDEX(AK:AK,SMALL(ROW($AK$1:$AK$1999)+(1999*($AK$1:$AK$1999=\"\")), ROW(A391)))&\"\"","v":""},"","","",null,"",""]
[null,null,null,null,null,null,null,null,null,null,null,null,null,null,null,null,null,null,null,null,null,null,null,null,null,null,null,null,null,null,null,null,{"$f":"INDEX(C:C, SMALL(ROW(C$1:C$5000)+(5000*(C$1:C$5000=\"\")),ROW(A392)))&\"\"","v":""},"",{"$f":"INDEX(B:B, SMALL(ROW(B$1:B$5000)+(5000*(B$1:B$5000=\"\")),ROW(A392)))&\"\"","v":""},"","","",null,null,{"$f":"INDEX(AH:AH,SMALL(ROW($AH$1:$AH$1999)+(1999*($AH$1:$AH$1999=\"\")), ROW(A392)))&\"\"","v":""},"","","","","","","","","","","","","","","","","","","","","","","","","","","","","","","",{"$f":"INDEX(AJ:AJ,SMALL(ROW($AJ$1:$AJ$1999)+(1999*($AJ$1:$AJ$1999=\"\")), ROW(A392)))&\"\"","v":""},"",{"$f":"INDEX(AK:AK,SMALL(ROW($AK$1:$AK$1999)+(1999*($AK$1:$AK$1999=\"\")), ROW(A392)))&\"\"","v":""},"","","",null,"",""]
[null,null,null,null,null,null,null,null,null,null,null,null,null,null,null,null,null,null,null,null,null,null,null,null,null,null,null,null,null,null,null,null,{"$f":"INDEX(C:C, SMALL(ROW(C$1:C$5000)+(5000*(C$1:C$5000=\"\")),ROW(A393)))&\"\"","v":""},"",{"$f":"INDEX(B:B, SMALL(ROW(B$1:B$5000)+(5000*(B$1:B$5000=\"\")),ROW(A393)))&\"\"","v":""},"","","",null,null,{"$f":"INDEX(AH:AH,SMALL(ROW($AH$1:$AH$1999)+(1999*($AH$1:$AH$1999=\"\")), ROW(A393)))&\"\"","v":""},"","","","","","","","","","","","","","","","","","","","","","","","","","","","","","","",{"$f":"INDEX(AJ:AJ,SMALL(ROW($AJ$1:$AJ$1999)+(1999*($AJ$1:$AJ$1999=\"\")), ROW(A393)))&\"\"","v":""},"",{"$f":"INDEX(AK:AK,SMALL(ROW($AK$1:$AK$1999)+(1999*($AK$1:$AK$1999=\"\")), ROW(A393)))&\"\"","v":""},"","","",null,"",""]
[null,null,null,null,null,null,null,null,null,null,null,null,null,null,null,null,null,null,null,null,null,null,null,null,null,null,null,null,null,null,null,null,{"$f":"INDEX(C:C, SMALL(ROW(C$1:C$5000)+(5000*(C$1:C$5000=\"\")),ROW(A394)))&\"\"","v":""},"",{"$f":"INDEX(B:B, SMALL(ROW(B$1:B$5000)+(5000*(B$1:B$5000=\"\")),ROW(A394)))&\"\"","v":""},"","","",null,null,{"$f":"INDEX(AH:AH,SMALL(ROW($AH$1:$AH$1999)+(1999*($AH$1:$AH$1999=\"\")), ROW(A394)))&\"\"","v":""},"","","","","","","","","","","","","","","","","","","","","","","","","","","","","","","",{"$f":"INDEX(AJ:AJ,SMALL(ROW($AJ$1:$AJ$1999)+(1999*($AJ$1:$AJ$1999=\"\")), ROW(A394)))&\"\"","v":""},"",{"$f":"INDEX(AK:AK,SMALL(ROW($AK$1:$AK$1999)+(1999*($AK$1:$AK$1999=\"\")), ROW(A394)))&\"\"","v":""},"","","",null,"",""]
[null,null,null,null,null,null,null,null,null,null,null,null,null,null,null,null,null,null,null,null,null,null,null,null,null,null,null,null,null,null,null,null,{"$f":"INDEX(C:C, SMALL(ROW(C$1:C$5000)+(5000*(C$1:C$5000=\"\")),ROW(A395)))&\"\"","v":""},"",{"$f":"INDEX(B:B, SMALL(ROW(B$1:B$5000)+(5000*(B$1:B$5000=\"\")),ROW(A395)))&\"\"","v":""},"","","",null,null,{"$f":"INDEX(AH:AH,SMALL(ROW($AH$1:$AH$1999)+(1999*($AH$1:$AH$1999=\"\")), ROW(A395)))&\"\"","v":""},"","","","","","","","","","","","","","","","","","","","","","","","","","","","","","","",{"$f":"INDEX(AJ:AJ,SMALL(ROW($AJ$1:$AJ$1999)+(1999*($AJ$1:$AJ$1999=\"\")), ROW(A395)))&\"\"","v":""},"",{"$f":"INDEX(AK:AK,SMALL(ROW($AK$1:$AK$1999)+(1999*($AK$1:$AK$1999=\"\")), ROW(A395)))&\"\"","v":""},"","","",null,"",""]
[null,null,null,null,null,null,null,null,null,null,null,null,null,null,null,null,null,null,null,null,null,null,null,null,null,null,null,null,null,null,null,null,{"$f":"INDEX(C:C, SMALL(ROW(C$1:C$5000)+(5000*(C$1:C$5000=\"\")),ROW(A396)))&\"\"","v":""},"",{"$f":"INDEX(B:B, SMALL(ROW(B$1:B$5000)+(5000*(B$1:B$5000=\"\")),ROW(A396)))&\"\"","v":""},"","","",null,null,{"$f":"INDEX(AH:AH,SMALL(ROW($AH$1:$AH$1999)+(1999*($AH$1:$AH$1999=\"\")), ROW(A396)))&\"\"","v":""},"","","","","","","","","","","","","","","","","","","","","","","","","","","","","","","",{"$f":"INDEX(AJ:AJ,SMALL(ROW($AJ$1:$AJ$1999)+(1999*($AJ$1:$AJ$1999=\"\")), ROW(A396)))&\"\"","v":""},"",{"$f":"INDEX(AK:AK,SMALL(ROW($AK$1:$AK$1999)+(1999*($AK$1:$AK$1999=\"\")), ROW(A396)))&\"\"","v":""},"","","",null,"",""]
[null,null,null,null,null,null,null,null,null,null,null,null,null,null,null,null,null,null,null,null,null,null,null,null,null,null,null,null,null,null,null,null,{"$f":"INDEX(C:C, SMALL(ROW(C$1:C$5000)+(5000*(C$1:C$5000=\"\")),ROW(A397)))&\"\"","v":""},"",{"$f":"INDEX(B:B, SMALL(ROW(B$1:B$5000)+(5000*(B$1:B$5000=\"\")),ROW(A397)))&\"\"","v":""},"","","",null,null,{"$f":"INDEX(AH:AH,SMALL(ROW($AH$1:$AH$1999)+(1999*($AH$1:$AH$1999=\"\")), ROW(A397)))&\"\"","v":""},"","","","","","","","","","","","","","","","","","","","","","","","","","","","","","","",{"$f":"INDEX(AJ:AJ,SMALL(ROW($AJ$1:$AJ$1999)+(1999*($AJ$1:$AJ$1999=\"\")), ROW(A397)))&\"\"","v":""},"",{"$f":"INDEX(AK:AK,SMALL(ROW($AK$1:$AK$1999)+(1999*($AK$1:$AK$1999=\"\")), ROW(A397)))&\"\"","v":""},"","","",null,"",""]
[null,null,null,null,null,null,null,null,null,null,null,null,null,null,null,null,null,null,null,null,null,null,null,null,null,null,null,null,null,null,null,null,{"$f":"INDEX(C:C, SMALL(ROW(C$1:C$5000)+(5000*(C$1:C$5000=\"\")),ROW(A398)))&\"\"","v":""},"",{"$f":"INDEX(B:B, SMALL(ROW(B$1:B$5000)+(5000*(B$1:B$5000=\"\")),ROW(A398)))&\"\"","v":""},"","","",null,null,{"$f":"INDEX(AH:AH,SMALL(ROW($AH$1:$AH$1999)+(1999*($AH$1:$AH$1999=\"\")), ROW(A398)))&\"\"","v":""},"","","","","","","","","","","","","","","","","","","","","","","","","","","","","","","",{"$f":"INDEX(AJ:AJ,SMALL(ROW($AJ$1:$AJ$1999)+(1999*($AJ$1:$AJ$1999=\"\")), ROW(A398)))&\"\"","v":""},"",{"$f":"INDEX(AK:AK,SMALL(ROW($AK$1:$AK$1999)+(1999*($AK$1:$AK$1999=\"\")), ROW(A398)))&\"\"","v":""},"","","",null,"",""]
[null,null,null,null,null,null,null,null,null,null,null,null,null,null,null,null,null,null,null,null,null,null,null,null,null,null,null,null,null,null,null,null,{"$f":"INDEX(C:C, SMALL(ROW(C$1:C$5000)+(5000*(C$1:C$5000=\"\")),ROW(A399)))&\"\"","v":""},"",{"$f":"INDEX(B:B, SMALL(ROW(B$1:B$5000)+(5000*(B$1:B$5000=\"\")),ROW(A399)))&\"\"","v":""},"","","",null,null,{"$f":"INDEX(AH:AH,SMALL(ROW($AH$1:$AH$1999)+(1999*($AH$1:$AH$1999=\"\")), ROW(A399)))&\"\"","v":""},"","","","","","","","","","","","","","","","","","","","","","","","","","","","","","","",{"$f":"INDEX(AJ:AJ,SMALL(ROW($AJ$1:$AJ$1999)+(1999*($AJ$1:$AJ$1999=\"\")), ROW(A399)))&\"\"","v":""},"",{"$f":"INDEX(AK:AK,SMALL(ROW($AK$1:$AK$1999)+(1999*($AK$1:$AK$1999=\"\")), ROW(A399)))&\"\"","v":""},"","","",null,"",""]
[null,null,null,null,null,null,null,null,null,null,null,null,null,null,null,null,null,null,null,null,null,null,null,null,null,null,null,null,null,null,null,null,{"$f":"INDEX(C:C, SMALL(ROW(C$1:C$5000)+(5000*(C$1:C$5000=\"\")),ROW(A400)))&\"\"","v":""},"",{"$f":"INDEX(B:B, SMALL(ROW(B$1:B$5000)+(5000*(B$1:B$5000=\"\")),ROW(A400)))&\"\"","v":""},"","","",null,null,{"$f":"INDEX(AH:AH,SMALL(ROW($AH$1:$AH$1999)+(1999*($AH$1:$AH$1999=\"\")), ROW(A400)))&\"\"","v":""},"","","","","","","","","","","","","","","","","","","","","","","","","","","","","","","",{"$f":"INDEX(AJ:AJ,SMALL(ROW($AJ$1:$AJ$1999)+(1999*($AJ$1:$AJ$1999=\"\")), ROW(A400)))&\"\"","v":""},"",{"$f":"INDEX(AK:AK,SMALL(ROW($AK$1:$AK$1999)+(1999*($AK$1:$AK$1999=\"\")), ROW(A400)))&\"\"","v":""},"","","",null,"",""]
[null,null,null,null,null,null,null,null,null,null,null,null,null,null,null,null,null,null,null,null,null,null,null,null,null,null,null,null,null,null,null,null,{"$f":"INDEX(C:C, SMALL(ROW(C$1:C$5000)+(5000*(C$1:C$5000=\"\")),ROW(A401)))&\"\"","v":""},"",{"$f":"INDEX(B:B, SMALL(ROW(B$1:B$5000)+(5000*(B$1:B$5000=\"\")),ROW(A401)))&\"\"","v":""},"","","",null,null,{"$f":"INDEX(AH:AH,SMALL(ROW($AH$1:$AH$1999)+(1999*($AH$1:$AH$1999=\"\")), ROW(A401)))&\"\"","v":""},"","","","","","","","","","","","","","","","","","","","","","","","","","","","","","","",{"$f":"INDEX(AJ:AJ,SMALL(ROW($AJ$1:$AJ$1999)+(1999*($AJ$1:$AJ$1999=\"\")), ROW(A401)))&\"\"","v":""},"",{"$f":"INDEX(AK:AK,SMALL(ROW($AK$1:$AK$1999)+(1999*($AK$1:$AK$1999=\"\")), ROW(A401)))&\"\"","v":""},"","","",null,"",""]
[null,null,null,null,null,null,null,null,null,null,null,null,null,null,null,null,null,null,null,null,null,null,null,null,null,null,null,null,null,null,null,null,{"$f":"INDEX(C:C, SMALL(ROW(C$1:C$5000)+(5000*(C$1:C$5000=\"\")),ROW(A402)))&\"\"","v":""},"",{"$f":"INDEX(B:B, SMALL(ROW(B$1:B$5000)+(5000*(B$1:B$5000=\"\")),ROW(A402)))&\"\"","v":""},"","","",null,null,{"$f":"INDEX(AH:AH,SMALL(ROW($AH$1:$AH$1999)+(1999*($AH$1:$AH$1999=\"\")), ROW(A402)))&\"\"","v":""},"","","","","","","","","","","","","","","","","","","","","","","","","","","","","","","",{"$f":"INDEX(AJ:AJ,SMALL(ROW($AJ$1:$AJ$1999)+(1999*($AJ$1:$AJ$1999=\"\")), ROW(A402)))&\"\"","v":""},"",{"$f":"INDEX(AK:AK,SMALL(ROW($AK$1:$AK$1999)+(1999*($AK$1:$AK$1999=\"\")), ROW(A402)))&\"\"","v":""},"","","",null,"",""]
[null,null,null,null,null,null,null,null,null,null,null,null,null,null,null,null,null,null,null,null,null,null,null,null,null,null,null,null,null,null,null,null,{"$f":"INDEX(C:C, SMALL(ROW(C$1:C$5000)+(5000*(C$1:C$5000=\"\")),ROW(A403)))&\"\"","v":""},"",{"$f":"INDEX(B:B, SMALL(ROW(B$1:B$5000)+(5000*(B$1:B$5000=\"\")),ROW(A403)))&\"\"","v":""},"","","",null,null,{"$f":"INDEX(AH:AH,SMALL(ROW($AH$1:$AH$1999)+(1999*($AH$1:$AH$1999=\"\")), ROW(A403)))&\"\"","v":""},"","","","","","","","","","","","","","","","","","","","","","","","","","","","","","","",{"$f":"INDEX(AJ:AJ,SMALL(ROW($AJ$1:$AJ$1999)+(1999*($AJ$1:$AJ$1999=\"\")), ROW(A403)))&\"\"","v":""},"",{"$f":"INDEX(AK:AK,SMALL(ROW($AK$1:$AK$1999)+(1999*($AK$1:$AK$1999=\"\")), ROW(A403)))&\"\"","v":""},"","","",null,"",""]
[null,null,null,null,null,null,null,null,null,null,null,null,null,null,null,null,null,null,null,null,null,null,null,null,null,null,null,null,null,null,null,null,{"$f":"INDEX(C:C, SMALL(ROW(C$1:C$5000)+(5000*(C$1:C$5000=\"\")),ROW(A404)))&\"\"","v":""},"",{"$f":"INDEX(B:B, SMALL(ROW(B$1:B$5000)+(5000*(B$1:B$5000=\"\")),ROW(A404)))&\"\"","v":""},"","","",null,null,{"$f":"INDEX(AH:AH,SMALL(ROW($AH$1:$AH$1999)+(1999*($AH$1:$AH$1999=\"\")), ROW(A404)))&\"\"","v":""},"","","","","","","","","","","","","","","","","","","","","","","","","","","","","","","",{"$f":"INDEX(AJ:AJ,SMALL(ROW($AJ$1:$AJ$1999)+(1999*($AJ$1:$AJ$1999=\"\")), ROW(A404)))&\"\"","v":""},"",{"$f":"INDEX(AK:AK,SMALL(ROW($AK$1:$AK$1999)+(1999*($AK$1:$AK$1999=\"\")), ROW(A404)))&\"\"","v":""},"","","",null,"",""]
[null,null,null,null,null,null,null,null,null,null,null,null,null,null,null,null,null,null,null,null,null,null,null,null,null,null,null,null,null,null,null,null,{"$f":"INDEX(C:C, SMALL(ROW(C$1:C$5000)+(5000*(C$1:C$5000=\"\")),ROW(A405)))&\"\"","v":""},"",{"$f":"INDEX(B:B, SMALL(ROW(B$1:B$5000)+(5000*(B$1:B$5000=\"\")),ROW(A405)))&\"\"","v":""},"","","",null,null,{"$f":"INDEX(AH:AH,SMALL(ROW($AH$1:$AH$1999)+(1999*($AH$1:$AH$1999=\"\")), ROW(A405)))&\"\"","v":""},"","","","","","","","","","","","","","","","","","","","","","","","","","","","","","","",{"$f":"INDEX(AJ:AJ,SMALL(ROW($AJ$1:$AJ$1999)+(1999*($AJ$1:$AJ$1999=\"\")), ROW(A405)))&\"\"","v":""},"",{"$f":"INDEX(AK:AK,SMALL(ROW($AK$1:$AK$1999)+(1999*($AK$1:$AK$1999=\"\")), ROW(A405)))&\"\"","v":""},"","","",null,"",""]
[null,null,null,null,null,null,null,null,null,null,null,null,null,null,null,null,null,null,null,null,null,null,null,null,null,null,null,null,null,null,null,null,{"$f":"INDEX(C:C, SMALL(ROW(C$1:C$5000)+(5000*(C$1:C$5000=\"\")),ROW(A406)))&\"\"","v":""},"",{"$f":"INDEX(B:B, SMALL(ROW(B$1:B$5000)+(5000*(B$1:B$5000=\"\")),ROW(A406)))&\"\"","v":""},"","","",null,null,{"$f":"INDEX(AH:AH,SMALL(ROW($AH$1:$AH$1999)+(1999*($AH$1:$AH$1999=\"\")), ROW(A406)))&\"\"","v":""},"","","","","","","","","","","","","","","","","","","","","","","","","","","","","","","",{"$f":"INDEX(AJ:AJ,SMALL(ROW($AJ$1:$AJ$1999)+(1999*($AJ$1:$AJ$1999=\"\")), ROW(A406)))&\"\"","v":""},"",{"$f":"INDEX(AK:AK,SMALL(ROW($AK$1:$AK$1999)+(1999*($AK$1:$AK$1999=\"\")), ROW(A406)))&\"\"","v":""},"","","",null,"",""]
[null,null,null,null,null,null,null,null,null,null,null,null,null,null,null,null,null,null,null,null,null,null,null,null,null,null,null,null,null,null,null,null,{"$f":"INDEX(C:C, SMALL(ROW(C$1:C$5000)+(5000*(C$1:C$5000=\"\")),ROW(A407)))&\"\"","v":""},"",{"$f":"INDEX(B:B, SMALL(ROW(B$1:B$5000)+(5000*(B$1:B$5000=\"\")),ROW(A407)))&\"\"","v":""},"","","",null,null,{"$f":"INDEX(AH:AH,SMALL(ROW($AH$1:$AH$1999)+(1999*($AH$1:$AH$1999=\"\")), ROW(A407)))&\"\"","v":""},"","","","","","","","","","","","","","","","","","","","","","","","","","","","","","","",{"$f":"INDEX(AJ:AJ,SMALL(ROW($AJ$1:$AJ$1999)+(1999*($AJ$1:$AJ$1999=\"\")), ROW(A407)))&\"\"","v":""},"",{"$f":"INDEX(AK:AK,SMALL(ROW($AK$1:$AK$1999)+(1999*($AK$1:$AK$1999=\"\")), ROW(A407)))&\"\"","v":""},"","","",null,"",""]
[null,null,null,null,null,null,null,null,null,null,null,null,null,null,null,null,null,null,null,null,null,null,null,null,null,null,null,null,null,null,null,null,{"$f":"INDEX(C:C, SMALL(ROW(C$1:C$5000)+(5000*(C$1:C$5000=\"\")),ROW(A408)))&\"\"","v":""},"",{"$f":"INDEX(B:B, SMALL(ROW(B$1:B$5000)+(5000*(B$1:B$5000=\"\")),ROW(A408)))&\"\"","v":""},"","","",null,null,{"$f":"INDEX(AH:AH,SMALL(ROW($AH$1:$AH$1999)+(1999*($AH$1:$AH$1999=\"\")), ROW(A408)))&\"\"","v":""},"","","","","","","","","","","","","","","","","","","","","","","","","","","","","","","",{"$f":"INDEX(AJ:AJ,SMALL(ROW($AJ$1:$AJ$1999)+(1999*($AJ$1:$AJ$1999=\"\")), ROW(A408)))&\"\"","v":""},"",{"$f":"INDEX(AK:AK,SMALL(ROW($AK$1:$AK$1999)+(1999*($AK$1:$AK$1999=\"\")), ROW(A408)))&\"\"","v":""},"","","",null,"",""]
[null,null,null,null,null,null,null,null,null,null,null,null,null,null,null,null,null,null,null,null,null,null,null,null,null,null,null,null,null,null,null,null,{"$f":"INDEX(C:C, SMALL(ROW(C$1:C$5000)+(5000*(C$1:C$5000=\"\")),ROW(A409)))&\"\"","v":""},"",{"$f":"INDEX(B:B, SMALL(ROW(B$1:B$5000)+(5000*(B$1:B$5000=\"\")),ROW(A409)))&\"\"","v":""},"","","",null,null,{"$f":"INDEX(AH:AH,SMALL(ROW($AH$1:$AH$1999)+(1999*($AH$1:$AH$1999=\"\")), ROW(A409)))&\"\"","v":""},"","","","","","","","","","","","","","","","","","","","","","","","","","","","","","","",{"$f":"INDEX(AJ:AJ,SMALL(ROW($AJ$1:$AJ$1999)+(1999*($AJ$1:$AJ$1999=\"\")), ROW(A409)))&\"\"","v":""},"",{"$f":"INDEX(AK:AK,SMALL(ROW($AK$1:$AK$1999)+(1999*($AK$1:$AK$1999=\"\")), ROW(A409)))&\"\"","v":""},"","","",null,"",""]
[null,null,null,null,null,null,null,null,null,null,null,null,null,null,null,null,null,null,null,null,null,null,null,null,null,null,null,null,null,null,null,null,{"$f":"INDEX(C:C, SMALL(ROW(C$1:C$5000)+(5000*(C$1:C$5000=\"\")),ROW(A410)))&\"\"","v":""},"",{"$f":"INDEX(B:B, SMALL(ROW(B$1:B$5000)+(5000*(B$1:B$5000=\"\")),ROW(A410)))&\"\"","v":""},"","","",null,null,{"$f":"INDEX(AH:AH,SMALL(ROW($AH$1:$AH$1999)+(1999*($AH$1:$AH$1999=\"\")), ROW(A410)))&\"\"","v":""},"","","","","","","","","","","","","","","","","","","","","","","","","","","","","","","",{"$f":"INDEX(AJ:AJ,SMALL(ROW($AJ$1:$AJ$1999)+(1999*($AJ$1:$AJ$1999=\"\")), ROW(A410)))&\"\"","v":""},"",{"$f":"INDEX(AK:AK,SMALL(ROW($AK$1:$AK$1999)+(1999*($AK$1:$AK$1999=\"\")), ROW(A410)))&\"\"","v":""},"","","",null,"",""]
[null,null,null,null,null,null,null,null,null,null,null,null,null,null,null,null,null,null,null,null,null,null,null,null,null,null,null,null,null,null,null,null,{"$f":"INDEX(C:C, SMALL(ROW(C$1:C$5000)+(5000*(C$1:C$5000=\"\")),ROW(A411)))&\"\"","v":""},"",{"$f":"INDEX(B:B, SMALL(ROW(B$1:B$5000)+(5000*(B$1:B$5000=\"\")),ROW(A411)))&\"\"","v":""},"","","",null,null,{"$f":"INDEX(AH:AH,SMALL(ROW($AH$1:$AH$1999)+(1999*($AH$1:$AH$1999=\"\")), ROW(A411)))&\"\"","v":""},"","","","","","","","","","","","","","","","","","","","","","","","","","","","","","","",{"$f":"INDEX(AJ:AJ,SMALL(ROW($AJ$1:$AJ$1999)+(1999*($AJ$1:$AJ$1999=\"\")), ROW(A411)))&\"\"","v":""},"",{"$f":"INDEX(AK:AK,SMALL(ROW($AK$1:$AK$1999)+(1999*($AK$1:$AK$1999=\"\")), ROW(A411)))&\"\"","v":""},"","","",null,"",""]
[null,null,null,null,null,null,null,null,null,null,null,null,null,null,null,null,null,null,null,null,null,null,null,null,null,null,null,null,null,null,null,null,{"$f":"INDEX(C:C, SMALL(ROW(C$1:C$5000)+(5000*(C$1:C$5000=\"\")),ROW(A412)))&\"\"","v":""},"",{"$f":"INDEX(B:B, SMALL(ROW(B$1:B$5000)+(5000*(B$1:B$5000=\"\")),ROW(A412)))&\"\"","v":""},"","","",null,null,{"$f":"INDEX(AH:AH,SMALL(ROW($AH$1:$AH$1999)+(1999*($AH$1:$AH$1999=\"\")), ROW(A412)))&\"\"","v":""},"","","","","","","","","","","","","","","","","","","","","","","","","","","","","","","",{"$f":"INDEX(AJ:AJ,SMALL(ROW($AJ$1:$AJ$1999)+(1999*($AJ$1:$AJ$1999=\"\")), ROW(A412)))&\"\"","v":""},"",{"$f":"INDEX(AK:AK,SMALL(ROW($AK$1:$AK$1999)+(1999*($AK$1:$AK$1999=\"\")), ROW(A412)))&\"\"","v":""},"","","",null,"",""]
[null,null,null,null,null,null,null,null,null,null,null,null,null,null,null,null,null,null,null,null,null,null,null,null,null,null,null,null,null,null,null,null,{"$f":"INDEX(C:C, SMALL(ROW(C$1:C$5000)+(5000*(C$1:C$5000=\"\")),ROW(A413)))&\"\"","v":""},"",{"$f":"INDEX(B:B, SMALL(ROW(B$1:B$5000)+(5000*(B$1:B$5000=\"\")),ROW(A413)))&\"\"","v":""},"","","",null,null,{"$f":"INDEX(AH:AH,SMALL(ROW($AH$1:$AH$1999)+(1999*($AH$1:$AH$1999=\"\")), ROW(A413)))&\"\"","v":""},"","","","","","","","","","","","","","","","","","","","","","","","","","","","","","","",{"$f":"INDEX(AJ:AJ,SMALL(ROW($AJ$1:$AJ$1999)+(1999*($AJ$1:$AJ$1999=\"\")), ROW(A413)))&\"\"","v":""},"",{"$f":"INDEX(AK:AK,SMALL(ROW($AK$1:$AK$1999)+(1999*($AK$1:$AK$1999=\"\")), ROW(A413)))&\"\"","v":""},"","","",null,"",""]
[null,null,null,null,null,null,null,null,null,null,null,null,null,null,null,null,null,null,null,null,null,null,null,null,null,null,null,null,null,null,null,null,{"$f":"INDEX(C:C, SMALL(ROW(C$1:C$5000)+(5000*(C$1:C$5000=\"\")),ROW(A414)))&\"\"","v":""},"",{"$f":"INDEX(B:B, SMALL(ROW(B$1:B$5000)+(5000*(B$1:B$5000=\"\")),ROW(A414)))&\"\"","v":""},"","","",null,null,{"$f":"INDEX(AH:AH,SMALL(ROW($AH$1:$AH$1999)+(1999*($AH$1:$AH$1999=\"\")), ROW(A414)))&\"\"","v":""},"","","","","","","","","","","",{"$f":"IFERROR(IF(ISNUMBER(SEARCH(\"*TE*\",AZ414)),BV414,\"\"),VALUE(0))","v":""},"","","","","","","","","","","","","","","","","","","",{"$f":"INDEX(AJ:AJ,SMALL(ROW($AJ$1:$AJ$1999)+(1999*($AJ$1:$AJ$1999=\"\")), ROW(A414)))&\"\"","v":""},"",{"$f":"INDEX(AK:AK,SMALL(ROW($AK$1:$AK$1999)+(1999*($AK$1:$AK$1999=\"\")), ROW(A414)))&\"\"","v":""},"","","",null,"",""]
[null,null,null,null,null,null,null,null,null,null,null,null,null,null,null,null,null,null,null,null,null,null,null,null,null,null,null,null,null,null,null,null,{"$f":"INDEX(C:C, SMALL(ROW(C$1:C$5000)+(5000*(C$1:C$5000=\"\")),ROW(A415)))&\"\"","v":""},"",{"$f":"INDEX(B:B, SMALL(ROW(B$1:B$5000)+(5000*(B$1:B$5000=\"\")),ROW(A415)))&\"\"","v":""},"","","",null,null,{"$f":"INDEX(AH:AH,SMALL(ROW($AH$1:$AH$1999)+(1999*($AH$1:$AH$1999=\"\")), ROW(A415)))&\"\"","v":""},"","","","","","","","","","","","","","","","","","","","","","","","","","","","","","","",{"$f":"INDEX(AJ:AJ,SMALL(ROW($AJ$1:$AJ$1999)+(1999*($AJ$1:$AJ$1999=\"\")), ROW(A415)))&\"\"","v":""},"",{"$f":"INDEX(AK:AK,SMALL(ROW($AK$1:$AK$1999)+(1999*($AK$1:$AK$1999=\"\")), ROW(A415)))&\"\"","v":""},"","","",null,"",""]
[null,null,null,null,null,null,null,null,null,null,null,null,null,null,null,null,null,null,null,null,null,null,null,null,null,null,null,null,null,null,null,null,{"$f":"INDEX(C:C, SMALL(ROW(C$1:C$5000)+(5000*(C$1:C$5000=\"\")),ROW(A416)))&\"\"","v":""},"",{"$f":"INDEX(B:B, SMALL(ROW(B$1:B$5000)+(5000*(B$1:B$5000=\"\")),ROW(A416)))&\"\"","v":""},"","","",null,null,{"$f":"INDEX(AH:AH,SMALL(ROW($AH$1:$AH$1999)+(1999*($AH$1:$AH$1999=\"\")), ROW(A416)))&\"\"","v":""},"","","","","","","","","","","","","","","","","","","","","","","","","","","","","","","",{"$f":"INDEX(AJ:AJ,SMALL(ROW($AJ$1:$AJ$1999)+(1999*($AJ$1:$AJ$1999=\"\")), ROW(A416)))&\"\"","v":""},"",{"$f":"INDEX(AK:AK,SMALL(ROW($AK$1:$AK$1999)+(1999*($AK$1:$AK$1999=\"\")), ROW(A416)))&\"\"","v":""},"","","",null,"",""]
[null,null,null,null,null,null,null,null,null,null,null,null,null,null,null,null,null,null,null,null,null,null,null,null,null,null,null,null,null,null,null,null,{"$f":"INDEX(C:C, SMALL(ROW(C$1:C$5000)+(5000*(C$1:C$5000=\"\")),ROW(A417)))&\"\"","v":""},"",{"$f":"INDEX(B:B, SMALL(ROW(B$1:B$5000)+(5000*(B$1:B$5000=\"\")),ROW(A417)))&\"\"","v":""},"","","",null,null,{"$f":"INDEX(AH:AH,SMALL(ROW($AH$1:$AH$1999)+(1999*($AH$1:$AH$1999=\"\")), ROW(A417)))&\"\"","v":""},"","","","","","","","","","","","","","","","","","","","","","","","","","","","","","","",{"$f":"INDEX(AJ:AJ,SMALL(ROW($AJ$1:$AJ$1999)+(1999*($AJ$1:$AJ$1999=\"\")), ROW(A417)))&\"\"","v":""},"",{"$f":"INDEX(AK:AK,SMALL(ROW($AK$1:$AK$1999)+(1999*($AK$1:$AK$1999=\"\")), ROW(A417)))&\"\"","v":""},"","","",null,"",""]
[null,null,null,null,null,null,null,null,null,null,null,null,null,null,null,null,null,null,null,null,null,null,null,null,null,null,null,null,null,null,null,null,{"$f":"INDEX(C:C, SMALL(ROW(C$1:C$5000)+(5000*(C$1:C$5000=\"\")),ROW(A418)))&\"\"","v":""},"",{"$f":"INDEX(B:B, SMALL(ROW(B$1:B$5000)+(5000*(B$1:B$5000=\"\")),ROW(A418)))&\"\"","v":""},"","","",null,null,{"$f":"INDEX(AH:AH,SMALL(ROW($AH$1:$AH$1999)+(1999*($AH$1:$AH$1999=\"\")), ROW(A418)))&\"\"","v":""},"","","","","","","","","","","","","","","","","","","","","","","","","","","","","","","",{"$f":"INDEX(AJ:AJ,SMALL(ROW($AJ$1:$AJ$1999)+(1999*($AJ$1:$AJ$1999=\"\")), ROW(A418)))&\"\"","v":""},"",{"$f":"INDEX(AK:AK,SMALL(ROW($AK$1:$AK$1999)+(1999*($AK$1:$AK$1999=\"\")), ROW(A418)))&\"\"","v":""},"","","",null,"",""]
[null,null,null,null,null,null,null,null,null,null,null,null,null,null,null,null,null,null,null,null,null,null,null,null,null,null,null,null,null,null,null,null,{"$f":"INDEX(C:C, SMALL(ROW(C$1:C$5000)+(5000*(C$1:C$5000=\"\")),ROW(A419)))&\"\"","v":""},"",{"$f":"INDEX(B:B, SMALL(ROW(B$1:B$5000)+(5000*(B$1:B$5000=\"\")),ROW(A419)))&\"\"","v":""},"","","",null,null,{"$f":"INDEX(AH:AH,SMALL(ROW($AH$1:$AH$1999)+(1999*($AH$1:$AH$1999=\"\")), ROW(A419)))&\"\"","v":""},"","","","","","","","","","","","","","","","","","","","","","","","","","","","","","","",{"$f":"INDEX(AJ:AJ,SMALL(ROW($AJ$1:$AJ$1999)+(1999*($AJ$1:$AJ$1999=\"\")), ROW(A419)))&\"\"","v":""},"",{"$f":"INDEX(AK:AK,SMALL(ROW($AK$1:$AK$1999)+(1999*($AK$1:$AK$1999=\"\")), ROW(A419)))&\"\"","v":""},"","","",null,"",""]
[null,null,null,null,null,null,null,null,null,null,null,null,null,null,null,null,null,null,null,null,null,null,null,null,null,null,null,null,null,null,null,null,{"$f":"INDEX(C:C, SMALL(ROW(C$1:C$5000)+(5000*(C$1:C$5000=\"\")),ROW(A420)))&\"\"","v":""},"",{"$f":"INDEX(B:B, SMALL(ROW(B$1:B$5000)+(5000*(B$1:B$5000=\"\")),ROW(A420)))&\"\"","v":""},"","","",null,null,{"$f":"INDEX(AH:AH,SMALL(ROW($AH$1:$AH$1999)+(1999*($AH$1:$AH$1999=\"\")), ROW(A420)))&\"\"","v":""},"","","","","","","","","","","","","","","","","","","","","","","","","","","","","","","",{"$f":"INDEX(AJ:AJ,SMALL(ROW($AJ$1:$AJ$1999)+(1999*($AJ$1:$AJ$1999=\"\")), ROW(A420)))&\"\"","v":""},"",{"$f":"INDEX(AK:AK,SMALL(ROW($AK$1:$AK$1999)+(1999*($AK$1:$AK$1999=\"\")), ROW(A420)))&\"\"","v":""},"","","",null,"",""]
[null,null,null,null,null,null,null,null,null,null,null,null,null,null,null,null,null,null,null,null,null,null,null,null,null,null,null,null,null,null,null,null,{"$f":"INDEX(C:C, SMALL(ROW(C$1:C$5000)+(5000*(C$1:C$5000=\"\")),ROW(A421)))&\"\"","v":""},"",{"$f":"INDEX(B:B, SMALL(ROW(B$1:B$5000)+(5000*(B$1:B$5000=\"\")),ROW(A421)))&\"\"","v":""},"","","",null,null,{"$f":"INDEX(AH:AH,SMALL(ROW($AH$1:$AH$1999)+(1999*($AH$1:$AH$1999=\"\")), ROW(A421)))&\"\"","v":""},"","","","","","","","","","","","","","","","","","","","","","","","","","","","","","","",{"$f":"INDEX(AJ:AJ,SMALL(ROW($AJ$1:$AJ$1999)+(1999*($AJ$1:$AJ$1999=\"\")), ROW(A421)))&\"\"","v":""},"",{"$f":"INDEX(AK:AK,SMALL(ROW($AK$1:$AK$1999)+(1999*($AK$1:$AK$1999=\"\")), ROW(A421)))&\"\"","v":""},"","","",null,"",""]
[null,null,null,null,null,null,null,null,null,null,null,null,null,null,null,null,null,null,null,null,null,null,null,null,null,null,null,null,null,null,null,null,{"$f":"INDEX(C:C, SMALL(ROW(C$1:C$5000)+(5000*(C$1:C$5000=\"\")),ROW(A422)))&\"\"","v":""},"",{"$f":"INDEX(B:B, SMALL(ROW(B$1:B$5000)+(5000*(B$1:B$5000=\"\")),ROW(A422)))&\"\"","v":""},"","","",null,null,{"$f":"INDEX(AH:AH,SMALL(ROW($AH$1:$AH$1999)+(1999*($AH$1:$AH$1999=\"\")), ROW(A422)))&\"\"","v":""},"","","","","","","","","","","","","","","","","","","","","","","","","","","","","","","",{"$f":"INDEX(AJ:AJ,SMALL(ROW($AJ$1:$AJ$1999)+(1999*($AJ$1:$AJ$1999=\"\")), ROW(A422)))&\"\"","v":""},"",{"$f":"INDEX(AK:AK,SMALL(ROW($AK$1:$AK$1999)+(1999*($AK$1:$AK$1999=\"\")), ROW(A422)))&\"\"","v":""},"","","",null,"",""]
[null,null,null,null,null,null,null,null,null,null,null,null,null,null,null,null,null,null,null,null,null,null,null,null,null,null,null,null,null,null,null,null,{"$f":"INDEX(C:C, SMALL(ROW(C$1:C$5000)+(5000*(C$1:C$5000=\"\")),ROW(A423)))&\"\"","v":""},"",{"$f":"INDEX(B:B, SMALL(ROW(B$1:B$5000)+(5000*(B$1:B$5000=\"\")),ROW(A423)))&\"\"","v":""},"","","",null,null,{"$f":"INDEX(AH:AH,SMALL(ROW($AH$1:$AH$1999)+(1999*($AH$1:$AH$1999=\"\")), ROW(A423)))&\"\"","v":""},"","","","","","","","","","","","","","","","","","","","","","","","","","","","","","","",{"$f":"INDEX(AJ:AJ,SMALL(ROW($AJ$1:$AJ$1999)+(1999*($AJ$1:$AJ$1999=\"\")), ROW(A423)))&\"\"","v":""},"",{"$f":"INDEX(AK:AK,SMALL(ROW($AK$1:$AK$1999)+(1999*($AK$1:$AK$1999=\"\")), ROW(A423)))&\"\"","v":""},"","","",null,"",""]
[null,null,null,null,null,null,null,null,null,null,null,null,null,null,null,null,null,null,null,null,null,null,null,null,null,null,null,null,null,null,null,null,{"$f":"INDEX(C:C, SMALL(ROW(C$1:C$5000)+(5000*(C$1:C$5000=\"\")),ROW(A424)))&\"\"","v":""},"",{"$f":"INDEX(B:B, SMALL(ROW(B$1:B$5000)+(5000*(B$1:B$5000=\"\")),ROW(A424)))&\"\"","v":""},"","","",null,null,{"$f":"INDEX(AH:AH,SMALL(ROW($AH$1:$AH$1999)+(1999*($AH$1:$AH$1999=\"\")), ROW(A424)))&\"\"","v":""},"","","","","","","","","","","","","","","","","","","","","","","","","","","","","","","",{"$f":"INDEX(AJ:AJ,SMALL(ROW($AJ$1:$AJ$1999)+(1999*($AJ$1:$AJ$1999=\"\")), ROW(A424)))&\"\"","v":""},"",{"$f":"INDEX(AK:AK,SMALL(ROW($AK$1:$AK$1999)+(1999*($AK$1:$AK$1999=\"\")), ROW(A424)))&\"\"","v":""},"","","",null,"",""]
[null,null,null,null,null,null,null,null,null,null,null,null,null,null,null,null,null,null,null,null,null,null,null,null,null,null,null,null,null,null,null,null,{"$f":"INDEX(C:C, SMALL(ROW(C$1:C$5000)+(5000*(C$1:C$5000=\"\")),ROW(A425)))&\"\"","v":""},"",{"$f":"INDEX(B:B, SMALL(ROW(B$1:B$5000)+(5000*(B$1:B$5000=\"\")),ROW(A425)))&\"\"","v":""},"","","",null,null,{"$f":"INDEX(AH:AH,SMALL(ROW($AH$1:$AH$1999)+(1999*($AH$1:$AH$1999=\"\")), ROW(A425)))&\"\"","v":""},"","","","","","","","","","","","","","","","","","","","","","","","","","","","","","","",{"$f":"INDEX(AJ:AJ,SMALL(ROW($AJ$1:$AJ$1999)+(1999*($AJ$1:$AJ$1999=\"\")), ROW(A425)))&\"\"","v":""},"",{"$f":"INDEX(AK:AK,SMALL(ROW($AK$1:$AK$1999)+(1999*($AK$1:$AK$1999=\"\")), ROW(A425)))&\"\"","v":""},"","","",null,"",""]
[null,null,null,null,null,null,null,null,null,null,null,null,null,null,null,null,null,null,null,null,null,null,null,null,null,null,null,null,null,null,null,null,{"$f":"INDEX(C:C, SMALL(ROW(C$1:C$5000)+(5000*(C$1:C$5000=\"\")),ROW(A426)))&\"\"","v":""},"",{"$f":"INDEX(B:B, SMALL(ROW(B$1:B$5000)+(5000*(B$1:B$5000=\"\")),ROW(A426)))&\"\"","v":""},"","","",null,null,{"$f":"INDEX(AH:AH,SMALL(ROW($AH$1:$AH$1999)+(1999*($AH$1:$AH$1999=\"\")), ROW(A426)))&\"\"","v":""},"","","","","","","","","","","","","","","","","","","","","","","","","","","","","","","",{"$f":"INDEX(AJ:AJ,SMALL(ROW($AJ$1:$AJ$1999)+(1999*($AJ$1:$AJ$1999=\"\")), ROW(A426)))&\"\"","v":""},"",{"$f":"INDEX(AK:AK,SMALL(ROW($AK$1:$AK$1999)+(1999*($AK$1:$AK$1999=\"\")), ROW(A426)))&\"\"","v":""},"","","",null,"",""]
[null,null,null,null,null,null,null,null,null,null,null,null,null,null,null,null,null,null,null,null,null,null,null,null,null,null,null,null,null,null,null,null,{"$f":"INDEX(C:C, SMALL(ROW(C$1:C$5000)+(5000*(C$1:C$5000=\"\")),ROW(A427)))&\"\"","v":""},"",{"$f":"INDEX(B:B, SMALL(ROW(B$1:B$5000)+(5000*(B$1:B$5000=\"\")),ROW(A427)))&\"\"","v":""},"","","",null,null,{"$f":"INDEX(AH:AH,SMALL(ROW($AH$1:$AH$1999)+(1999*($AH$1:$AH$1999=\"\")), ROW(A427)))&\"\"","v":""},"","","","","","","","","","","","","","","","","","","","","","","","","","","","","","","",{"$f":"INDEX(AJ:AJ,SMALL(ROW($AJ$1:$AJ$1999)+(1999*($AJ$1:$AJ$1999=\"\")), ROW(A427)))&\"\"","v":""},"",{"$f":"INDEX(AK:AK,SMALL(ROW($AK$1:$AK$1999)+(1999*($AK$1:$AK$1999=\"\")), ROW(A427)))&\"\"","v":""},"","","",null,"",""]
[null,null,null,null,null,null,null,null,null,null,null,null,null,null,null,null,null,null,null,null,null,null,null,null,null,null,null,null,null,null,null,null,{"$f":"INDEX(C:C, SMALL(ROW(C$1:C$5000)+(5000*(C$1:C$5000=\"\")),ROW(A428)))&\"\"","v":""},"",{"$f":"INDEX(B:B, SMALL(ROW(B$1:B$5000)+(5000*(B$1:B$5000=\"\")),ROW(A428)))&\"\"","v":""},"","","",null,null,{"$f":"INDEX(AH:AH,SMALL(ROW($AH$1:$AH$1999)+(1999*($AH$1:$AH$1999=\"\")), ROW(A428)))&\"\"","v":""},"","","","","","","","","","","","","","","","","","","","","","","","","","","","","","","",{"$f":"INDEX(AJ:AJ,SMALL(ROW($AJ$1:$AJ$1999)+(1999*($AJ$1:$AJ$1999=\"\")), ROW(A428)))&\"\"","v":""},"",{"$f":"INDEX(AK:AK,SMALL(ROW($AK$1:$AK$1999)+(1999*($AK$1:$AK$1999=\"\")), ROW(A428)))&\"\"","v":""},"","","",null,"",""]
[null,null,null,null,null,null,null,null,null,null,null,null,null,null,null,null,null,null,null,null,null,null,null,null,null,null,null,null,null,null,null,null,{"$f":"INDEX(C:C, SMALL(ROW(C$1:C$5000)+(5000*(C$1:C$5000=\"\")),ROW(A429)))&\"\"","v":""},"",{"$f":"INDEX(B:B, SMALL(ROW(B$1:B$5000)+(5000*(B$1:B$5000=\"\")),ROW(A429)))&\"\"","v":""},"","","",null,null,{"$f":"INDEX(AH:AH,SMALL(ROW($AH$1:$AH$1999)+(1999*($AH$1:$AH$1999=\"\")), ROW(A429)))&\"\"","v":""},"","","","","","","","","","","","","","","","","","","","","","","","","","","","","","","",{"$f":"INDEX(AJ:AJ,SMALL(ROW($AJ$1:$AJ$1999)+(1999*($AJ$1:$AJ$1999=\"\")), ROW(A429)))&\"\"","v":""},"",{"$f":"INDEX(AK:AK,SMALL(ROW($AK$1:$AK$1999)+(1999*($AK$1:$AK$1999=\"\")), ROW(A429)))&\"\"","v":""},"","","",null,"",""]
[null,null,null,null,null,null,null,null,null,null,null,null,null,null,null,null,null,null,null,null,null,null,null,null,null,null,null,null,null,null,null,null,{"$f":"INDEX(C:C, SMALL(ROW(C$1:C$5000)+(5000*(C$1:C$5000=\"\")),ROW(A430)))&\"\"","v":""},"",{"$f":"INDEX(B:B, SMALL(ROW(B$1:B$5000)+(5000*(B$1:B$5000=\"\")),ROW(A430)))&\"\"","v":""},"","","",null,null,{"$f":"INDEX(AH:AH,SMALL(ROW($AH$1:$AH$1999)+(1999*($AH$1:$AH$1999=\"\")), ROW(A430)))&\"\"","v":""},"","","","","","","","","","","","","","","","","","","","","","","","","","","","","","","",{"$f":"INDEX(AJ:AJ,SMALL(ROW($AJ$1:$AJ$1999)+(1999*($AJ$1:$AJ$1999=\"\")), ROW(A430)))&\"\"","v":""},"",{"$f":"INDEX(AK:AK,SMALL(ROW($AK$1:$AK$1999)+(1999*($AK$1:$AK$1999=\"\")), ROW(A430)))&\"\"","v":""},"","","",null,"",""]
[null,null,null,null,null,null,null,null,null,null,null,null,null,null,null,null,null,null,null,null,null,null,null,null,null,null,null,null,null,null,null,null,{"$f":"INDEX(C:C, SMALL(ROW(C$1:C$5000)+(5000*(C$1:C$5000=\"\")),ROW(A431)))&\"\"","v":""},"",{"$f":"INDEX(B:B, SMALL(ROW(B$1:B$5000)+(5000*(B$1:B$5000=\"\")),ROW(A431)))&\"\"","v":""},"","","",null,null,{"$f":"INDEX(AH:AH,SMALL(ROW($AH$1:$AH$1999)+(1999*($AH$1:$AH$1999=\"\")), ROW(A431)))&\"\"","v":""},"","","","","","","","","","","","","","","","","","","","","","","","","","","","","","","",{"$f":"INDEX(AJ:AJ,SMALL(ROW($AJ$1:$AJ$1999)+(1999*($AJ$1:$AJ$1999=\"\")), ROW(A431)))&\"\"","v":""},"",{"$f":"INDEX(AK:AK,SMALL(ROW($AK$1:$AK$1999)+(1999*($AK$1:$AK$1999=\"\")), ROW(A431)))&\"\"","v":""},"","","",null,"",""]
[null,null,null,null,null,null,null,null,null,null,null,null,null,null,null,null,null,null,null,null,null,null,null,null,null,null,null,null,null,null,null,null,{"$f":"INDEX(C:C, SMALL(ROW(C$1:C$5000)+(5000*(C$1:C$5000=\"\")),ROW(A432)))&\"\"","v":""},"",{"$f":"INDEX(B:B, SMALL(ROW(B$1:B$5000)+(5000*(B$1:B$5000=\"\")),ROW(A432)))&\"\"","v":""},"","","",null,null,{"$f":"INDEX(AH:AH,SMALL(ROW($AH$1:$AH$1999)+(1999*($AH$1:$AH$1999=\"\")), ROW(A432)))&\"\"","v":""},"","","","","","","","","","","","","","","","","","","","","","","","","","","","","","","",{"$f":"INDEX(AJ:AJ,SMALL(ROW($AJ$1:$AJ$1999)+(1999*($AJ$1:$AJ$1999=\"\")), ROW(A432)))&\"\"","v":""},"",{"$f":"INDEX(AK:AK,SMALL(ROW($AK$1:$AK$1999)+(1999*($AK$1:$AK$1999=\"\")), ROW(A432)))&\"\"","v":""},"","","",null,"",""]
[null,null,null,null,null,null,null,null,null,null,null,null,null,null,null,null,null,null,null,null,null,null,null,null,null,null,null,null,null,null,null,null,{"$f":"INDEX(C:C, SMALL(ROW(C$1:C$5000)+(5000*(C$1:C$5000=\"\")),ROW(A433)))&\"\"","v":""},"",{"$f":"INDEX(B:B, SMALL(ROW(B$1:B$5000)+(5000*(B$1:B$5000=\"\")),ROW(A433)))&\"\"","v":""},"","","",null,null,{"$f":"INDEX(AH:AH,SMALL(ROW($AH$1:$AH$1999)+(1999*($AH$1:$AH$1999=\"\")), ROW(A433)))&\"\"","v":""},"","","","","","","","","","","","","","","","","","","","","","","","","","","","","","","",{"$f":"INDEX(AJ:AJ,SMALL(ROW($AJ$1:$AJ$1999)+(1999*($AJ$1:$AJ$1999=\"\")), ROW(A433)))&\"\"","v":""},"",{"$f":"INDEX(AK:AK,SMALL(ROW($AK$1:$AK$1999)+(1999*($AK$1:$AK$1999=\"\")), ROW(A433)))&\"\"","v":""},"","","",null,"",""]
[null,null,null,null,null,null,null,null,null,null,null,null,null,null,null,null,null,null,null,null,null,null,null,null,null,null,null,null,null,null,null,null,{"$f":"INDEX(C:C, SMALL(ROW(C$1:C$5000)+(5000*(C$1:C$5000=\"\")),ROW(A434)))&\"\"","v":""},"",{"$f":"INDEX(B:B, SMALL(ROW(B$1:B$5000)+(5000*(B$1:B$5000=\"\")),ROW(A434)))&\"\"","v":""},"","","",null,null,{"$f":"INDEX(AH:AH,SMALL(ROW($AH$1:$AH$1999)+(1999*($AH$1:$AH$1999=\"\")), ROW(A434)))&\"\"","v":""},"","","","","","","","","","","","","","","","","","","","","","","","","","","","","","","",{"$f":"INDEX(AJ:AJ,SMALL(ROW($AJ$1:$AJ$1999)+(1999*($AJ$1:$AJ$1999=\"\")), ROW(A434)))&\"\"","v":""},"",{"$f":"INDEX(AK:AK,SMALL(ROW($AK$1:$AK$1999)+(1999*($AK$1:$AK$1999=\"\")), ROW(A434)))&\"\"","v":""},"","","",null,"",""]
[null,null,null,null,null,null,null,null,null,null,null,null,null,null,null,null,null,null,null,null,null,null,null,null,null,null,null,null,null,null,null,null,{"$f":"INDEX(C:C, SMALL(ROW(C$1:C$5000)+(5000*(C$1:C$5000=\"\")),ROW(A435)))&\"\"","v":""},"",{"$f":"INDEX(B:B, SMALL(ROW(B$1:B$5000)+(5000*(B$1:B$5000=\"\")),ROW(A435)))&\"\"","v":""},"","","",null,null,{"$f":"INDEX(AH:AH,SMALL(ROW($AH$1:$AH$1999)+(1999*($AH$1:$AH$1999=\"\")), ROW(A435)))&\"\"","v":""},"","","","","","","","","","","","","","","","","","","","","","","","","","","","","","","",{"$f":"INDEX(AJ:AJ,SMALL(ROW($AJ$1:$AJ$1999)+(1999*($AJ$1:$AJ$1999=\"\")), ROW(A435)))&\"\"","v":""},"",{"$f":"INDEX(AK:AK,SMALL(ROW($AK$1:$AK$1999)+(1999*($AK$1:$AK$1999=\"\")), ROW(A435)))&\"\"","v":""},"","","",null,"",""]
[null,null,null,null,null,null,null,null,null,null,null,null,null,null,null,null,null,null,null,null,null,null,null,null,null,null,null,null,null,null,null,null,{"$f":"INDEX(C:C, SMALL(ROW(C$1:C$5000)+(5000*(C$1:C$5000=\"\")),ROW(A436)))&\"\"","v":""},"",{"$f":"INDEX(B:B, SMALL(ROW(B$1:B$5000)+(5000*(B$1:B$5000=\"\")),ROW(A436)))&\"\"","v":""},"","","",null,null,{"$f":"INDEX(AH:AH,SMALL(ROW($AH$1:$AH$1999)+(1999*($AH$1:$AH$1999=\"\")), ROW(A436)))&\"\"","v":""},"","","","","","","","","","","","","","","","","","","","","","","","","","","","","","","",{"$f":"INDEX(AJ:AJ,SMALL(ROW($AJ$1:$AJ$1999)+(1999*($AJ$1:$AJ$1999=\"\")), ROW(A436)))&\"\"","v":""},"",{"$f":"INDEX(AK:AK,SMALL(ROW($AK$1:$AK$1999)+(1999*($AK$1:$AK$1999=\"\")), ROW(A436)))&\"\"","v":""},"","","",null,"",""]
[null,null,null,null,null,null,null,null,null,null,null,null,null,null,null,null,null,null,null,null,null,null,null,null,null,null,null,null,null,null,null,null,{"$f":"INDEX(C:C, SMALL(ROW(C$1:C$5000)+(5000*(C$1:C$5000=\"\")),ROW(A437)))&\"\"","v":""},"",{"$f":"INDEX(B:B, SMALL(ROW(B$1:B$5000)+(5000*(B$1:B$5000=\"\")),ROW(A437)))&\"\"","v":""},"","","",null,null,{"$f":"INDEX(AH:AH,SMALL(ROW($AH$1:$AH$1999)+(1999*($AH$1:$AH$1999=\"\")), ROW(A437)))&\"\"","v":""},"","","","","","","","","","","","","","","","","","","","","","","","","","","","","","","",{"$f":"INDEX(AJ:AJ,SMALL(ROW($AJ$1:$AJ$1999)+(1999*($AJ$1:$AJ$1999=\"\")), ROW(A437)))&\"\"","v":""},"",{"$f":"INDEX(AK:AK,SMALL(ROW($AK$1:$AK$1999)+(1999*($AK$1:$AK$1999=\"\")), ROW(A437)))&\"\"","v":""},"","","",null,"",""]
[null,null,null,null,null,null,null,null,null,null,null,null,null,null,null,null,null,null,null,null,null,null,null,null,null,null,null,null,null,null,null,null,{"$f":"INDEX(C:C, SMALL(ROW(C$1:C$5000)+(5000*(C$1:C$5000=\"\")),ROW(A438)))&\"\"","v":""},"",{"$f":"INDEX(B:B, SMALL(ROW(B$1:B$5000)+(5000*(B$1:B$5000=\"\")),ROW(A438)))&\"\"","v":""},"","","",null,null,{"$f":"INDEX(AH:AH,SMALL(ROW($AH$1:$AH$1999)+(1999*($AH$1:$AH$1999=\"\")), ROW(A438)))&\"\"","v":""},"","","","","","","","","","","","","","","","","","","","","","","","","","","","","","","",{"$f":"INDEX(AJ:AJ,SMALL(ROW($AJ$1:$AJ$1999)+(1999*($AJ$1:$AJ$1999=\"\")), ROW(A438)))&\"\"","v":""},"",{"$f":"INDEX(AK:AK,SMALL(ROW($AK$1:$AK$1999)+(1999*($AK$1:$AK$1999=\"\")), ROW(A438)))&\"\"","v":""},"","","",null,"",""]
[null,null,null,null,null,null,null,null,null,null,null,null,null,null,null,null,null,null,null,null,null,null,null,null,null,null,null,null,null,null,null,null,{"$f":"INDEX(C:C, SMALL(ROW(C$1:C$5000)+(5000*(C$1:C$5000=\"\")),ROW(A439)))&\"\"","v":""},"",{"$f":"INDEX(B:B, SMALL(ROW(B$1:B$5000)+(5000*(B$1:B$5000=\"\")),ROW(A439)))&\"\"","v":""},"","","",null,null,{"$f":"INDEX(AH:AH,SMALL(ROW($AH$1:$AH$1999)+(1999*($AH$1:$AH$1999=\"\")), ROW(A439)))&\"\"","v":""},"","","","","","","","","","","","","","","","","","","","","","","","","","","","","","","",{"$f":"INDEX(AJ:AJ,SMALL(ROW($AJ$1:$AJ$1999)+(1999*($AJ$1:$AJ$1999=\"\")), ROW(A439)))&\"\"","v":""},"",{"$f":"INDEX(AK:AK,SMALL(ROW($AK$1:$AK$1999)+(1999*($AK$1:$AK$1999=\"\")), ROW(A439)))&\"\"","v":""},"","","",null,"",""]
[null,null,null,null,null,null,null,null,null,null,null,null,null,null,null,null,null,null,null,null,null,null,null,null,null,null,null,null,null,null,null,null,{"$f":"INDEX(C:C, SMALL(ROW(C$1:C$5000)+(5000*(C$1:C$5000=\"\")),ROW(A440)))&\"\"","v":""},"",{"$f":"INDEX(B:B, SMALL(ROW(B$1:B$5000)+(5000*(B$1:B$5000=\"\")),ROW(A440)))&\"\"","v":""},"","","",null,null,{"$f":"INDEX(AH:AH,SMALL(ROW($AH$1:$AH$1999)+(1999*($AH$1:$AH$1999=\"\")), ROW(A440)))&\"\"","v":""},"","","","","","","","","","","","","","","","","","","","","","","","","","","","","","","",{"$f":"INDEX(AJ:AJ,SMALL(ROW($AJ$1:$AJ$1999)+(1999*($AJ$1:$AJ$1999=\"\")), ROW(A440)))&\"\"","v":""},"",{"$f":"INDEX(AK:AK,SMALL(ROW($AK$1:$AK$1999)+(1999*($AK$1:$AK$1999=\"\")), ROW(A440)))&\"\"","v":""},"","","",null,"",""]
[null,null,null,null,null,null,null,null,null,null,null,null,null,null,null,null,null,null,null,null,null,null,null,null,null,null,null,null,null,null,null,null,{"$f":"INDEX(C:C, SMALL(ROW(C$1:C$5000)+(5000*(C$1:C$5000=\"\")),ROW(A441)))&\"\"","v":""},"",{"$f":"INDEX(B:B, SMALL(ROW(B$1:B$5000)+(5000*(B$1:B$5000=\"\")),ROW(A441)))&\"\"","v":""},"","","",null,null,{"$f":"INDEX(AH:AH,SMALL(ROW($AH$1:$AH$1999)+(1999*($AH$1:$AH$1999=\"\")), ROW(A441)))&\"\"","v":""},"","","","","","","","","","","","","","","","","","","","","","","","","","","","","","","",{"$f":"INDEX(AJ:AJ,SMALL(ROW($AJ$1:$AJ$1999)+(1999*($AJ$1:$AJ$1999=\"\")), ROW(A441)))&\"\"","v":""},"",{"$f":"INDEX(AK:AK,SMALL(ROW($AK$1:$AK$1999)+(1999*($AK$1:$AK$1999=\"\")), ROW(A441)))&\"\"","v":""},"","","",null,"",""]
[null,null,null,null,null,null,null,null,null,null,null,null,null,null,null,null,null,null,null,null,null,null,null,null,null,null,null,null,null,null,null,null,{"$f":"INDEX(C:C, SMALL(ROW(C$1:C$5000)+(5000*(C$1:C$5000=\"\")),ROW(A442)))&\"\"","v":""},"",{"$f":"INDEX(B:B, SMALL(ROW(B$1:B$5000)+(5000*(B$1:B$5000=\"\")),ROW(A442)))&\"\"","v":""},"","","",null,null,{"$f":"INDEX(AH:AH,SMALL(ROW($AH$1:$AH$1999)+(1999*($AH$1:$AH$1999=\"\")), ROW(A442)))&\"\"","v":""},"","","","","","","","","","","","","","","","","","","","","","","","","","","","","","","",{"$f":"INDEX(AJ:AJ,SMALL(ROW($AJ$1:$AJ$1999)+(1999*($AJ$1:$AJ$1999=\"\")), ROW(A442)))&\"\"","v":""},"",{"$f":"INDEX(AK:AK,SMALL(ROW($AK$1:$AK$1999)+(1999*($AK$1:$AK$1999=\"\")), ROW(A442)))&\"\"","v":""},"","","",null,"",""]
[null,null,null,null,null,null,null,null,null,null,null,null,null,null,null,null,null,null,null,null,null,null,null,null,null,null,null,null,null,null,null,null,{"$f":"INDEX(C:C, SMALL(ROW(C$1:C$5000)+(5000*(C$1:C$5000=\"\")),ROW(A443)))&\"\"","v":""},"",{"$f":"INDEX(B:B, SMALL(ROW(B$1:B$5000)+(5000*(B$1:B$5000=\"\")),ROW(A443)))&\"\"","v":""},"","","",null,null,{"$f":"INDEX(AH:AH,SMALL(ROW($AH$1:$AH$1999)+(1999*($AH$1:$AH$1999=\"\")), ROW(A443)))&\"\"","v":""},"","","","","","","","","","","","","","","","","","","","","","","","","","","","","","","",{"$f":"INDEX(AJ:AJ,SMALL(ROW($AJ$1:$AJ$1999)+(1999*($AJ$1:$AJ$1999=\"\")), ROW(A443)))&\"\"","v":""},"",{"$f":"INDEX(AK:AK,SMALL(ROW($AK$1:$AK$1999)+(1999*($AK$1:$AK$1999=\"\")), ROW(A443)))&\"\"","v":""},"","","",null,"",""]
[null,null,null,null,null,null,null,null,null,null,null,null,null,null,null,null,null,null,null,null,null,null,null,null,null,null,null,null,null,null,null,null,{"$f":"INDEX(C:C, SMALL(ROW(C$1:C$5000)+(5000*(C$1:C$5000=\"\")),ROW(A444)))&\"\"","v":""},"",{"$f":"INDEX(B:B, SMALL(ROW(B$1:B$5000)+(5000*(B$1:B$5000=\"\")),ROW(A444)))&\"\"","v":""},"","","",null,null,{"$f":"INDEX(AH:AH,SMALL(ROW($AH$1:$AH$1999)+(1999*($AH$1:$AH$1999=\"\")), ROW(A444)))&\"\"","v":""},"","","","","","","","","","","","","","","","","","","","","","","","","","","","","","","",{"$f":"INDEX(AJ:AJ,SMALL(ROW($AJ$1:$AJ$1999)+(1999*($AJ$1:$AJ$1999=\"\")), ROW(A444)))&\"\"","v":""},"",{"$f":"INDEX(AK:AK,SMALL(ROW($AK$1:$AK$1999)+(1999*($AK$1:$AK$1999=\"\")), ROW(A444)))&\"\"","v":""},"","","",null,"",""]
[null,null,null,null,null,null,null,null,null,null,null,null,null,null,null,null,null,null,null,null,null,null,null,null,null,null,null,null,null,null,null,null,{"$f":"INDEX(C:C, SMALL(ROW(C$1:C$5000)+(5000*(C$1:C$5000=\"\")),ROW(A445)))&\"\"","v":""},"",{"$f":"INDEX(B:B, SMALL(ROW(B$1:B$5000)+(5000*(B$1:B$5000=\"\")),ROW(A445)))&\"\"","v":""},"","","",null,null,{"$f":"INDEX(AH:AH,SMALL(ROW($AH$1:$AH$1999)+(1999*($AH$1:$AH$1999=\"\")), ROW(A445)))&\"\"","v":""},"","","","","","","","","","","","","","","","","","","","","","","","","","","","","","","",{"$f":"INDEX(AJ:AJ,SMALL(ROW($AJ$1:$AJ$1999)+(1999*($AJ$1:$AJ$1999=\"\")), ROW(A445)))&\"\"","v":""},"",{"$f":"INDEX(AK:AK,SMALL(ROW($AK$1:$AK$1999)+(1999*($AK$1:$AK$1999=\"\")), ROW(A445)))&\"\"","v":""},"","","",null,"",""]
[null,null,null,null,null,null,null,null,null,null,null,null,null,null,null,null,null,null,null,null,null,null,null,null,null,null,null,null,null,null,null,null,{"$f":"INDEX(C:C, SMALL(ROW(C$1:C$5000)+(5000*(C$1:C$5000=\"\")),ROW(A446)))&\"\"","v":""},"",{"$f":"INDEX(B:B, SMALL(ROW(B$1:B$5000)+(5000*(B$1:B$5000=\"\")),ROW(A446)))&\"\"","v":""},"","","",null,null,{"$f":"INDEX(AH:AH,SMALL(ROW($AH$1:$AH$1999)+(1999*($AH$1:$AH$1999=\"\")), ROW(A446)))&\"\"","v":""},"","","","","","","","","","","","","","","","","","","","","","","","","","","","","","","",{"$f":"INDEX(AJ:AJ,SMALL(ROW($AJ$1:$AJ$1999)+(1999*($AJ$1:$AJ$1999=\"\")), ROW(A446)))&\"\"","v":""},"",{"$f":"INDEX(AK:AK,SMALL(ROW($AK$1:$AK$1999)+(1999*($AK$1:$AK$1999=\"\")), ROW(A446)))&\"\"","v":""},"","","",null,"",""]
[null,null,null,null,null,null,null,null,null,null,null,null,null,null,null,null,null,null,null,null,null,null,null,null,null,null,null,null,null,null,null,null,{"$f":"INDEX(C:C, SMALL(ROW(C$1:C$5000)+(5000*(C$1:C$5000=\"\")),ROW(A447)))&\"\"","v":""},"",{"$f":"INDEX(B:B, SMALL(ROW(B$1:B$5000)+(5000*(B$1:B$5000=\"\")),ROW(A447)))&\"\"","v":""},"","","",null,null,{"$f":"INDEX(AH:AH,SMALL(ROW($AH$1:$AH$1999)+(1999*($AH$1:$AH$1999=\"\")), ROW(A447)))&\"\"","v":""},"","","","","","","","","","","","","","","","","","","","","","","","","","","","","","","",{"$f":"INDEX(AJ:AJ,SMALL(ROW($AJ$1:$AJ$1999)+(1999*($AJ$1:$AJ$1999=\"\")), ROW(A447)))&\"\"","v":""},"",{"$f":"INDEX(AK:AK,SMALL(ROW($AK$1:$AK$1999)+(1999*($AK$1:$AK$1999=\"\")), ROW(A447)))&\"\"","v":""},"","","",null,"",""]
[null,null,null,null,null,null,null,null,null,null,null,null,null,null,null,null,null,null,null,null,null,null,null,null,null,null,null,null,null,null,null,null,{"$f":"INDEX(C:C, SMALL(ROW(C$1:C$5000)+(5000*(C$1:C$5000=\"\")),ROW(A448)))&\"\"","v":""},"",{"$f":"INDEX(B:B, SMALL(ROW(B$1:B$5000)+(5000*(B$1:B$5000=\"\")),ROW(A448)))&\"\"","v":""},"","","",null,null,{"$f":"INDEX(AH:AH,SMALL(ROW($AH$1:$AH$1999)+(1999*($AH$1:$AH$1999=\"\")), ROW(A448)))&\"\"","v":""},"","","","","","","","","","","","","","","","","","","","","","","","","","","","","","","",{"$f":"INDEX(AJ:AJ,SMALL(ROW($AJ$1:$AJ$1999)+(1999*($AJ$1:$AJ$1999=\"\")), ROW(A448)))&\"\"","v":""},"",{"$f":"INDEX(AK:AK,SMALL(ROW($AK$1:$AK$1999)+(1999*($AK$1:$AK$1999=\"\")), ROW(A448)))&\"\"","v":""},"","","",null,"",""]
[null,null,null,null,null,null,null,null,null,null,null,null,null,null,null,null,null,null,null,null,null,null,null,null,null,null,null,null,null,null,null,null,{"$f":"INDEX(C:C, SMALL(ROW(C$1:C$5000)+(5000*(C$1:C$5000=\"\")),ROW(A449)))&\"\"","v":""},{"$f":"IF(ISNUMBER(SEARCH(\"*,*\",AG449)),AG449,\"\")","v":""},{"$f":"INDEX(B:B, SMALL(ROW(B$1:B$5000)+(5000*(B$1:B$5000=\"\")),ROW(A449)))&\"\"","v":""},"","",{"$f":"IF(ISNUMBER(SEARCH(\"*Round*\",AI449)),AI449,\"\")","v":""},null,null,{"$f":"INDEX(AH:AH,SMALL(ROW($AH$1:$AH$1999)+(1999*($AH$1:$AH$1999=\"\")), ROW(A449)))&\"\"","v":""},"","","","","","","","","","","","","","","","","","","","","","","","","","","","","","","",{"$f":"INDEX(AJ:AJ,SMALL(ROW($AJ$1:$AJ$1999)+(1999*($AJ$1:$AJ$1999=\"\")), ROW(A449)))&\"\"","v":""},"",{"$f":"INDEX(AK:AK,SMALL(ROW($AK$1:$AK$1999)+(1999*($AK$1:$AK$1999=\"\")), ROW(A449)))&\"\"","v":""},"","","",null,"",""]
[null,null,null,null,null,null,null,null,null,null,null,null,null,null,null,null,null,null,null,null,null,null,null,null,null,null,null,null,null,null,null,null,{"$f":"INDEX(C:C, SMALL(ROW(C$1:C$5000)+(5000*(C$1:C$5000=\"\")),ROW(A450)))&\"\"","v":""},"",{"$f":"INDEX(B:B, SMALL(ROW(B$1:B$5000)+(5000*(B$1:B$5000=\"\")),ROW(A450)))&\"\"","v":""},{"$f":"IF(ISNUMBER(SEARCH(\"*years*\",AI450)),AI450,\"\")","v":""},{"$f":"IF(ISNUMBER(SEARCH(\"*, 19*\",AI450)),AI450,\"\")","v":""},"",null,null,{"$f":"INDEX(AH:AH,SMALL(ROW($AH$1:$AH$1999)+(1999*($AH$1:$AH$1999=\"\")), ROW(A450)))&\"\"","v":""},{"$f":"TRIM(TEXT(RIGHT(AO450,2),))","v":""},{"$f":"IF(ISNUMBER(SEARCH(\"*QB*\",AP450)),AO450,\"\")","v":""},{"$f":"IFERROR(IF(ISNUMBER(SEARCH(\"*QB*\",AQ450)),BV450,\"\"),VALUE(0))","v":""},{"$f":"IFERROR(IF(ISNUMBER(SEARCH(\"*QB*\",AQ450)),BX450,\"\"),VALUE(0))","v":""},{"$f":"IF(ISNUMBER(SEARCH(\"*RB*\",AP450)),AO450,\"\")","v":""},{"$f":"IFERROR(IF(ISNUMBER(SEARCH(\"*RB*\",AT450)),BV450,\"\"),VALUE(0))","v":""},{"$f":"IFERROR(IF(ISNUMBER(SEARCH(\"*RB*\",AT450)),BX450,\"\"),VALUE(0))","v":""},{"$f":"IF(ISNUMBER(SEARCH(\"*WR*\",AP450)),AO450,\"\")","v":""},{"$f":"IFERROR(IF(ISNUMBER(SEARCH(\"*WR*\",AW450)),BV450,\"\"),VALUE(0))","v":""},{"$f":"IFERROR(IF(ISNUMBER(SEARCH(\"*WR*\",AW450)),BX450,\"\"),VALUE(0))","v":""},{"$f":"IF(ISNUMBER(SEARCH(\"*TE*\",AP450)),AO450,\"\")","v":""},"",{"$f":"IFERROR(IF(ISNUMBER(SEARCH(\"*TE*\",AZ450)),BX450,\"\"),VALUE(0))","v":""},{"$f":"IF(ISNUMBER(SEARCH(\"*PK*\",AP450)),AO450,\"\")","v":""},{"$f":"IFERROR(IF(ISNUMBER(SEARCH(\"*PK*\",BC450)),BV450,\"\"),VALUE(0))","v":""},{"$f":"IFERROR(IF(ISNUMBER(SEARCH(\"*PK*\",BC450)),BX450,\"\"),VALUE(0))","v":""},{"$f":"IF(ISNUMBER(SEARCH(\"*DT*\",AP450)),AO450,\"\")","v":""},{"$f":"IFERROR(IF(ISNUMBER(SEARCH(\"*DT*\",BF450)),BV450,\"\"),VALUE(0))","v":""},{"$f":"IFERROR(IF(ISNUMBER(SEARCH(\"*DT*\",BF450)),BX450,\"\"),VALUE(0))","v":""},{"$f":"IF(ISNUMBER(SEARCH(\"*DE*\",AP450)),AO450,\"\")","v":""},{"$f":"IFERROR(IF(ISNUMBER(SEARCH(\"*DE*\",BI450)),BV450,\"\"),VALUE(0))","v":""},{"$f":"IFERROR(IF(ISNUMBER(SEARCH(\"*DE*\",BI450)),BX450,\"\"),VALUE(0))","v":""},{"$f":"IF(ISNUMBER(SEARCH(\"*LB*\",AP450)),AO450,\"\")","v":""},{"$f":"IFERROR(IF(ISNUMBER(SEARCH(\"*LB*\",BL450)),BV450,\"\"),VALUE(0))","v":""},{"$f":"IFERROR(IF(ISNUMBER(SEARCH(\"*LB*\",BL450)),BX450,\"\"),VALUE(0))","v":""},{"$f":"IF(ISNUMBER(SEARCH(\"*CB*\",AP450)),AO450,\"\")","v":""},{"$f":"IFERROR(IF(ISNUMBER(SEARCH(\"*CB*\",BO450)),BV450,\"\"),VALUE(0))","v":""},{"$f":"IFERROR(IF(ISNUMBER(SEARCH(\"*CB*\",BO450)),BX450,\"\"),VALUE(0))","v":""},{"$f":"IF(ISNUMBER(SEARCH(\"*S*\",AP450)),AO450,\"\")","v":""},{"$f":"IFERROR(IF(ISNUMBER(SEARCH(\"*S*\",BR450)),BV450,\"\"),VALUE(0))","v":""},{"$f":"IFERROR(IF(ISNUMBER(SEARCH(\"*S*\",BR450)),BX450,\"\"),VALUE(0))","v":""},{"$f":"INDEX(AJ:AJ,SMALL(ROW($AJ$1:$AJ$1999)+(1999*($AJ$1:$AJ$1999=\"\")), ROW(A450)))&\"\"","v":""},{"$f":"IFERROR(IF(BW450<>\"\",VALUE(LEFT(BU450,LEN(BU450)-6)),\"\"),VALUE(0))","v":""},{"$f":"INDEX(AK:AK,SMALL(ROW($AK$1:$AK$1999)+(1999*($AK$1:$AK$1999=\"\")), ROW(A450)))&\"\"","v":""},{"$f":"IF(BW450<>\"\",VALUE(RIGHT(BW450,2)),\"\")","v":""},{"$f":"IF(BX450=\"\",\"\",IF(BX450>27,1,0))","v":""},{"$f":"IF(BX450=\"\",\"\",IF(BX450<27,1,0))","v":""},null,{"$f":"IF(BV450=\"\",\"\",IF(BV450>3.5,1,0))","v":""},{"$f":"IF(BV450=\"\",\"\",IF(BV450<3.5,1,0))","v":""}]
[null,null,null,null,null,null,null,null,null,null,null,null,null,null,null,null,null,null,null,null,null,null,null,null,null,null,null,null,null,null,null,null,{"$f":"INDEX(C:C, SMALL(ROW(C$1:C$5000)+(5000*(C$1:C$5000=\"\")),ROW(A451)))&\"\"","v":""},"",{"$f":"INDEX(B:B, SMALL(ROW(B$1:B$5000)+(5000*(B$1:B$5000=\"\")),ROW(A451)))&\"\"","v":""},"","","",null,null,{"$f":"INDEX(AH:AH,SMALL(ROW($AH$1:$AH$1999)+(1999*($AH$1:$AH$1999=\"\")), ROW(A451)))&\"\"","v":""},"","","","","","","","","","","","","","","","","","","","","","","","","","","","","","","",{"$f":"INDEX(AJ:AJ,SMALL(ROW($AJ$1:$AJ$1999)+(1999*($AJ$1:$AJ$1999=\"\")), ROW(A451)))&\"\"","v":""},"",{"$f":"INDEX(AK:AK,SMALL(ROW($AK$1:$AK$1999)+(1999*($AK$1:$AK$1999=\"\")), ROW(A451)))&\"\"","v":""},"","","",null,"",""]
[null,null,null,null,null,null,null,null,null,null,null,null,null,null,null,null,null,null,null,null,null,null,null,null,null,null,null,null,null,null,null,null,{"$f":"INDEX(C:C, SMALL(ROW(C$1:C$5000)+(5000*(C$1:C$5000=\"\")),ROW(A452)))&\"\"","v":""},"",{"$f":"INDEX(B:B, SMALL(ROW(B$1:B$5000)+(5000*(B$1:B$5000=\"\")),ROW(A452)))&\"\"","v":""},"","","",null,null,{"$f":"INDEX(AH:AH,SMALL(ROW($AH$1:$AH$1999)+(1999*($AH$1:$AH$1999=\"\")), ROW(A452)))&\"\"","v":""},"","","","","","","","","","","","","","","","","","","","","","","","","","","","","","","",{"$f":"INDEX(AJ:AJ,SMALL(ROW($AJ$1:$AJ$1999)+(1999*($AJ$1:$AJ$1999=\"\")), ROW(A452)))&\"\"","v":""},"",{"$f":"INDEX(AK:AK,SMALL(ROW($AK$1:$AK$1999)+(1999*($AK$1:$AK$1999=\"\")), ROW(A452)))&\"\"","v":""},"","","",null,"",""]
[null,null,null,null,null,null,null,null,null,null,null,null,null,null,null,null,null,null,null,null,null,null,null,null,null,null,null,null,null,null,null,null,{"$f":"INDEX(C:C, SMALL(ROW(C$1:C$5000)+(5000*(C$1:C$5000=\"\")),ROW(A453)))&\"\"","v":""},"",{"$f":"INDEX(B:B, SMALL(ROW(B$1:B$5000)+(5000*(B$1:B$5000=\"\")),ROW(A453)))&\"\"","v":""},"","","",null,null,{"$f":"INDEX(AH:AH,SMALL(ROW($AH$1:$AH$1999)+(1999*($AH$1:$AH$1999=\"\")), ROW(A453)))&\"\"","v":""},"","","","","","","","","","","","","","","","","","","","","","","","","","","","","","","",{"$f":"INDEX(AJ:AJ,SMALL(ROW($AJ$1:$AJ$1999)+(1999*($AJ$1:$AJ$1999=\"\")), ROW(A453)))&\"\"","v":""},"",{"$f":"INDEX(AK:AK,SMALL(ROW($AK$1:$AK$1999)+(1999*($AK$1:$AK$1999=\"\")), ROW(A453)))&\"\"","v":""},"","","",null,"",""]
[null,null,null,null,null,null,null,null,null,null,null,null,null,null,null,null,null,null,null,null,null,null,null,null,null,null,null,null,null,null,null,null,{"$f":"INDEX(C:C, SMALL(ROW(C$1:C$5000)+(5000*(C$1:C$5000=\"\")),ROW(A454)))&\"\"","v":""},"",{"$f":"INDEX(B:B, SMALL(ROW(B$1:B$5000)+(5000*(B$1:B$5000=\"\")),ROW(A454)))&\"\"","v":""},"","","",null,null,{"$f":"INDEX(AH:AH,SMALL(ROW($AH$1:$AH$1999)+(1999*($AH$1:$AH$1999=\"\")), ROW(A454)))&\"\"","v":""},"","","","","","","","","","","","","","","","","","","","","","","","","","","","","","","",{"$f":"INDEX(AJ:AJ,SMALL(ROW($AJ$1:$AJ$1999)+(1999*($AJ$1:$AJ$1999=\"\")), ROW(A454)))&\"\"","v":""},"",{"$f":"INDEX(AK:AK,SMALL(ROW($AK$1:$AK$1999)+(1999*($AK$1:$AK$1999=\"\")), ROW(A454)))&\"\"","v":""},"","","",null,"",""]
[null,null,null,null,null,null,null,null,null,null,null,null,null,null,null,null,null,null,null,null,null,null,null,null,null,null,null,null,null,null,null,null,{"$f":"INDEX(C:C, SMALL(ROW(C$1:C$5000)+(5000*(C$1:C$5000=\"\")),ROW(A455)))&\"\"","v":""},"",{"$f":"INDEX(B:B, SMALL(ROW(B$1:B$5000)+(5000*(B$1:B$5000=\"\")),ROW(A455)))&\"\"","v":""},"","","",null,null,{"$f":"INDEX(AH:AH,SMALL(ROW($AH$1:$AH$1999)+(1999*($AH$1:$AH$1999=\"\")), ROW(A455)))&\"\"","v":""},"","","","","","","","","","","","","","","","","","","","","","","","","","","","","","","",{"$f":"INDEX(AJ:AJ,SMALL(ROW($AJ$1:$AJ$1999)+(1999*($AJ$1:$AJ$1999=\"\")), ROW(A455)))&\"\"","v":""},"",{"$f":"INDEX(AK:AK,SMALL(ROW($AK$1:$AK$1999)+(1999*($AK$1:$AK$1999=\"\")), ROW(A455)))&\"\"","v":""},"","","",null,"",""]
[null,null,null,null,null,null,null,null,null,null,null,null,null,null,null,null,null,null,null,null,null,null,null,null,null,null,null,null,null,null,null,null,{"$f":"INDEX(C:C, SMALL(ROW(C$1:C$5000)+(5000*(C$1:C$5000=\"\")),ROW(A456)))&\"\"","v":""},"",{"$f":"INDEX(B:B, SMALL(ROW(B$1:B$5000)+(5000*(B$1:B$5000=\"\")),ROW(A456)))&\"\"","v":""},"","","",null,null,{"$f":"INDEX(AH:AH,SMALL(ROW($AH$1:$AH$1999)+(1999*($AH$1:$AH$1999=\"\")), ROW(A456)))&\"\"","v":""},"","","","","","","","","","","","","","","","","","","","","","","","","","","","","","","",{"$f":"INDEX(AJ:AJ,SMALL(ROW($AJ$1:$AJ$1999)+(1999*($AJ$1:$AJ$1999=\"\")), ROW(A456)))&\"\"","v":""},"",{"$f":"INDEX(AK:AK,SMALL(ROW($AK$1:$AK$1999)+(1999*($AK$1:$AK$1999=\"\")), ROW(A456)))&\"\"","v":""},"","","",null,"",""]
[null,null,null,null,null,null,null,null,null,null,null,null,null,null,null,null,null,null,null,null,null,null,null,null,null,null,null,null,null,null,null,null,{"$f":"INDEX(C:C, SMALL(ROW(C$1:C$5000)+(5000*(C$1:C$5000=\"\")),ROW(A457)))&\"\"","v":""},"",{"$f":"INDEX(B:B, SMALL(ROW(B$1:B$5000)+(5000*(B$1:B$5000=\"\")),ROW(A457)))&\"\"","v":""},"","","",null,null,{"$f":"INDEX(AH:AH,SMALL(ROW($AH$1:$AH$1999)+(1999*($AH$1:$AH$1999=\"\")), ROW(A457)))&\"\"","v":""},"","","","","","","","","","","","","","","","","","","","","","","","","","","","","","","",{"$f":"INDEX(AJ:AJ,SMALL(ROW($AJ$1:$AJ$1999)+(1999*($AJ$1:$AJ$1999=\"\")), ROW(A457)))&\"\"","v":""},"",{"$f":"INDEX(AK:AK,SMALL(ROW($AK$1:$AK$1999)+(1999*($AK$1:$AK$1999=\"\")), ROW(A457)))&\"\"","v":""},"","","",null,"",""]
[null,null,null,null,null,null,null,null,null,null,null,null,null,null,null,null,null,null,null,null,null,null,null,null,null,null,null,null,null,null,null,null,{"$f":"INDEX(C:C, SMALL(ROW(C$1:C$5000)+(5000*(C$1:C$5000=\"\")),ROW(A458)))&\"\"","v":""},"",{"$f":"INDEX(B:B, SMALL(ROW(B$1:B$5000)+(5000*(B$1:B$5000=\"\")),ROW(A458)))&\"\"","v":""},"","","",null,null,{"$f":"INDEX(AH:AH,SMALL(ROW($AH$1:$AH$1999)+(1999*($AH$1:$AH$1999=\"\")), ROW(A458)))&\"\"","v":""},"","","","","","","","","","","","","","","","","","","","","","","","","","","","","","","",{"$f":"INDEX(AJ:AJ,SMALL(ROW($AJ$1:$AJ$1999)+(1999*($AJ$1:$AJ$1999=\"\")), ROW(A458)))&\"\"","v":""},"",{"$f":"INDEX(AK:AK,SMALL(ROW($AK$1:$AK$1999)+(1999*($AK$1:$AK$1999=\"\")), ROW(A458)))&\"\"","v":""},"","","",null,"",""]
[null,null,null,null,null,null,null,null,null,null,null,null,null,null,null,null,null,null,null,null,null,null,null,null,null,null,null,null,null,null,null,null,{"$f":"INDEX(C:C, SMALL(ROW(C$1:C$5000)+(5000*(C$1:C$5000=\"\")),ROW(A459)))&\"\"","v":""},"",{"$f":"INDEX(B:B, SMALL(ROW(B$1:B$5000)+(5000*(B$1:B$5000=\"\")),ROW(A459)))&\"\"","v":""},"","","",null,null,{"$f":"INDEX(AH:AH,SMALL(ROW($AH$1:$AH$1999)+(1999*($AH$1:$AH$1999=\"\")), ROW(A459)))&\"\"","v":""},"","","","","","","","","","","","","","","","","","","","","","","","","","","","","","","",{"$f":"INDEX(AJ:AJ,SMALL(ROW($AJ$1:$AJ$1999)+(1999*($AJ$1:$AJ$1999=\"\")), ROW(A459)))&\"\"","v":""},"",{"$f":"INDEX(AK:AK,SMALL(ROW($AK$1:$AK$1999)+(1999*($AK$1:$AK$1999=\"\")), ROW(A459)))&\"\"","v":""},"","","",null,"",""]
[null,null,null,null,null,null,null,null,null,null,null,null,null,null,null,null,null,null,null,null,null,null,null,null,null,null,null,null,null,null,null,null,{"$f":"INDEX(C:C, SMALL(ROW(C$1:C$5000)+(5000*(C$1:C$5000=\"\")),ROW(A460)))&\"\"","v":""},"",{"$f":"INDEX(B:B, SMALL(ROW(B$1:B$5000)+(5000*(B$1:B$5000=\"\")),ROW(A460)))&\"\"","v":""},"","","",null,null,{"$f":"INDEX(AH:AH,SMALL(ROW($AH$1:$AH$1999)+(1999*($AH$1:$AH$1999=\"\")), ROW(A460)))&\"\"","v":""},"","","","","","","","","","","","","","","","","","","","","","","","","","","","","","","",{"$f":"INDEX(AJ:AJ,SMALL(ROW($AJ$1:$AJ$1999)+(1999*($AJ$1:$AJ$1999=\"\")), ROW(A460)))&\"\"","v":""},"",{"$f":"INDEX(AK:AK,SMALL(ROW($AK$1:$AK$1999)+(1999*($AK$1:$AK$1999=\"\")), ROW(A460)))&\"\"","v":""},"","","",null,"",""]
[null,null,null,null,null,null,null,null,null,null,null,null,null,null,null,null,null,null,null,null,null,null,null,null,null,null,null,null,null,null,null,null,{"$f":"INDEX(C:C, SMALL(ROW(C$1:C$5000)+(5000*(C$1:C$5000=\"\")),ROW(A461)))&\"\"","v":""},"",{"$f":"INDEX(B:B, SMALL(ROW(B$1:B$5000)+(5000*(B$1:B$5000=\"\")),ROW(A461)))&\"\"","v":""},"","","",null,null,{"$f":"INDEX(AH:AH,SMALL(ROW($AH$1:$AH$1999)+(1999*($AH$1:$AH$1999=\"\")), ROW(A461)))&\"\"","v":""},"","","","","","","","","","","","","","","","","","","","","","","","","","","","","","","",{"$f":"INDEX(AJ:AJ,SMALL(ROW($AJ$1:$AJ$1999)+(1999*($AJ$1:$AJ$1999=\"\")), ROW(A461)))&\"\"","v":""},"",{"$f":"INDEX(AK:AK,SMALL(ROW($AK$1:$AK$1999)+(1999*($AK$1:$AK$1999=\"\")), ROW(A461)))&\"\"","v":""},"","","",null,"",""]
[null,null,null,null,null,null,null,null,null,null,null,null,null,null,null,null,null,null,null,null,null,null,null,null,null,null,null,null,null,null,null,null,{"$f":"INDEX(C:C, SMALL(ROW(C$1:C$5000)+(5000*(C$1:C$5000=\"\")),ROW(A462)))&\"\"","v":""},"",{"$f":"INDEX(B:B, SMALL(ROW(B$1:B$5000)+(5000*(B$1:B$5000=\"\")),ROW(A462)))&\"\"","v":""},"","","",null,null,{"$f":"INDEX(AH:AH,SMALL(ROW($AH$1:$AH$1999)+(1999*($AH$1:$AH$1999=\"\")), ROW(A462)))&\"\"","v":""},"","","","","","","","","","","","","","","","","","","","","","","","","","","","","","","",{"$f":"INDEX(AJ:AJ,SMALL(ROW($AJ$1:$AJ$1999)+(1999*($AJ$1:$AJ$1999=\"\")), ROW(A462)))&\"\"","v":""},"",{"$f":"INDEX(AK:AK,SMALL(ROW($AK$1:$AK$1999)+(1999*($AK$1:$AK$1999=\"\")), ROW(A462)))&\"\"","v":""},"","","",null,"",""]
[null,null,null,null,null,null,null,null,null,null,null,null,null,null,null,null,null,null,null,null,null,null,null,null,null,null,null,null,null,null,null,null,{"$f":"INDEX(C:C, SMALL(ROW(C$1:C$5000)+(5000*(C$1:C$5000=\"\")),ROW(A463)))&\"\"","v":""},"",{"$f":"INDEX(B:B, SMALL(ROW(B$1:B$5000)+(5000*(B$1:B$5000=\"\")),ROW(A463)))&\"\"","v":""},"","","",null,null,{"$f":"INDEX(AH:AH,SMALL(ROW($AH$1:$AH$1999)+(1999*($AH$1:$AH$1999=\"\")), ROW(A463)))&\"\"","v":""},"","","","","","","","","","","","","","","","","","","","","","","","","","","","","","","",{"$f":"INDEX(AJ:AJ,SMALL(ROW($AJ$1:$AJ$1999)+(1999*($AJ$1:$AJ$1999=\"\")), ROW(A463)))&\"\"","v":""},"",{"$f":"INDEX(AK:AK,SMALL(ROW($AK$1:$AK$1999)+(1999*($AK$1:$AK$1999=\"\")), ROW(A463)))&\"\"","v":""},"","","",null,"",""]
[null,null,null,null,null,null,null,null,null,null,null,null,null,null,null,null,null,null,null,null,null,null,null,null,null,null,null,null,null,null,null,null,{"$f":"INDEX(C:C, SMALL(ROW(C$1:C$5000)+(5000*(C$1:C$5000=\"\")),ROW(A464)))&\"\"","v":""},"",{"$f":"INDEX(B:B, SMALL(ROW(B$1:B$5000)+(5000*(B$1:B$5000=\"\")),ROW(A464)))&\"\"","v":""},"","","",null,null,{"$f":"INDEX(AH:AH,SMALL(ROW($AH$1:$AH$1999)+(1999*($AH$1:$AH$1999=\"\")), ROW(A464)))&\"\"","v":""},"","","","","","","","","","","","","","","","","","","","","","","","","","","","","","","",{"$f":"INDEX(AJ:AJ,SMALL(ROW($AJ$1:$AJ$1999)+(1999*($AJ$1:$AJ$1999=\"\")), ROW(A464)))&\"\"","v":""},"",{"$f":"INDEX(AK:AK,SMALL(ROW($AK$1:$AK$1999)+(1999*($AK$1:$AK$1999=\"\")), ROW(A464)))&\"\"","v":""},"","","",null,"",""]
[null,null,null,null,null,null,null,null,null,null,null,null,null,null,null,null,null,null,null,null,null,null,null,null,null,null,null,null,null,null,null,null,{"$f":"INDEX(C:C, SMALL(ROW(C$1:C$5000)+(5000*(C$1:C$5000=\"\")),ROW(A465)))&\"\"","v":""},"",{"$f":"INDEX(B:B, SMALL(ROW(B$1:B$5000)+(5000*(B$1:B$5000=\"\")),ROW(A465)))&\"\"","v":""},"","","",null,null,{"$f":"INDEX(AH:AH,SMALL(ROW($AH$1:$AH$1999)+(1999*($AH$1:$AH$1999=\"\")), ROW(A465)))&\"\"","v":""},"","","","","","","","","","","","","","","","","","","","","","","","","","","","","","","",{"$f":"INDEX(AJ:AJ,SMALL(ROW($AJ$1:$AJ$1999)+(1999*($AJ$1:$AJ$1999=\"\")), ROW(A465)))&\"\"","v":""},"",{"$f":"INDEX(AK:AK,SMALL(ROW($AK$1:$AK$1999)+(1999*($AK$1:$AK$1999=\"\")), ROW(A465)))&\"\"","v":""},"","","",null,"",""]
[null,null,null,null,null,null,null,null,null,null,null,null,null,null,null,null,null,null,null,null,null,null,null,null,null,null,null,null,null,null,null,null,{"$f":"INDEX(C:C, SMALL(ROW(C$1:C$5000)+(5000*(C$1:C$5000=\"\")),ROW(A466)))&\"\"","v":""},"",{"$f":"INDEX(B:B, SMALL(ROW(B$1:B$5000)+(5000*(B$1:B$5000=\"\")),ROW(A466)))&\"\"","v":""},"","","",null,null,{"$f":"INDEX(AH:AH,SMALL(ROW($AH$1:$AH$1999)+(1999*($AH$1:$AH$1999=\"\")), ROW(A466)))&\"\"","v":""},"","","","","","","","","","","","","","","","","","","","","","","","","","","","","","","",{"$f":"INDEX(AJ:AJ,SMALL(ROW($AJ$1:$AJ$1999)+(1999*($AJ$1:$AJ$1999=\"\")), ROW(A466)))&\"\"","v":""},"",{"$f":"INDEX(AK:AK,SMALL(ROW($AK$1:$AK$1999)+(1999*($AK$1:$AK$1999=\"\")), ROW(A466)))&\"\"","v":""},"","","",null,"",""]
[null,null,null,null,null,null,null,null,null,null,null,null,null,null,null,null,null,null,null,null,null,null,null,null,null,null,null,null,null,null,null,null,{"$f":"INDEX(C:C, SMALL(ROW(C$1:C$5000)+(5000*(C$1:C$5000=\"\")),ROW(A467)))&\"\"","v":""},"",{"$f":"INDEX(B:B, SMALL(ROW(B$1:B$5000)+(5000*(B$1:B$5000=\"\")),ROW(A467)))&\"\"","v":""},"","","",null,null,{"$f":"INDEX(AH:AH,SMALL(ROW($AH$1:$AH$1999)+(1999*($AH$1:$AH$1999=\"\")), ROW(A467)))&\"\"","v":""},"","","","","","","","","","","","","","","","","","","","","","","","","","","","","","","",{"$f":"INDEX(AJ:AJ,SMALL(ROW($AJ$1:$AJ$1999)+(1999*($AJ$1:$AJ$1999=\"\")), ROW(A467)))&\"\"","v":""},"",{"$f":"INDEX(AK:AK,SMALL(ROW($AK$1:$AK$1999)+(1999*($AK$1:$AK$1999=\"\")), ROW(A467)))&\"\"","v":""},"","","",null,"",""]
[null,null,null,null,null,null,null,null,null,null,null,null,null,null,null,null,null,null,null,null,null,null,null,null,null,null,null,null,null,null,null,null,{"$f":"INDEX(C:C, SMALL(ROW(C$1:C$5000)+(5000*(C$1:C$5000=\"\")),ROW(A468)))&\"\"","v":""},"",{"$f":"INDEX(B:B, SMALL(ROW(B$1:B$5000)+(5000*(B$1:B$5000=\"\")),ROW(A468)))&\"\"","v":""},"","","",null,null,{"$f":"INDEX(AH:AH,SMALL(ROW($AH$1:$AH$1999)+(1999*($AH$1:$AH$1999=\"\")), ROW(A468)))&\"\"","v":""},"","","","","","","","","","","","","","","","","","","","","","","","","","","","","","","",{"$f":"INDEX(AJ:AJ,SMALL(ROW($AJ$1:$AJ$1999)+(1999*($AJ$1:$AJ$1999=\"\")), ROW(A468)))&\"\"","v":""},"",{"$f":"INDEX(AK:AK,SMALL(ROW($AK$1:$AK$1999)+(1999*($AK$1:$AK$1999=\"\")), ROW(A468)))&\"\"","v":""},"","","",null,"",""]
[null,null,null,null,null,null,null,null,null,null,null,null,null,null,null,null,null,null,null,null,null,null,null,null,null,null,null,null,null,null,null,null,{"$f":"INDEX(C:C, SMALL(ROW(C$1:C$5000)+(5000*(C$1:C$5000=\"\")),ROW(A469)))&\"\"","v":""},"",{"$f":"INDEX(B:B, SMALL(ROW(B$1:B$5000)+(5000*(B$1:B$5000=\"\")),ROW(A469)))&\"\"","v":""},"","","",null,null,{"$f":"INDEX(AH:AH,SMALL(ROW($AH$1:$AH$1999)+(1999*($AH$1:$AH$1999=\"\")), ROW(A469)))&\"\"","v":""},"","","","","","","","","","","","","","","","","","","","","","","","","","","","","","","",{"$f":"INDEX(AJ:AJ,SMALL(ROW($AJ$1:$AJ$1999)+(1999*($AJ$1:$AJ$1999=\"\")), ROW(A469)))&\"\"","v":""},"",{"$f":"INDEX(AK:AK,SMALL(ROW($AK$1:$AK$1999)+(1999*($AK$1:$AK$1999=\"\")), ROW(A469)))&\"\"","v":""},"","","",null,"",""]
[null,null,null,null,null,null,null,null,null,null,null,null,null,null,null,null,null,null,null,null,null,null,null,null,null,null,null,null,null,null,null,null,{"$f":"INDEX(C:C, SMALL(ROW(C$1:C$5000)+(5000*(C$1:C$5000=\"\")),ROW(A470)))&\"\"","v":""},"",{"$f":"INDEX(B:B, SMALL(ROW(B$1:B$5000)+(5000*(B$1:B$5000=\"\")),ROW(A470)))&\"\"","v":""},"","","",null,null,{"$f":"INDEX(AH:AH,SMALL(ROW($AH$1:$AH$1999)+(1999*($AH$1:$AH$1999=\"\")), ROW(A470)))&\"\"","v":""},"","","","","","","","","","","","","","","","","","","","","","","","","","","","","","","",{"$f":"INDEX(AJ:AJ,SMALL(ROW($AJ$1:$AJ$1999)+(1999*($AJ$1:$AJ$1999=\"\")), ROW(A470)))&\"\"","v":""},"",{"$f":"INDEX(AK:AK,SMALL(ROW($AK$1:$AK$1999)+(1999*($AK$1:$AK$1999=\"\")), ROW(A470)))&\"\"","v":""},"","","",null,"",""]
[null,null,null,null,null,null,null,null,null,null,null,null,null,null,null,null,null,null,null,null,null,null,null,null,null,null,null,null,null,null,null,null,{"$f":"INDEX(C:C, SMALL(ROW(C$1:C$5000)+(5000*(C$1:C$5000=\"\")),ROW(A471)))&\"\"","v":""},"",{"$f":"INDEX(B:B, SMALL(ROW(B$1:B$5000)+(5000*(B$1:B$5000=\"\")),ROW(A471)))&\"\"","v":""},"","","",null,null,{"$f":"INDEX(AH:AH,SMALL(ROW($AH$1:$AH$1999)+(1999*($AH$1:$AH$1999=\"\")), ROW(A471)))&\"\"","v":""},"","","","","","","","","","","","","","","","","","","","","","","","","","","","","","","",{"$f":"INDEX(AJ:AJ,SMALL(ROW($AJ$1:$AJ$1999)+(1999*($AJ$1:$AJ$1999=\"\")), ROW(A471)))&\"\"","v":""},"",{"$f":"INDEX(AK:AK,SMALL(ROW($AK$1:$AK$1999)+(1999*($AK$1:$AK$1999=\"\")), ROW(A471)))&\"\"","v":""},"","","",null,"",""]
[null,null,null,null,null,null,null,null,null,null,null,null,null,null,null,null,null,null,null,null,null,null,null,null,null,null,null,null,null,null,null,null,{"$f":"INDEX(C:C, SMALL(ROW(C$1:C$5000)+(5000*(C$1:C$5000=\"\")),ROW(A472)))&\"\"","v":""},"",{"$f":"INDEX(B:B, SMALL(ROW(B$1:B$5000)+(5000*(B$1:B$5000=\"\")),ROW(A472)))&\"\"","v":""},"","","",null,null,{"$f":"INDEX(AH:AH,SMALL(ROW($AH$1:$AH$1999)+(1999*($AH$1:$AH$1999=\"\")), ROW(A472)))&\"\"","v":""},"","","","","","","","","","","","","","","","","","","","","","","","","","","","","","","",{"$f":"INDEX(AJ:AJ,SMALL(ROW($AJ$1:$AJ$1999)+(1999*($AJ$1:$AJ$1999=\"\")), ROW(A472)))&\"\"","v":""},"",{"$f":"INDEX(AK:AK,SMALL(ROW($AK$1:$AK$1999)+(1999*($AK$1:$AK$1999=\"\")), ROW(A472)))&\"\"","v":""},"","","",null,"",""]
[null,null,null,null,null,null,null,null,null,null,null,null,null,null,null,null,null,null,null,null,null,null,null,null,null,null,null,null,null,null,null,null,{"$f":"INDEX(C:C, SMALL(ROW(C$1:C$5000)+(5000*(C$1:C$5000=\"\")),ROW(A473)))&\"\"","v":""},"",{"$f":"INDEX(B:B, SMALL(ROW(B$1:B$5000)+(5000*(B$1:B$5000=\"\")),ROW(A473)))&\"\"","v":""},"","","",null,null,{"$f":"INDEX(AH:AH,SMALL(ROW($AH$1:$AH$1999)+(1999*($AH$1:$AH$1999=\"\")), ROW(A473)))&\"\"","v":""},"","","","","","","","","","","","","","","","","","","","","","","","","","","","","","","",{"$f":"INDEX(AJ:AJ,SMALL(ROW($AJ$1:$AJ$1999)+(1999*($AJ$1:$AJ$1999=\"\")), ROW(A473)))&\"\"","v":""},"",{"$f":"INDEX(AK:AK,SMALL(ROW($AK$1:$AK$1999)+(1999*($AK$1:$AK$1999=\"\")), ROW(A473)))&\"\"","v":""},"","","",null,"",""]
[null,null,null,null,null,null,null,null,null,null,null,null,null,null,null,null,null,null,null,null,null,null,null,null,null,null,null,null,null,null,null,null,{"$f":"INDEX(C:C, SMALL(ROW(C$1:C$5000)+(5000*(C$1:C$5000=\"\")),ROW(A474)))&\"\"","v":""},"",{"$f":"INDEX(B:B, SMALL(ROW(B$1:B$5000)+(5000*(B$1:B$5000=\"\")),ROW(A474)))&\"\"","v":""},"","","",null,null,{"$f":"INDEX(AH:AH,SMALL(ROW($AH$1:$AH$1999)+(1999*($AH$1:$AH$1999=\"\")), ROW(A474)))&\"\"","v":""},"","","","","","","","","","","","","","","","","","","","","","","","","","","","","","","",{"$f":"INDEX(AJ:AJ,SMALL(ROW($AJ$1:$AJ$1999)+(1999*($AJ$1:$AJ$1999=\"\")), ROW(A474)))&\"\"","v":""},"",{"$f":"INDEX(AK:AK,SMALL(ROW($AK$1:$AK$1999)+(1999*($AK$1:$AK$1999=\"\")), ROW(A474)))&\"\"","v":""},"","","",null,"",""]
[null,null,null,null,null,null,null,null,null,null,null,null,null,null,null,null,null,null,null,null,null,null,null,null,null,null,null,null,null,null,null,null,{"$f":"INDEX(C:C, SMALL(ROW(C$1:C$5000)+(5000*(C$1:C$5000=\"\")),ROW(A475)))&\"\"","v":""},"",{"$f":"INDEX(B:B, SMALL(ROW(B$1:B$5000)+(5000*(B$1:B$5000=\"\")),ROW(A475)))&\"\"","v":""},"","","",null,null,{"$f":"INDEX(AH:AH,SMALL(ROW($AH$1:$AH$1999)+(1999*($AH$1:$AH$1999=\"\")), ROW(A475)))&\"\"","v":""},"","","","","","","","","","","","","","","","","","","","","","","","","","","","","","","",{"$f":"INDEX(AJ:AJ,SMALL(ROW($AJ$1:$AJ$1999)+(1999*($AJ$1:$AJ$1999=\"\")), ROW(A475)))&\"\"","v":""},"",{"$f":"INDEX(AK:AK,SMALL(ROW($AK$1:$AK$1999)+(1999*($AK$1:$AK$1999=\"\")), ROW(A475)))&\"\"","v":""},"","","",null,"",""]
[null,null,null,null,null,null,null,null,null,null,null,null,null,null,null,null,null,null,null,null,null,null,null,null,null,null,null,null,null,null,null,null,{"$f":"INDEX(C:C, SMALL(ROW(C$1:C$5000)+(5000*(C$1:C$5000=\"\")),ROW(A476)))&\"\"","v":""},"",{"$f":"INDEX(B:B, SMALL(ROW(B$1:B$5000)+(5000*(B$1:B$5000=\"\")),ROW(A476)))&\"\"","v":""},"","","",null,null,{"$f":"INDEX(AH:AH,SMALL(ROW($AH$1:$AH$1999)+(1999*($AH$1:$AH$1999=\"\")), ROW(A476)))&\"\"","v":""},"","","","","","","","","","","","","","","","","","","","","","","","","","","","","","","",{"$f":"INDEX(AJ:AJ,SMALL(ROW($AJ$1:$AJ$1999)+(1999*($AJ$1:$AJ$1999=\"\")), ROW(A476)))&\"\"","v":""},"",{"$f":"INDEX(AK:AK,SMALL(ROW($AK$1:$AK$1999)+(1999*($AK$1:$AK$1999=\"\")), ROW(A476)))&\"\"","v":""},"","","",null,"",""]
[null,null,null,null,null,null,null,null,null,null,null,null,null,null,null,null,null,null,null,null,null,null,null,null,null,null,null,null,null,null,null,null,{"$f":"INDEX(C:C, SMALL(ROW(C$1:C$5000)+(5000*(C$1:C$5000=\"\")),ROW(A477)))&\"\"","v":""},"",{"$f":"INDEX(B:B, SMALL(ROW(B$1:B$5000)+(5000*(B$1:B$5000=\"\")),ROW(A477)))&\"\"","v":""},"","","",null,null,{"$f":"INDEX(AH:AH,SMALL(ROW($AH$1:$AH$1999)+(1999*($AH$1:$AH$1999=\"\")), ROW(A477)))&\"\"","v":""},"","","","","","","","","","","","","","","","","","","","","","","","","","","","","","","",{"$f":"INDEX(AJ:AJ,SMALL(ROW($AJ$1:$AJ$1999)+(1999*($AJ$1:$AJ$1999=\"\")), ROW(A477)))&\"\"","v":""},"",{"$f":"INDEX(AK:AK,SMALL(ROW($AK$1:$AK$1999)+(1999*($AK$1:$AK$1999=\"\")), ROW(A477)))&\"\"","v":""},"","","",null,"",""]
[null,null,null,null,null,null,null,null,null,null,null,null,null,null,null,null,null,null,null,null,null,null,null,null,null,null,null,null,null,null,null,null,{"$f":"INDEX(C:C, SMALL(ROW(C$1:C$5000)+(5000*(C$1:C$5000=\"\")),ROW(A478)))&\"\"","v":""},"",{"$f":"INDEX(B:B, SMALL(ROW(B$1:B$5000)+(5000*(B$1:B$5000=\"\")),ROW(A478)))&\"\"","v":""},"","","",null,null,{"$f":"INDEX(AH:AH,SMALL(ROW($AH$1:$AH$1999)+(1999*($AH$1:$AH$1999=\"\")), ROW(A478)))&\"\"","v":""},"","","","","","","","","","","",{"$f":"IFERROR(IF(ISNUMBER(SEARCH(\"*TE*\",AZ478)),BV478,\"\"),VALUE(0))","v":""},"","","","","","","","","","","","","","","","","","","",{"$f":"INDEX(AJ:AJ,SMALL(ROW($AJ$1:$AJ$1999)+(1999*($AJ$1:$AJ$1999=\"\")), ROW(A478)))&\"\"","v":""},"",{"$f":"INDEX(AK:AK,SMALL(ROW($AK$1:$AK$1999)+(1999*($AK$1:$AK$1999=\"\")), ROW(A478)))&\"\"","v":""},"","","",null,"",""]
[null,null,null,null,null,null,null,null,null,null,null,null,null,null,null,null,null,null,null,null,null,null,null,null,null,null,null,null,null,null,null,null,{"$f":"INDEX(C:C, SMALL(ROW(C$1:C$5000)+(5000*(C$1:C$5000=\"\")),ROW(A479)))&\"\"","v":""},"",{"$f":"INDEX(B:B, SMALL(ROW(B$1:B$5000)+(5000*(B$1:B$5000=\"\")),ROW(A479)))&\"\"","v":""},"","","",null,null,{"$f":"INDEX(AH:AH,SMALL(ROW($AH$1:$AH$1999)+(1999*($AH$1:$AH$1999=\"\")), ROW(A479)))&\"\"","v":""},"","","","","","","","","","","","","","","","","","","","","","","","","","","","","","","",{"$f":"INDEX(AJ:AJ,SMALL(ROW($AJ$1:$AJ$1999)+(1999*($AJ$1:$AJ$1999=\"\")), ROW(A479)))&\"\"","v":""},"",{"$f":"INDEX(AK:AK,SMALL(ROW($AK$1:$AK$1999)+(1999*($AK$1:$AK$1999=\"\")), ROW(A479)))&\"\"","v":""},"","","",null,"",""]
[null,null,null,null,null,null,null,null,null,null,null,null,null,null,null,null,null,null,null,null,null,null,null,null,null,null,null,null,null,null,null,null,{"$f":"INDEX(C:C, SMALL(ROW(C$1:C$5000)+(5000*(C$1:C$5000=\"\")),ROW(A480)))&\"\"","v":""},"",{"$f":"INDEX(B:B, SMALL(ROW(B$1:B$5000)+(5000*(B$1:B$5000=\"\")),ROW(A480)))&\"\"","v":""},"","","",null,null,{"$f":"INDEX(AH:AH,SMALL(ROW($AH$1:$AH$1999)+(1999*($AH$1:$AH$1999=\"\")), ROW(A480)))&\"\"","v":""},"","","","","","","","","","","","","","","","","","","","","","","","","","","","","","","",{"$f":"INDEX(AJ:AJ,SMALL(ROW($AJ$1:$AJ$1999)+(1999*($AJ$1:$AJ$1999=\"\")), ROW(A480)))&\"\"","v":""},"",{"$f":"INDEX(AK:AK,SMALL(ROW($AK$1:$AK$1999)+(1999*($AK$1:$AK$1999=\"\")), ROW(A480)))&\"\"","v":""},"","","",null,"",""]
[null,null,null,null,null,null,null,null,null,null,null,null,null,null,null,null,null,null,null,null,null,null,null,null,null,null,null,null,null,null,null,null,{"$f":"INDEX(C:C, SMALL(ROW(C$1:C$5000)+(5000*(C$1:C$5000=\"\")),ROW(A481)))&\"\"","v":""},"",{"$f":"INDEX(B:B, SMALL(ROW(B$1:B$5000)+(5000*(B$1:B$5000=\"\")),ROW(A481)))&\"\"","v":""},"","","",null,null,{"$f":"INDEX(AH:AH,SMALL(ROW($AH$1:$AH$1999)+(1999*($AH$1:$AH$1999=\"\")), ROW(A481)))&\"\"","v":""},"","","","","","","","","","","","","","","","","","","","","","","","","","","","","","","",{"$f":"INDEX(AJ:AJ,SMALL(ROW($AJ$1:$AJ$1999)+(1999*($AJ$1:$AJ$1999=\"\")), ROW(A481)))&\"\"","v":""},"",{"$f":"INDEX(AK:AK,SMALL(ROW($AK$1:$AK$1999)+(1999*($AK$1:$AK$1999=\"\")), ROW(A481)))&\"\"","v":""},"","","",null,"",""]
[null,null,null,null,null,null,null,null,null,null,null,null,null,null,null,null,null,null,null,null,null,null,null,null,null,null,null,null,null,null,null,null,{"$f":"INDEX(C:C, SMALL(ROW(C$1:C$5000)+(5000*(C$1:C$5000=\"\")),ROW(A482)))&\"\"","v":""},"",{"$f":"INDEX(B:B, SMALL(ROW(B$1:B$5000)+(5000*(B$1:B$5000=\"\")),ROW(A482)))&\"\"","v":""},"","","",null,null,{"$f":"INDEX(AH:AH,SMALL(ROW($AH$1:$AH$1999)+(1999*($AH$1:$AH$1999=\"\")), ROW(A482)))&\"\"","v":""},"","","","","","","","","","","","","","","","","","","","","","","","","","","","","","","",{"$f":"INDEX(AJ:AJ,SMALL(ROW($AJ$1:$AJ$1999)+(1999*($AJ$1:$AJ$1999=\"\")), ROW(A482)))&\"\"","v":""},"",{"$f":"INDEX(AK:AK,SMALL(ROW($AK$1:$AK$1999)+(1999*($AK$1:$AK$1999=\"\")), ROW(A482)))&\"\"","v":""},"","","",null,"",""]
[null,null,null,null,null,null,null,null,null,null,null,null,null,null,null,null,null,null,null,null,null,null,null,null,null,null,null,null,null,null,null,null,{"$f":"INDEX(C:C, SMALL(ROW(C$1:C$5000)+(5000*(C$1:C$5000=\"\")),ROW(A483)))&\"\"","v":""},"",{"$f":"INDEX(B:B, SMALL(ROW(B$1:B$5000)+(5000*(B$1:B$5000=\"\")),ROW(A483)))&\"\"","v":""},"","","",null,null,{"$f":"INDEX(AH:AH,SMALL(ROW($AH$1:$AH$1999)+(1999*($AH$1:$AH$1999=\"\")), ROW(A483)))&\"\"","v":""},"","","","","","","","","","","","","","","","","","","","","","","","","","","","","","","",{"$f":"INDEX(AJ:AJ,SMALL(ROW($AJ$1:$AJ$1999)+(1999*($AJ$1:$AJ$1999=\"\")), ROW(A483)))&\"\"","v":""},"",{"$f":"INDEX(AK:AK,SMALL(ROW($AK$1:$AK$1999)+(1999*($AK$1:$AK$1999=\"\")), ROW(A483)))&\"\"","v":""},"","","",null,"",""]
[null,null,null,null,null,null,null,null,null,null,null,null,null,null,null,null,null,null,null,null,null,null,null,null,null,null,null,null,null,null,null,null,{"$f":"INDEX(C:C, SMALL(ROW(C$1:C$5000)+(5000*(C$1:C$5000=\"\")),ROW(A484)))&\"\"","v":""},"",{"$f":"INDEX(B:B, SMALL(ROW(B$1:B$5000)+(5000*(B$1:B$5000=\"\")),ROW(A484)))&\"\"","v":""},"","","",null,null,{"$f":"INDEX(AH:AH,SMALL(ROW($AH$1:$AH$1999)+(1999*($AH$1:$AH$1999=\"\")), ROW(A484)))&\"\"","v":""},"","","","","","","","","","","","","","","","","","","","","","","","","","","","","","","",{"$f":"INDEX(AJ:AJ,SMALL(ROW($AJ$1:$AJ$1999)+(1999*($AJ$1:$AJ$1999=\"\")), ROW(A484)))&\"\"","v":""},"",{"$f":"INDEX(AK:AK,SMALL(ROW($AK$1:$AK$1999)+(1999*($AK$1:$AK$1999=\"\")), ROW(A484)))&\"\"","v":""},"","","",null,"",""]
[null,null,null,null,null,null,null,null,null,null,null,null,null,null,null,null,null,null,null,null,null,null,null,null,null,null,null,null,null,null,null,null,{"$f":"INDEX(C:C, SMALL(ROW(C$1:C$5000)+(5000*(C$1:C$5000=\"\")),ROW(A485)))&\"\"","v":""},"",{"$f":"INDEX(B:B, SMALL(ROW(B$1:B$5000)+(5000*(B$1:B$5000=\"\")),ROW(A485)))&\"\"","v":""},"","","",null,null,{"$f":"INDEX(AH:AH,SMALL(ROW($AH$1:$AH$1999)+(1999*($AH$1:$AH$1999=\"\")), ROW(A485)))&\"\"","v":""},"","","","","","","","","","","","","","","","","","","","","","","","","","","","","","","",{"$f":"INDEX(AJ:AJ,SMALL(ROW($AJ$1:$AJ$1999)+(1999*($AJ$1:$AJ$1999=\"\")), ROW(A485)))&\"\"","v":""},"",{"$f":"INDEX(AK:AK,SMALL(ROW($AK$1:$AK$1999)+(1999*($AK$1:$AK$1999=\"\")), ROW(A485)))&\"\"","v":""},"","","",null,"",""]
[null,null,null,null,null,null,null,null,null,null,null,null,null,null,null,null,null,null,null,null,null,null,null,null,null,null,null,null,null,null,null,null,{"$f":"INDEX(C:C, SMALL(ROW(C$1:C$5000)+(5000*(C$1:C$5000=\"\")),ROW(A486)))&\"\"","v":""},"",{"$f":"INDEX(B:B, SMALL(ROW(B$1:B$5000)+(5000*(B$1:B$5000=\"\")),ROW(A486)))&\"\"","v":""},"","","",null,null,{"$f":"INDEX(AH:AH,SMALL(ROW($AH$1:$AH$1999)+(1999*($AH$1:$AH$1999=\"\")), ROW(A486)))&\"\"","v":""},"","","","","","","","","","","","","","","","","","","","","","","","","","","","","","","",{"$f":"INDEX(AJ:AJ,SMALL(ROW($AJ$1:$AJ$1999)+(1999*($AJ$1:$AJ$1999=\"\")), ROW(A486)))&\"\"","v":""},"",{"$f":"INDEX(AK:AK,SMALL(ROW($AK$1:$AK$1999)+(1999*($AK$1:$AK$1999=\"\")), ROW(A486)))&\"\"","v":""},"","","",null,"",""]
[null,null,null,null,null,null,null,null,null,null,null,null,null,null,null,null,null,null,null,null,null,null,null,null,null,null,null,null,null,null,null,null,{"$f":"INDEX(C:C, SMALL(ROW(C$1:C$5000)+(5000*(C$1:C$5000=\"\")),ROW(A487)))&\"\"","v":""},"",{"$f":"INDEX(B:B, SMALL(ROW(B$1:B$5000)+(5000*(B$1:B$5000=\"\")),ROW(A487)))&\"\"","v":""},"","","",null,null,{"$f":"INDEX(AH:AH,SMALL(ROW($AH$1:$AH$1999)+(1999*($AH$1:$AH$1999=\"\")), ROW(A487)))&\"\"","v":""},"","","","","","","","","","","","","","","","","","","","","","","","","","","","","","","",{"$f":"INDEX(AJ:AJ,SMALL(ROW($AJ$1:$AJ$1999)+(1999*($AJ$1:$AJ$1999=\"\")), ROW(A487)))&\"\"","v":""},"",{"$f":"INDEX(AK:AK,SMALL(ROW($AK$1:$AK$1999)+(1999*($AK$1:$AK$1999=\"\")), ROW(A487)))&\"\"","v":""},"","","",null,"",""]
[null,null,null,null,null,null,null,null,null,null,null,null,null,null,null,null,null,null,null,null,null,null,null,null,null,null,null,null,null,null,null,null,{"$f":"INDEX(C:C, SMALL(ROW(C$1:C$5000)+(5000*(C$1:C$5000=\"\")),ROW(A488)))&\"\"","v":""},"",{"$f":"INDEX(B:B, SMALL(ROW(B$1:B$5000)+(5000*(B$1:B$5000=\"\")),ROW(A488)))&\"\"","v":""},"","","",null,null,{"$f":"INDEX(AH:AH,SMALL(ROW($AH$1:$AH$1999)+(1999*($AH$1:$AH$1999=\"\")), ROW(A488)))&\"\"","v":""},"","","","","","","","","","","","","","","","","","","","","","","","","","","","","","","",{"$f":"INDEX(AJ:AJ,SMALL(ROW($AJ$1:$AJ$1999)+(1999*($AJ$1:$AJ$1999=\"\")), ROW(A488)))&\"\"","v":""},"",{"$f":"INDEX(AK:AK,SMALL(ROW($AK$1:$AK$1999)+(1999*($AK$1:$AK$1999=\"\")), ROW(A488)))&\"\"","v":""},"","","",null,"",""]
[null,null,null,null,null,null,null,null,null,null,null,null,null,null,null,null,null,null,null,null,null,null,null,null,null,null,null,null,null,null,null,null,{"$f":"INDEX(C:C, SMALL(ROW(C$1:C$5000)+(5000*(C$1:C$5000=\"\")),ROW(A489)))&\"\"","v":""},"",{"$f":"INDEX(B:B, SMALL(ROW(B$1:B$5000)+(5000*(B$1:B$5000=\"\")),ROW(A489)))&\"\"","v":""},"","","",null,null,{"$f":"INDEX(AH:AH,SMALL(ROW($AH$1:$AH$1999)+(1999*($AH$1:$AH$1999=\"\")), ROW(A489)))&\"\"","v":""},"","","","","","","","","","","","","","","","","","","","","","","","","","","","","","","",{"$f":"INDEX(AJ:AJ,SMALL(ROW($AJ$1:$AJ$1999)+(1999*($AJ$1:$AJ$1999=\"\")), ROW(A489)))&\"\"","v":""},"",{"$f":"INDEX(AK:AK,SMALL(ROW($AK$1:$AK$1999)+(1999*($AK$1:$AK$1999=\"\")), ROW(A489)))&\"\"","v":""},"","","",null,"",""]
[null,null,null,null,null,null,null,null,null,null,null,null,null,null,null,null,null,null,null,null,null,null,null,null,null,null,null,null,null,null,null,null,{"$f":"INDEX(C:C, SMALL(ROW(C$1:C$5000)+(5000*(C$1:C$5000=\"\")),ROW(A490)))&\"\"","v":""},"",{"$f":"INDEX(B:B, SMALL(ROW(B$1:B$5000)+(5000*(B$1:B$5000=\"\")),ROW(A490)))&\"\"","v":""},"","","",null,null,{"$f":"INDEX(AH:AH,SMALL(ROW($AH$1:$AH$1999)+(1999*($AH$1:$AH$1999=\"\")), ROW(A490)))&\"\"","v":""},"","","","","","","","","","","","","","","","","","","","","","","","","","","","","","","",{"$f":"INDEX(AJ:AJ,SMALL(ROW($AJ$1:$AJ$1999)+(1999*($AJ$1:$AJ$1999=\"\")), ROW(A490)))&\"\"","v":""},"",{"$f":"INDEX(AK:AK,SMALL(ROW($AK$1:$AK$1999)+(1999*($AK$1:$AK$1999=\"\")), ROW(A490)))&\"\"","v":""},"","","",null,"",""]
[null,null,null,null,null,null,null,null,null,null,null,null,null,null,null,null,null,null,null,null,null,null,null,null,null,null,null,null,null,null,null,null,{"$f":"INDEX(C:C, SMALL(ROW(C$1:C$5000)+(5000*(C$1:C$5000=\"\")),ROW(A491)))&\"\"","v":""},"",{"$f":"INDEX(B:B, SMALL(ROW(B$1:B$5000)+(5000*(B$1:B$5000=\"\")),ROW(A491)))&\"\"","v":""},"","","",null,null,{"$f":"INDEX(AH:AH,SMALL(ROW($AH$1:$AH$1999)+(1999*($AH$1:$AH$1999=\"\")), ROW(A491)))&\"\"","v":""},"","","","","","","","","","","","","","","","","","","","","","","","","","","","","","","",{"$f":"INDEX(AJ:AJ,SMALL(ROW($AJ$1:$AJ$1999)+(1999*($AJ$1:$AJ$1999=\"\")), ROW(A491)))&\"\"","v":""},"",{"$f":"INDEX(AK:AK,SMALL(ROW($AK$1:$AK$1999)+(1999*($AK$1:$AK$1999=\"\")), ROW(A491)))&\"\"","v":""},"","","",null,"",""]
[null,null,null,null,null,null,null,null,null,null,null,null,null,null,null,null,null,null,null,null,null,null,null,null,null,null,null,null,null,null,null,null,{"$f":"INDEX(C:C, SMALL(ROW(C$1:C$5000)+(5000*(C$1:C$5000=\"\")),ROW(A492)))&\"\"","v":""},"",{"$f":"INDEX(B:B, SMALL(ROW(B$1:B$5000)+(5000*(B$1:B$5000=\"\")),ROW(A492)))&\"\"","v":""},"","","",null,null,{"$f":"INDEX(AH:AH,SMALL(ROW($AH$1:$AH$1999)+(1999*($AH$1:$AH$1999=\"\")), ROW(A492)))&\"\"","v":""},"","","","","","","","","","","","","","","","","","","","","","","","","","","","","","","",{"$f":"INDEX(AJ:AJ,SMALL(ROW($AJ$1:$AJ$1999)+(1999*($AJ$1:$AJ$1999=\"\")), ROW(A492)))&\"\"","v":""},"",{"$f":"INDEX(AK:AK,SMALL(ROW($AK$1:$AK$1999)+(1999*($AK$1:$AK$1999=\"\")), ROW(A492)))&\"\"","v":""},"","","",null,"",""]
[null,null,null,null,null,null,null,null,null,null,null,null,null,null,null,null,null,null,null,null,null,null,null,null,null,null,null,null,null,null,null,null,{"$f":"INDEX(C:C, SMALL(ROW(C$1:C$5000)+(5000*(C$1:C$5000=\"\")),ROW(A493)))&\"\"","v":""},"",{"$f":"INDEX(B:B, SMALL(ROW(B$1:B$5000)+(5000*(B$1:B$5000=\"\")),ROW(A493)))&\"\"","v":""},"","","",null,null,{"$f":"INDEX(AH:AH,SMALL(ROW($AH$1:$AH$1999)+(1999*($AH$1:$AH$1999=\"\")), ROW(A493)))&\"\"","v":""},"","","","","","","","","","","","","","","","","","","","","","","","","","","","","","","",{"$f":"INDEX(AJ:AJ,SMALL(ROW($AJ$1:$AJ$1999)+(1999*($AJ$1:$AJ$1999=\"\")), ROW(A493)))&\"\"","v":""},"",{"$f":"INDEX(AK:AK,SMALL(ROW($AK$1:$AK$1999)+(1999*($AK$1:$AK$1999=\"\")), ROW(A493)))&\"\"","v":""},"","","",null,"",""]
[null,null,null,null,null,null,null,null,null,null,null,null,null,null,null,null,null,null,null,null,null,null,null,null,null,null,null,null,null,null,null,null,{"$f":"INDEX(C:C, SMALL(ROW(C$1:C$5000)+(5000*(C$1:C$5000=\"\")),ROW(A494)))&\"\"","v":""},"",{"$f":"INDEX(B:B, SMALL(ROW(B$1:B$5000)+(5000*(B$1:B$5000=\"\")),ROW(A494)))&\"\"","v":""},"","","",null,null,{"$f":"INDEX(AH:AH,SMALL(ROW($AH$1:$AH$1999)+(1999*($AH$1:$AH$1999=\"\")), ROW(A494)))&\"\"","v":""},"","","","","","","","","","","","","","","","","","","","","","","","","","","","","","","",{"$f":"INDEX(AJ:AJ,SMALL(ROW($AJ$1:$AJ$1999)+(1999*($AJ$1:$AJ$1999=\"\")), ROW(A494)))&\"\"","v":""},"",{"$f":"INDEX(AK:AK,SMALL(ROW($AK$1:$AK$1999)+(1999*($AK$1:$AK$1999=\"\")), ROW(A494)))&\"\"","v":""},"","","",null,"",""]
[null,null,null,null,null,null,null,null,null,null,null,null,null,null,null,null,null,null,null,null,null,null,null,null,null,null,null,null,null,null,null,null,{"$f":"INDEX(C:C, SMALL(ROW(C$1:C$5000)+(5000*(C$1:C$5000=\"\")),ROW(A495)))&\"\"","v":""},"",{"$f":"INDEX(B:B, SMALL(ROW(B$1:B$5000)+(5000*(B$1:B$5000=\"\")),ROW(A495)))&\"\"","v":""},"","","",null,null,{"$f":"INDEX(AH:AH,SMALL(ROW($AH$1:$AH$1999)+(1999*($AH$1:$AH$1999=\"\")), ROW(A495)))&\"\"","v":""},"","","","","","","","","","","","","","","","","","","","","","","","","","","","","","","",{"$f":"INDEX(AJ:AJ,SMALL(ROW($AJ$1:$AJ$1999)+(1999*($AJ$1:$AJ$1999=\"\")), ROW(A495)))&\"\"","v":""},"",{"$f":"INDEX(AK:AK,SMALL(ROW($AK$1:$AK$1999)+(1999*($AK$1:$AK$1999=\"\")), ROW(A495)))&\"\"","v":""},"","","",null,"",""]
[null,null,null,null,null,null,null,null,null,null,null,null,null,null,null,null,null,null,null,null,null,null,null,null,null,null,null,null,null,null,null,null,{"$f":"INDEX(C:C, SMALL(ROW(C$1:C$5000)+(5000*(C$1:C$5000=\"\")),ROW(A496)))&\"\"","v":""},"",{"$f":"INDEX(B:B, SMALL(ROW(B$1:B$5000)+(5000*(B$1:B$5000=\"\")),ROW(A496)))&\"\"","v":""},"","","",null,null,{"$f":"INDEX(AH:AH,SMALL(ROW($AH$1:$AH$1999)+(1999*($AH$1:$AH$1999=\"\")), ROW(A496)))&\"\"","v":""},"","","","","","","","","","","","","","","","","","","","","","","","","","","","","","","",{"$f":"INDEX(AJ:AJ,SMALL(ROW($AJ$1:$AJ$1999)+(1999*($AJ$1:$AJ$1999=\"\")), ROW(A496)))&\"\"","v":""},"",{"$f":"INDEX(AK:AK,SMALL(ROW($AK$1:$AK$1999)+(1999*($AK$1:$AK$1999=\"\")), ROW(A496)))&\"\"","v":""},"","","",null,"",""]
[null,null,null,null,null,null,null,null,null,null,null,null,null,null,null,null,null,null,null,null,null,null,null,null,null,null,null,null,null,null,null,null,{"$f":"INDEX(C:C, SMALL(ROW(C$1:C$5000)+(5000*(C$1:C$5000=\"\")),ROW(A497)))&\"\"","v":""},"",{"$f":"INDEX(B:B, SMALL(ROW(B$1:B$5000)+(5000*(B$1:B$5000=\"\")),ROW(A497)))&\"\"","v":""},"","","",null,null,{"$f":"INDEX(AH:AH,SMALL(ROW($AH$1:$AH$1999)+(1999*($AH$1:$AH$1999=\"\")), ROW(A497)))&\"\"","v":""},"","","","","","","","","","","","","","","","","","","","","","","","","","","","","","","",{"$f":"INDEX(AJ:AJ,SMALL(ROW($AJ$1:$AJ$1999)+(1999*($AJ$1:$AJ$1999=\"\")), ROW(A497)))&\"\"","v":""},"",{"$f":"INDEX(AK:AK,SMALL(ROW($AK$1:$AK$1999)+(1999*($AK$1:$AK$1999=\"\")), ROW(A497)))&\"\"","v":""},"","","",null,"",""]
[null,null,null,null,null,null,null,null,null,null,null,null,null,null,null,null,null,null,null,null,null,null,null,null,null,null,null,null,null,null,null,null,{"$f":"INDEX(C:C, SMALL(ROW(C$1:C$5000)+(5000*(C$1:C$5000=\"\")),ROW(A498)))&\"\"","v":""},"",{"$f":"INDEX(B:B, SMALL(ROW(B$1:B$5000)+(5000*(B$1:B$5000=\"\")),ROW(A498)))&\"\"","v":""},"","","",null,null,{"$f":"INDEX(AH:AH,SMALL(ROW($AH$1:$AH$1999)+(1999*($AH$1:$AH$1999=\"\")), ROW(A498)))&\"\"","v":""},"","","","","","","","","","","","","","","","","","","","","","","","","","","","","","","",{"$f":"INDEX(AJ:AJ,SMALL(ROW($AJ$1:$AJ$1999)+(1999*($AJ$1:$AJ$1999=\"\")), ROW(A498)))&\"\"","v":""},"",{"$f":"INDEX(AK:AK,SMALL(ROW($AK$1:$AK$1999)+(1999*($AK$1:$AK$1999=\"\")), ROW(A498)))&\"\"","v":""},"","","",null,"",""]
[null,null,null,null,null,null,null,null,null,null,null,null,null,null,null,null,null,null,null,null,null,null,null,null,null,null,null,null,null,null,null,null,{"$f":"INDEX(C:C, SMALL(ROW(C$1:C$5000)+(5000*(C$1:C$5000=\"\")),ROW(A499)))&\"\"","v":""},"",{"$f":"INDEX(B:B, SMALL(ROW(B$1:B$5000)+(5000*(B$1:B$5000=\"\")),ROW(A499)))&\"\"","v":""},"","","",null,null,{"$f":"INDEX(AH:AH,SMALL(ROW($AH$1:$AH$1999)+(1999*($AH$1:$AH$1999=\"\")), ROW(A499)))&\"\"","v":""},"","","","","","","","","","","","","","","","","","","","","","","","","","","","","","","",{"$f":"INDEX(AJ:AJ,SMALL(ROW($AJ$1:$AJ$1999)+(1999*($AJ$1:$AJ$1999=\"\")), ROW(A499)))&\"\"","v":""},"",{"$f":"INDEX(AK:AK,SMALL(ROW($AK$1:$AK$1999)+(1999*($AK$1:$AK$1999=\"\")), ROW(A499)))&\"\"","v":""},"","","",null,"",""]
[null,null,null,null,null,null,null,null,null,null,null,null,null,null,null,null,null,null,null,null,null,null,null,null,null,null,null,null,null,null,null,null,{"$f":"INDEX(C:C, SMALL(ROW(C$1:C$5000)+(5000*(C$1:C$5000=\"\")),ROW(A500)))&\"\"","v":""},"",{"$f":"INDEX(B:B, SMALL(ROW(B$1:B$5000)+(5000*(B$1:B$5000=\"\")),ROW(A500)))&\"\"","v":""},"","","",null,null,{"$f":"INDEX(AH:AH,SMALL(ROW($AH$1:$AH$1999)+(1999*($AH$1:$AH$1999=\"\")), ROW(A500)))&\"\"","v":""},"","","","","","","","","","","","","","","","","","","","","","","","","","","","","","","",{"$f":"INDEX(AJ:AJ,SMALL(ROW($AJ$1:$AJ$1999)+(1999*($AJ$1:$AJ$1999=\"\")), ROW(A500)))&\"\"","v":""},"",{"$f":"INDEX(AK:AK,SMALL(ROW($AK$1:$AK$1999)+(1999*($AK$1:$AK$1999=\"\")), ROW(A500)))&\"\"","v":""},"","","",null,"",""]
[null,null,null,null,null,null,null,null,null,null,null,null,null,null,null,null,null,null,null,null,null,null,null,null,null,null,null,null,null,null,null,null,{"$f":"INDEX(C:C, SMALL(ROW(C$1:C$5000)+(5000*(C$1:C$5000=\"\")),ROW(A502)))&\"\"","v":""},"",{"$f":"INDEX(B:B, SMALL(ROW(B$1:B$5000)+(5000*(B$1:B$5000=\"\")),ROW(A502)))&\"\"","v":""},"","","",null,null,{"$f":"INDEX(AH:AH,SMALL(ROW($AH$1:$AH$1999)+(1999*($AH$1:$AH$1999=\"\")), ROW(A502)))&\"\"","v":""},"","","","","","","","","","","","","","","","","","","","","","","","","","","","","","","",{"$f":"INDEX(AJ:AJ,SMALL(ROW($AJ$1:$AJ$1999)+(1999*($AJ$1:$AJ$1999=\"\")), ROW(A502)))&\"\"","v":""},"",{"$f":"INDEX(AK:AK,SMALL(ROW($AK$1:$AK$1999)+(1999*($AK$1:$AK$1999=\"\")), ROW(A502)))&\"\"","v":""},"","","",null,"",""]
[null,null,null,null,null,null,null,null,null,null,null,null,null,null,null,null,null,null,null,null,null,null,null,null,null,null,null,null,null,null,null,null,{"$f":"INDEX(C:C, SMALL(ROW(C$1:C$5000)+(5000*(C$1:C$5000=\"\")),ROW(A504)))&\"\"","v":""},"",{"$f":"INDEX(B:B, SMALL(ROW(B$1:B$5000)+(5000*(B$1:B$5000=\"\")),ROW(A504)))&\"\"","v":""},"","","",null,null,{"$f":"INDEX(AH:AH,SMALL(ROW($AH$1:$AH$1999)+(1999*($AH$1:$AH$1999=\"\")), ROW(A504)))&\"\"","v":""},"","","","","","","","","","","","","","","","","","","","","","","","","","","","","","","",{"$f":"INDEX(AJ:AJ,SMALL(ROW($AJ$1:$AJ$1999)+(1999*($AJ$1:$AJ$1999=\"\")), ROW(A504)))&\"\"","v":""},"",{"$f":"INDEX(AK:AK,SMALL(ROW($AK$1:$AK$1999)+(1999*($AK$1:$AK$1999=\"\")), ROW(A504)))&\"\"","v":""},"","","",null,"",""]
[null,null,null,null,null,null,null,null,null,null,null,null,null,null,null,null,null,null,null,null,null,null,null,null,null,null,null,null,null,null,null,null,{"$f":"INDEX(C:C, SMALL(ROW(C$1:C$5000)+(5000*(C$1:C$5000=\"\")),ROW(A507)))&\"\"","v":""},"",{"$f":"INDEX(B:B, SMALL(ROW(B$1:B$5000)+(5000*(B$1:B$5000=\"\")),ROW(A507)))&\"\"","v":""},"","","",null,null,{"$f":"INDEX(AH:AH,SMALL(ROW($AH$1:$AH$1999)+(1999*($AH$1:$AH$1999=\"\")), ROW(A507)))&\"\"","v":""},"","","","","","","","","","","","","","","","","","","","","","","","","","","","","","","",{"$f":"INDEX(AJ:AJ,SMALL(ROW($AJ$1:$AJ$1999)+(1999*($AJ$1:$AJ$1999=\"\")), ROW(A507)))&\"\"","v":""},"",{"$f":"INDEX(AK:AK,SMALL(ROW($AK$1:$AK$1999)+(1999*($AK$1:$AK$1999=\"\")), ROW(A507)))&\"\"","v":""},"","","",null,"",""]
[null,null,null,null,null,null,null,null,null,null,null,null,null,null,null,null,null,null,null,null,null,null,null,null,null,null,null,null,null,null,null,null,{"$f":"INDEX(C:C, SMALL(ROW(C$1:C$5000)+(5000*(C$1:C$5000=\"\")),ROW(A511)))&\"\"","v":""},"",{"$f":"INDEX(B:B, SMALL(ROW(B$1:B$5000)+(5000*(B$1:B$5000=\"\")),ROW(A511)))&\"\"","v":""},"","","",null,null,{"$f":"INDEX(AH:AH,SMALL(ROW($AH$1:$AH$1999)+(1999*($AH$1:$AH$1999=\"\")), ROW(A511)))&\"\"","v":""},"","","","","","","","","","","","","","","","","","","","","","","","","","","","","","","",{"$f":"INDEX(AJ:AJ,SMALL(ROW($AJ$1:$AJ$1999)+(1999*($AJ$1:$AJ$1999=\"\")), ROW(A511)))&\"\"","v":""},"",{"$f":"INDEX(AK:AK,SMALL(ROW($AK$1:$AK$1999)+(1999*($AK$1:$AK$1999=\"\")), ROW(A511)))&\"\"","v":""},"","","",null,"",""]
[null,null,null,null,null,null,null,null,null,null,null,null,null,null,null,null,null,null,null,null,null,null,null,null,null,null,null,null,null,null,null,null,{"$f":"INDEX(C:C, SMALL(ROW(C$1:C$5000)+(5000*(C$1:C$5000=\"\")),ROW(A513)))&\"\"","v":""},{"$f":"IF(ISNUMBER(SEARCH(\"*,*\",AG513)),AG513,\"\")","v":""},{"$f":"INDEX(B:B, SMALL(ROW(B$1:B$5000)+(5000*(B$1:B$5000=\"\")),ROW(A513)))&\"\"","v":""},"","",{"$f":"IF(ISNUMBER(SEARCH(\"*Round*\",AI513)),AI513,\"\")","v":""},null,null,{"$f":"INDEX(AH:AH,SMALL(ROW($AH$1:$AH$1999)+(1999*($AH$1:$AH$1999=\"\")), ROW(A513)))&\"\"","v":""},"","","","","","","","","","","","","","","","","","","","","","","","","","","","","","","",{"$f":"INDEX(AJ:AJ,SMALL(ROW($AJ$1:$AJ$1999)+(1999*($AJ$1:$AJ$1999=\"\")), ROW(A513)))&\"\"","v":""},"",{"$f":"INDEX(AK:AK,SMALL(ROW($AK$1:$AK$1999)+(1999*($AK$1:$AK$1999=\"\")), ROW(A513)))&\"\"","v":""},"","","",null,"",""]
[null,null,null,null,null,null,null,null,null,null,null,null,null,null,null,null,null,null,null,null,null,null,null,null,null,null,null,null,null,null,null,null,{"$f":"INDEX(C:C, SMALL(ROW(C$1:C$5000)+(5000*(C$1:C$5000=\"\")),ROW(A516)))&\"\"","v":""},"",{"$f":"INDEX(B:B, SMALL(ROW(B$1:B$5000)+(5000*(B$1:B$5000=\"\")),ROW(A516)))&\"\"","v":""},"","","",null,null,{"$f":"INDEX(AH:AH,SMALL(ROW($AH$1:$AH$1999)+(1999*($AH$1:$AH$1999=\"\")), ROW(A516)))&\"\"","v":""},"","","","","","","","","","","","","","","","","","","","","","","","","","","","","","","",{"$f":"INDEX(AJ:AJ,SMALL(ROW($AJ$1:$AJ$1999)+(1999*($AJ$1:$AJ$1999=\"\")), ROW(A516)))&\"\"","v":""},"",{"$f":"INDEX(AK:AK,SMALL(ROW($AK$1:$AK$1999)+(1999*($AK$1:$AK$1999=\"\")), ROW(A516)))&\"\"","v":""},"","","",null,"",""]
[null,null,null,null,null,null,null,null,null,null,null,null,null,null,null,null,null,null,null,null,null,null,null,null,null,null,null,null,null,null,null,null,{"$f":"INDEX(C:C, SMALL(ROW(C$1:C$5000)+(5000*(C$1:C$5000=\"\")),ROW(A517)))&\"\"","v":""},"",{"$f":"INDEX(B:B, SMALL(ROW(B$1:B$5000)+(5000*(B$1:B$5000=\"\")),ROW(A517)))&\"\"","v":""},"","","",null,null,{"$f":"INDEX(AH:AH,SMALL(ROW($AH$1:$AH$1999)+(1999*($AH$1:$AH$1999=\"\")), ROW(A517)))&\"\"","v":""},"","","","","","","","","","","","","","","","","","","","","","","","","","","","","","","",{"$f":"INDEX(AJ:AJ,SMALL(ROW($AJ$1:$AJ$1999)+(1999*($AJ$1:$AJ$1999=\"\")), ROW(A517)))&\"\"","v":""},"",{"$f":"INDEX(AK:AK,SMALL(ROW($AK$1:$AK$1999)+(1999*($AK$1:$AK$1999=\"\")), ROW(A517)))&\"\"","v":""},"","","",null,"",""]
[null,null,null,null,null,null,null,null,null,null,null,null,null,null,null,null,null,null,null,null,null,null,null,null,null,null,null,null,null,null,null,null,{"$f":"INDEX(C:C, SMALL(ROW(C$1:C$5000)+(5000*(C$1:C$5000=\"\")),ROW(A520)))&\"\"","v":""},"",{"$f":"INDEX(B:B, SMALL(ROW(B$1:B$5000)+(5000*(B$1:B$5000=\"\")),ROW(A520)))&\"\"","v":""},"","","",null,null,{"$f":"INDEX(AH:AH,SMALL(ROW($AH$1:$AH$1999)+(1999*($AH$1:$AH$1999=\"\")), ROW(A520)))&\"\"","v":""},"","","","","","","","","","","","","","","","","","","","","","","","","","","","","","","",{"$f":"INDEX(AJ:AJ,SMALL(ROW($AJ$1:$AJ$1999)+(1999*($AJ$1:$AJ$1999=\"\")), ROW(A520)))&\"\"","v":""},"",{"$f":"INDEX(AK:AK,SMALL(ROW($AK$1:$AK$1999)+(1999*($AK$1:$AK$1999=\"\")), ROW(A520)))&\"\"","v":""},"","","",null,"",""]
[null,null,null,null,null,null,null,null,null,null,null,null,null,null,null,null,null,null,null,null,null,null,null,null,null,null,null,null,null,null,null,null,{"$f":"INDEX(C:C, SMALL(ROW(C$1:C$5000)+(5000*(C$1:C$5000=\"\")),ROW(A524)))&\"\"","v":""},"",{"$f":"INDEX(B:B, SMALL(ROW(B$1:B$5000)+(5000*(B$1:B$5000=\"\")),ROW(A524)))&\"\"","v":""},"","","",null,null,{"$f":"INDEX(AH:AH,SMALL(ROW($AH$1:$AH$1999)+(1999*($AH$1:$AH$1999=\"\")), ROW(A524)))&\"\"","v":""},"","","","","","","","","","","","","","","","","","","","","","","","","","","","","","","",{"$f":"INDEX(AJ:AJ,SMALL(ROW($AJ$1:$AJ$1999)+(1999*($AJ$1:$AJ$1999=\"\")), ROW(A524)))&\"\"","v":""},"",{"$f":"INDEX(AK:AK,SMALL(ROW($AK$1:$AK$1999)+(1999*($AK$1:$AK$1999=\"\")), ROW(A524)))&\"\"","v":""},"","","",null,"",""]
[null,null,null,null,null,null,null,null,null,null,null,null,null,null,null,null,null,null,null,null,null,null,null,null,null,null,null,null,null,null,null,null,{"$f":"INDEX(C:C, SMALL(ROW(C$1:C$5000)+(5000*(C$1:C$5000=\"\")),ROW(A526)))&\"\"","v":""},"",{"$f":"INDEX(B:B, SMALL(ROW(B$1:B$5000)+(5000*(B$1:B$5000=\"\")),ROW(A526)))&\"\"","v":""},"","","",null,null,{"$f":"INDEX(AH:AH,SMALL(ROW($AH$1:$AH$1999)+(1999*($AH$1:$AH$1999=\"\")), ROW(A526)))&\"\"","v":""},"","","","","","","","","","","","","","","","","","","","","","","","","","","","","","","",{"$f":"INDEX(AJ:AJ,SMALL(ROW($AJ$1:$AJ$1999)+(1999*($AJ$1:$AJ$1999=\"\")), ROW(A526)))&\"\"","v":""},"",{"$f":"INDEX(AK:AK,SMALL(ROW($AK$1:$AK$1999)+(1999*($AK$1:$AK$1999=\"\")), ROW(A526)))&\"\"","v":""},"","","",null,"",""]
[null,null,null,null,null,null,null,null,null,null,null,null,null,null,null,null,null,null,null,null,null,null,null,null,null,null,null,null,null,null,null,null,{"$f":"INDEX(C:C, SMALL(ROW(C$1:C$5000)+(5000*(C$1:C$5000=\"\")),ROW(A529)))&\"\"","v":""},"",{"$f":"INDEX(B:B, SMALL(ROW(B$1:B$5000)+(5000*(B$1:B$5000=\"\")),ROW(A529)))&\"\"","v":""},"","","",null,null,{"$f":"INDEX(AH:AH,SMALL(ROW($AH$1:$AH$1999)+(1999*($AH$1:$AH$1999=\"\")), ROW(A529)))&\"\"","v":""},"","","","","","","","","","","","","","","","","","","","","","","","","","","","","","","",{"$f":"INDEX(AJ:AJ,SMALL(ROW($AJ$1:$AJ$1999)+(1999*($AJ$1:$AJ$1999=\"\")), ROW(A529)))&\"\"","v":""},"",{"$f":"INDEX(AK:AK,SMALL(ROW($AK$1:$AK$1999)+(1999*($AK$1:$AK$1999=\"\")), ROW(A529)))&\"\"","v":""},"","","",null,"",""]
[null,null,null,null,null,null,null,null,null,null,null,null,null,null,null,null,null,null,null,null,null,null,null,null,null,null,null,null,null,null,null,null,{"$f":"INDEX(C:C, SMALL(ROW(C$1:C$5000)+(5000*(C$1:C$5000=\"\")),ROW(A533)))&\"\"","v":""},"",{"$f":"INDEX(B:B, SMALL(ROW(B$1:B$5000)+(5000*(B$1:B$5000=\"\")),ROW(A533)))&\"\"","v":""},"","","",null,null,{"$f":"INDEX(AH:AH,SMALL(ROW($AH$1:$AH$1999)+(1999*($AH$1:$AH$1999=\"\")), ROW(A533)))&\"\"","v":""},"","","","","","","","","","","","","","","","","","","","","","","","","","","","","","","",{"$f":"INDEX(AJ:AJ,SMALL(ROW($AJ$1:$AJ$1999)+(1999*($AJ$1:$AJ$1999=\"\")), ROW(A533)))&\"\"","v":""},"",{"$f":"INDEX(AK:AK,SMALL(ROW($AK$1:$AK$1999)+(1999*($AK$1:$AK$1999=\"\")), ROW(A533)))&\"\"","v":""},"","","",null,"",""]
[null,null,null,null,null,null,null,null,null,null,null,null,null,null,null,null,null,null,null,null,null,null,null,null,null,null,null,null,null,null,null,null,{"$f":"INDEX(C:C, SMALL(ROW(C$1:C$5000)+(5000*(C$1:C$5000=\"\")),ROW(A535)))&\"\"","v":""},"",{"$f":"INDEX(B:B, SMALL(ROW(B$1:B$5000)+(5000*(B$1:B$5000=\"\")),ROW(A535)))&\"\"","v":""},"","","",null,null,{"$f":"INDEX(AH:AH,SMALL(ROW($AH$1:$AH$1999)+(1999*($AH$1:$AH$1999=\"\")), ROW(A535)))&\"\"","v":""},"","","","","","","","","","","","","","","","","","","","","","","","","","","","","","","",{"$f":"INDEX(AJ:AJ,SMALL(ROW($AJ$1:$AJ$1999)+(1999*($AJ$1:$AJ$1999=\"\")), ROW(A535)))&\"\"","v":""},"",{"$f":"INDEX(AK:AK,SMALL(ROW($AK$1:$AK$1999)+(1999*($AK$1:$AK$1999=\"\")), ROW(A535)))&\"\"","v":""},"","","",null,"",""]
[null,null,null,null,null,null,null,null,null,null,null,null,null,null,null,null,null,null,null,null,null,null,null,null,null,null,null,null,null,null,null,null,{"$f":"INDEX(C:C, SMALL(ROW(C$1:C$5000)+(5000*(C$1:C$5000=\"\")),ROW(A538)))&\"\"","v":""},"",{"$f":"INDEX(B:B, SMALL(ROW(B$1:B$5000)+(5000*(B$1:B$5000=\"\")),ROW(A538)))&\"\"","v":""},"","","",null,null,{"$f":"INDEX(AH:AH,SMALL(ROW($AH$1:$AH$1999)+(1999*($AH$1:$AH$1999=\"\")), ROW(A538)))&\"\"","v":""},"","","","","","","","","","","","","","","","","","","","","","","","","","","","","","","",{"$f":"INDEX(AJ:AJ,SMALL(ROW($AJ$1:$AJ$1999)+(1999*($AJ$1:$AJ$1999=\"\")), ROW(A538)))&\"\"","v":""},"",{"$f":"INDEX(AK:AK,SMALL(ROW($AK$1:$AK$1999)+(1999*($AK$1:$AK$1999=\"\")), ROW(A538)))&\"\"","v":""},"","","",null,"",""]
[null,null,null,null,null,null,null,null,null,null,null,null,null,null,null,null,null,null,null,null,null,null,null,null,null,null,null,null,null,null,null,null,{"$f":"INDEX(C:C, SMALL(ROW(C$1:C$5000)+(5000*(C$1:C$5000=\"\")),ROW(A539)))&\"\"","v":""},"",{"$f":"INDEX(B:B, SMALL(ROW(B$1:B$5000)+(5000*(B$1:B$5000=\"\")),ROW(A539)))&\"\"","v":""},"","","",null,null,{"$f":"INDEX(AH:AH,SMALL(ROW($AH$1:$AH$1999)+(1999*($AH$1:$AH$1999=\"\")), ROW(A539)))&\"\"","v":""},"","","","","","","","","","","","","","","","","","","","","","","","","","","","","","","",{"$f":"INDEX(AJ:AJ,SMALL(ROW($AJ$1:$AJ$1999)+(1999*($AJ$1:$AJ$1999=\"\")), ROW(A539)))&\"\"","v":""},"",{"$f":"INDEX(AK:AK,SMALL(ROW($AK$1:$AK$1999)+(1999*($AK$1:$AK$1999=\"\")), ROW(A539)))&\"\"","v":""},"","","",null,"",""]
[null,null,null,null,null,null,null,null,null,null,null,null,null,null,null,null,null,null,null,null,null,null,null,null,null,null,null,null,null,null,null,null,{"$f":"INDEX(C:C, SMALL(ROW(C$1:C$5000)+(5000*(C$1:C$5000=\"\")),ROW(A542)))&\"\"","v":""},"",{"$f":"INDEX(B:B, SMALL(ROW(B$1:B$5000)+(5000*(B$1:B$5000=\"\")),ROW(A542)))&\"\"","v":""},"","","",null,null,{"$f":"INDEX(AH:AH,SMALL(ROW($AH$1:$AH$1999)+(1999*($AH$1:$AH$1999=\"\")), ROW(A542)))&\"\"","v":""},"","","","","","","","","","","",{"$f":"IFERROR(IF(ISNUMBER(SEARCH(\"*TE*\",AZ542)),BV542,\"\"),VALUE(0))","v":""},"","","","","","","","","","","","","","","","","","","",{"$f":"INDEX(AJ:AJ,SMALL(ROW($AJ$1:$AJ$1999)+(1999*($AJ$1:$AJ$1999=\"\")), ROW(A542)))&\"\"","v":""},"",{"$f":"INDEX(AK:AK,SMALL(ROW($AK$1:$AK$1999)+(1999*($AK$1:$AK$1999=\"\")), ROW(A542)))&\"\"","v":""},"","","",null,"",""]
[null,null,null,null,null,null,null,null,null,null,null,null,null,null,null,null,null,null,null,null,null,null,null,null,null,null,null,null,null,null,null,null,{"$f":"INDEX(C:C, SMALL(ROW(C$1:C$5000)+(5000*(C$1:C$5000=\"\")),ROW(A546)))&\"\"","v":""},"",{"$f":"INDEX(B:B, SMALL(ROW(B$1:B$5000)+(5000*(B$1:B$5000=\"\")),ROW(A546)))&\"\"","v":""},"","","",null,null,{"$f":"INDEX(AH:AH,SMALL(ROW($AH$1:$AH$1999)+(1999*($AH$1:$AH$1999=\"\")), ROW(A546)))&\"\"","v":""},"","","","","","","","","","","","","","","","","","","","","","","","","","","","","","","",{"$f":"INDEX(AJ:AJ,SMALL(ROW($AJ$1:$AJ$1999)+(1999*($AJ$1:$AJ$1999=\"\")), ROW(A546)))&\"\"","v":""},"",{"$f":"INDEX(AK:AK,SMALL(ROW($AK$1:$AK$1999)+(1999*($AK$1:$AK$1999=\"\")), ROW(A546)))&\"\"","v":""},"","","",null,"",""]
[null,null,null,null,null,null,null,null,null,null,null,null,null,null,null,null,null,null,null,null,null,null,null,null,null,null,null,null,null,null,null,null,{"$f":"INDEX(C:C, SMALL(ROW(C$1:C$5000)+(5000*(C$1:C$5000=\"\")),ROW(A548)))&\"\"","v":""},"",{"$f":"INDEX(B:B, SMALL(ROW(B$1:B$5000)+(5000*(B$1:B$5000=\"\")),ROW(A548)))&\"\"","v":""},"","","",null,null,{"$f":"INDEX(AH:AH,SMALL(ROW($AH$1:$AH$1999)+(1999*($AH$1:$AH$1999=\"\")), ROW(A548)))&\"\"","v":""},"","","","","","","","","","","","","","","","","","","","","","","","","","","","","","","",{"$f":"INDEX(AJ:AJ,SMALL(ROW($AJ$1:$AJ$1999)+(1999*($AJ$1:$AJ$1999=\"\")), ROW(A548)))&\"\"","v":""},"",{"$f":"INDEX(AK:AK,SMALL(ROW($AK$1:$AK$1999)+(1999*($AK$1:$AK$1999=\"\")), ROW(A548)))&\"\"","v":""},"","","",null,"",""]
[null,null,null,null,null,null,null,null,null,null,null,null,null,null,null,null,null,null,null,null,null,null,null,null,null,null,null,null,null,null,null,null,{"$f":"INDEX(C:C, SMALL(ROW(C$1:C$5000)+(5000*(C$1:C$5000=\"\")),ROW(A551)))&\"\"","v":""},"",{"$f":"INDEX(B:B, SMALL(ROW(B$1:B$5000)+(5000*(B$1:B$5000=\"\")),ROW(A551)))&\"\"","v":""},"","","",null,null,{"$f":"INDEX(AH:AH,SMALL(ROW($AH$1:$AH$1999)+(1999*($AH$1:$AH$1999=\"\")), ROW(A551)))&\"\"","v":""},"","","","","","","","","","","","","","","","","","","","","","","","","","","","","","","",{"$f":"INDEX(AJ:AJ,SMALL(ROW($AJ$1:$AJ$1999)+(1999*($AJ$1:$AJ$1999=\"\")), ROW(A551)))&\"\"","v":""},"",{"$f":"INDEX(AK:AK,SMALL(ROW($AK$1:$AK$1999)+(1999*($AK$1:$AK$1999=\"\")), ROW(A551)))&\"\"","v":""},"","","",null,"",""]
[null,null,null,null,null,null,null,null,null,null,null,null,null,null,null,null,null,null,null,null,null,null,null,null,null,null,null,null,null,null,null,null,{"$f":"INDEX(C:C, SMALL(ROW(C$1:C$5000)+(5000*(C$1:C$5000=\"\")),ROW(A555)))&\"\"","v":""},"",{"$f":"INDEX(B:B, SMALL(ROW(B$1:B$5000)+(5000*(B$1:B$5000=\"\")),ROW(A555)))&\"\"","v":""},"","","",null,null,{"$f":"INDEX(AH:AH,SMALL(ROW($AH$1:$AH$1999)+(1999*($AH$1:$AH$1999=\"\")), ROW(A555)))&\"\"","v":""},"","","","","","","","","","","","","","","","","","","","","","","","","","","","","","","",{"$f":"INDEX(AJ:AJ,SMALL(ROW($AJ$1:$AJ$1999)+(1999*($AJ$1:$AJ$1999=\"\")), ROW(A555)))&\"\"","v":""},"",{"$f":"INDEX(AK:AK,SMALL(ROW($AK$1:$AK$1999)+(1999*($AK$1:$AK$1999=\"\")), ROW(A555)))&\"\"","v":""},"","","",null,"",""]
[null,null,null,null,null,null,null,null,null,null,null,null,null,null,null,null,null,null,null,null,null,null,null,null,null,null,null,null,null,null,null,null,{"$f":"INDEX(C:C, SMALL(ROW(C$1:C$5000)+(5000*(C$1:C$5000=\"\")),ROW(A557)))&\"\"","v":""},"",{"$f":"INDEX(B:B, SMALL(ROW(B$1:B$5000)+(5000*(B$1:B$5000=\"\")),ROW(A557)))&\"\"","v":""},"","","",null,null,{"$f":"INDEX(AH:AH,SMALL(ROW($AH$1:$AH$1999)+(1999*($AH$1:$AH$1999=\"\")), ROW(A557)))&\"\"","v":""},"","","","","","","","","","","","","","","","","","","","","","","","","","","","","","","",{"$f":"INDEX(AJ:AJ,SMALL(ROW($AJ$1:$AJ$1999)+(1999*($AJ$1:$AJ$1999=\"\")), ROW(A557)))&\"\"","v":""},"",{"$f":"INDEX(AK:AK,SMALL(ROW($AK$1:$AK$1999)+(1999*($AK$1:$AK$1999=\"\")), ROW(A557)))&\"\"","v":""},"","","",null,"",""]
[null,null,null,null,null,null,null,null,null,null,null,null,null,null,null,null,null,null,null,null,null,null,null,null,null,null,null,null,null,null,null,null,{"$f":"INDEX(C:C, SMALL(ROW(C$1:C$5000)+(5000*(C$1:C$5000=\"\")),ROW(A558)))&\"\"","v":""},"",{"$f":"INDEX(B:B, SMALL(ROW(B$1:B$5000)+(5000*(B$1:B$5000=\"\")),ROW(A558)))&\"\"","v":""},"","","",null,null,{"$f":"INDEX(AH:AH,SMALL(ROW($AH$1:$AH$1999)+(1999*($AH$1:$AH$1999=\"\")), ROW(A558)))&\"\"","v":""},"","","","","","","","","","","","","","","","","","","","","","","","","","","","","","","",{"$f":"INDEX(AJ:AJ,SMALL(ROW($AJ$1:$AJ$1999)+(1999*($AJ$1:$AJ$1999=\"\")), ROW(A558)))&\"\"","v":""},"",{"$f":"INDEX(AK:AK,SMALL(ROW($AK$1:$AK$1999)+(1999*($AK$1:$AK$1999=\"\")), ROW(A558)))&\"\"","v":""},"","","",null,"",""]
[null,null,null,null,null,null,null,null,null,null,null,null,null,null,null,null,null,null,null,null,null,null,null,null,null,null,null,null,null,null,null,null,{"$f":"INDEX(C:C, SMALL(ROW(C$1:C$5000)+(5000*(C$1:C$5000=\"\")),ROW(A561)))&\"\"","v":""},"",{"$f":"INDEX(B:B, SMALL(ROW(B$1:B$5000)+(5000*(B$1:B$5000=\"\")),ROW(A561)))&\"\"","v":""},"","","",null,null,{"$f":"INDEX(AH:AH,SMALL(ROW($AH$1:$AH$1999)+(1999*($AH$1:$AH$1999=\"\")), ROW(A561)))&\"\"","v":""},"","","","","","","","","","","","","","","","","","","","","","","","","","","","","","","",{"$f":"INDEX(AJ:AJ,SMALL(ROW($AJ$1:$AJ$1999)+(1999*($AJ$1:$AJ$1999=\"\")), ROW(A561)))&\"\"","v":""},"",{"$f":"INDEX(AK:AK,SMALL(ROW($AK$1:$AK$1999)+(1999*($AK$1:$AK$1999=\"\")), ROW(A561)))&\"\"","v":""},"","","",null,"",""]
[null,null,null,null,null,null,null,null,null,null,null,null,null,null,null,null,null,null,null,null,null,null,null,null,null,null,null,null,null,null,null,null,{"$f":"INDEX(C:C, SMALL(ROW(C$1:C$5000)+(5000*(C$1:C$5000=\"\")),ROW(A564)))&\"\"","v":""},"",{"$f":"INDEX(B:B, SMALL(ROW(B$1:B$5000)+(5000*(B$1:B$5000=\"\")),ROW(A564)))&\"\"","v":""},"","","",null,null,{"$f":"INDEX(AH:AH,SMALL(ROW($AH$1:$AH$1999)+(1999*($AH$1:$AH$1999=\"\")), ROW(A564)))&\"\"","v":""},"","","","","","","","","","","","","","","","","","","","","","","","","","","","","","","",{"$f":"INDEX(AJ:AJ,SMALL(ROW($AJ$1:$AJ$1999)+(1999*($AJ$1:$AJ$1999=\"\")), ROW(A564)))&\"\"","v":""},"",{"$f":"INDEX(AK:AK,SMALL(ROW($AK$1:$AK$1999)+(1999*($AK$1:$AK$1999=\"\")), ROW(A564)))&\"\"","v":""},"","","",null,"",""]
[null,null,null,null,null,null,null,null,null,null,null,null,null,null,null,null,null,null,null,null,null,null,null,null,null,null,null,null,null,null,null,null,{"$f":"INDEX(C:C, SMALL(ROW(C$1:C$5000)+(5000*(C$1:C$5000=\"\")),ROW(A568)))&\"\"","v":""},"",{"$f":"INDEX(B:B, SMALL(ROW(B$1:B$5000)+(5000*(B$1:B$5000=\"\")),ROW(A568)))&\"\"","v":""},"","","",null,null,{"$f":"INDEX(AH:AH,SMALL(ROW($AH$1:$AH$1999)+(1999*($AH$1:$AH$1999=\"\")), ROW(A568)))&\"\"","v":""},"","","","","","","","","","","","","","","","","","","","","","","","","","","","","","","",{"$f":"INDEX(AJ:AJ,SMALL(ROW($AJ$1:$AJ$1999)+(1999*($AJ$1:$AJ$1999=\"\")), ROW(A568)))&\"\"","v":""},"",{"$f":"INDEX(AK:AK,SMALL(ROW($AK$1:$AK$1999)+(1999*($AK$1:$AK$1999=\"\")), ROW(A568)))&\"\"","v":""},"","","",null,"",""]
[null,null,null,null,null,null,null,null,null,null,null,null,null,null,null,null,null,null,null,null,null,null,null,null,null,null,null,null,null,null,null,null,{"$f":"INDEX(C:C, SMALL(ROW(C$1:C$5000)+(5000*(C$1:C$5000=\"\")),ROW(A570)))&\"\"","v":""},"",{"$f":"INDEX(B:B, SMALL(ROW(B$1:B$5000)+(5000*(B$1:B$5000=\"\")),ROW(A570)))&\"\"","v":""},"","","",null,null,{"$f":"INDEX(AH:AH,SMALL(ROW($AH$1:$AH$1999)+(1999*($AH$1:$AH$1999=\"\")), ROW(A570)))&\"\"","v":""},"","","","","","","","","","","","","","","","","","","","","","","","","","","","","","","",{"$f":"INDEX(AJ:AJ,SMALL(ROW($AJ$1:$AJ$1999)+(1999*($AJ$1:$AJ$1999=\"\")), ROW(A570)))&\"\"","v":""},"",{"$f":"INDEX(AK:AK,SMALL(ROW($AK$1:$AK$1999)+(1999*($AK$1:$AK$1999=\"\")), ROW(A570)))&\"\"","v":""},"","","",null,"",""]
[null,null,null,null,null,null,null,null,null,null,null,null,null,null,null,null,null,null,null,null,null,null,null,null,null,null,null,null,null,null,null,null,{"$f":"INDEX(C:C, SMALL(ROW(C$1:C$5000)+(5000*(C$1:C$5000=\"\")),ROW(A573)))&\"\"","v":""},"",{"$f":"INDEX(B:B, SMALL(ROW(B$1:B$5000)+(5000*(B$1:B$5000=\"\")),ROW(A573)))&\"\"","v":""},"","","",null,null,{"$f":"INDEX(AH:AH,SMALL(ROW($AH$1:$AH$1999)+(1999*($AH$1:$AH$1999=\"\")), ROW(A573)))&\"\"","v":""},"","","","","","","","","","","","","","","","","","","","","","","","","","","","","","","",{"$f":"INDEX(AJ:AJ,SMALL(ROW($AJ$1:$AJ$1999)+(1999*($AJ$1:$AJ$1999=\"\")), ROW(A573)))&\"\"","v":""},"",{"$f":"INDEX(AK:AK,SMALL(ROW($AK$1:$AK$1999)+(1999*($AK$1:$AK$1999=\"\")), ROW(A573)))&\"\"","v":""},"","","",null,"",""]
[null,null,null,null,null,null,null,null,null,null,null,null,null,null,null,null,null,null,null,null,null,null,null,null,null,null,null,null,null,null,null,null,{"$f":"INDEX(C:C, SMALL(ROW(C$1:C$5000)+(5000*(C$1:C$5000=\"\")),ROW(A577)))&\"\"","v":""},{"$f":"IF(ISNUMBER(SEARCH(\"*,*\",AG577)),AG577,\"\")","v":""},{"$f":"INDEX(B:B, SMALL(ROW(B$1:B$5000)+(5000*(B$1:B$5000=\"\")),ROW(A577)))&\"\"","v":""},"","",{"$f":"IF(ISNUMBER(SEARCH(\"*Round*\",AI577)),AI577,\"\")","v":""},null,null,{"$f":"INDEX(AH:AH,SMALL(ROW($AH$1:$AH$1999)+(1999*($AH$1:$AH$1999=\"\")), ROW(A577)))&\"\"","v":""},"","","","","","","","","","","","","","","","","","","","","","","","","","","","","","","",{"$f":"INDEX(AJ:AJ,SMALL(ROW($AJ$1:$AJ$1999)+(1999*($AJ$1:$AJ$1999=\"\")), ROW(A577)))&\"\"","v":""},"",{"$f":"INDEX(AK:AK,SMALL(ROW($AK$1:$AK$1999)+(1999*($AK$1:$AK$1999=\"\")), ROW(A577)))&\"\"","v":""},"","","",null,"",""]
[null,null,null,null,null,null,null,null,null,null,null,null,null,null,null,null,null,null,null,null,null,null,null,null,null,null,null,null,null,null,null,null,{"$f":"INDEX(C:C, SMALL(ROW(C$1:C$5000)+(5000*(C$1:C$5000=\"\")),ROW(A579)))&\"\"","v":""},"",{"$f":"INDEX(B:B, SMALL(ROW(B$1:B$5000)+(5000*(B$1:B$5000=\"\")),ROW(A579)))&\"\"","v":""},"","","",null,null,{"$f":"INDEX(AH:AH,SMALL(ROW($AH$1:$AH$1999)+(1999*($AH$1:$AH$1999=\"\")), ROW(A579)))&\"\"","v":""},"","","","","","","","","","","","","","","","","","","","","","","","","","","","","","","",{"$f":"INDEX(AJ:AJ,SMALL(ROW($AJ$1:$AJ$1999)+(1999*($AJ$1:$AJ$1999=\"\")), ROW(A579)))&\"\"","v":""},"",{"$f":"INDEX(AK:AK,SMALL(ROW($AK$1:$AK$1999)+(1999*($AK$1:$AK$1999=\"\")), ROW(A579)))&\"\"","v":""},"","","",null,"",""]
[null,null,null,null,null,null,null,null,null,null,null,null,null,null,null,null,null,null,null,null,null,null,null,null,null,null,null,null,null,null,null,null,{"$f":"INDEX(C:C, SMALL(ROW(C$1:C$5000)+(5000*(C$1:C$5000=\"\")),ROW(A580)))&\"\"","v":""},"",{"$f":"INDEX(B:B, SMALL(ROW(B$1:B$5000)+(5000*(B$1:B$5000=\"\")),ROW(A580)))&\"\"","v":""},"","","",null,null,{"$f":"INDEX(AH:AH,SMALL(ROW($AH$1:$AH$1999)+(1999*($AH$1:$AH$1999=\"\")), ROW(A580)))&\"\"","v":""},"","","","","","","","","","","","","","","","","","","","","","","","","","","","","","","",{"$f":"INDEX(AJ:AJ,SMALL(ROW($AJ$1:$AJ$1999)+(1999*($AJ$1:$AJ$1999=\"\")), ROW(A580)))&\"\"","v":""},"",{"$f":"INDEX(AK:AK,SMALL(ROW($AK$1:$AK$1999)+(1999*($AK$1:$AK$1999=\"\")), ROW(A580)))&\"\"","v":""},"","","",null,"",""]
[null,null,null,null,null,null,null,null,null,null,null,null,null,null,null,null,null,null,null,null,null,null,null,null,null,null,null,null,null,null,null,null,{"$f":"INDEX(C:C, SMALL(ROW(C$1:C$5000)+(5000*(C$1:C$5000=\"\")),ROW(A583)))&\"\"","v":""},"",{"$f":"INDEX(B:B, SMALL(ROW(B$1:B$5000)+(5000*(B$1:B$5000=\"\")),ROW(A583)))&\"\"","v":""},"","","",null,null,{"$f":"INDEX(AH:AH,SMALL(ROW($AH$1:$AH$1999)+(1999*($AH$1:$AH$1999=\"\")), ROW(A583)))&\"\"","v":""},"","","","","","","","","","","","","","","","","","","","","","","","","","","","","","","",{"$f":"INDEX(AJ:AJ,SMALL(ROW($AJ$1:$AJ$1999)+(1999*($AJ$1:$AJ$1999=\"\")), ROW(A583)))&\"\"","v":""},"",{"$f":"INDEX(AK:AK,SMALL(ROW($AK$1:$AK$1999)+(1999*($AK$1:$AK$1999=\"\")), ROW(A583)))&\"\"","v":""},"","","",null,"",""]
[null,null,null,null,null,null,null,null,null,null,null,null,null,null,null,null,null,null,null,null,null,null,null,null,null,null,null,null,null,null,null,null,{"$f":"INDEX(C:C, SMALL(ROW(C$1:C$5000)+(5000*(C$1:C$5000=\"\")),ROW(A586)))&\"\"","v":""},"",{"$f":"INDEX(B:B, SMALL(ROW(B$1:B$5000)+(5000*(B$1:B$5000=\"\")),ROW(A586)))&\"\"","v":""},"","","",null,null,{"$f":"INDEX(AH:AH,SMALL(ROW($AH$1:$AH$1999)+(1999*($AH$1:$AH$1999=\"\")), ROW(A586)))&\"\"","v":""},"","","","","","","","","","","","","","","","","","","","","","","","","","","","","","","",{"$f":"INDEX(AJ:AJ,SMALL(ROW($AJ$1:$AJ$1999)+(1999*($AJ$1:$AJ$1999=\"\")), ROW(A586)))&\"\"","v":""},"",{"$f":"INDEX(AK:AK,SMALL(ROW($AK$1:$AK$1999)+(1999*($AK$1:$AK$1999=\"\")), ROW(A586)))&\"\"","v":""},"","","",null,"",""]
[null,null,null,null,null,null,null,null,null,null,null,null,null,null,null,null,null,null,null,null,null,null,null,null,null,null,null,null,null,null,null,null,{"$f":"INDEX(C:C, SMALL(ROW(C$1:C$5000)+(5000*(C$1:C$5000=\"\")),ROW(A590)))&\"\"","v":""},"",{"$f":"INDEX(B:B, SMALL(ROW(B$1:B$5000)+(5000*(B$1:B$5000=\"\")),ROW(A590)))&\"\"","v":""},"","","",null,null,{"$f":"INDEX(AH:AH,SMALL(ROW($AH$1:$AH$1999)+(1999*($AH$1:$AH$1999=\"\")), ROW(A590)))&\"\"","v":""},"","","","","","","","","","","","","","","","","","","","","","","","","","","","","","","",{"$f":"INDEX(AJ:AJ,SMALL(ROW($AJ$1:$AJ$1999)+(1999*($AJ$1:$AJ$1999=\"\")), ROW(A590)))&\"\"","v":""},"",{"$f":"INDEX(AK:AK,SMALL(ROW($AK$1:$AK$1999)+(1999*($AK$1:$AK$1999=\"\")), ROW(A590)))&\"\"","v":""},"","","",null,"",""]
[null,null,null,null,null,null,null,null,null,null,null,null,null,null,null,null,null,null,null,null,null,null,null,null,null,null,null,null,null,null,null,null,{"$f":"INDEX(C:C, SMALL(ROW(C$1:C$5000)+(5000*(C$1:C$5000=\"\")),ROW(A592)))&\"\"","v":""},"",{"$f":"INDEX(B:B, SMALL(ROW(B$1:B$5000)+(5000*(B$1:B$5000=\"\")),ROW(A592)))&\"\"","v":""},"","","",null,null,{"$f":"INDEX(AH:AH,SMALL(ROW($AH$1:$AH$1999)+(1999*($AH$1:$AH$1999=\"\")), ROW(A592)))&\"\"","v":""},"","","","","","","","","","","","","","","","","","","","","","","","","","","","","","","",{"$f":"INDEX(AJ:AJ,SMALL(ROW($AJ$1:$AJ$1999)+(1999*($AJ$1:$AJ$1999=\"\")), ROW(A592)))&\"\"","v":""},"",{"$f":"INDEX(AK:AK,SMALL(ROW($AK$1:$AK$1999)+(1999*($AK$1:$AK$1999=\"\")), ROW(A592)))&\"\"","v":""},"","","",null,"",""]
[null,null,null,null,null,null,null,null,null,null,null,null,null,null,null,null,null,null,null,null,null,null,null,null,null,null,null,null,null,null,null,null,{"$f":"INDEX(C:C, SMALL(ROW(C$1:C$5000)+(5000*(C$1:C$5000=\"\")),ROW(A595)))&\"\"","v":""},"",{"$f":"INDEX(B:B, SMALL(ROW(B$1:B$5000)+(5000*(B$1:B$5000=\"\")),ROW(A595)))&\"\"","v":""},"","","",null,null,{"$f":"INDEX(AH:AH,SMALL(ROW($AH$1:$AH$1999)+(1999*($AH$1:$AH$1999=\"\")), ROW(A595)))&\"\"","v":""},"","","","","","","","","","","","","","","","","","","","","","","","","","","","","","","",{"$f":"INDEX(AJ:AJ,SMALL(ROW($AJ$1:$AJ$1999)+(1999*($AJ$1:$AJ$1999=\"\")), ROW(A595)))&\"\"","v":""},"",{"$f":"INDEX(AK:AK,SMALL(ROW($AK$1:$AK$1999)+(1999*($AK$1:$AK$1999=\"\")), ROW(A595)))&\"\"","v":""},"","","",null,"",""]
[null,null,null,null,null,null,null,null,null,null,null,null,null,null,null,null,null,null,null,null,null,null,null,null,null,null,null,null,null,null,null,null,{"$f":"INDEX(C:C, SMALL(ROW(C$1:C$5000)+(5000*(C$1:C$5000=\"\")),ROW(A599)))&\"\"","v":""},"",{"$f":"INDEX(B:B, SMALL(ROW(B$1:B$5000)+(5000*(B$1:B$5000=\"\")),ROW(A599)))&\"\"","v":""},"","","",null,null,{"$f":"INDEX(AH:AH,SMALL(ROW($AH$1:$AH$1999)+(1999*($AH$1:$AH$1999=\"\")), ROW(A599)))&\"\"","v":""},"","","","","","","","","","","","","","","","","","","","","","","","","","","","","","","",{"$f":"INDEX(AJ:AJ,SMALL(ROW($AJ$1:$AJ$1999)+(1999*($AJ$1:$AJ$1999=\"\")), ROW(A599)))&\"\"","v":""},"",{"$f":"INDEX(AK:AK,SMALL(ROW($AK$1:$AK$1999)+(1999*($AK$1:$AK$1999=\"\")), ROW(A599)))&\"\"","v":""},"","","",null,"",""]
[null,null,null,null,null,null,null,null,null,null,null,null,null,null,null,null,null,null,null,null,null,null,null,null,null,null,null,null,null,null,null,null,{"$f":"INDEX(C:C, SMALL(ROW(C$1:C$5000)+(5000*(C$1:C$5000=\"\")),ROW(A601)))&\"\"","v":""},"",{"$f":"INDEX(B:B, SMALL(ROW(B$1:B$5000)+(5000*(B$1:B$5000=\"\")),ROW(A601)))&\"\"","v":""},"","","",null,null,{"$f":"INDEX(AH:AH,SMALL(ROW($AH$1:$AH$1999)+(1999*($AH$1:$AH$1999=\"\")), ROW(A601)))&\"\"","v":""},"","","","","","","","","","","","","","","","","","","","","","","","","","","","","","","",{"$f":"INDEX(AJ:AJ,SMALL(ROW($AJ$1:$AJ$1999)+(1999*($AJ$1:$AJ$1999=\"\")), ROW(A601)))&\"\"","v":""},"",{"$f":"INDEX(AK:AK,SMALL(ROW($AK$1:$AK$1999)+(1999*($AK$1:$AK$1999=\"\")), ROW(A601)))&\"\"","v":""},"","","",null,"",""]
[null,null,null,null,null,null,null,null,null,null,null,null,null,null,null,null,null,null,null,null,null,null,null,null,null,null,null,null,null,null,null,null,{"$f":"INDEX(C:C, SMALL(ROW(C$1:C$5000)+(5000*(C$1:C$5000=\"\")),ROW(A602)))&\"\"","v":""},"",{"$f":"INDEX(B:B, SMALL(ROW(B$1:B$5000)+(5000*(B$1:B$5000=\"\")),ROW(A602)))&\"\"","v":""},"","","",null,null,{"$f":"INDEX(AH:AH,SMALL(ROW($AH$1:$AH$1999)+(1999*($AH$1:$AH$1999=\"\")), ROW(A602)))&\"\"","v":""},"","","","","","","","","","","","","","","","","","","","","","","","","","","","","","","",{"$f":"INDEX(AJ:AJ,SMALL(ROW($AJ$1:$AJ$1999)+(1999*($AJ$1:$AJ$1999=\"\")), ROW(A602)))&\"\"","v":""},"",{"$f":"INDEX(AK:AK,SMALL(ROW($AK$1:$AK$1999)+(1999*($AK$1:$AK$1999=\"\")), ROW(A602)))&\"\"","v":""},"","","",null,"",""]
[null,null,null,null,null,null,null,null,null,null,null,null,null,null,null,null,null,null,null,null,null,null,null,null,null,null,null,null,null,null,null,null,{"$f":"INDEX(C:C, SMALL(ROW(C$1:C$5000)+(5000*(C$1:C$5000=\"\")),ROW(A605)))&\"\"","v":""},"",{"$f":"INDEX(B:B, SMALL(ROW(B$1:B$5000)+(5000*(B$1:B$5000=\"\")),ROW(A605)))&\"\"","v":""},"","","",null,null,{"$f":"INDEX(AH:AH,SMALL(ROW($AH$1:$AH$1999)+(1999*($AH$1:$AH$1999=\"\")), ROW(A605)))&\"\"","v":""},"","","","","","","","","","","","","","","","","","","","","","","","","","","","","","","",{"$f":"INDEX(AJ:AJ,SMALL(ROW($AJ$1:$AJ$1999)+(1999*($AJ$1:$AJ$1999=\"\")), ROW(A605)))&\"\"","v":""},"",{"$f":"INDEX(AK:AK,SMALL(ROW($AK$1:$AK$1999)+(1999*($AK$1:$AK$1999=\"\")), ROW(A605)))&\"\"","v":""},"","","",null,"",""]
[null,null,null,null,null,null,null,null,null,null,null,null,null,null,null,null,null,null,null,null,null,null,null,null,null,null,null,null,null,null,null,null,{"$f":"INDEX(C:C, SMALL(ROW(C$1:C$5000)+(5000*(C$1:C$5000=\"\")),ROW(A608)))&\"\"","v":""},"",{"$f":"INDEX(B:B, SMALL(ROW(B$1:B$5000)+(5000*(B$1:B$5000=\"\")),ROW(A608)))&\"\"","v":""},"","","",null,null,{"$f":"INDEX(AH:AH,SMALL(ROW($AH$1:$AH$1999)+(1999*($AH$1:$AH$1999=\"\")), ROW(A608)))&\"\"","v":""},"","","","","","","","","","","","","","","","","","","","","","","","","","","","","","","",{"$f":"INDEX(AJ:AJ,SMALL(ROW($AJ$1:$AJ$1999)+(1999*($AJ$1:$AJ$1999=\"\")), ROW(A608)))&\"\"","v":""},"",{"$f":"INDEX(AK:AK,SMALL(ROW($AK$1:$AK$1999)+(1999*($AK$1:$AK$1999=\"\")), ROW(A608)))&\"\"","v":""},"","","",null,"",""]
[null,null,null,null,null,null,null,null,null,null,null,null,null,null,null,null,null,null,null,null,null,null,null,null,null,null,null,null,null,null,null,null,{"$f":"INDEX(C:C, SMALL(ROW(C$1:C$5000)+(5000*(C$1:C$5000=\"\")),ROW(A612)))&\"\"","v":""},"",{"$f":"INDEX(B:B, SMALL(ROW(B$1:B$5000)+(5000*(B$1:B$5000=\"\")),ROW(A612)))&\"\"","v":""},"","","",null,null,{"$f":"INDEX(AH:AH,SMALL(ROW($AH$1:$AH$1999)+(1999*($AH$1:$AH$1999=\"\")), ROW(A612)))&\"\"","v":""},"","","","","","","","","","","","","","","","","","","","","","","","","","","","","","","",{"$f":"INDEX(AJ:AJ,SMALL(ROW($AJ$1:$AJ$1999)+(1999*($AJ$1:$AJ$1999=\"\")), ROW(A612)))&\"\"","v":""},"",{"$f":"INDEX(AK:AK,SMALL(ROW($AK$1:$AK$1999)+(1999*($AK$1:$AK$1999=\"\")), ROW(A612)))&\"\"","v":""},"","","",null,"",""]
[null,null,null,null,null,null,null,null,null,null,null,null,null,null,null,null,null,null,null,null,null,null,null,null,null,null,null,null,null,null,null,null,{"$f":"INDEX(C:C, SMALL(ROW(C$1:C$5000)+(5000*(C$1:C$5000=\"\")),ROW(A614)))&\"\"","v":""},"",{"$f":"INDEX(B:B, SMALL(ROW(B$1:B$5000)+(5000*(B$1:B$5000=\"\")),ROW(A614)))&\"\"","v":""},"","","",null,null,{"$f":"INDEX(AH:AH,SMALL(ROW($AH$1:$AH$1999)+(1999*($AH$1:$AH$1999=\"\")), ROW(A614)))&\"\"","v":""},"","","","","","","","","","","","","","","","","","","","","","","","","","","","","","","",{"$f":"INDEX(AJ:AJ,SMALL(ROW($AJ$1:$AJ$1999)+(1999*($AJ$1:$AJ$1999=\"\")), ROW(A614)))&\"\"","v":""},"",{"$f":"INDEX(AK:AK,SMALL(ROW($AK$1:$AK$1999)+(1999*($AK$1:$AK$1999=\"\")), ROW(A614)))&\"\"","v":""},"","","",null,"",""]
[null,null,null,null,null,null,null,null,null,null,null,null,null,null,null,null,null,null,null,null,null,null,null,null,null,null,null,null,null,null,null,null,{"$f":"INDEX(C:C, SMALL(ROW(C$1:C$5000)+(5000*(C$1:C$5000=\"\")),ROW(A618)))&\"\"","v":""},"",{"$f":"INDEX(B:B, SMALL(ROW(B$1:B$5000)+(5000*(B$1:B$5000=\"\")),ROW(A618)))&\"\"","v":""},"","","",null,null,{"$f":"INDEX(AH:AH,SMALL(ROW($AH$1:$AH$1999)+(1999*($AH$1:$AH$1999=\"\")), ROW(A618)))&\"\"","v":""},"","","","","","","","","","","","","","","","","","","","","","","","","","","","","","","",{"$f":"INDEX(AJ:AJ,SMALL(ROW($AJ$1:$AJ$1999)+(1999*($AJ$1:$AJ$1999=\"\")), ROW(A618)))&\"\"","v":""},"",{"$f":"INDEX(AK:AK,SMALL(ROW($AK$1:$AK$1999)+(1999*($AK$1:$AK$1999=\"\")), ROW(A618)))&\"\"","v":""},"","","",null,"",""]
[null,null,null,null,null,null,null,null,null,null,null,null,null,null,null,null,null,null,null,null,null,null,null,null,null,null,null,null,null,null,null,null,{"$f":"INDEX(C:C, SMALL(ROW(C$1:C$5000)+(5000*(C$1:C$5000=\"\")),ROW(A621)))&\"\"","v":""},"",{"$f":"INDEX(B:B, SMALL(ROW(B$1:B$5000)+(5000*(B$1:B$5000=\"\")),ROW(A621)))&\"\"","v":""},"","","",null,null,{"$f":"INDEX(AH:AH,SMALL(ROW($AH$1:$AH$1999)+(1999*($AH$1:$AH$1999=\"\")), ROW(A621)))&\"\"","v":""},"","","","","","","","","","","","","","","","","","","","","","","","","","","","","","","",{"$f":"INDEX(AJ:AJ,SMALL(ROW($AJ$1:$AJ$1999)+(1999*($AJ$1:$AJ$1999=\"\")), ROW(A621)))&\"\"","v":""},"",{"$f":"INDEX(AK:AK,SMALL(ROW($AK$1:$AK$1999)+(1999*($AK$1:$AK$1999=\"\")), ROW(A621)))&\"\"","v":""},"","","",null,"",""]
[null,null,null,null,null,null,null,null,null,null,null,null,null,null,null,null,null,null,null,null,null,null,null,null,null,null,null,null,null,null,null,null,{"$f":"INDEX(C:C, SMALL(ROW(C$1:C$5000)+(5000*(C$1:C$5000=\"\")),ROW(A623)))&\"\"","v":""},"",{"$f":"INDEX(B:B, SMALL(ROW(B$1:B$5000)+(5000*(B$1:B$5000=\"\")),ROW(A623)))&\"\"","v":""},"","","",null,null,{"$f":"INDEX(AH:AH,SMALL(ROW($AH$1:$AH$1999)+(1999*($AH$1:$AH$1999=\"\")), ROW(A623)))&\"\"","v":""},"","","","","","","","","","","","","","","","","","","","","","","","","","","","","","","",{"$f":"INDEX(AJ:AJ,SMALL(ROW($AJ$1:$AJ$1999)+(1999*($AJ$1:$AJ$1999=\"\")), ROW(A623)))&\"\"","v":""},"",{"$f":"INDEX(AK:AK,SMALL(ROW($AK$1:$AK$1999)+(1999*($AK$1:$AK$1999=\"\")), ROW(A623)))&\"\"","v":""},"","","",null,"",""]
[null,null,null,null,null,null,null,null,null,null,null,null,null,null,null,null,null,null,null,null,null,null,null,null,null,null,null,null,null,null,null,null,{"$f":"INDEX(C:C, SMALL(ROW(C$1:C$5000)+(5000*(C$1:C$5000=\"\")),ROW(A624)))&\"\"","v":""},"",{"$f":"INDEX(B:B, SMALL(ROW(B$1:B$5000)+(5000*(B$1:B$5000=\"\")),ROW(A624)))&\"\"","v":""},"","","",null,null,{"$f":"INDEX(AH:AH,SMALL(ROW($AH$1:$AH$1999)+(1999*($AH$1:$AH$1999=\"\")), ROW(A624)))&\"\"","v":""},"","","","","","","","","","","","","","","","","","","","","","","","","","","","","","","",{"$f":"INDEX(AJ:AJ,SMALL(ROW($AJ$1:$AJ$1999)+(1999*($AJ$1:$AJ$1999=\"\")), ROW(A624)))&\"\"","v":""},"",{"$f":"INDEX(AK:AK,SMALL(ROW($AK$1:$AK$1999)+(1999*($AK$1:$AK$1999=\"\")), ROW(A624)))&\"\"","v":""},"","","",null,"",""]
[null,null,null,null,null,null,null,null,null,null,null,null,null,null,null,null,null,null,null,null,null,null,null,null,null,null,null,null,null,null,null,null,{"$f":"INDEX(C:C, SMALL(ROW(C$1:C$5000)+(5000*(C$1:C$5000=\"\")),ROW(A627)))&\"\"","v":""},"",{"$f":"INDEX(B:B, SMALL(ROW(B$1:B$5000)+(5000*(B$1:B$5000=\"\")),ROW(A627)))&\"\"","v":""},"","","",null,null,{"$f":"INDEX(AH:AH,SMALL(ROW($AH$1:$AH$1999)+(1999*($AH$1:$AH$1999=\"\")), ROW(A627)))&\"\"","v":""},"","","","","","","","","","","","","","","","","","","","","","","","","","","","","","","",{"$f":"INDEX(AJ:AJ,SMALL(ROW($AJ$1:$AJ$1999)+(1999*($AJ$1:$AJ$1999=\"\")), ROW(A627)))&\"\"","v":""},"",{"$f":"INDEX(AK:AK,SMALL(ROW($AK$1:$AK$1999)+(1999*($AK$1:$AK$1999=\"\")), ROW(A627)))&\"\"","v":""},"","","",null,"",""]
[null,null,null,null,null,null,null,null,null,null,null,null,null,null,null,null,null,null,null,null,null,null,null,null,null,null,null,null,null,null,null,null,{"$f":"INDEX(C:C, SMALL(ROW(C$1:C$5000)+(5000*(C$1:C$5000=\"\")),ROW(A630)))&\"\"","v":""},"",{"$f":"INDEX(B:B, SMALL(ROW(B$1:B$5000)+(5000*(B$1:B$5000=\"\")),ROW(A630)))&\"\"","v":""},"","","",null,null,{"$f":"INDEX(AH:AH,SMALL(ROW($AH$1:$AH$1999)+(1999*($AH$1:$AH$1999=\"\")), ROW(A630)))&\"\"","v":""},"","","","","","","","","","","","","","","","","","","","","","","","","","","","","","","",{"$f":"INDEX(AJ:AJ,SMALL(ROW($AJ$1:$AJ$1999)+(1999*($AJ$1:$AJ$1999=\"\")), ROW(A630)))&\"\"","v":""},"",{"$f":"INDEX(AK:AK,SMALL(ROW($AK$1:$AK$1999)+(1999*($AK$1:$AK$1999=\"\")), ROW(A630)))&\"\"","v":""},"","","",null,"",""]
[null,null,null,null,null,null,null,null,null,null,null,null,null,null,null,null,null,null,null,null,null,null,null,null,null,null,null,null,null,null,null,null,{"$f":"INDEX(C:C, SMALL(ROW(C$1:C$5000)+(5000*(C$1:C$5000=\"\")),ROW(A634)))&\"\"","v":""},"",{"$f":"INDEX(B:B, SMALL(ROW(B$1:B$5000)+(5000*(B$1:B$5000=\"\")),ROW(A634)))&\"\"","v":""},"","","",null,null,{"$f":"INDEX(AH:AH,SMALL(ROW($AH$1:$AH$1999)+(1999*($AH$1:$AH$1999=\"\")), ROW(A634)))&\"\"","v":""},"","","","","","","","","","","","","","","","","","","","","","","","","","","","","","","",{"$f":"INDEX(AJ:AJ,SMALL(ROW($AJ$1:$AJ$1999)+(1999*($AJ$1:$AJ$1999=\"\")), ROW(A634)))&\"\"","v":""},"",{"$f":"INDEX(AK:AK,SMALL(ROW($AK$1:$AK$1999)+(1999*($AK$1:$AK$1999=\"\")), ROW(A634)))&\"\"","v":""},"","","",null,"",""]
[null,null,null,null,null,null,null,null,null,null,null,null,null,null,null,null,null,null,null,null,null,null,null,null,null,null,null,null,null,null,null,null,{"$f":"INDEX(C:C, SMALL(ROW(C$1:C$5000)+(5000*(C$1:C$5000=\"\")),ROW(A636)))&\"\"","v":""},"",{"$f":"INDEX(B:B, SMALL(ROW(B$1:B$5000)+(5000*(B$1:B$5000=\"\")),ROW(A636)))&\"\"","v":""},"","","",null,null,{"$f":"INDEX(AH:AH,SMALL(ROW($AH$1:$AH$1999)+(1999*($AH$1:$AH$1999=\"\")), ROW(A636)))&\"\"","v":""},"","","","","","","","","","","","","","","","","","","","","","","","","","","","","","","",{"$f":"INDEX(AJ:AJ,SMALL(ROW($AJ$1:$AJ$1999)+(1999*($AJ$1:$AJ$1999=\"\")), ROW(A636)))&\"\"","v":""},"",{"$f":"INDEX(AK:AK,SMALL(ROW($AK$1:$AK$1999)+(1999*($AK$1:$AK$1999=\"\")), ROW(A636)))&\"\"","v":""},"","","",null,"",""]
[null,null,null,null,null,null,null,null,null,null,null,null,null,null,null,null,null,null,null,null,null,null,null,null,null,null,null,null,null,null,null,null,{"$f":"INDEX(C:C, SMALL(ROW(C$1:C$5000)+(5000*(C$1:C$5000=\"\")),ROW(A640)))&\"\"","v":""},"",{"$f":"INDEX(B:B, SMALL(ROW(B$1:B$5000)+(5000*(B$1:B$5000=\"\")),ROW(A640)))&\"\"","v":""},"","","",null,null,{"$f":"INDEX(AH:AH,SMALL(ROW($AH$1:$AH$1999)+(1999*($AH$1:$AH$1999=\"\")), ROW(A640)))&\"\"","v":""},"","","","","","","","","","","","","","","","","","","","","","","","","","","","","","","",{"$f":"INDEX(AJ:AJ,SMALL(ROW($AJ$1:$AJ$1999)+(1999*($AJ$1:$AJ$1999=\"\")), ROW(A640)))&\"\"","v":""},"",{"$f":"INDEX(AK:AK,SMALL(ROW($AK$1:$AK$1999)+(1999*($AK$1:$AK$1999=\"\")), ROW(A640)))&\"\"","v":""},"","","",null,"",""]
[null,null,null,null,null,null,null,null,null,null,null,null,null,null,null,null,null,null,null,null,null,null,null,null,null,null,null,null,null,null,null,null,{"$f":"INDEX(C:C, SMALL(ROW(C$1:C$5000)+(5000*(C$1:C$5000=\"\")),ROW(A643)))&\"\"","v":""},"",{"$f":"INDEX(B:B, SMALL(ROW(B$1:B$5000)+(5000*(B$1:B$5000=\"\")),ROW(A643)))&\"\"","v":""},"","","",null,null,{"$f":"INDEX(AH:AH,SMALL(ROW($AH$1:$AH$1999)+(1999*($AH$1:$AH$1999=\"\")), ROW(A643)))&\"\"","v":""},"","","","","","","","","","","","","","","","","","","","","","","","","","","","","","","",{"$f":"INDEX(AJ:AJ,SMALL(ROW($AJ$1:$AJ$1999)+(1999*($AJ$1:$AJ$1999=\"\")), ROW(A643)))&\"\"","v":""},"",{"$f":"INDEX(AK:AK,SMALL(ROW($AK$1:$AK$1999)+(1999*($AK$1:$AK$1999=\"\")), ROW(A643)))&\"\"","v":""},"","","",null,"",""]
[null,null,null,null,null,null,null,null,null,null,null,null,null,null,null,null,null,null,null,null,null,null,null,null,null,null,null,null,null,null,null,null,{"$f":"INDEX(C:C, SMALL(ROW(C$1:C$5000)+(5000*(C$1:C$5000=\"\")),ROW(A645)))&\"\"","v":""},"",{"$f":"INDEX(B:B, SMALL(ROW(B$1:B$5000)+(5000*(B$1:B$5000=\"\")),ROW(A645)))&\"\"","v":""},"","","",null,null,{"$f":"INDEX(AH:AH,SMALL(ROW($AH$1:$AH$1999)+(1999*($AH$1:$AH$1999=\"\")), ROW(A645)))&\"\"","v":""},"","","","","","","","","","","","","","","","","","","","","","","","","","","","","","","",{"$f":"INDEX(AJ:AJ,SMALL(ROW($AJ$1:$AJ$1999)+(1999*($AJ$1:$AJ$1999=\"\")), ROW(A645)))&\"\"","v":""},"",{"$f":"INDEX(AK:AK,SMALL(ROW($AK$1:$AK$1999)+(1999*($AK$1:$AK$1999=\"\")), ROW(A645)))&\"\"","v":""},"","","",null,"",""]
[null,null,null,null,null,null,null,null,null,null,null,null,null,null,null,null,null,null,null,null,null,null,null,null,null,null,null,null,null,null,null,null,{"$f":"INDEX(C:C, SMALL(ROW(C$1:C$5000)+(5000*(C$1:C$5000=\"\")),ROW(A646)))&\"\"","v":""},"",{"$f":"INDEX(B:B, SMALL(ROW(B$1:B$5000)+(5000*(B$1:B$5000=\"\")),ROW(A646)))&\"\"","v":""},"","","",null,null,{"$f":"INDEX(AH:AH,SMALL(ROW($AH$1:$AH$1999)+(1999*($AH$1:$AH$1999=\"\")), ROW(A646)))&\"\"","v":""},"","","","","","","","","","","","","","","","","","","","","","","","","","","","","","","",{"$f":"INDEX(AJ:AJ,SMALL(ROW($AJ$1:$AJ$1999)+(1999*($AJ$1:$AJ$1999=\"\")), ROW(A646)))&\"\"","v":""},"",{"$f":"INDEX(AK:AK,SMALL(ROW($AK$1:$AK$1999)+(1999*($AK$1:$AK$1999=\"\")), ROW(A646)))&\"\"","v":""},"","","",null,"",""]
[null,null,null,null,null,null,null,null,null,null,null,null,null,null,null,null,null,null,null,null,null,null,null,null,null,null,null,null,null,null,null,null,{"$f":"INDEX(C:C, SMALL(ROW(C$1:C$5000)+(5000*(C$1:C$5000=\"\")),ROW(A649)))&\"\"","v":""},"",{"$f":"INDEX(B:B, SMALL(ROW(B$1:B$5000)+(5000*(B$1:B$5000=\"\")),ROW(A649)))&\"\"","v":""},"","","",null,null,{"$f":"INDEX(AH:AH,SMALL(ROW($AH$1:$AH$1999)+(1999*($AH$1:$AH$1999=\"\")), ROW(A649)))&\"\"","v":""},"","","","","","","","","","","","","","","","","","","","","","","","","","","","","","","",{"$f":"INDEX(AJ:AJ,SMALL(ROW($AJ$1:$AJ$1999)+(1999*($AJ$1:$AJ$1999=\"\")), ROW(A649)))&\"\"","v":""},"",{"$f":"INDEX(AK:AK,SMALL(ROW($AK$1:$AK$1999)+(1999*($AK$1:$AK$1999=\"\")), ROW(A649)))&\"\"","v":""},"","","",null,"",""]
[null,null,null,null,null,null,null,null,null,null,null,null,null,null,null,null,null,null,null,null,null,null,null,null,null,null,null,null,null,null,null,null,{"$f":"INDEX(C:C, SMALL(ROW(C$1:C$5000)+(5000*(C$1:C$5000=\"\")),ROW(A653)))&\"\"","v":""},"",{"$f":"INDEX(B:B, SMALL(ROW(B$1:B$5000)+(5000*(B$1:B$5000=\"\")),ROW(A653)))&\"\"","v":""},"","","",null,null,{"$f":"INDEX(AH:AH,SMALL(ROW($AH$1:$AH$1999)+(1999*($AH$1:$AH$1999=\"\")), ROW(A653)))&\"\"","v":""},"","","","","","","","","","","","","","","","","","","","","","","","","","","","","","","",{"$f":"INDEX(AJ:AJ,SMALL(ROW($AJ$1:$AJ$1999)+(1999*($AJ$1:$AJ$1999=\"\")), ROW(A653)))&\"\"","v":""},"",{"$f":"INDEX(AK:AK,SMALL(ROW($AK$1:$AK$1999)+(1999*($AK$1:$AK$1999=\"\")), ROW(A653)))&\"\"","v":""},"","","",null,"",""]
[null,null,null,null,null,null,null,null,null,null,null,null,null,null,null,null,null,null,null,null,null,null,null,null,null,null,null,null,null,null,null,null,{"$f":"INDEX(C:C, SMALL(ROW(C$1:C$5000)+(5000*(C$1:C$5000=\"\")),ROW(A656)))&\"\"","v":""},"",{"$f":"INDEX(B:B, SMALL(ROW(B$1:B$5000)+(5000*(B$1:B$5000=\"\")),ROW(A656)))&\"\"","v":""},"","","",null,null,{"$f":"INDEX(AH:AH,SMALL(ROW($AH$1:$AH$1999)+(1999*($AH$1:$AH$1999=\"\")), ROW(A656)))&\"\"","v":""},"","","","","","","","","","","","","","","","","","","","","","","","","","","","","","","",{"$f":"INDEX(AJ:AJ,SMALL(ROW($AJ$1:$AJ$1999)+(1999*($AJ$1:$AJ$1999=\"\")), ROW(A656)))&\"\"","v":""},"",{"$f":"INDEX(AK:AK,SMALL(ROW($AK$1:$AK$1999)+(1999*($AK$1:$AK$1999=\"\")), ROW(A656)))&\"\"","v":""},"","","",null,"",""]
[null,null,null,null,null,null,null,null,null,null,null,null,null,null,null,null,null,null,null,null,null,null,null,null,null,null,null,null,null,null,null,null,{"$f":"INDEX(C:C, SMALL(ROW(C$1:C$5000)+(5000*(C$1:C$5000=\"\")),ROW(A658)))&\"\"","v":""},"",{"$f":"INDEX(B:B, SMALL(ROW(B$1:B$5000)+(5000*(B$1:B$5000=\"\")),ROW(A658)))&\"\"","v":""},"","","",null,null,{"$f":"INDEX(AH:AH,SMALL(ROW($AH$1:$AH$1999)+(1999*($AH$1:$AH$1999=\"\")), ROW(A658)))&\"\"","v":""},"","","","","","","","","","","","","","","","","","","","","","","","","","","","","","","",{"$f":"INDEX(AJ:AJ,SMALL(ROW($AJ$1:$AJ$1999)+(1999*($AJ$1:$AJ$1999=\"\")), ROW(A658)))&\"\"","v":""},"",{"$f":"INDEX(AK:AK,SMALL(ROW($AK$1:$AK$1999)+(1999*($AK$1:$AK$1999=\"\")), ROW(A658)))&\"\"","v":""},"","","",null,"",""]
[null,null,null,null,null,null,null,null,null,null,null,null,null,null,null,null,null,null,null,null,null,null,null,null,null,null,null,null,null,null,null,null,{"$f":"INDEX(C:C, SMALL(ROW(C$1:C$5000)+(5000*(C$1:C$5000=\"\")),ROW(A662)))&\"\"","v":""},"",{"$f":"INDEX(B:B, SMALL(ROW(B$1:B$5000)+(5000*(B$1:B$5000=\"\")),ROW(A662)))&\"\"","v":""},"","","",null,null,{"$f":"INDEX(AH:AH,SMALL(ROW($AH$1:$AH$1999)+(1999*($AH$1:$AH$1999=\"\")), ROW(A662)))&\"\"","v":""},"","","","","","","","","","","","","","","","","","","","","","","","","","","","","","","",{"$f":"INDEX(AJ:AJ,SMALL(ROW($AJ$1:$AJ$1999)+(1999*($AJ$1:$AJ$1999=\"\")), ROW(A662)))&\"\"","v":""},"",{"$f":"INDEX(AK:AK,SMALL(ROW($AK$1:$AK$1999)+(1999*($AK$1:$AK$1999=\"\")), ROW(A662)))&\"\"","v":""},"","","",null,"",""]
[null,null,null,null,null,null,null,null,null,null,null,null,null,null,null,null,null,null,null,null,null,null,null,null,null,null,null,null,null,null,null,null,{"$f":"INDEX(C:C, SMALL(ROW(C$1:C$5000)+(5000*(C$1:C$5000=\"\")),ROW(A665)))&\"\"","v":""},"",{"$f":"INDEX(B:B, SMALL(ROW(B$1:B$5000)+(5000*(B$1:B$5000=\"\")),ROW(A665)))&\"\"","v":""},"","","",null,null,{"$f":"INDEX(AH:AH,SMALL(ROW($AH$1:$AH$1999)+(1999*($AH$1:$AH$1999=\"\")), ROW(A665)))&\"\"","v":""},"","","","","","","","","","","","","","","","","","","","","","","","","","","","","","","",{"$f":"INDEX(AJ:AJ,SMALL(ROW($AJ$1:$AJ$1999)+(1999*($AJ$1:$AJ$1999=\"\")), ROW(A665)))&\"\"","v":""},"",{"$f":"INDEX(AK:AK,SMALL(ROW($AK$1:$AK$1999)+(1999*($AK$1:$AK$1999=\"\")), ROW(A665)))&\"\"","v":""},"","","",null,"",""]
[null,null,null,null,null,null,null,null,null,null,null,null,null,null,null,null,null,null,null,null,null,null,null,null,null,null,null,null,null,null,null,null,{"$f":"INDEX(C:C, SMALL(ROW(C$1:C$5000)+(5000*(C$1:C$5000=\"\")),ROW(A667)))&\"\"","v":""},"",{"$f":"INDEX(B:B, SMALL(ROW(B$1:B$5000)+(5000*(B$1:B$5000=\"\")),ROW(A667)))&\"\"","v":""},"","","",null,null,{"$f":"INDEX(AH:AH,SMALL(ROW($AH$1:$AH$1999)+(1999*($AH$1:$AH$1999=\"\")), ROW(A667)))&\"\"","v":""},"","","","","","","","","","","","","","","","","","","","","","","","","","","","","","","",{"$f":"INDEX(AJ:AJ,SMALL(ROW($AJ$1:$AJ$1999)+(1999*($AJ$1:$AJ$1999=\"\")), ROW(A667)))&\"\"","v":""},"",{"$f":"INDEX(AK:AK,SMALL(ROW($AK$1:$AK$1999)+(1999*($AK$1:$AK$1999=\"\")), ROW(A667)))&\"\"","v":""},"","","",null,"",""]
[null,null,null,null,null,null,null,null,null,null,null,null,null,null,null,null,null,null,null,null,null,null,null,null,null,null,null,null,null,null,null,null,{"$f":"INDEX(C:C, SMALL(ROW(C$1:C$5000)+(5000*(C$1:C$5000=\"\")),ROW(A668)))&\"\"","v":""},"",{"$f":"INDEX(B:B, SMALL(ROW(B$1:B$5000)+(5000*(B$1:B$5000=\"\")),ROW(A668)))&\"\"","v":""},"","","",null,null,{"$f":"INDEX(AH:AH,SMALL(ROW($AH$1:$AH$1999)+(1999*($AH$1:$AH$1999=\"\")), ROW(A668)))&\"\"","v":""},"","","","","","","","","","","","","","","","","","","","","","","","","","","","","","","",{"$f":"INDEX(AJ:AJ,SMALL(ROW($AJ$1:$AJ$1999)+(1999*($AJ$1:$AJ$1999=\"\")), ROW(A668)))&\"\"","v":""},"",{"$f":"INDEX(AK:AK,SMALL(ROW($AK$1:$AK$1999)+(1999*($AK$1:$AK$1999=\"\")), ROW(A668)))&\"\"","v":""},"","","",null,"",""]
[null,null,null,null,null,null,null,null,null,null,null,null,null,null,null,null,null,null,null,null,null,null,null,null,null,null,null,null,null,null,null,null,{"$f":"INDEX(C:C, SMALL(ROW(C$1:C$5000)+(5000*(C$1:C$5000=\"\")),ROW(A671)))&\"\"","v":""},"",{"$f":"INDEX(B:B, SMALL(ROW(B$1:B$5000)+(5000*(B$1:B$5000=\"\")),ROW(A671)))&\"\"","v":""},"","","",null,null,{"$f":"INDEX(AH:AH,SMALL(ROW($AH$1:$AH$1999)+(1999*($AH$1:$AH$1999=\"\")), ROW(A671)))&\"\"","v":""},"","","","","","","","","","","","","","","","","","","","","","","","","","","","","","","",{"$f":"INDEX(AJ:AJ,SMALL(ROW($AJ$1:$AJ$1999)+(1999*($AJ$1:$AJ$1999=\"\")), ROW(A671)))&\"\"","v":""},"",{"$f":"INDEX(AK:AK,SMALL(ROW($AK$1:$AK$1999)+(1999*($AK$1:$AK$1999=\"\")), ROW(A671)))&\"\"","v":""},"","","",null,"",""]
[null,null,null,null,null,null,null,null,null,null,null,null,null,null,null,null,null,null,null,null,null,null,null,null,null,null,null,null,null,null,null,null,{"$f":"INDEX(C:C, SMALL(ROW(C$1:C$5000)+(5000*(C$1:C$5000=\"\")),ROW(A675)))&\"\"","v":""},"",{"$f":"INDEX(B:B, SMALL(ROW(B$1:B$5000)+(5000*(B$1:B$5000=\"\")),ROW(A675)))&\"\"","v":""},"","","",null,null,{"$f":"INDEX(AH:AH,SMALL(ROW($AH$1:$AH$1999)+(1999*($AH$1:$AH$1999=\"\")), ROW(A675)))&\"\"","v":""},"","","","","","","","","","","","","","","","","","","","","","","","","","","","","","","",{"$f":"INDEX(AJ:AJ,SMALL(ROW($AJ$1:$AJ$1999)+(1999*($AJ$1:$AJ$1999=\"\")), ROW(A675)))&\"\"","v":""},"",{"$f":"INDEX(AK:AK,SMALL(ROW($AK$1:$AK$1999)+(1999*($AK$1:$AK$1999=\"\")), ROW(A675)))&\"\"","v":""},"","","",null,"",""]
[null,null,null,null,null,null,null,null,null,null,null,null,null,null,null,null,null,null,null,null,null,null,null,null,null,null,null,null,null,null,null,null,{"$f":"INDEX(C:C, SMALL(ROW(C$1:C$5000)+(5000*(C$1:C$5000=\"\")),ROW(A678)))&\"\"","v":""},"",{"$f":"INDEX(B:B, SMALL(ROW(B$1:B$5000)+(5000*(B$1:B$5000=\"\")),ROW(A678)))&\"\"","v":""},"","","",null,null,{"$f":"INDEX(AH:AH,SMALL(ROW($AH$1:$AH$1999)+(1999*($AH$1:$AH$1999=\"\")), ROW(A678)))&\"\"","v":""},"","","","","","","","","","","","","","","","","","","","","","","","","","","","","","","",{"$f":"INDEX(AJ:AJ,SMALL(ROW($AJ$1:$AJ$1999)+(1999*($AJ$1:$AJ$1999=\"\")), ROW(A678)))&\"\"","v":""},"",{"$f":"INDEX(AK:AK,SMALL(ROW($AK$1:$AK$1999)+(1999*($AK$1:$AK$1999=\"\")), ROW(A678)))&\"\"","v":""},"","","",null,"",""]
[null,null,null,null,null,null,null,null,null,null,null,null,null,null,null,null,null,null,null,null,null,null,null,null,null,null,null,null,null,null,null,null,{"$f":"INDEX(C:C, SMALL(ROW(C$1:C$5000)+(5000*(C$1:C$5000=\"\")),ROW(A680)))&\"\"","v":""},"",{"$f":"INDEX(B:B, SMALL(ROW(B$1:B$5000)+(5000*(B$1:B$5000=\"\")),ROW(A680)))&\"\"","v":""},"","","",null,null,{"$f":"INDEX(AH:AH,SMALL(ROW($AH$1:$AH$1999)+(1999*($AH$1:$AH$1999=\"\")), ROW(A680)))&\"\"","v":""},"","","","","","","","","","","","","","","","","","","","","","","","","","","","","","","",{"$f":"INDEX(AJ:AJ,SMALL(ROW($AJ$1:$AJ$1999)+(1999*($AJ$1:$AJ$1999=\"\")), ROW(A680)))&\"\"","v":""},"",{"$f":"INDEX(AK:AK,SMALL(ROW($AK$1:$AK$1999)+(1999*($AK$1:$AK$1999=\"\")), ROW(A680)))&\"\"","v":""},"","","",null,"",""]
[null,null,null,null,null,null,null,null,null,null,null,null,null,null,null,null,null,null,null,null,null,null,null,null,null,null,null,null,null,null,null,null,{"$f":"INDEX(C:C, SMALL(ROW(C$1:C$5000)+(5000*(C$1:C$5000=\"\")),ROW(A684)))&\"\"","v":""},"",{"$f":"INDEX(B:B, SMALL(ROW(B$1:B$5000)+(5000*(B$1:B$5000=\"\")),ROW(A684)))&\"\"","v":""},"","","",null,null,{"$f":"INDEX(AH:AH,SMALL(ROW($AH$1:$AH$1999)+(1999*($AH$1:$AH$1999=\"\")), ROW(A684)))&\"\"","v":""},"","","","","","","","","","","","","","","","","","","","","","","","","","","","","","","",{"$f":"INDEX(AJ:AJ,SMALL(ROW($AJ$1:$AJ$1999)+(1999*($AJ$1:$AJ$1999=\"\")), ROW(A684)))&\"\"","v":""},"",{"$f":"INDEX(AK:AK,SMALL(ROW($AK$1:$AK$1999)+(1999*($AK$1:$AK$1999=\"\")), ROW(A684)))&\"\"","v":""},"","","",null,"",""]
[null,null,null,null,null,null,null,null,null,null,null,null,null,null,null,null,null,null,null,null,null,null,null,null,null,null,null,null,null,null,null,null,{"$f":"INDEX(C:C, SMALL(ROW(C$1:C$5000)+(5000*(C$1:C$5000=\"\")),ROW(A687)))&\"\"","v":""},"",{"$f":"INDEX(B:B, SMALL(ROW(B$1:B$5000)+(5000*(B$1:B$5000=\"\")),ROW(A687)))&\"\"","v":""},"","","",null,null,{"$f":"INDEX(AH:AH,SMALL(ROW($AH$1:$AH$1999)+(1999*($AH$1:$AH$1999=\"\")), ROW(A687)))&\"\"","v":""},"","","","","","","","","","","","","","","","","","","","","","","","","","","","","","","",{"$f":"INDEX(AJ:AJ,SMALL(ROW($AJ$1:$AJ$1999)+(1999*($AJ$1:$AJ$1999=\"\")), ROW(A687)))&\"\"","v":""},"",{"$f":"INDEX(AK:AK,SMALL(ROW($AK$1:$AK$1999)+(1999*($AK$1:$AK$1999=\"\")), ROW(A687)))&\"\"","v":""},"","","",null,"",""]
[null,null,null,null,null,null,null,null,null,null,null,null,null,null,null,null,null,null,null,null,null,null,null,null,null,null,null,null,null,null,null,null,{"$f":"INDEX(C:C, SMALL(ROW(C$1:C$5000)+(5000*(C$1:C$5000=\"\")),ROW(A689)))&\"\"","v":""},"",{"$f":"INDEX(B:B, SMALL(ROW(B$1:B$5000)+(5000*(B$1:B$5000=\"\")),ROW(A689)))&\"\"","v":""},"","","",null,null,{"$f":"INDEX(AH:AH,SMALL(ROW($AH$1:$AH$1999)+(1999*($AH$1:$AH$1999=\"\")), ROW(A689)))&\"\"","v":""},"","","","","","","","","","","","","","","","","","","","","","","","","","","","","","","",{"$f":"INDEX(AJ:AJ,SMALL(ROW($AJ$1:$AJ$1999)+(1999*($AJ$1:$AJ$1999=\"\")), ROW(A689)))&\"\"","v":""},"",{"$f":"INDEX(AK:AK,SMALL(ROW($AK$1:$AK$1999)+(1999*($AK$1:$AK$1999=\"\")), ROW(A689)))&\"\"","v":""},"","","",null,"",""]
[null,null,null,null,null,null,null,null,null,null,null,null,null,null,null,null,null,null,null,null,null,null,null,null,null,null,null,null,null,null,null,null,{"$f":"INDEX(C:C, SMALL(ROW(C$1:C$5000)+(5000*(C$1:C$5000=\"\")),ROW(A690)))&\"\"","v":""},"",{"$f":"INDEX(B:B, SMALL(ROW(B$1:B$5000)+(5000*(B$1:B$5000=\"\")),ROW(A690)))&\"\"","v":""},"","","",null,null,{"$f":"INDEX(AH:AH,SMALL(ROW($AH$1:$AH$1999)+(1999*($AH$1:$AH$1999=\"\")), ROW(A690)))&\"\"","v":""},"","","","","","","","","","","","","","","","","","","","","","","","","","","","","","","",{"$f":"INDEX(AJ:AJ,SMALL(ROW($AJ$1:$AJ$1999)+(1999*($AJ$1:$AJ$1999=\"\")), ROW(A690)))&\"\"","v":""},"",{"$f":"INDEX(AK:AK,SMALL(ROW($AK$1:$AK$1999)+(1999*($AK$1:$AK$1999=\"\")), ROW(A690)))&\"\"","v":""},"","","",null,"",""]
[null,null,null,null,null,null,null,null,null,null,null,null,null,null,null,null,null,null,null,null,null,null,null,null,null,null,null,null,null,null,null,null,{"$f":"INDEX(C:C, SMALL(ROW(C$1:C$5000)+(5000*(C$1:C$5000=\"\")),ROW(A693)))&\"\"","v":""},"",{"$f":"INDEX(B:B, SMALL(ROW(B$1:B$5000)+(5000*(B$1:B$5000=\"\")),ROW(A693)))&\"\"","v":""},"","","",null,null,{"$f":"INDEX(AH:AH,SMALL(ROW($AH$1:$AH$1999)+(1999*($AH$1:$AH$1999=\"\")), ROW(A693)))&\"\"","v":""},"","","","","","","","","","","","","","","","","","","","","","","","","","","","","","","",{"$f":"INDEX(AJ:AJ,SMALL(ROW($AJ$1:$AJ$1999)+(1999*($AJ$1:$AJ$1999=\"\")), ROW(A693)))&\"\"","v":""},"",{"$f":"INDEX(AK:AK,SMALL(ROW($AK$1:$AK$1999)+(1999*($AK$1:$AK$1999=\"\")), ROW(A693)))&\"\"","v":""},"","","",null,"",""]
[null,null,null,null,null,null,null,null,null,null,null,null,null,null,null,null,null,null,null,null,null,null,null,null,null,null,null,null,null,null,null,null,{"$f":"INDEX(C:C, SMALL(ROW(C$1:C$5000)+(5000*(C$1:C$5000=\"\")),ROW(A697)))&\"\"","v":""},"",{"$f":"INDEX(B:B, SMALL(ROW(B$1:B$5000)+(5000*(B$1:B$5000=\"\")),ROW(A697)))&\"\"","v":""},"","","",null,null,{"$f":"INDEX(AH:AH,SMALL(ROW($AH$1:$AH$1999)+(1999*($AH$1:$AH$1999=\"\")), ROW(A697)))&\"\"","v":""},"","","","","","","","","","","","","","","","","","","","","","","","","","","","","","","",{"$f":"INDEX(AJ:AJ,SMALL(ROW($AJ$1:$AJ$1999)+(1999*($AJ$1:$AJ$1999=\"\")), ROW(A697)))&\"\"","v":""},"",{"$f":"INDEX(AK:AK,SMALL(ROW($AK$1:$AK$1999)+(1999*($AK$1:$AK$1999=\"\")), ROW(A697)))&\"\"","v":""},"","","",null,"",""]
[null,null,null,null,null,null,null,null,null,null,null,null,null,null,null,null,null,null,null,null,null,null,null,null,null,null,null,null,null,null,null,null,{"$f":"INDEX(C:C, SMALL(ROW(C$1:C$5000)+(5000*(C$1:C$5000=\"\")),ROW(A700)))&\"\"","v":""},"",{"$f":"INDEX(B:B, SMALL(ROW(B$1:B$5000)+(5000*(B$1:B$5000=\"\")),ROW(A700)))&\"\"","v":""},"","","",null,null,{"$f":"INDEX(AH:AH,SMALL(ROW($AH$1:$AH$1999)+(1999*($AH$1:$AH$1999=\"\")), ROW(A700)))&\"\"","v":""},"","","","","","","","","","","","","","","","","","","","","","","","","","","","","","","",{"$f":"INDEX(AJ:AJ,SMALL(ROW($AJ$1:$AJ$1999)+(1999*($AJ$1:$AJ$1999=\"\")), ROW(A700)))&\"\"","v":""},"",{"$f":"INDEX(AK:AK,SMALL(ROW($AK$1:$AK$1999)+(1999*($AK$1:$AK$1999=\"\")), ROW(A700)))&\"\"","v":""},"","","",null,"",""]
[null,null,null,null,null,null,null,null,null,null,null,null,null,null,null,null,null,null,null,null,null,null,null,null,null,null,null,null,null,null,null,null,{"$f":"INDEX(C:C, SMALL(ROW(C$1:C$5000)+(5000*(C$1:C$5000=\"\")),ROW(A702)))&\"\"","v":""},"",{"$f":"INDEX(B:B, SMALL(ROW(B$1:B$5000)+(5000*(B$1:B$5000=\"\")),ROW(A702)))&\"\"","v":""},"","","",null,null,{"$f":"INDEX(AH:AH,SMALL(ROW($AH$1:$AH$1999)+(1999*($AH$1:$AH$1999=\"\")), ROW(A702)))&\"\"","v":""},"","","","","","","","","","","","","","","","","","","","","","","","","","","","","","","",{"$f":"INDEX(AJ:AJ,SMALL(ROW($AJ$1:$AJ$1999)+(1999*($AJ$1:$AJ$1999=\"\")), ROW(A702)))&\"\"","v":""},"",{"$f":"INDEX(AK:AK,SMALL(ROW($AK$1:$AK$1999)+(1999*($AK$1:$AK$1999=\"\")), ROW(A702)))&\"\"","v":""},"","","",null,"",""]
[null,null,null,null,null,null,null,null,null,null,null,null,null,null,null,null,null,null,null,null,null,null,null,null,null,null,null,null,null,null,null,null,{"$f":"INDEX(C:C, SMALL(ROW(C$1:C$5000)+(5000*(C$1:C$5000=\"\")),ROW(A706)))&\"\"","v":""},"",{"$f":"INDEX(B:B, SMALL(ROW(B$1:B$5000)+(5000*(B$1:B$5000=\"\")),ROW(A706)))&\"\"","v":""},{"$f":"IF(ISNUMBER(SEARCH(\"*years*\",AI706)),AI706,\"\")","v":""},{"$f":"IF(ISNUMBER(SEARCH(\"*, 19*\",AI706)),AI706,\"\")","v":""},"",null,null,{"$f":"INDEX(AH:AH,SMALL(ROW($AH$1:$AH$1999)+(1999*($AH$1:$AH$1999=\"\")), ROW(A706)))&\"\"","v":""},{"$f":"TRIM(TEXT(RIGHT(AO706,2),))","v":""},{"$f":"IF(ISNUMBER(SEARCH(\"*QB*\",AP706)),AO706,\"\")","v":""},{"$f":"IFERROR(IF(ISNUMBER(SEARCH(\"*QB*\",AQ706)),BV706,\"\"),VALUE(0))","v":""},{"$f":"IFERROR(IF(ISNUMBER(SEARCH(\"*QB*\",AQ706)),BX706,\"\"),VALUE(0))","v":""},{"$f":"IF(ISNUMBER(SEARCH(\"*RB*\",AP706)),AO706,\"\")","v":""},{"$f":"IFERROR(IF(ISNUMBER(SEARCH(\"*RB*\",AT706)),BV706,\"\"),VALUE(0))","v":""},{"$f":"IFERROR(IF(ISNUMBER(SEARCH(\"*RB*\",AT706)),BX706,\"\"),VALUE(0))","v":""},{"$f":"IF(ISNUMBER(SEARCH(\"*WR*\",AP706)),AO706,\"\")","v":""},{"$f":"IFERROR(IF(ISNUMBER(SEARCH(\"*WR*\",AW706)),BV706,\"\"),VALUE(0))","v":""},{"$f":"IFERROR(IF(ISNUMBER(SEARCH(\"*WR*\",AW706)),BX706,\"\"),VALUE(0))","v":""},{"$f":"IF(ISNUMBER(SEARCH(\"*TE*\",AP706)),AO706,\"\")","v":""},"",{"$f":"IFERROR(IF(ISNUMBER(SEARCH(\"*TE*\",AZ706)),BX706,\"\"),VALUE(0))","v":""},{"$f":"IF(ISNUMBER(SEARCH(\"*PK*\",AP706)),AO706,\"\")","v":""},{"$f":"IFERROR(IF(ISNUMBER(SEARCH(\"*PK*\",BC706)),BV706,\"\"),VALUE(0))","v":""},{"$f":"IFERROR(IF(ISNUMBER(SEARCH(\"*PK*\",BC706)),BX706,\"\"),VALUE(0))","v":""},{"$f":"IF(ISNUMBER(SEARCH(\"*DT*\",AP706)),AO706,\"\")","v":""},{"$f":"IFERROR(IF(ISNUMBER(SEARCH(\"*DT*\",BF706)),BV706,\"\"),VALUE(0))","v":""},{"$f":"IFERROR(IF(ISNUMBER(SEARCH(\"*DT*\",BF706)),BX706,\"\"),VALUE(0))","v":""},{"$f":"IF(ISNUMBER(SEARCH(\"*DE*\",AP706)),AO706,\"\")","v":""},{"$f":"IFERROR(IF(ISNUMBER(SEARCH(\"*DE*\",BI706)),BV706,\"\"),VALUE(0))","v":""},{"$f":"IFERROR(IF(ISNUMBER(SEARCH(\"*DE*\",BI706)),BX706,\"\"),VALUE(0))","v":""},{"$f":"IF(ISNUMBER(SEARCH(\"*LB*\",AP706)),AO706,\"\")","v":""},{"$f":"IFERROR(IF(ISNUMBER(SEARCH(\"*LB*\",BL706)),BV706,\"\"),VALUE(0))","v":""},{"$f":"IFERROR(IF(ISNUMBER(SEARCH(\"*LB*\",BL706)),BX706,\"\"),VALUE(0))","v":""},{"$f":"IF(ISNUMBER(SEARCH(\"*CB*\",AP706)),AO706,\"\")","v":""},{"$f":"IFERROR(IF(ISNUMBER(SEARCH(\"*CB*\",BO706)),BV706,\"\"),VALUE(0))","v":""},{"$f":"IFERROR(IF(ISNUMBER(SEARCH(\"*CB*\",BO706)),BX706,\"\"),VALUE(0))","v":""},{"$f":"IF(ISNUMBER(SEARCH(\"*S*\",AP706)),AO706,\"\")","v":""},{"$f":"IFERROR(IF(ISNUMBER(SEARCH(\"*S*\",BR706)),BV706,\"\"),VALUE(0))","v":""},{"$f":"IFERROR(IF(ISNUMBER(SEARCH(\"*S*\",BR706)),BX706,\"\"),VALUE(0))","v":""},{"$f":"INDEX(AJ:AJ,SMALL(ROW($AJ$1:$AJ$1999)+(1999*($AJ$1:$AJ$1999=\"\")), ROW(A706)))&\"\"","v":""},{"$f":"IFERROR(IF(BW706<>\"\",VALUE(LEFT(BU706,LEN(BU706)-6)),\"\"),VALUE(0))","v":""},{"$f":"INDEX(AK:AK,SMALL(ROW($AK$1:$AK$1999)+(1999*($AK$1:$AK$1999=\"\")), ROW(A706)))&\"\"","v":""},{"$f":"IF(BW706<>\"\",VALUE(RIGHT(BW706,2)),\"\")","v":""},{"$f":"IF(BX706=\"\",\"\",IF(BX706>27,1,0))","v":""},{"$f":"IF(BX706=\"\",\"\",IF(BX706<27,1,0))","v":""},null,{"$f":"IF(BV706=\"\",\"\",IF(BV706>3.5,1,0))","v":""},{"$f":"IF(BV706=\"\",\"\",IF(BV706<3.5,1,0))","v":""}]
[null,null,null,null,null,null,null,null,null,null,null,null,null,null,null,null,null,null,null,null,null,null,null,null,null,null,null,null,null,null,null,null,{"$f":"INDEX(C:C, SMALL(ROW(C$1:C$5000)+(5000*(C$1:C$5000=\"\")),ROW(A709)))&\"\"","v":""},"",{"$f":"INDEX(B:B, SMALL(ROW(B$1:B$5000)+(5000*(B$1:B$5000=\"\")),ROW(A709)))&\"\"","v":""},"","","",null,null,{"$f":"INDEX(AH:AH,SMALL(ROW($AH$1:$AH$1999)+(1999*($AH$1:$AH$1999=\"\")), ROW(A709)))&\"\"","v":""},"","","","","","","","","","","","","","","","","","","","","","","","","","","","","","","",{"$f":"INDEX(AJ:AJ,SMALL(ROW($AJ$1:$AJ$1999)+(1999*($AJ$1:$AJ$1999=\"\")), ROW(A709)))&\"\"","v":""},"",{"$f":"INDEX(AK:AK,SMALL(ROW($AK$1:$AK$1999)+(1999*($AK$1:$AK$1999=\"\")), ROW(A709)))&\"\"","v":""},"","","",null,"",""]
[null,null,null,null,null,null,null,null,null,null,null,null,null,null,null,null,null,null,null,null,null,null,null,null,null,null,null,null,null,null,null,null,{"$f":"INDEX(C:C, SMALL(ROW(C$1:C$5000)+(5000*(C$1:C$5000=\"\")),ROW(A711)))&\"\"","v":""},"",{"$f":"INDEX(B:B, SMALL(ROW(B$1:B$5000)+(5000*(B$1:B$5000=\"\")),ROW(A711)))&\"\"","v":""},"","","",null,null,{"$f":"INDEX(AH:AH,SMALL(ROW($AH$1:$AH$1999)+(1999*($AH$1:$AH$1999=\"\")), ROW(A711)))&\"\"","v":""},"","","","","","","","","","","","","","","","","","","","","","","","","","","","","","","",{"$f":"INDEX(AJ:AJ,SMALL(ROW($AJ$1:$AJ$1999)+(1999*($AJ$1:$AJ$1999=\"\")), ROW(A711)))&\"\"","v":""},"",{"$f":"INDEX(AK:AK,SMALL(ROW($AK$1:$AK$1999)+(1999*($AK$1:$AK$1999=\"\")), ROW(A711)))&\"\"","v":""},"","","",null,"",""]
[null,null,null,null,null,null,null,null,null,null,null,null,null,null,null,null,null,null,null,null,null,null,null,null,null,null,null,null,null,null,null,null,{"$f":"INDEX(C:C, SMALL(ROW(C$1:C$5000)+(5000*(C$1:C$5000=\"\")),ROW(A712)))&\"\"","v":""},"",{"$f":"INDEX(B:B, SMALL(ROW(B$1:B$5000)+(5000*(B$1:B$5000=\"\")),ROW(A712)))&\"\"","v":""},"","","",null,null,{"$f":"INDEX(AH:AH,SMALL(ROW($AH$1:$AH$1999)+(1999*($AH$1:$AH$1999=\"\")), ROW(A712)))&\"\"","v":""},"","","","","","","","","","","","","","","","","","","","","","","","","","","","","","","",{"$f":"INDEX(AJ:AJ,SMALL(ROW($AJ$1:$AJ$1999)+(1999*($AJ$1:$AJ$1999=\"\")), ROW(A712)))&\"\"","v":""},"",{"$f":"INDEX(AK:AK,SMALL(ROW($AK$1:$AK$1999)+(1999*($AK$1:$AK$1999=\"\")), ROW(A712)))&\"\"","v":""},"","","",null,"",""]
[null,null,null,null,null,null,null,null,null,null,null,null,null,null,null,null,null,null,null,null,null,null,null,null,null,null,null,null,null,null,null,null,{"$f":"INDEX(C:C, SMALL(ROW(C$1:C$5000)+(5000*(C$1:C$5000=\"\")),ROW(A715)))&\"\"","v":""},"",{"$f":"INDEX(B:B, SMALL(ROW(B$1:B$5000)+(5000*(B$1:B$5000=\"\")),ROW(A715)))&\"\"","v":""},"","","",null,null,{"$f":"INDEX(AH:AH,SMALL(ROW($AH$1:$AH$1999)+(1999*($AH$1:$AH$1999=\"\")), ROW(A715)))&\"\"","v":""},"","","","","","","","","","","","","","","","","","","","","","","","","","","","","","","",{"$f":"INDEX(AJ:AJ,SMALL(ROW($AJ$1:$AJ$1999)+(1999*($AJ$1:$AJ$1999=\"\")), ROW(A715)))&\"\"","v":""},"",{"$f":"INDEX(AK:AK,SMALL(ROW($AK$1:$AK$1999)+(1999*($AK$1:$AK$1999=\"\")), ROW(A715)))&\"\"","v":""},"","","",null,"",""]
[null,null,null,null,null,null,null,null,null,null,null,null,null,null,null,null,null,null,null,null,null,null,null,null,null,null,null,null,null,null,null,null,{"$f":"INDEX(C:C, SMALL(ROW(C$1:C$5000)+(5000*(C$1:C$5000=\"\")),ROW(A719)))&\"\"","v":""},"",{"$f":"INDEX(B:B, SMALL(ROW(B$1:B$5000)+(5000*(B$1:B$5000=\"\")),ROW(A719)))&\"\"","v":""},"","","",null,null,{"$f":"INDEX(AH:AH,SMALL(ROW($AH$1:$AH$1999)+(1999*($AH$1:$AH$1999=\"\")), ROW(A719)))&\"\"","v":""},"","","","","","","","","","","","","","","","","","","","","","","","","","","","","","","",{"$f":"INDEX(AJ:AJ,SMALL(ROW($AJ$1:$AJ$1999)+(1999*($AJ$1:$AJ$1999=\"\")), ROW(A719)))&\"\"","v":""},"",{"$f":"INDEX(AK:AK,SMALL(ROW($AK$1:$AK$1999)+(1999*($AK$1:$AK$1999=\"\")), ROW(A719)))&\"\"","v":""},"","","",null,"",""]
[null,null,null,null,null,null,null,null,null,null,null,null,null,null,null,null,null,null,null,null,null,null,null,null,null,null,null,null,null,null,null,null,{"$f":"INDEX(C:C, SMALL(ROW(C$1:C$5000)+(5000*(C$1:C$5000=\"\")),ROW(A722)))&\"\"","v":""},"",{"$f":"INDEX(B:B, SMALL(ROW(B$1:B$5000)+(5000*(B$1:B$5000=\"\")),ROW(A722)))&\"\"","v":""},"","","",null,null,{"$f":"INDEX(AH:AH,SMALL(ROW($AH$1:$AH$1999)+(1999*($AH$1:$AH$1999=\"\")), ROW(A722)))&\"\"","v":""},"","","","","","","","","","","","","","","","","","","","","","","","","","","","","","","",{"$f":"INDEX(AJ:AJ,SMALL(ROW($AJ$1:$AJ$1999)+(1999*($AJ$1:$AJ$1999=\"\")), ROW(A722)))&\"\"","v":""},"",{"$f":"INDEX(AK:AK,SMALL(ROW($AK$1:$AK$1999)+(1999*($AK$1:$AK$1999=\"\")), ROW(A722)))&\"\"","v":""},"","","",null,"",""]
[null,null,null,null,null,null,null,null,null,null,null,null,null,null,null,null,null,null,null,null,null,null,null,null,null,null,null,null,null,null,null,null,{"$f":"INDEX(C:C, SMALL(ROW(C$1:C$5000)+(5000*(C$1:C$5000=\"\")),ROW(A724)))&\"\"","v":""},"",{"$f":"INDEX(B:B, SMALL(ROW(B$1:B$5000)+(5000*(B$1:B$5000=\"\")),ROW(A724)))&\"\"","v":""},"","","",null,null,{"$f":"INDEX(AH:AH,SMALL(ROW($AH$1:$AH$1999)+(1999*($AH$1:$AH$1999=\"\")), ROW(A724)))&\"\"","v":""},"","","","","","","","","","","","","","","","","","","","","","","","","","","","","","","",{"$f":"INDEX(AJ:AJ,SMALL(ROW($AJ$1:$AJ$1999)+(1999*($AJ$1:$AJ$1999=\"\")), ROW(A724)))&\"\"","v":""},"",{"$f":"INDEX(AK:AK,SMALL(ROW($AK$1:$AK$1999)+(1999*($AK$1:$AK$1999=\"\")), ROW(A724)))&\"\"","v":""},"","","",null,"",""]
[null,null,null,null,null,null,null,null,null,null,null,null,null,null,null,null,null,null,null,null,null,null,null,null,null,null,null,null,null,null,null,null,{"$f":"INDEX(C:C, SMALL(ROW(C$1:C$5000)+(5000*(C$1:C$5000=\"\")),ROW(A728)))&\"\"","v":""},"",{"$f":"INDEX(B:B, SMALL(ROW(B$1:B$5000)+(5000*(B$1:B$5000=\"\")),ROW(A728)))&\"\"","v":""},"","","",null,null,{"$f":"INDEX(AH:AH,SMALL(ROW($AH$1:$AH$1999)+(1999*($AH$1:$AH$1999=\"\")), ROW(A728)))&\"\"","v":""},"","","","","","","","","","","","","","","","","","","","","","","","","","","","","","","",{"$f":"INDEX(AJ:AJ,SMALL(ROW($AJ$1:$AJ$1999)+(1999*($AJ$1:$AJ$1999=\"\")), ROW(A728)))&\"\"","v":""},"",{"$f":"INDEX(AK:AK,SMALL(ROW($AK$1:$AK$1999)+(1999*($AK$1:$AK$1999=\"\")), ROW(A728)))&\"\"","v":""},"","","",null,"",""]
[null,null,null,null,null,null,null,null,null,null,null,null,null,null,null,null,null,null,null,null,null,null,null,null,null,null,null,null,null,null,null,null,{"$f":"INDEX(C:C, SMALL(ROW(C$1:C$5000)+(5000*(C$1:C$5000=\"\")),ROW(A731)))&\"\"","v":""},"",{"$f":"INDEX(B:B, SMALL(ROW(B$1:B$5000)+(5000*(B$1:B$5000=\"\")),ROW(A731)))&\"\"","v":""},"","","",null,null,{"$f":"INDEX(AH:AH,SMALL(ROW($AH$1:$AH$1999)+(1999*($AH$1:$AH$1999=\"\")), ROW(A731)))&\"\"","v":""},"","","","","","","","","","","","","","","","","","","","","","","","","","","","","","","",{"$f":"INDEX(AJ:AJ,SMALL(ROW($AJ$1:$AJ$1999)+(1999*($AJ$1:$AJ$1999=\"\")), ROW(A731)))&\"\"","v":""},"",{"$f":"INDEX(AK:AK,SMALL(ROW($AK$1:$AK$1999)+(1999*($AK$1:$AK$1999=\"\")), ROW(A731)))&\"\"","v":""},"","","",null,"",""]
[null,null,null,null,null,null,null,null,null,null,null,null,null,null,null,null,null,null,null,null,null,null,null,null,null,null,null,null,null,null,null,null,{"$f":"INDEX(C:C, SMALL(ROW(C$1:C$5000)+(5000*(C$1:C$5000=\"\")),ROW(A733)))&\"\"","v":""},"",{"$f":"INDEX(B:B, SMALL(ROW(B$1:B$5000)+(5000*(B$1:B$5000=\"\")),ROW(A733)))&\"\"","v":""},"","","",null,null,{"$f":"INDEX(AH:AH,SMALL(ROW($AH$1:$AH$1999)+(1999*($AH$1:$AH$1999=\"\")), ROW(A733)))&\"\"","v":""},"","","","","","","","","","","","","","","","","","","","","","","","","","","","","","","",{"$f":"INDEX(AJ:AJ,SMALL(ROW($AJ$1:$AJ$1999)+(1999*($AJ$1:$AJ$1999=\"\")), ROW(A733)))&\"\"","v":""},"",{"$f":"INDEX(AK:AK,SMALL(ROW($AK$1:$AK$1999)+(1999*($AK$1:$AK$1999=\"\")), ROW(A733)))&\"\"","v":""},"","","",null,"",""]
[null,null,null,null,null,null,null,null,null,null,null,null,null,null,null,null,null,null,null,null,null,null,null,null,null,null,null,null,null,null,null,null,{"$f":"INDEX(C:C, SMALL(ROW(C$1:C$5000)+(5000*(C$1:C$5000=\"\")),ROW(A734)))&\"\"","v":""},"",{"$f":"INDEX(B:B, SMALL(ROW(B$1:B$5000)+(5000*(B$1:B$5000=\"\")),ROW(A734)))&\"\"","v":""},"","","",null,null,{"$f":"INDEX(AH:AH,SMALL(ROW($AH$1:$AH$1999)+(1999*($AH$1:$AH$1999=\"\")), ROW(A734)))&\"\"","v":""},"","","","","","","","","","","",{"$f":"IFERROR(IF(ISNUMBER(SEARCH(\"*TE*\",AZ734)),BV734,\"\"),VALUE(0))","v":""},"","","","","","","","","","","","","","","","","","","",{"$f":"INDEX(AJ:AJ,SMALL(ROW($AJ$1:$AJ$1999)+(1999*($AJ$1:$AJ$1999=\"\")), ROW(A734)))&\"\"","v":""},"",{"$f":"INDEX(AK:AK,SMALL(ROW($AK$1:$AK$1999)+(1999*($AK$1:$AK$1999=\"\")), ROW(A734)))&\"\"","v":""},"","","",null,"",""]
[null,null,null,null,null,null,null,null,null,null,null,null,null,null,null,null,null,null,null,null,null,null,null,null,null,null,null,null,null,null,null,null,{"$f":"INDEX(C:C, SMALL(ROW(C$1:C$5000)+(5000*(C$1:C$5000=\"\")),ROW(A737)))&\"\"","v":""},"",{"$f":"INDEX(B:B, SMALL(ROW(B$1:B$5000)+(5000*(B$1:B$5000=\"\")),ROW(A737)))&\"\"","v":""},"","","",null,null,{"$f":"INDEX(AH:AH,SMALL(ROW($AH$1:$AH$1999)+(1999*($AH$1:$AH$1999=\"\")), ROW(A737)))&\"\"","v":""},"","","","","","","","","","","","","","","","","","","","","","","","","","","","","","","",{"$f":"INDEX(AJ:AJ,SMALL(ROW($AJ$1:$AJ$1999)+(1999*($AJ$1:$AJ$1999=\"\")), ROW(A737)))&\"\"","v":""},"",{"$f":"INDEX(AK:AK,SMALL(ROW($AK$1:$AK$1999)+(1999*($AK$1:$AK$1999=\"\")), ROW(A737)))&\"\"","v":""},"","","",null,"",""]
[null,null,null,null,null,null,null,null,null,null,null,null,null,null,null,null,null,null,null,null,null,null,null,null,null,null,null,null,null,null,null,null,{"$f":"INDEX(C:C, SMALL(ROW(C$1:C$5000)+(5000*(C$1:C$5000=\"\")),ROW(A741)))&\"\"","v":""},"",{"$f":"INDEX(B:B, SMALL(ROW(B$1:B$5000)+(5000*(B$1:B$5000=\"\")),ROW(A741)))&\"\"","v":""},"","","",null,null,{"$f":"INDEX(AH:AH,SMALL(ROW($AH$1:$AH$1999)+(1999*($AH$1:$AH$1999=\"\")), ROW(A741)))&\"\"","v":""},"","","","","","","","","","","","","","","","","","","","","","","","","","","","","","","",{"$f":"INDEX(AJ:AJ,SMALL(ROW($AJ$1:$AJ$1999)+(1999*($AJ$1:$AJ$1999=\"\")), ROW(A741)))&\"\"","v":""},"",{"$f":"INDEX(AK:AK,SMALL(ROW($AK$1:$AK$1999)+(1999*($AK$1:$AK$1999=\"\")), ROW(A741)))&\"\"","v":""},"","","",null,"",""]
[null,null,null,null,null,null,null,null,null,null,null,null,null,null,null,null,null,null,null,null,null,null,null,null,null,null,null,null,null,null,null,null,{"$f":"INDEX(C:C, SMALL(ROW(C$1:C$5000)+(5000*(C$1:C$5000=\"\")),ROW(A744)))&\"\"","v":""},"",{"$f":"INDEX(B:B, SMALL(ROW(B$1:B$5000)+(5000*(B$1:B$5000=\"\")),ROW(A744)))&\"\"","v":""},"","","",null,null,{"$f":"INDEX(AH:AH,SMALL(ROW($AH$1:$AH$1999)+(1999*($AH$1:$AH$1999=\"\")), ROW(A744)))&\"\"","v":""},"","","","","","","","","","","","","","","","","","","","","","","","","","","","","","","",{"$f":"INDEX(AJ:AJ,SMALL(ROW($AJ$1:$AJ$1999)+(1999*($AJ$1:$AJ$1999=\"\")), ROW(A744)))&\"\"","v":""},"",{"$f":"INDEX(AK:AK,SMALL(ROW($AK$1:$AK$1999)+(1999*($AK$1:$AK$1999=\"\")), ROW(A744)))&\"\"","v":""},"","","",null,"",""]
[null,null,null,null,null,null,null,null,null,null,null,null,null,null,null,null,null,null,null,null,null,null,null,null,null,null,null,null,null,null,null,null,{"$f":"INDEX(C:C, SMALL(ROW(C$1:C$5000)+(5000*(C$1:C$5000=\"\")),ROW(A746)))&\"\"","v":""},"",{"$f":"INDEX(B:B, SMALL(ROW(B$1:B$5000)+(5000*(B$1:B$5000=\"\")),ROW(A746)))&\"\"","v":""},"","","",null,null,{"$f":"INDEX(AH:AH,SMALL(ROW($AH$1:$AH$1999)+(1999*($AH$1:$AH$1999=\"\")), ROW(A746)))&\"\"","v":""},"","","","","","","","","","","","","","","","","","","","","","","","","","","","","","","",{"$f":"INDEX(AJ:AJ,SMALL(ROW($AJ$1:$AJ$1999)+(1999*($AJ$1:$AJ$1999=\"\")), ROW(A746)))&\"\"","v":""},"",{"$f":"INDEX(AK:AK,SMALL(ROW($AK$1:$AK$1999)+(1999*($AK$1:$AK$1999=\"\")), ROW(A746)))&\"\"","v":""},"","","",null,"",""]
[null,null,null,null,null,null,null,null,null,null,null,null,null,null,null,null,null,null,null,null,null,null,null,null,null,null,null,null,null,null,null,null,{"$f":"INDEX(C:C, SMALL(ROW(C$1:C$5000)+(5000*(C$1:C$5000=\"\")),ROW(A750)))&\"\"","v":""},"",{"$f":"INDEX(B:B, SMALL(ROW(B$1:B$5000)+(5000*(B$1:B$5000=\"\")),ROW(A750)))&\"\"","v":""},"","","",null,null,{"$f":"INDEX(AH:AH,SMALL(ROW($AH$1:$AH$1999)+(1999*($AH$1:$AH$1999=\"\")), ROW(A750)))&\"\"","v":""},"","","","","","","","","","","","","","","","","","","","","","","","","","","","","","","",{"$f":"INDEX(AJ:AJ,SMALL(ROW($AJ$1:$AJ$1999)+(1999*($AJ$1:$AJ$1999=\"\")), ROW(A750)))&\"\"","v":""},"",{"$f":"INDEX(AK:AK,SMALL(ROW($AK$1:$AK$1999)+(1999*($AK$1:$AK$1999=\"\")), ROW(A750)))&\"\"","v":""},"","","",null,"",""]
[null,null,null,null,null,null,null,null,null,null,null,null,null,null,null,null,null,null,null,null,null,null,null,null,null,null,null,null,null,null,null,null,{"$f":"INDEX(C:C, SMALL(ROW(C$1:C$5000)+(5000*(C$1:C$5000=\"\")),ROW(A753)))&\"\"","v":""},"",{"$f":"INDEX(B:B, SMALL(ROW(B$1:B$5000)+(5000*(B$1:B$5000=\"\")),ROW(A753)))&\"\"","v":""},"","","",null,null,{"$f":"INDEX(AH:AH,SMALL(ROW($AH$1:$AH$1999)+(1999*($AH$1:$AH$1999=\"\")), ROW(A753)))&\"\"","v":""},"","","","","","","","","","","","","","","","","","","","","","","","","","","","","","","",{"$f":"INDEX(AJ:AJ,SMALL(ROW($AJ$1:$AJ$1999)+(1999*($AJ$1:$AJ$1999=\"\")), ROW(A753)))&\"\"","v":""},"",{"$f":"INDEX(AK:AK,SMALL(ROW($AK$1:$AK$1999)+(1999*($AK$1:$AK$1999=\"\")), ROW(A753)))&\"\"","v":""},"","","",null,"",""]
[null,null,null,null,null,null,null,null,null,null,null,null,null,null,null,null,null,null,null,null,null,null,null,null,null,null,null,null,null,null,null,null,{"$f":"INDEX(C:C, SMALL(ROW(C$1:C$5000)+(5000*(C$1:C$5000=\"\")),ROW(A755)))&\"\"","v":""},"",{"$f":"INDEX(B:B, SMALL(ROW(B$1:B$5000)+(5000*(B$1:B$5000=\"\")),ROW(A755)))&\"\"","v":""},"","","",null,null,{"$f":"INDEX(AH:AH,SMALL(ROW($AH$1:$AH$1999)+(1999*($AH$1:$AH$1999=\"\")), ROW(A755)))&\"\"","v":""},"","","","","","","","","","","","","","","","","","","","","","","","","","","","","","","",{"$f":"INDEX(AJ:AJ,SMALL(ROW($AJ$1:$AJ$1999)+(1999*($AJ$1:$AJ$1999=\"\")), ROW(A755)))&\"\"","v":""},"",{"$f":"INDEX(AK:AK,SMALL(ROW($AK$1:$AK$1999)+(1999*($AK$1:$AK$1999=\"\")), ROW(A755)))&\"\"","v":""},"","","",null,"",""]
[null,null,null,null,null,null,null,null,null,null,null,null,null,null,null,null,null,null,null,null,null,null,null,null,null,null,null,null,null,null,null,null,{"$f":"INDEX(C:C, SMALL(ROW(C$1:C$5000)+(5000*(C$1:C$5000=\"\")),ROW(A756)))&\"\"","v":""},"",{"$f":"INDEX(B:B, SMALL(ROW(B$1:B$5000)+(5000*(B$1:B$5000=\"\")),ROW(A756)))&\"\"","v":""},"","","",null,null,{"$f":"INDEX(AH:AH,SMALL(ROW($AH$1:$AH$1999)+(1999*($AH$1:$AH$1999=\"\")), ROW(A756)))&\"\"","v":""},"","","","","","","","","","","","","","","","","","","","","","","","","","","","","","","",{"$f":"INDEX(AJ:AJ,SMALL(ROW($AJ$1:$AJ$1999)+(1999*($AJ$1:$AJ$1999=\"\")), ROW(A756)))&\"\"","v":""},"",{"$f":"INDEX(AK:AK,SMALL(ROW($AK$1:$AK$1999)+(1999*($AK$1:$AK$1999=\"\")), ROW(A756)))&\"\"","v":""},"","","",null,"",""]
[null,null,null,null,null,null,null,null,null,null,null,null,null,null,null,null,null,null,null,null,null,null,null,null,null,null,null,null,null,null,null,null,{"$f":"INDEX(C:C, SMALL(ROW(C$1:C$5000)+(5000*(C$1:C$5000=\"\")),ROW(A759)))&\"\"","v":""},"",{"$f":"INDEX(B:B, SMALL(ROW(B$1:B$5000)+(5000*(B$1:B$5000=\"\")),ROW(A759)))&\"\"","v":""},"","","",null,null,{"$f":"INDEX(AH:AH,SMALL(ROW($AH$1:$AH$1999)+(1999*($AH$1:$AH$1999=\"\")), ROW(A759)))&\"\"","v":""},"","","","","","","","","","","","","","","","","","","","","","","","","","","","","","","",{"$f":"INDEX(AJ:AJ,SMALL(ROW($AJ$1:$AJ$1999)+(1999*($AJ$1:$AJ$1999=\"\")), ROW(A759)))&\"\"","v":""},"",{"$f":"INDEX(AK:AK,SMALL(ROW($AK$1:$AK$1999)+(1999*($AK$1:$AK$1999=\"\")), ROW(A759)))&\"\"","v":""},"","","",null,"",""]
[null,null,null,null,null,null,null,null,null,null,null,null,null,null,null,null,null,null,null,null,null,null,null,null,null,null,null,null,null,null,null,null,{"$f":"INDEX(C:C, SMALL(ROW(C$1:C$5000)+(5000*(C$1:C$5000=\"\")),ROW(A763)))&\"\"","v":""},"",{"$f":"INDEX(B:B, SMALL(ROW(B$1:B$5000)+(5000*(B$1:B$5000=\"\")),ROW(A763)))&\"\"","v":""},"","","",null,null,{"$f":"INDEX(AH:AH,SMALL(ROW($AH$1:$AH$1999)+(1999*($AH$1:$AH$1999=\"\")), ROW(A763)))&\"\"","v":""},"","","","","","","","","","","","","","","","","","","","","","","","","","","","","","","",{"$f":"INDEX(AJ:AJ,SMALL(ROW($AJ$1:$AJ$1999)+(1999*($AJ$1:$AJ$1999=\"\")), ROW(A763)))&\"\"","v":""},"",{"$f":"INDEX(AK:AK,SMALL(ROW($AK$1:$AK$1999)+(1999*($AK$1:$AK$1999=\"\")), ROW(A763)))&\"\"","v":""},"","","",null,"",""]
[null,null,null,null,null,null,null,null,null,null,null,null,null,null,null,null,null,null,null,null,null,null,null,null,null,null,null,null,null,null,null,null,{"$f":"INDEX(C:C, SMALL(ROW(C$1:C$5000)+(5000*(C$1:C$5000=\"\")),ROW(A766)))&\"\"","v":""},"",{"$f":"INDEX(B:B, SMALL(ROW(B$1:B$5000)+(5000*(B$1:B$5000=\"\")),ROW(A766)))&\"\"","v":""},"","","",null,null,{"$f":"INDEX(AH:AH,SMALL(ROW($AH$1:$AH$1999)+(1999*($AH$1:$AH$1999=\"\")), ROW(A766)))&\"\"","v":""},"","","","","","","","","","","","","","","","","","","","","","","","","","","","","","","",{"$f":"INDEX(AJ:AJ,SMALL(ROW($AJ$1:$AJ$1999)+(1999*($AJ$1:$AJ$1999=\"\")), ROW(A766)))&\"\"","v":""},"",{"$f":"INDEX(AK:AK,SMALL(ROW($AK$1:$AK$1999)+(1999*($AK$1:$AK$1999=\"\")), ROW(A766)))&\"\"","v":""},"","","",null,"",""]
[null,null,null,null,null,null,null,null,null,null,null,null,null,null,null,null,null,null,null,null,null,null,null,null,null,null,null,null,null,null,null,null,{"$f":"INDEX(C:C, SMALL(ROW(C$1:C$5000)+(5000*(C$1:C$5000=\"\")),ROW(A769)))&\"\"","v":""},{"$f":"IF(ISNUMBER(SEARCH(\"*,*\",AG769)),AG769,\"\")","v":""},{"$f":"INDEX(B:B, SMALL(ROW(B$1:B$5000)+(5000*(B$1:B$5000=\"\")),ROW(A769)))&\"\"","v":""},"","",{"$f":"IF(ISNUMBER(SEARCH(\"*Round*\",AI769)),AI769,\"\")","v":""},null,null,{"$f":"INDEX(AH:AH,SMALL(ROW($AH$1:$AH$1999)+(1999*($AH$1:$AH$1999=\"\")), ROW(A769)))&\"\"","v":""},"","","","","","","","","","","","","","","","","","","","","","","","","","","","","","","",{"$f":"INDEX(AJ:AJ,SMALL(ROW($AJ$1:$AJ$1999)+(1999*($AJ$1:$AJ$1999=\"\")), ROW(A769)))&\"\"","v":""},"",{"$f":"INDEX(AK:AK,SMALL(ROW($AK$1:$AK$1999)+(1999*($AK$1:$AK$1999=\"\")), ROW(A769)))&\"\"","v":""},"","","",null,"",""]
[null,null,null,null,null,null,null,null,null,null,null,null,null,null,null,null,null,null,null,null,null,null,null,null,null,null,null,null,null,null,null,null,{"$f":"INDEX(C:C, SMALL(ROW(C$1:C$5000)+(5000*(C$1:C$5000=\"\")),ROW(A772)))&\"\"","v":""},"",{"$f":"INDEX(B:B, SMALL(ROW(B$1:B$5000)+(5000*(B$1:B$5000=\"\")),ROW(A772)))&\"\"","v":""},"","","",null,null,{"$f":"INDEX(AH:AH,SMALL(ROW($AH$1:$AH$1999)+(1999*($AH$1:$AH$1999=\"\")), ROW(A772)))&\"\"","v":""},"","","","","","","","","","","","","","","","","","","","","","","","","","","","","","","",{"$f":"INDEX(AJ:AJ,SMALL(ROW($AJ$1:$AJ$1999)+(1999*($AJ$1:$AJ$1999=\"\")), ROW(A772)))&\"\"","v":""},"",{"$f":"INDEX(AK:AK,SMALL(ROW($AK$1:$AK$1999)+(1999*($AK$1:$AK$1999=\"\")), ROW(A772)))&\"\"","v":""},"","","",null,"",""]
[null,null,null,null,null,null,null,null,null,null,null,null,null,null,null,null,null,null,null,null,null,null,null,null,null,null,null,null,null,null,null,null,{"$f":"INDEX(C:C, SMALL(ROW(C$1:C$5000)+(5000*(C$1:C$5000=\"\")),ROW(A775)))&\"\"","v":""},"",{"$f":"INDEX(B:B, SMALL(ROW(B$1:B$5000)+(5000*(B$1:B$5000=\"\")),ROW(A775)))&\"\"","v":""},"","","",null,null,{"$f":"INDEX(AH:AH,SMALL(ROW($AH$1:$AH$1999)+(1999*($AH$1:$AH$1999=\"\")), ROW(A775)))&\"\"","v":""},"","","","","","","","","","","","","","","","","","","","","","","","","","","","","","","",{"$f":"INDEX(AJ:AJ,SMALL(ROW($AJ$1:$AJ$1999)+(1999*($AJ$1:$AJ$1999=\"\")), ROW(A775)))&\"\"","v":""},"",{"$f":"INDEX(AK:AK,SMALL(ROW($AK$1:$AK$1999)+(1999*($AK$1:$AK$1999=\"\")), ROW(A775)))&\"\"","v":""},"","","",null,"",""]
[null,null,null,null,null,null,null,null,null,null,null,null,null,null,null,null,null,null,null,null,null,null,null,null,null,null,null,null,null,null,null,null,{"$f":"INDEX(C:C, SMALL(ROW(C$1:C$5000)+(5000*(C$1:C$5000=\"\")),ROW(A777)))&\"\"","v":""},"",{"$f":"INDEX(B:B, SMALL(ROW(B$1:B$5000)+(5000*(B$1:B$5000=\"\")),ROW(A777)))&\"\"","v":""},"","","",null,null,{"$f":"INDEX(AH:AH,SMALL(ROW($AH$1:$AH$1999)+(1999*($AH$1:$AH$1999=\"\")), ROW(A777)))&\"\"","v":""},"","","","","","","","","","","","","","","","","","","","","","","","","","","","","","","",{"$f":"INDEX(AJ:AJ,SMALL(ROW($AJ$1:$AJ$1999)+(1999*($AJ$1:$AJ$1999=\"\")), ROW(A777)))&\"\"","v":""},"",{"$f":"INDEX(AK:AK,SMALL(ROW($AK$1:$AK$1999)+(1999*($AK$1:$AK$1999=\"\")), ROW(A777)))&\"\"","v":""},"","","",null,"",""]
[null,null,null,null,null,null,null,null,null,null,null,null,null,null,null,null,null,null,null,null,null,null,null,null,null,null,null,null,null,null,null,null,{"$f":"INDEX(C:C, SMALL(ROW(C$1:C$5000)+(5000*(C$1:C$5000=\"\")),ROW(A778)))&\"\"","v":""},"",{"$f":"INDEX(B:B, SMALL(ROW(B$1:B$5000)+(5000*(B$1:B$5000=\"\")),ROW(A778)))&\"\"","v":""},"","","",null,null,{"$f":"INDEX(AH:AH,SMALL(ROW($AH$1:$AH$1999)+(1999*($AH$1:$AH$1999=\"\")), ROW(A778)))&\"\"","v":""},"","","","","","","","","","","","","","","","","","","","","","","","","","","","","","","",{"$f":"INDEX(AJ:AJ,SMALL(ROW($AJ$1:$AJ$1999)+(1999*($AJ$1:$AJ$1999=\"\")), ROW(A778)))&\"\"","v":""},"",{"$f":"INDEX(AK:AK,SMALL(ROW($AK$1:$AK$1999)+(1999*($AK$1:$AK$1999=\"\")), ROW(A778)))&\"\"","v":""},"","","",null,"",""]
[null,null,null,null,null,null,null,null,null,null,null,null,null,null,null,null,null,null,null,null,null,null,null,null,null,null,null,null,null,null,null,null,{"$f":"INDEX(C:C, SMALL(ROW(C$1:C$5000)+(5000*(C$1:C$5000=\"\")),ROW(A781)))&\"\"","v":""},"",{"$f":"INDEX(B:B, SMALL(ROW(B$1:B$5000)+(5000*(B$1:B$5000=\"\")),ROW(A781)))&\"\"","v":""},"","","",null,null,{"$f":"INDEX(AH:AH,SMALL(ROW($AH$1:$AH$1999)+(1999*($AH$1:$AH$1999=\"\")), ROW(A781)))&\"\"","v":""},"","","","","","","","","","","","","","","","","","","","","","","","","","","","","","","",{"$f":"INDEX(AJ:AJ,SMALL(ROW($AJ$1:$AJ$1999)+(1999*($AJ$1:$AJ$1999=\"\")), ROW(A781)))&\"\"","v":""},"",{"$f":"INDEX(AK:AK,SMALL(ROW($AK$1:$AK$1999)+(1999*($AK$1:$AK$1999=\"\")), ROW(A781)))&\"\"","v":""},"","","",null,"",""]
[null,null,null,null,null,null,null,null,null,null,null,null,null,null,null,null,null,null,null,null,null,null,null,null,null,null,null,null,null,null,null,null,{"$f":"INDEX(C:C, SMALL(ROW(C$1:C$5000)+(5000*(C$1:C$5000=\"\")),ROW(A785)))&\"\"","v":""},"",{"$f":"INDEX(B:B, SMALL(ROW(B$1:B$5000)+(5000*(B$1:B$5000=\"\")),ROW(A785)))&\"\"","v":""},"","","",null,null,{"$f":"INDEX(AH:AH,SMALL(ROW($AH$1:$AH$1999)+(1999*($AH$1:$AH$1999=\"\")), ROW(A785)))&\"\"","v":""},"","","","","","","","","","","","","","","","","","","","","","","","","","","","","","","",{"$f":"INDEX(AJ:AJ,SMALL(ROW($AJ$1:$AJ$1999)+(1999*($AJ$1:$AJ$1999=\"\")), ROW(A785)))&\"\"","v":""},"",{"$f":"INDEX(AK:AK,SMALL(ROW($AK$1:$AK$1999)+(1999*($AK$1:$AK$1999=\"\")), ROW(A785)))&\"\"","v":""},"","","",null,"",""]
[null,null,null,null,null,null,null,null,null,null,null,null,null,null,null,null,null,null,null,null,null,null,null,null,null,null,null,null,null,null,null,null,{"$f":"INDEX(C:C, SMALL(ROW(C$1:C$5000)+(5000*(C$1:C$5000=\"\")),ROW(A788)))&\"\"","v":""},"",{"$f":"INDEX(B:B, SMALL(ROW(B$1:B$5000)+(5000*(B$1:B$5000=\"\")),ROW(A788)))&\"\"","v":""},"","","",null,null,{"$f":"INDEX(AH:AH,SMALL(ROW($AH$1:$AH$1999)+(1999*($AH$1:$AH$1999=\"\")), ROW(A788)))&\"\"","v":""},"","","","","","","","","","","","","","","","","","","","","","","","","","","","","","","",{"$f":"INDEX(AJ:AJ,SMALL(ROW($AJ$1:$AJ$1999)+(1999*($AJ$1:$AJ$1999=\"\")), ROW(A788)))&\"\"","v":""},"",{"$f":"INDEX(AK:AK,SMALL(ROW($AK$1:$AK$1999)+(1999*($AK$1:$AK$1999=\"\")), ROW(A788)))&\"\"","v":""},"","","",null,"",""]
[null,null,null,null,null,null,null,null,null,null,null,null,null,null,null,null,null,null,null,null,null,null,null,null,null,null,null,null,null,null,null,null,{"$f":"INDEX(C:C, SMALL(ROW(C$1:C$5000)+(5000*(C$1:C$5000=\"\")),ROW(A791)))&\"\"","v":""},"",{"$f":"INDEX(B:B, SMALL(ROW(B$1:B$5000)+(5000*(B$1:B$5000=\"\")),ROW(A791)))&\"\"","v":""},"","","",null,null,{"$f":"INDEX(AH:AH,SMALL(ROW($AH$1:$AH$1999)+(1999*($AH$1:$AH$1999=\"\")), ROW(A791)))&\"\"","v":""},"","","","","","","","","","","","","","","","","","","","","","","","","","","","","","","",{"$f":"INDEX(AJ:AJ,SMALL(ROW($AJ$1:$AJ$1999)+(1999*($AJ$1:$AJ$1999=\"\")), ROW(A791)))&\"\"","v":""},"",{"$f":"INDEX(AK:AK,SMALL(ROW($AK$1:$AK$1999)+(1999*($AK$1:$AK$1999=\"\")), ROW(A791)))&\"\"","v":""},"","","",null,"",""]
[null,null,null,null,null,null,null,null,null,null,null,null,null,null,null,null,null,null,null,null,null,null,null,null,null,null,null,null,null,null,null,null,{"$f":"INDEX(C:C, SMALL(ROW(C$1:C$5000)+(5000*(C$1:C$5000=\"\")),ROW(A794)))&\"\"","v":""},"",{"$f":"INDEX(B:B, SMALL(ROW(B$1:B$5000)+(5000*(B$1:B$5000=\"\")),ROW(A794)))&\"\"","v":""},"","","",null,null,{"$f":"INDEX(AH:AH,SMALL(ROW($AH$1:$AH$1999)+(1999*($AH$1:$AH$1999=\"\")), ROW(A794)))&\"\"","v":""},"","","","","","","","","","","","","","","","","","","","","","","","","","","","","","","",{"$f":"INDEX(AJ:AJ,SMALL(ROW($AJ$1:$AJ$1999)+(1999*($AJ$1:$AJ$1999=\"\")), ROW(A794)))&\"\"","v":""},"",{"$f":"INDEX(AK:AK,SMALL(ROW($AK$1:$AK$1999)+(1999*($AK$1:$AK$1999=\"\")), ROW(A794)))&\"\"","v":""},"","","",null,"",""]
[null,null,null,null,null,null,null,null,null,null,null,null,null,null,null,null,null,null,null,null,null,null,null,null,null,null,null,null,null,null,null,null,{"$f":"INDEX(C:C, SMALL(ROW(C$1:C$5000)+(5000*(C$1:C$5000=\"\")),ROW(A797)))&\"\"","v":""},"",{"$f":"INDEX(B:B, SMALL(ROW(B$1:B$5000)+(5000*(B$1:B$5000=\"\")),ROW(A797)))&\"\"","v":""},"","","",null,null,{"$f":"INDEX(AH:AH,SMALL(ROW($AH$1:$AH$1999)+(1999*($AH$1:$AH$1999=\"\")), ROW(A797)))&\"\"","v":""},"","","","","","","","","","","","","","","","","","","","","","","","","","","","","","","",{"$f":"INDEX(AJ:AJ,SMALL(ROW($AJ$1:$AJ$1999)+(1999*($AJ$1:$AJ$1999=\"\")), ROW(A797)))&\"\"","v":""},"",{"$f":"INDEX(AK:AK,SMALL(ROW($AK$1:$AK$1999)+(1999*($AK$1:$AK$1999=\"\")), ROW(A797)))&\"\"","v":""},"","","",null,"",""]
[null,null,null,null,null,null,null,null,null,null,null,null,null,null,null,null,null,null,null,null,null,null,null,null,null,null,null,null,null,null,null,null,{"$f":"INDEX(C:C, SMALL(ROW(C$1:C$5000)+(5000*(C$1:C$5000=\"\")),ROW(A799)))&\"\"","v":""},"",{"$f":"INDEX(B:B, SMALL(ROW(B$1:B$5000)+(5000*(B$1:B$5000=\"\")),ROW(A799)))&\"\"","v":""},"","","",null,null,{"$f":"INDEX(AH:AH,SMALL(ROW($AH$1:$AH$1999)+(1999*($AH$1:$AH$1999=\"\")), ROW(A799)))&\"\"","v":""},"","","","","","","","","","","","","","","","","","","","","","","","","","","","","","","",{"$f":"INDEX(AJ:AJ,SMALL(ROW($AJ$1:$AJ$1999)+(1999*($AJ$1:$AJ$1999=\"\")), ROW(A799)))&\"\"","v":""},"",{"$f":"INDEX(AK:AK,SMALL(ROW($AK$1:$AK$1999)+(1999*($AK$1:$AK$1999=\"\")), ROW(A799)))&\"\"","v":""},"","","",null,"",""]
[null,null,null,null,null,null,null,null,null,null,null,null,null,null,null,null,null,null,null,null,null,null,null,null,null,null,null,null,null,null,null,null,{"$f":"INDEX(C:C, SMALL(ROW(C$1:C$5000)+(5000*(C$1:C$5000=\"\")),ROW(A800)))&\"\"","v":""},"",{"$f":"INDEX(B:B, SMALL(ROW(B$1:B$5000)+(5000*(B$1:B$5000=\"\")),ROW(A800)))&\"\"","v":""},"","","",null,null,{"$f":"INDEX(AH:AH,SMALL(ROW($AH$1:$AH$1999)+(1999*($AH$1:$AH$1999=\"\")), ROW(A800)))&\"\"","v":""},"","","","","","","","","","","","","","","","","","","","","","","","","","","","","","","",{"$f":"INDEX(AJ:AJ,SMALL(ROW($AJ$1:$AJ$1999)+(1999*($AJ$1:$AJ$1999=\"\")), ROW(A800)))&\"\"","v":""},"",{"$f":"INDEX(AK:AK,SMALL(ROW($AK$1:$AK$1999)+(1999*($AK$1:$AK$1999=\"\")), ROW(A800)))&\"\"","v":""},"","","",null,"",""]
[null,null,null,null,null,null,null,null,null,null,null,null,null,null,null,null,null,null,null,null,null,null,null,null,null,null,null,null,null,null,null,null,{"$f":"INDEX(C:C, SMALL(ROW(C$1:C$5000)+(5000*(C$1:C$5000=\"\")),ROW(A804)))&\"\"","v":""},"",{"$f":"INDEX(B:B, SMALL(ROW(B$1:B$5000)+(5000*(B$1:B$5000=\"\")),ROW(A804)))&\"\"","v":""},"","","",null,null,{"$f":"INDEX(AH:AH,SMALL(ROW($AH$1:$AH$1999)+(1999*($AH$1:$AH$1999=\"\")), ROW(A804)))&\"\"","v":""},"","","","","","","","","","","","","","","","","","","","","","","","","","","","","","","",{"$f":"INDEX(AJ:AJ,SMALL(ROW($AJ$1:$AJ$1999)+(1999*($AJ$1:$AJ$1999=\"\")), ROW(A804)))&\"\"","v":""},"",{"$f":"INDEX(AK:AK,SMALL(ROW($AK$1:$AK$1999)+(1999*($AK$1:$AK$1999=\"\")), ROW(A804)))&\"\"","v":""},"","","",null,"",""]
[null,null,null,null,null,null,null,null,null,null,null,null,null,null,null,null,null,null,null,null,null,null,null,null,null,null,null,null,null,null,null,null,{"$f":"INDEX(C:C, SMALL(ROW(C$1:C$5000)+(5000*(C$1:C$5000=\"\")),ROW(A807)))&\"\"","v":""},"",{"$f":"INDEX(B:B, SMALL(ROW(B$1:B$5000)+(5000*(B$1:B$5000=\"\")),ROW(A807)))&\"\"","v":""},"","","",null,null,{"$f":"INDEX(AH:AH,SMALL(ROW($AH$1:$AH$1999)+(1999*($AH$1:$AH$1999=\"\")), ROW(A807)))&\"\"","v":""},"","","","","","","","","","","","","","","","","","","","","","","","","","","","","","","",{"$f":"INDEX(AJ:AJ,SMALL(ROW($AJ$1:$AJ$1999)+(1999*($AJ$1:$AJ$1999=\"\")), ROW(A807)))&\"\"","v":""},"",{"$f":"INDEX(AK:AK,SMALL(ROW($AK$1:$AK$1999)+(1999*($AK$1:$AK$1999=\"\")), ROW(A807)))&\"\"","v":""},"","","",null,"",""]
[null,null,null,null,null,null,null,null,null,null,null,null,null,null,null,null,null,null,null,null,null,null,null,null,null,null,null,null,null,null,null,null,{"$f":"INDEX(C:C, SMALL(ROW(C$1:C$5000)+(5000*(C$1:C$5000=\"\")),ROW(A810)))&\"\"","v":""},"",{"$f":"INDEX(B:B, SMALL(ROW(B$1:B$5000)+(5000*(B$1:B$5000=\"\")),ROW(A810)))&\"\"","v":""},"","","",null,null,{"$f":"INDEX(AH:AH,SMALL(ROW($AH$1:$AH$1999)+(1999*($AH$1:$AH$1999=\"\")), ROW(A810)))&\"\"","v":""},"","","","","","","","","","","","","","","","","","","","","","","","","","","","","","","",{"$f":"INDEX(AJ:AJ,SMALL(ROW($AJ$1:$AJ$1999)+(1999*($AJ$1:$AJ$1999=\"\")), ROW(A810)))&\"\"","v":""},"",{"$f":"INDEX(AK:AK,SMALL(ROW($AK$1:$AK$1999)+(1999*($AK$1:$AK$1999=\"\")), ROW(A810)))&\"\"","v":""},"","","",null,"",""]
[null,null,null,null,null,null,null,null,null,null,null,null,null,null,null,null,null,null,null,null,null,null,null,null,null,null,null,null,null,null,null,null,{"$f":"INDEX(C:C, SMALL(ROW(C$1:C$5000)+(5000*(C$1:C$5000=\"\")),ROW(A813)))&\"\"","v":""},"",{"$f":"INDEX(B:B, SMALL(ROW(B$1:B$5000)+(5000*(B$1:B$5000=\"\")),ROW(A813)))&\"\"","v":""},"","","",null,null,{"$f":"INDEX(AH:AH,SMALL(ROW($AH$1:$AH$1999)+(1999*($AH$1:$AH$1999=\"\")), ROW(A813)))&\"\"","v":""},"","","","","","","","","","","","","","","","","","","","","","","","","","","","","","","",{"$f":"INDEX(AJ:AJ,SMALL(ROW($AJ$1:$AJ$1999)+(1999*($AJ$1:$AJ$1999=\"\")), ROW(A813)))&\"\"","v":""},"",{"$f":"INDEX(AK:AK,SMALL(ROW($AK$1:$AK$1999)+(1999*($AK$1:$AK$1999=\"\")), ROW(A813)))&\"\"","v":""},"","","",null,"",""]
[null,null,null,null,null,null,null,null,null,null,null,null,null,null,null,null,null,null,null,null,null,null,null,null,null,null,null,null,null,null,null,null,{"$f":"INDEX(C:C, SMALL(ROW(C$1:C$5000)+(5000*(C$1:C$5000=\"\")),ROW(A816)))&\"\"","v":""},"",{"$f":"INDEX(B:B, SMALL(ROW(B$1:B$5000)+(5000*(B$1:B$5000=\"\")),ROW(A816)))&\"\"","v":""},"","","",null,null,{"$f":"INDEX(AH:AH,SMALL(ROW($AH$1:$AH$1999)+(1999*($AH$1:$AH$1999=\"\")), ROW(A816)))&\"\"","v":""},"","","","","","","","","","","","","","","","","","","","","","","","","","","","","","","",{"$f":"INDEX(AJ:AJ,SMALL(ROW($AJ$1:$AJ$1999)+(1999*($AJ$1:$AJ$1999=\"\")), ROW(A816)))&\"\"","v":""},"",{"$f":"INDEX(AK:AK,SMALL(ROW($AK$1:$AK$1999)+(1999*($AK$1:$AK$1999=\"\")), ROW(A816)))&\"\"","v":""},"","","",null,"",""]
[null,null,null,null,null,null,null,null,null,null,null,null,null,null,null,null,null,null,null,null,null,null,null,null,null,null,null,null,null,null,null,null,{"$f":"INDEX(C:C, SMALL(ROW(C$1:C$5000)+(5000*(C$1:C$5000=\"\")),ROW(A819)))&\"\"","v":""},"",{"$f":"INDEX(B:B, SMALL(ROW(B$1:B$5000)+(5000*(B$1:B$5000=\"\")),ROW(A819)))&\"\"","v":""},"","","",null,null,{"$f":"INDEX(AH:AH,SMALL(ROW($AH$1:$AH$1999)+(1999*($AH$1:$AH$1999=\"\")), ROW(A819)))&\"\"","v":""},"","","","","","","","","","","","","","","","","","","","","","","","","","","","","","","",{"$f":"INDEX(AJ:AJ,SMALL(ROW($AJ$1:$AJ$1999)+(1999*($AJ$1:$AJ$1999=\"\")), ROW(A819)))&\"\"","v":""},"",{"$f":"INDEX(AK:AK,SMALL(ROW($AK$1:$AK$1999)+(1999*($AK$1:$AK$1999=\"\")), ROW(A819)))&\"\"","v":""},"","","",null,"",""]
[null,null,null,null,null,null,null,null,null,null,null,null,null,null,null,null,null,null,null,null,null,null,null,null,null,null,null,null,null,null,null,null,{"$f":"INDEX(C:C, SMALL(ROW(C$1:C$5000)+(5000*(C$1:C$5000=\"\")),ROW(A821)))&\"\"","v":""},"",{"$f":"INDEX(B:B, SMALL(ROW(B$1:B$5000)+(5000*(B$1:B$5000=\"\")),ROW(A821)))&\"\"","v":""},"","","",null,null,{"$f":"INDEX(AH:AH,SMALL(ROW($AH$1:$AH$1999)+(1999*($AH$1:$AH$1999=\"\")), ROW(A821)))&\"\"","v":""},"","","","","","","","","","","","","","","","","","","","","","","","","","","","","","","",{"$f":"INDEX(AJ:AJ,SMALL(ROW($AJ$1:$AJ$1999)+(1999*($AJ$1:$AJ$1999=\"\")), ROW(A821)))&\"\"","v":""},"",{"$f":"INDEX(AK:AK,SMALL(ROW($AK$1:$AK$1999)+(1999*($AK$1:$AK$1999=\"\")), ROW(A821)))&\"\"","v":""},"","","",null,"",""]
[null,null,null,null,null,null,null,null,null,null,null,null,null,null,null,null,null,null,null,null,null,null,null,null,null,null,null,null,null,null,null,null,{"$f":"INDEX(C:C, SMALL(ROW(C$1:C$5000)+(5000*(C$1:C$5000=\"\")),ROW(A822)))&\"\"","v":""},"",{"$f":"INDEX(B:B, SMALL(ROW(B$1:B$5000)+(5000*(B$1:B$5000=\"\")),ROW(A822)))&\"\"","v":""},"","","",null,null,{"$f":"INDEX(AH:AH,SMALL(ROW($AH$1:$AH$1999)+(1999*($AH$1:$AH$1999=\"\")), ROW(A822)))&\"\"","v":""},"","","","","","","","","","","","","","","","","","","","","","","","","","","","","","","",{"$f":"INDEX(AJ:AJ,SMALL(ROW($AJ$1:$AJ$1999)+(1999*($AJ$1:$AJ$1999=\"\")), ROW(A822)))&\"\"","v":""},"",{"$f":"INDEX(AK:AK,SMALL(ROW($AK$1:$AK$1999)+(1999*($AK$1:$AK$1999=\"\")), ROW(A822)))&\"\"","v":""},"","","",null,"",""]
[null,null,null,null,null,null,null,null,null,null,null,null,null,null,null,null,null,null,null,null,null,null,null,null,null,null,null,null,null,null,null,null,{"$f":"INDEX(C:C, SMALL(ROW(C$1:C$5000)+(5000*(C$1:C$5000=\"\")),ROW(A826)))&\"\"","v":""},"",{"$f":"INDEX(B:B, SMALL(ROW(B$1:B$5000)+(5000*(B$1:B$5000=\"\")),ROW(A826)))&\"\"","v":""},"","","",null,null,{"$f":"INDEX(AH:AH,SMALL(ROW($AH$1:$AH$1999)+(1999*($AH$1:$AH$1999=\"\")), ROW(A826)))&\"\"","v":""},"","","","","","","","","","","","","","","","","","","","","","","","","","","","","","","",{"$f":"INDEX(AJ:AJ,SMALL(ROW($AJ$1:$AJ$1999)+(1999*($AJ$1:$AJ$1999=\"\")), ROW(A826)))&\"\"","v":""},"",{"$f":"INDEX(AK:AK,SMALL(ROW($AK$1:$AK$1999)+(1999*($AK$1:$AK$1999=\"\")), ROW(A826)))&\"\"","v":""},"","","",null,"",""]
[null,null,null,null,null,null,null,null,null,null,null,null,null,null,null,null,null,null,null,null,null,null,null,null,null,null,null,null,null,null,null,null,{"$f":"INDEX(C:C, SMALL(ROW(C$1:C$5000)+(5000*(C$1:C$5000=\"\")),ROW(A829)))&\"\"","v":""},"",{"$f":"INDEX(B:B, SMALL(ROW(B$1:B$5000)+(5000*(B$1:B$5000=\"\")),ROW(A829)))&\"\"","v":""},"","","",null,null,{"$f":"INDEX(AH:AH,SMALL(ROW($AH$1:$AH$1999)+(1999*($AH$1:$AH$1999=\"\")), ROW(A829)))&\"\"","v":""},"","","","","","","","","","","","","","","","","","","","","","","","","","","","","","","",{"$f":"INDEX(AJ:AJ,SMALL(ROW($AJ$1:$AJ$1999)+(1999*($AJ$1:$AJ$1999=\"\")), ROW(A829)))&\"\"","v":""},"",{"$f":"INDEX(AK:AK,SMALL(ROW($AK$1:$AK$1999)+(1999*($AK$1:$AK$1999=\"\")), ROW(A829)))&\"\"","v":""},"","","",null,"",""]
[null,null,null,null,null,null,null,null,null,null,null,null,null,null,null,null,null,null,null,null,null,null,null,null,null,null,null,null,null,null,null,null,{"$f":"INDEX(C:C, SMALL(ROW(C$1:C$5000)+(5000*(C$1:C$5000=\"\")),ROW(A832)))&\"\"","v":""},"",{"$f":"INDEX(B:B, SMALL(ROW(B$1:B$5000)+(5000*(B$1:B$5000=\"\")),ROW(A832)))&\"\"","v":""},"","","",null,null,{"$f":"INDEX(AH:AH,SMALL(ROW($AH$1:$AH$1999)+(1999*($AH$1:$AH$1999=\"\")), ROW(A832)))&\"\"","v":""},"","","","","","","","","","","","","","","","","","","","","","","","","","","","","","","",{"$f":"INDEX(AJ:AJ,SMALL(ROW($AJ$1:$AJ$1999)+(1999*($AJ$1:$AJ$1999=\"\")), ROW(A832)))&\"\"","v":""},"",{"$f":"INDEX(AK:AK,SMALL(ROW($AK$1:$AK$1999)+(1999*($AK$1:$AK$1999=\"\")), ROW(A832)))&\"\"","v":""},"","","",null,"",""]
[null,null,null,null,null,null,null,null,null,null,null,null,null,null,null,null,null,null,null,null,null,null,null,null,null,null,null,null,null,null,null,null,{"$f":"INDEX(C:C, SMALL(ROW(C$1:C$5000)+(5000*(C$1:C$5000=\"\")),ROW(A835)))&\"\"","v":""},"",{"$f":"INDEX(B:B, SMALL(ROW(B$1:B$5000)+(5000*(B$1:B$5000=\"\")),ROW(A835)))&\"\"","v":""},"","","",null,null,{"$f":"INDEX(AH:AH,SMALL(ROW($AH$1:$AH$1999)+(1999*($AH$1:$AH$1999=\"\")), ROW(A835)))&\"\"","v":""},"","","","","","","","","","","","","","","","","","","","","","","","","","","","","","","",{"$f":"INDEX(AJ:AJ,SMALL(ROW($AJ$1:$AJ$1999)+(1999*($AJ$1:$AJ$1999=\"\")), ROW(A835)))&\"\"","v":""},"",{"$f":"INDEX(AK:AK,SMALL(ROW($AK$1:$AK$1999)+(1999*($AK$1:$AK$1999=\"\")), ROW(A835)))&\"\"","v":""},"","","",null,"",""]
[null,null,null,null,null,null,null,null,null,null,null,null,null,null,null,null,null,null,null,null,null,null,null,null,null,null,null,null,null,null,null,null,{"$f":"INDEX(C:C, SMALL(ROW(C$1:C$5000)+(5000*(C$1:C$5000=\"\")),ROW(A838)))&\"\"","v":""},"",{"$f":"INDEX(B:B, SMALL(ROW(B$1:B$5000)+(5000*(B$1:B$5000=\"\")),ROW(A838)))&\"\"","v":""},"","","",null,null,{"$f":"INDEX(AH:AH,SMALL(ROW($AH$1:$AH$1999)+(1999*($AH$1:$AH$1999=\"\")), ROW(A838)))&\"\"","v":""},"","","","","","","","","","","","","","","","","","","","","","","","","","","","","","","",{"$f":"INDEX(AJ:AJ,SMALL(ROW($AJ$1:$AJ$1999)+(1999*($AJ$1:$AJ$1999=\"\")), ROW(A838)))&\"\"","v":""},"",{"$f":"INDEX(AK:AK,SMALL(ROW($AK$1:$AK$1999)+(1999*($AK$1:$AK$1999=\"\")), ROW(A838)))&\"\"","v":""},"","","",null,"",""]
[null,null,null,null,null,null,null,null,null,null,null,null,null,null,null,null,null,null,null,null,null,null,null,null,null,null,null,null,null,null,null,null,{"$f":"INDEX(C:C, SMALL(ROW(C$1:C$5000)+(5000*(C$1:C$5000=\"\")),ROW(A841)))&\"\"","v":""},"",{"$f":"INDEX(B:B, SMALL(ROW(B$1:B$5000)+(5000*(B$1:B$5000=\"\")),ROW(A841)))&\"\"","v":""},"","","",null,null,{"$f":"INDEX(AH:AH,SMALL(ROW($AH$1:$AH$1999)+(1999*($AH$1:$AH$1999=\"\")), ROW(A841)))&\"\"","v":""},"","","","","","","","","","","","","","","","","","","","","","","","","","","","","","","",{"$f":"INDEX(AJ:AJ,SMALL(ROW($AJ$1:$AJ$1999)+(1999*($AJ$1:$AJ$1999=\"\")), ROW(A841)))&\"\"","v":""},"",{"$f":"INDEX(AK:AK,SMALL(ROW($AK$1:$AK$1999)+(1999*($AK$1:$AK$1999=\"\")), ROW(A841)))&\"\"","v":""},"","","",null,"",""]
[null,null,null,null,null,null,null,null,null,null,null,null,null,null,null,null,null,null,null,null,null,null,null,null,null,null,null,null,null,null,null,null,{"$f":"INDEX(C:C, SMALL(ROW(C$1:C$5000)+(5000*(C$1:C$5000=\"\")),ROW(A843)))&\"\"","v":""},"",{"$f":"INDEX(B:B, SMALL(ROW(B$1:B$5000)+(5000*(B$1:B$5000=\"\")),ROW(A843)))&\"\"","v":""},"","","",null,null,{"$f":"INDEX(AH:AH,SMALL(ROW($AH$1:$AH$1999)+(1999*($AH$1:$AH$1999=\"\")), ROW(A843)))&\"\"","v":""},"","","","","","","","","","","","","","","","","","","","","","","","","","","","","","","",{"$f":"INDEX(AJ:AJ,SMALL(ROW($AJ$1:$AJ$1999)+(1999*($AJ$1:$AJ$1999=\"\")), ROW(A843)))&\"\"","v":""},"",{"$f":"INDEX(AK:AK,SMALL(ROW($AK$1:$AK$1999)+(1999*($AK$1:$AK$1999=\"\")), ROW(A843)))&\"\"","v":""},"","","",null,"",""]
[null,null,null,null,null,null,null,null,null,null,null,null,null,null,null,null,null,null,null,null,null,null,null,null,null,null,null,null,null,null,null,null,{"$f":"INDEX(C:C, SMALL(ROW(C$1:C$5000)+(5000*(C$1:C$5000=\"\")),ROW(A844)))&\"\"","v":""},"",{"$f":"INDEX(B:B, SMALL(ROW(B$1:B$5000)+(5000*(B$1:B$5000=\"\")),ROW(A844)))&\"\"","v":""},"","","",null,null,{"$f":"INDEX(AH:AH,SMALL(ROW($AH$1:$AH$1999)+(1999*($AH$1:$AH$1999=\"\")), ROW(A844)))&\"\"","v":""},"","","","","","","","","","","","","","","","","","","","","","","","","","","","","","","",{"$f":"INDEX(AJ:AJ,SMALL(ROW($AJ$1:$AJ$1999)+(1999*($AJ$1:$AJ$1999=\"\")), ROW(A844)))&\"\"","v":""},"",{"$f":"INDEX(AK:AK,SMALL(ROW($AK$1:$AK$1999)+(1999*($AK$1:$AK$1999=\"\")), ROW(A844)))&\"\"","v":""},"","","",null,"",""]
[null,null,null,null,null,null,null,null,null,null,null,null,null,null,null,null,null,null,null,null,null,null,null,null,null,null,null,null,null,null,null,null,{"$f":"INDEX(C:C, SMALL(ROW(C$1:C$5000)+(5000*(C$1:C$5000=\"\")),ROW(A848)))&\"\"","v":""},"",{"$f":"INDEX(B:B, SMALL(ROW(B$1:B$5000)+(5000*(B$1:B$5000=\"\")),ROW(A848)))&\"\"","v":""},"","","",null,null,{"$f":"INDEX(AH:AH,SMALL(ROW($AH$1:$AH$1999)+(1999*($AH$1:$AH$1999=\"\")), ROW(A848)))&\"\"","v":""},"","","","","","","","","","","","","","","","","","","","","","","","","","","","","","","",{"$f":"INDEX(AJ:AJ,SMALL(ROW($AJ$1:$AJ$1999)+(1999*($AJ$1:$AJ$1999=\"\")), ROW(A848)))&\"\"","v":""},"",{"$f":"INDEX(AK:AK,SMALL(ROW($AK$1:$AK$1999)+(1999*($AK$1:$AK$1999=\"\")), ROW(A848)))&\"\"","v":""},"","","",null,"",""]
[null,null,null,null,null,null,null,null,null,null,null,null,null,null,null,null,null,null,null,null,null,null,null,null,null,null,null,null,null,null,null,null,{"$f":"INDEX(C:C, SMALL(ROW(C$1:C$5000)+(5000*(C$1:C$5000=\"\")),ROW(A851)))&\"\"","v":""},"",{"$f":"INDEX(B:B, SMALL(ROW(B$1:B$5000)+(5000*(B$1:B$5000=\"\")),ROW(A851)))&\"\"","v":""},"","","",null,null,{"$f":"INDEX(AH:AH,SMALL(ROW($AH$1:$AH$1999)+(1999*($AH$1:$AH$1999=\"\")), ROW(A851)))&\"\"","v":""},"","","","","","","","","","","","","","","","","","","","","","","","","","","","","","","",{"$f":"INDEX(AJ:AJ,SMALL(ROW($AJ$1:$AJ$1999)+(1999*($AJ$1:$AJ$1999=\"\")), ROW(A851)))&\"\"","v":""},"",{"$f":"INDEX(AK:AK,SMALL(ROW($AK$1:$AK$1999)+(1999*($AK$1:$AK$1999=\"\")), ROW(A851)))&\"\"","v":""},"","","",null,"",""]
[null,null,null,null,null,null,null,null,null,null,null,null,null,null,null,null,null,null,null,null,null,null,null,null,null,null,null,null,null,null,null,null,{"$f":"INDEX(C:C, SMALL(ROW(C$1:C$5000)+(5000*(C$1:C$5000=\"\")),ROW(A854)))&\"\"","v":""},"",{"$f":"INDEX(B:B, SMALL(ROW(B$1:B$5000)+(5000*(B$1:B$5000=\"\")),ROW(A854)))&\"\"","v":""},"","","",null,null,{"$f":"INDEX(AH:AH,SMALL(ROW($AH$1:$AH$1999)+(1999*($AH$1:$AH$1999=\"\")), ROW(A854)))&\"\"","v":""},"","","","","","","","","","","","","","","","","","","","","","","","","","","","","","","",{"$f":"INDEX(AJ:AJ,SMALL(ROW($AJ$1:$AJ$1999)+(1999*($AJ$1:$AJ$1999=\"\")), ROW(A854)))&\"\"","v":""},"",{"$f":"INDEX(AK:AK,SMALL(ROW($AK$1:$AK$1999)+(1999*($AK$1:$AK$1999=\"\")), ROW(A854)))&\"\"","v":""},"","","",null,"",""]
[null,null,null,null,null,null,null,null,null,null,null,null,null,null,null,null,null,null,null,null,null,null,null,null,null,null,null,null,null,null,null,null,{"$f":"INDEX(C:C, SMALL(ROW(C$1:C$5000)+(5000*(C$1:C$5000=\"\")),ROW(A857)))&\"\"","v":""},"",{"$f":"INDEX(B:B, SMALL(ROW(B$1:B$5000)+(5000*(B$1:B$5000=\"\")),ROW(A857)))&\"\"","v":""},"","","",null,null,{"$f":"INDEX(AH:AH,SMALL(ROW($AH$1:$AH$1999)+(1999*($AH$1:$AH$1999=\"\")), ROW(A857)))&\"\"","v":""},"","","","","","","","","","","","","","","","","","","","","","","","","","","","","","","",{"$f":"INDEX(AJ:AJ,SMALL(ROW($AJ$1:$AJ$1999)+(1999*($AJ$1:$AJ$1999=\"\")), ROW(A857)))&\"\"","v":""},"",{"$f":"INDEX(AK:AK,SMALL(ROW($AK$1:$AK$1999)+(1999*($AK$1:$AK$1999=\"\")), ROW(A857)))&\"\"","v":""},"","","",null,"",""]
[null,null,null,null,null,null,null,null,null,null,null,null,null,null,null,null,null,null,null,null,null,null,null,null,null,null,null,null,null,null,null,null,{"$f":"INDEX(C:C, SMALL(ROW(C$1:C$5000)+(5000*(C$1:C$5000=\"\")),ROW(A860)))&\"\"","v":""},"",{"$f":"INDEX(B:B, SMALL(ROW(B$1:B$5000)+(5000*(B$1:B$5000=\"\")),ROW(A860)))&\"\"","v":""},"","","",null,null,{"$f":"INDEX(AH:AH,SMALL(ROW($AH$1:$AH$1999)+(1999*($AH$1:$AH$1999=\"\")), ROW(A860)))&\"\"","v":""},"","","","","","","","","","","","","","","","","","","","","","","","","","","","","","","",{"$f":"INDEX(AJ:AJ,SMALL(ROW($AJ$1:$AJ$1999)+(1999*($AJ$1:$AJ$1999=\"\")), ROW(A860)))&\"\"","v":""},"",{"$f":"INDEX(AK:AK,SMALL(ROW($AK$1:$AK$1999)+(1999*($AK$1:$AK$1999=\"\")), ROW(A860)))&\"\"","v":""},"","","",null,"",""]
[null,null,null,null,null,null,null,null,null,null,null,null,null,null,null,null,null,null,null,null,null,null,null,null,null,null,null,null,null,null,null,null,{"$f":"INDEX(C:C, SMALL(ROW(C$1:C$5000)+(5000*(C$1:C$5000=\"\")),ROW(A861)))&\"\"","v":""},"",{"$f":"INDEX(B:B, SMALL(ROW(B$1:B$5000)+(5000*(B$1:B$5000=\"\")),ROW(A861)))&\"\"","v":""},"","","",null,null,{"$f":"INDEX(AH:AH,SMALL(ROW($AH$1:$AH$1999)+(1999*($AH$1:$AH$1999=\"\")), ROW(A861)))&\"\"","v":""},"","","","","","","","","","","","","","","","","","","","","","","","","","","","","","","",{"$f":"INDEX(AJ:AJ,SMALL(ROW($AJ$1:$AJ$1999)+(1999*($AJ$1:$AJ$1999=\"\")), ROW(A861)))&\"\"","v":""},"",{"$f":"INDEX(AK:AK,SMALL(ROW($AK$1:$AK$1999)+(1999*($AK$1:$AK$1999=\"\")), ROW(A861)))&\"\"","v":""},"","","",null,"",""]
[null,null,null,null,null,null,null,null,null,null,null,null,null,null,null,null,null,null,null,null,null,null,null,null,null,null,null,null,null,null,null,null,{"$f":"INDEX(C:C, SMALL(ROW(C$1:C$5000)+(5000*(C$1:C$5000=\"\")),ROW(A865)))&\"\"","v":""},"",{"$f":"INDEX(B:B, SMALL(ROW(B$1:B$5000)+(5000*(B$1:B$5000=\"\")),ROW(A865)))&\"\"","v":""},"","","",null,null,{"$f":"INDEX(AH:AH,SMALL(ROW($AH$1:$AH$1999)+(1999*($AH$1:$AH$1999=\"\")), ROW(A865)))&\"\"","v":""},"","","","","","","","","","","","","","","","","","","","","","","","","","","","","","","",{"$f":"INDEX(AJ:AJ,SMALL(ROW($AJ$1:$AJ$1999)+(1999*($AJ$1:$AJ$1999=\"\")), ROW(A865)))&\"\"","v":""},"",{"$f":"INDEX(AK:AK,SMALL(ROW($AK$1:$AK$1999)+(1999*($AK$1:$AK$1999=\"\")), ROW(A865)))&\"\"","v":""},"","","",null,"",""]
[null,null,null,null,null,null,null,null,null,null,null,null,null,null,null,null,null,null,null,null,null,null,null,null,null,null,null,null,null,null,null,null,{"$f":"INDEX(C:C, SMALL(ROW(C$1:C$5000)+(5000*(C$1:C$5000=\"\")),ROW(A866)))&\"\"","v":""},"",{"$f":"INDEX(B:B, SMALL(ROW(B$1:B$5000)+(5000*(B$1:B$5000=\"\")),ROW(A866)))&\"\"","v":""},"","","",null,null,{"$f":"INDEX(AH:AH,SMALL(ROW($AH$1:$AH$1999)+(1999*($AH$1:$AH$1999=\"\")), ROW(A866)))&\"\"","v":""},"","","","","","","","","","","","","","","","","","","","","","","","","","","","","","","",{"$f":"INDEX(AJ:AJ,SMALL(ROW($AJ$1:$AJ$1999)+(1999*($AJ$1:$AJ$1999=\"\")), ROW(A866)))&\"\"","v":""},"",{"$f":"INDEX(AK:AK,SMALL(ROW($AK$1:$AK$1999)+(1999*($AK$1:$AK$1999=\"\")), ROW(A866)))&\"\"","v":""},"","","",null,"",""]
[null,null,null,null,null,null,null,null,null,null,null,null,null,null,null,null,null,null,null,null,null,null,null,null,null,null,null,null,null,null,null,null,{"$f":"INDEX(C:C, SMALL(ROW(C$1:C$5000)+(5000*(C$1:C$5000=\"\")),ROW(A870)))&\"\"","v":""},"",{"$f":"INDEX(B:B, SMALL(ROW(B$1:B$5000)+(5000*(B$1:B$5000=\"\")),ROW(A870)))&\"\"","v":""},"","","",null,null,{"$f":"INDEX(AH:AH,SMALL(ROW($AH$1:$AH$1999)+(1999*($AH$1:$AH$1999=\"\")), ROW(A870)))&\"\"","v":""},"","","","","","","","","","","","","","","","","","","","","","","","","","","","","","","",{"$f":"INDEX(AJ:AJ,SMALL(ROW($AJ$1:$AJ$1999)+(1999*($AJ$1:$AJ$1999=\"\")), ROW(A870)))&\"\"","v":""},"",{"$f":"INDEX(AK:AK,SMALL(ROW($AK$1:$AK$1999)+(1999*($AK$1:$AK$1999=\"\")), ROW(A870)))&\"\"","v":""},"","","",null,"",""]
[null,null,null,null,null,null,null,null,null,null,null,null,null,null,null,null,null,null,null,null,null,null,null,null,null,null,null,null,null,null,null,null,{"$f":"INDEX(C:C, SMALL(ROW(C$1:C$5000)+(5000*(C$1:C$5000=\"\")),ROW(A873)))&\"\"","v":""},"",{"$f":"INDEX(B:B, SMALL(ROW(B$1:B$5000)+(5000*(B$1:B$5000=\"\")),ROW(A873)))&\"\"","v":""},"","","",null,null,{"$f":"INDEX(AH:AH,SMALL(ROW($AH$1:$AH$1999)+(1999*($AH$1:$AH$1999=\"\")), ROW(A873)))&\"\"","v":""},"","","","","","","","","","","","","","","","","","","","","","","","","","","","","","","",{"$f":"INDEX(AJ:AJ,SMALL(ROW($AJ$1:$AJ$1999)+(1999*($AJ$1:$AJ$1999=\"\")), ROW(A873)))&\"\"","v":""},"",{"$f":"INDEX(AK:AK,SMALL(ROW($AK$1:$AK$1999)+(1999*($AK$1:$AK$1999=\"\")), ROW(A873)))&\"\"","v":""},"","","",null,"",""]
[null,null,null,null,null,null,null,null,null,null,null,null,null,null,null,null,null,null,null,null,null,null,null,null,null,null,null,null,null,null,null,null,{"$f":"INDEX(C:C, SMALL(ROW(C$1:C$5000)+(5000*(C$1:C$5000=\"\")),ROW(A876)))&\"\"","v":""},"",{"$f":"INDEX(B:B, SMALL(ROW(B$1:B$5000)+(5000*(B$1:B$5000=\"\")),ROW(A876)))&\"\"","v":""},"","","",null,null,{"$f":"INDEX(AH:AH,SMALL(ROW($AH$1:$AH$1999)+(1999*($AH$1:$AH$1999=\"\")), ROW(A876)))&\"\"","v":""},"","","","","","","","","","","","","","","","","","","","","","","","","","","","","","","",{"$f":"INDEX(AJ:AJ,SMALL(ROW($AJ$1:$AJ$1999)+(1999*($AJ$1:$AJ$1999=\"\")), ROW(A876)))&\"\"","v":""},"",{"$f":"INDEX(AK:AK,SMALL(ROW($AK$1:$AK$1999)+(1999*($AK$1:$AK$1999=\"\")), ROW(A876)))&\"\"","v":""},"","","",null,"",""]
[null,null,null,null,null,null,null,null,null,null,null,null,null,null,null,null,null,null,null,null,null,null,null,null,null,null,null,null,null,null,null,null,{"$f":"INDEX(C:C, SMALL(ROW(C$1:C$5000)+(5000*(C$1:C$5000=\"\")),ROW(A879)))&\"\"","v":""},"",{"$f":"INDEX(B:B, SMALL(ROW(B$1:B$5000)+(5000*(B$1:B$5000=\"\")),ROW(A879)))&\"\"","v":""},"","","",null,null,{"$f":"INDEX(AH:AH,SMALL(ROW($AH$1:$AH$1999)+(1999*($AH$1:$AH$1999=\"\")), ROW(A879)))&\"\"","v":""},"","","","","","","","","","","","","","","","","","","","","","","","","","","","","","","",{"$f":"INDEX(AJ:AJ,SMALL(ROW($AJ$1:$AJ$1999)+(1999*($AJ$1:$AJ$1999=\"\")), ROW(A879)))&\"\"","v":""},"",{"$f":"INDEX(AK:AK,SMALL(ROW($AK$1:$AK$1999)+(1999*($AK$1:$AK$1999=\"\")), ROW(A879)))&\"\"","v":""},"","","",null,"",""]
[null,null,null,null,null,null,null,null,null,null,null,null,null,null,null,null,null,null,null,null,null,null,null,null,null,null,null,null,null,null,null,null,{"$f":"INDEX(C:C, SMALL(ROW(C$1:C$5000)+(5000*(C$1:C$5000=\"\")),ROW(A882)))&\"\"","v":""},"",{"$f":"INDEX(B:B, SMALL(ROW(B$1:B$5000)+(5000*(B$1:B$5000=\"\")),ROW(A882)))&\"\"","v":""},"","","",null,null,{"$f":"INDEX(AH:AH,SMALL(ROW($AH$1:$AH$1999)+(1999*($AH$1:$AH$1999=\"\")), ROW(A882)))&\"\"","v":""},"","","","","","","","","","","","","","","","","","","","","","","","","","","","","","","",{"$f":"INDEX(AJ:AJ,SMALL(ROW($AJ$1:$AJ$1999)+(1999*($AJ$1:$AJ$1999=\"\")), ROW(A882)))&\"\"","v":""},"",{"$f":"INDEX(AK:AK,SMALL(ROW($AK$1:$AK$1999)+(1999*($AK$1:$AK$1999=\"\")), ROW(A882)))&\"\"","v":""},"","","",null,"",""]
[null,null,null,null,null,null,null,null,null,null,null,null,null,null,null,null,null,null,null,null,null,null,null,null,null,null,null,null,null,null,null,null,{"$f":"INDEX(C:C, SMALL(ROW(C$1:C$5000)+(5000*(C$1:C$5000=\"\")),ROW(A883)))&\"\"","v":""},"",{"$f":"INDEX(B:B, SMALL(ROW(B$1:B$5000)+(5000*(B$1:B$5000=\"\")),ROW(A883)))&\"\"","v":""},"","","",null,null,{"$f":"INDEX(AH:AH,SMALL(ROW($AH$1:$AH$1999)+(1999*($AH$1:$AH$1999=\"\")), ROW(A883)))&\"\"","v":""},"","","","","","","","","","","","","","","","","","","","","","","","","","","","","","","",{"$f":"INDEX(AJ:AJ,SMALL(ROW($AJ$1:$AJ$1999)+(1999*($AJ$1:$AJ$1999=\"\")), ROW(A883)))&\"\"","v":""},"",{"$f":"INDEX(AK:AK,SMALL(ROW($AK$1:$AK$1999)+(1999*($AK$1:$AK$1999=\"\")), ROW(A883)))&\"\"","v":""},"","","",null,"",""]
[null,null,null,null,null,null,null,null,null,null,null,null,null,null,null,null,null,null,null,null,null,null,null,null,null,null,null,null,null,null,null,null,{"$f":"INDEX(C:C, SMALL(ROW(C$1:C$5000)+(5000*(C$1:C$5000=\"\")),ROW(A887)))&\"\"","v":""},"",{"$f":"INDEX(B:B, SMALL(ROW(B$1:B$5000)+(5000*(B$1:B$5000=\"\")),ROW(A887)))&\"\"","v":""},"","","",null,null,{"$f":"INDEX(AH:AH,SMALL(ROW($AH$1:$AH$1999)+(1999*($AH$1:$AH$1999=\"\")), ROW(A887)))&\"\"","v":""},"","","","","","","","","","","","","","","","","","","","","","","","","","","","","","","",{"$f":"INDEX(AJ:AJ,SMALL(ROW($AJ$1:$AJ$1999)+(1999*($AJ$1:$AJ$1999=\"\")), ROW(A887)))&\"\"","v":""},"",{"$f":"INDEX(AK:AK,SMALL(ROW($AK$1:$AK$1999)+(1999*($AK$1:$AK$1999=\"\")), ROW(A887)))&\"\"","v":""},"","","",null,"",""]
[null,null,null,null,null,null,null,null,null,null,null,null,null,null,null,null,null,null,null,null,null,null,null,null,null,null,null,null,null,null,null,null,{"$f":"INDEX(C:C, SMALL(ROW(C$1:C$5000)+(5000*(C$1:C$5000=\"\")),ROW(A888)))&\"\"","v":""},"",{"$f":"INDEX(B:B, SMALL(ROW(B$1:B$5000)+(5000*(B$1:B$5000=\"\")),ROW(A888)))&\"\"","v":""},"","","",null,null,{"$f":"INDEX(AH:AH,SMALL(ROW($AH$1:$AH$1999)+(1999*($AH$1:$AH$1999=\"\")), ROW(A888)))&\"\"","v":""},"","","","","","","","","","","","","","","","","","","","","","","","","","","","","","","",{"$f":"INDEX(AJ:AJ,SMALL(ROW($AJ$1:$AJ$1999)+(1999*($AJ$1:$AJ$1999=\"\")), ROW(A888)))&\"\"","v":""},"",{"$f":"INDEX(AK:AK,SMALL(ROW($AK$1:$AK$1999)+(1999*($AK$1:$AK$1999=\"\")), ROW(A888)))&\"\"","v":""},"","","",null,"",""]
[null,null,null,null,null,null,null,null,null,null,null,null,null,null,null,null,null,null,null,null,null,null,null,null,null,null,null,null,null,null,null,null,{"$f":"INDEX(C:C, SMALL(ROW(C$1:C$5000)+(5000*(C$1:C$5000=\"\")),ROW(A892)))&\"\"","v":""},"",{"$f":"INDEX(B:B, SMALL(ROW(B$1:B$5000)+(5000*(B$1:B$5000=\"\")),ROW(A892)))&\"\"","v":""},"","","",null,null,{"$f":"INDEX(AH:AH,SMALL(ROW($AH$1:$AH$1999)+(1999*($AH$1:$AH$1999=\"\")), ROW(A892)))&\"\"","v":""},"","","","","","","","","","","","","","","","","","","","","","","","","","","","","","","",{"$f":"INDEX(AJ:AJ,SMALL(ROW($AJ$1:$AJ$1999)+(1999*($AJ$1:$AJ$1999=\"\")), ROW(A892)))&\"\"","v":""},"",{"$f":"INDEX(AK:AK,SMALL(ROW($AK$1:$AK$1999)+(1999*($AK$1:$AK$1999=\"\")), ROW(A892)))&\"\"","v":""},"","","",null,"",""]
[null,null,null,null,null,null,null,null,null,null,null,null,null,null,null,null,null,null,null,null,null,null,null,null,null,null,null,null,null,null,null,null,{"$f":"INDEX(C:C, SMALL(ROW(C$1:C$5000)+(5000*(C$1:C$5000=\"\")),ROW(A895)))&\"\"","v":""},"",{"$f":"INDEX(B:B, SMALL(ROW(B$1:B$5000)+(5000*(B$1:B$5000=\"\")),ROW(A895)))&\"\"","v":""},"","","",null,null,{"$f":"INDEX(AH:AH,SMALL(ROW($AH$1:$AH$1999)+(1999*($AH$1:$AH$1999=\"\")), ROW(A895)))&\"\"","v":""},"","","","","","","","","","","","","","","","","","","","","","","","","","","","","","","",{"$f":"INDEX(AJ:AJ,SMALL(ROW($AJ$1:$AJ$1999)+(1999*($AJ$1:$AJ$1999=\"\")), ROW(A895)))&\"\"","v":""},"",{"$f":"INDEX(AK:AK,SMALL(ROW($AK$1:$AK$1999)+(1999*($AK$1:$AK$1999=\"\")), ROW(A895)))&\"\"","v":""},"","","",null,"",""]
[null,null,null,null,null,null,null,null,null,null,null,null,null,null,null,null,null,null,null,null,null,null,null,null,null,null,null,null,null,null,null,null,{"$f":"INDEX(C:C, SMALL(ROW(C$1:C$5000)+(5000*(C$1:C$5000=\"\")),ROW(A898)))&\"\"","v":""},"",{"$f":"INDEX(B:B, SMALL(ROW(B$1:B$5000)+(5000*(B$1:B$5000=\"\")),ROW(A898)))&\"\"","v":""},{"$f":"IF(ISNUMBER(SEARCH(\"*years*\",AI898)),AI898,\"\")","v":""},{"$f":"IF(ISNUMBER(SEARCH(\"*, 19*\",AI898)),AI898,\"\")","v":""},"",null,null,{"$f":"INDEX(AH:AH,SMALL(ROW($AH$1:$AH$1999)+(1999*($AH$1:$AH$1999=\"\")), ROW(A898)))&\"\"","v":""},{"$f":"TRIM(TEXT(RIGHT(AO898,2),))","v":""},{"$f":"IF(ISNUMBER(SEARCH(\"*QB*\",AP898)),AO898,\"\")","v":""},{"$f":"IFERROR(IF(ISNUMBER(SEARCH(\"*QB*\",AQ898)),BV898,\"\"),VALUE(0))","v":""},{"$f":"IFERROR(IF(ISNUMBER(SEARCH(\"*QB*\",AQ898)),BX898,\"\"),VALUE(0))","v":""},{"$f":"IF(ISNUMBER(SEARCH(\"*RB*\",AP898)),AO898,\"\")","v":""},{"$f":"IFERROR(IF(ISNUMBER(SEARCH(\"*RB*\",AT898)),BV898,\"\"),VALUE(0))","v":""},{"$f":"IFERROR(IF(ISNUMBER(SEARCH(\"*RB*\",AT898)),BX898,\"\"),VALUE(0))","v":""},{"$f":"IF(ISNUMBER(SEARCH(\"*WR*\",AP898)),AO898,\"\")","v":""},{"$f":"IFERROR(IF(ISNUMBER(SEARCH(\"*WR*\",AW898)),BV898,\"\"),VALUE(0))","v":""},{"$f":"IFERROR(IF(ISNUMBER(SEARCH(\"*WR*\",AW898)),BX898,\"\"),VALUE(0))","v":""},{"$f":"IF(ISNUMBER(SEARCH(\"*TE*\",AP898)),AO898,\"\")","v":""},"",{"$f":"IFERROR(IF(ISNUMBER(SEARCH(\"*TE*\",AZ898)),BX898,\"\"),VALUE(0))","v":""},{"$f":"IF(ISNUMBER(SEARCH(\"*PK*\",AP898)),AO898,\"\")","v":""},{"$f":"IFERROR(IF(ISNUMBER(SEARCH(\"*PK*\",BC898)),BV898,\"\"),VALUE(0))","v":""},{"$f":"IFERROR(IF(ISNUMBER(SEARCH(\"*PK*\",BC898)),BX898,\"\"),VALUE(0))","v":""},{"$f":"IF(ISNUMBER(SEARCH(\"*DT*\",AP898)),AO898,\"\")","v":""},{"$f":"IFERROR(IF(ISNUMBER(SEARCH(\"*DT*\",BF898)),BV898,\"\"),VALUE(0))","v":""},{"$f":"IFERROR(IF(ISNUMBER(SEARCH(\"*DT*\",BF898)),BX898,\"\"),VALUE(0))","v":""},{"$f":"IF(ISNUMBER(SEARCH(\"*DE*\",AP898)),AO898,\"\")","v":""},{"$f":"IFERROR(IF(ISNUMBER(SEARCH(\"*DE*\",BI898)),BV898,\"\"),VALUE(0))","v":""},{"$f":"IFERROR(IF(ISNUMBER(SEARCH(\"*DE*\",BI898)),BX898,\"\"),VALUE(0))","v":""},{"$f":"IF(ISNUMBER(SEARCH(\"*LB*\",AP898)),AO898,\"\")","v":""},{"$f":"IFERROR(IF(ISNUMBER(SEARCH(\"*LB*\",BL898)),BV898,\"\"),VALUE(0))","v":""},{"$f":"IFERROR(IF(ISNUMBER(SEARCH(\"*LB*\",BL898)),BX898,\"\"),VALUE(0))","v":""},{"$f":"IF(ISNUMBER(SEARCH(\"*CB*\",AP898)),AO898,\"\")","v":""},{"$f":"IFERROR(IF(ISNUMBER(SEARCH(\"*CB*\",BO898)),BV898,\"\"),VALUE(0))","v":""},{"$f":"IFERROR(IF(ISNUMBER(SEARCH(\"*CB*\",BO898)),BX898,\"\"),VALUE(0))","v":""},{"$f":"IF(ISNUMBER(SEARCH(\"*S*\",AP898)),AO898,\"\")","v":""},{"$f":"IFERROR(IF(ISNUMBER(SEARCH(\"*S*\",BR898)),BV898,\"\"),VALUE(0))","v":""},{"$f":"IFERROR(IF(ISNUMBER(SEARCH(\"*S*\",BR898)),BX898,\"\"),VALUE(0))","v":""},{"$f":"INDEX(AJ:AJ,SMALL(ROW($AJ$1:$AJ$1999)+(1999*($AJ$1:$AJ$1999=\"\")), ROW(A898)))&\"\"","v":""},{"$f":"IFERROR(IF(BW898<>\"\",VALUE(LEFT(BU898,LEN(BU898)-6)),\"\"),VALUE(0))","v":""},{"$f":"INDEX(AK:AK,SMALL(ROW($AK$1:$AK$1999)+(1999*($AK$1:$AK$1999=\"\")), ROW(A898)))&\"\"","v":""},{"$f":"IF(BW898<>\"\",VALUE(RIGHT(BW898,2)),\"\")","v":""},{"$f":"IF(BX898=\"\",\"\",IF(BX898>27,1,0))","v":""},{"$f":"IF(BX898=\"\",\"\",IF(BX898<27,1,0))","v":""},null,{"$f":"IF(BV898=\"\",\"\",IF(BV898>3.5,1,0))","v":""},{"$f":"IF(BV898=\"\",\"\",IF(BV898<3.5,1,0))","v":""}]
[null,null,null,null,null,null,null,null,null,null,null,null,null,null,null,null,null,null,null,null,null,null,null,null,null,null,null,null,null,null,null,null,{"$f":"INDEX(C:C, SMALL(ROW(C$1:C$5000)+(5000*(C$1:C$5000=\"\")),ROW(A901)))&\"\"","v":""},"",{"$f":"INDEX(B:B, SMALL(ROW(B$1:B$5000)+(5000*(B$1:B$5000=\"\")),ROW(A901)))&\"\"","v":""},"","","",null,null,{"$f":"INDEX(AH:AH,SMALL(ROW($AH$1:$AH$1999)+(1999*($AH$1:$AH$1999=\"\")), ROW(A901)))&\"\"","v":""},"","","","","","","","","","","","","","","","","","","","","","","","","","","","","","","",{"$f":"INDEX(AJ:AJ,SMALL(ROW($AJ$1:$AJ$1999)+(1999*($AJ$1:$AJ$1999=\"\")), ROW(A901)))&\"\"","v":""},"",{"$f":"INDEX(AK:AK,SMALL(ROW($AK$1:$AK$1999)+(1999*($AK$1:$AK$1999=\"\")), ROW(A901)))&\"\"","v":""},"","","",null,"",""]
[null,null,null,null,null,null,null,null,null,null,null,null,null,null,null,null,null,null,null,null,null,null,null,null,null,null,null,null,null,null,null,null,{"$f":"INDEX(C:C, SMALL(ROW(C$1:C$5000)+(5000*(C$1:C$5000=\"\")),ROW(A904)))&\"\"","v":""},"",{"$f":"INDEX(B:B, SMALL(ROW(B$1:B$5000)+(5000*(B$1:B$5000=\"\")),ROW(A904)))&\"\"","v":""},"","","",null,null,{"$f":"INDEX(AH:AH,SMALL(ROW($AH$1:$AH$1999)+(1999*($AH$1:$AH$1999=\"\")), ROW(A904)))&\"\"","v":""},"","","","","","","","","","","","","","","","","","","","","","","","","","","","","","","",{"$f":"INDEX(AJ:AJ,SMALL(ROW($AJ$1:$AJ$1999)+(1999*($AJ$1:$AJ$1999=\"\")), ROW(A904)))&\"\"","v":""},"",{"$f":"INDEX(AK:AK,SMALL(ROW($AK$1:$AK$1999)+(1999*($AK$1:$AK$1999=\"\")), ROW(A904)))&\"\"","v":""},"","","",null,"",""]
[null,null,null,null,null,null,null,null,null,null,null,null,null,null,null,null,null,null,null,null,null,null,null,null,null,null,null,null,null,null,null,null,{"$f":"INDEX(C:C, SMALL(ROW(C$1:C$5000)+(5000*(C$1:C$5000=\"\")),ROW(A905)))&\"\"","v":""},"",{"$f":"INDEX(B:B, SMALL(ROW(B$1:B$5000)+(5000*(B$1:B$5000=\"\")),ROW(A905)))&\"\"","v":""},"","","",null,null,{"$f":"INDEX(AH:AH,SMALL(ROW($AH$1:$AH$1999)+(1999*($AH$1:$AH$1999=\"\")), ROW(A905)))&\"\"","v":""},"","","","","","","","","","","","","","","","","","","","","","","","","","","","","","","",{"$f":"INDEX(AJ:AJ,SMALL(ROW($AJ$1:$AJ$1999)+(1999*($AJ$1:$AJ$1999=\"\")), ROW(A905)))&\"\"","v":""},"",{"$f":"INDEX(AK:AK,SMALL(ROW($AK$1:$AK$1999)+(1999*($AK$1:$AK$1999=\"\")), ROW(A905)))&\"\"","v":""},"","","",null,"",""]
[null,null,null,null,null,null,null,null,null,null,null,null,null,null,null,null,null,null,null,null,null,null,null,null,null,null,null,null,null,null,null,null,{"$f":"INDEX(C:C, SMALL(ROW(C$1:C$5000)+(5000*(C$1:C$5000=\"\")),ROW(A909)))&\"\"","v":""},"",{"$f":"INDEX(B:B, SMALL(ROW(B$1:B$5000)+(5000*(B$1:B$5000=\"\")),ROW(A909)))&\"\"","v":""},"","","",null,null,{"$f":"INDEX(AH:AH,SMALL(ROW($AH$1:$AH$1999)+(1999*($AH$1:$AH$1999=\"\")), ROW(A909)))&\"\"","v":""},"","","","","","","","","","","","","","","","","","","","","","","","","","","","","","","",{"$f":"INDEX(AJ:AJ,SMALL(ROW($AJ$1:$AJ$1999)+(1999*($AJ$1:$AJ$1999=\"\")), ROW(A909)))&\"\"","v":""},"",{"$f":"INDEX(AK:AK,SMALL(ROW($AK$1:$AK$1999)+(1999*($AK$1:$AK$1999=\"\")), ROW(A909)))&\"\"","v":""},"","","",null,"",""]
[null,null,null,null,null,null,null,null,null,null,null,null,null,null,null,null,null,null,null,null,null,null,null,null,null,null,null,null,null,null,null,null,{"$f":"INDEX(C:C, SMALL(ROW(C$1:C$5000)+(5000*(C$1:C$5000=\"\")),ROW(A910)))&\"\"","v":""},"",{"$f":"INDEX(B:B, SMALL(ROW(B$1:B$5000)+(5000*(B$1:B$5000=\"\")),ROW(A910)))&\"\"","v":""},"","","",null,null,{"$f":"INDEX(AH:AH,SMALL(ROW($AH$1:$AH$1999)+(1999*($AH$1:$AH$1999=\"\")), ROW(A910)))&\"\"","v":""},"","","","","","","","","","","","","","","","","","","","","","","","","","","","","","","",{"$f":"INDEX(AJ:AJ,SMALL(ROW($AJ$1:$AJ$1999)+(1999*($AJ$1:$AJ$1999=\"\")), ROW(A910)))&\"\"","v":""},"",{"$f":"INDEX(AK:AK,SMALL(ROW($AK$1:$AK$1999)+(1999*($AK$1:$AK$1999=\"\")), ROW(A910)))&\"\"","v":""},"","","",null,"",""]
[null,null,null,null,null,null,null,null,null,null,null,null,null,null,null,null,null,null,null,null,null,null,null,null,null,null,null,null,null,null,null,null,{"$f":"INDEX(C:C, SMALL(ROW(C$1:C$5000)+(5000*(C$1:C$5000=\"\")),ROW(A914)))&\"\"","v":""},"",{"$f":"INDEX(B:B, SMALL(ROW(B$1:B$5000)+(5000*(B$1:B$5000=\"\")),ROW(A914)))&\"\"","v":""},"","","",null,null,{"$f":"INDEX(AH:AH,SMALL(ROW($AH$1:$AH$1999)+(1999*($AH$1:$AH$1999=\"\")), ROW(A914)))&\"\"","v":""},"","","","","","","","","","","","","","","","","","","","","","","","","","","","","","","",{"$f":"INDEX(AJ:AJ,SMALL(ROW($AJ$1:$AJ$1999)+(1999*($AJ$1:$AJ$1999=\"\")), ROW(A914)))&\"\"","v":""},"",{"$f":"INDEX(AK:AK,SMALL(ROW($AK$1:$AK$1999)+(1999*($AK$1:$AK$1999=\"\")), ROW(A914)))&\"\"","v":""},"","","",null,"",""]
[null,null,null,null,null,null,null,null,null,null,null,null,null,null,null,null,null,null,null,null,null,null,null,null,null,null,null,null,null,null,null,null,{"$f":"INDEX(C:C, SMALL(ROW(C$1:C$5000)+(5000*(C$1:C$5000=\"\")),ROW(A917)))&\"\"","v":""},"",{"$f":"INDEX(B:B, SMALL(ROW(B$1:B$5000)+(5000*(B$1:B$5000=\"\")),ROW(A917)))&\"\"","v":""},"","","",null,null,{"$f":"INDEX(AH:AH,SMALL(ROW($AH$1:$AH$1999)+(1999*($AH$1:$AH$1999=\"\")), ROW(A917)))&\"\"","v":""},"","","","","","","","","","","","","","","","","","","","","","","","","","","","","","","",{"$f":"INDEX(AJ:AJ,SMALL(ROW($AJ$1:$AJ$1999)+(1999*($AJ$1:$AJ$1999=\"\")), ROW(A917)))&\"\"","v":""},"",{"$f":"INDEX(AK:AK,SMALL(ROW($AK$1:$AK$1999)+(1999*($AK$1:$AK$1999=\"\")), ROW(A917)))&\"\"","v":""},"","","",null,"",""]
[null,null,null,null,null,null,null,null,null,null,null,null,null,null,null,null,null,null,null,null,null,null,null,null,null,null,null,null,null,null,null,null,{"$f":"INDEX(C:C, SMALL(ROW(C$1:C$5000)+(5000*(C$1:C$5000=\"\")),ROW(A920)))&\"\"","v":""},"",{"$f":"INDEX(B:B, SMALL(ROW(B$1:B$5000)+(5000*(B$1:B$5000=\"\")),ROW(A920)))&\"\"","v":""},"","","",null,null,{"$f":"INDEX(AH:AH,SMALL(ROW($AH$1:$AH$1999)+(1999*($AH$1:$AH$1999=\"\")), ROW(A920)))&\"\"","v":""},"","","","","","","","","","","","","","","","","","","","","","","","","","","","","","","",{"$f":"INDEX(AJ:AJ,SMALL(ROW($AJ$1:$AJ$1999)+(1999*($AJ$1:$AJ$1999=\"\")), ROW(A920)))&\"\"","v":""},"",{"$f":"INDEX(AK:AK,SMALL(ROW($AK$1:$AK$1999)+(1999*($AK$1:$AK$1999=\"\")), ROW(A920)))&\"\"","v":""},"","","",null,"",""]
[null,null,null,null,null,null,null,null,null,null,null,null,null,null,null,null,null,null,null,null,null,null,null,null,null,null,null,null,null,null,null,null,{"$f":"INDEX(C:C, SMALL(ROW(C$1:C$5000)+(5000*(C$1:C$5000=\"\")),ROW(A923)))&\"\"","v":""},"",{"$f":"INDEX(B:B, SMALL(ROW(B$1:B$5000)+(5000*(B$1:B$5000=\"\")),ROW(A923)))&\"\"","v":""},"","","",null,null,{"$f":"INDEX(AH:AH,SMALL(ROW($AH$1:$AH$1999)+(1999*($AH$1:$AH$1999=\"\")), ROW(A923)))&\"\"","v":""},"","","","","","","","","","","","","","","","","","","","","","","","","","","","","","","",{"$f":"INDEX(AJ:AJ,SMALL(ROW($AJ$1:$AJ$1999)+(1999*($AJ$1:$AJ$1999=\"\")), ROW(A923)))&\"\"","v":""},"",{"$f":"INDEX(AK:AK,SMALL(ROW($AK$1:$AK$1999)+(1999*($AK$1:$AK$1999=\"\")), ROW(A923)))&\"\"","v":""},"","","",null,"",""]
[null,null,null,null,null,null,null,null,null,null,null,null,null,null,null,null,null,null,null,null,null,null,null,null,null,null,null,null,null,null,null,null,{"$f":"INDEX(C:C, SMALL(ROW(C$1:C$5000)+(5000*(C$1:C$5000=\"\")),ROW(A926)))&\"\"","v":""},"",{"$f":"INDEX(B:B, SMALL(ROW(B$1:B$5000)+(5000*(B$1:B$5000=\"\")),ROW(A926)))&\"\"","v":""},"","","",null,null,{"$f":"INDEX(AH:AH,SMALL(ROW($AH$1:$AH$1999)+(1999*($AH$1:$AH$1999=\"\")), ROW(A926)))&\"\"","v":""},"","","","","","","","","","","",{"$f":"IFERROR(IF(ISNUMBER(SEARCH(\"*TE*\",AZ926)),BV926,\"\"),VALUE(0))","v":""},"","","","","","","","","","","","","","","","","","","",{"$f":"INDEX(AJ:AJ,SMALL(ROW($AJ$1:$AJ$1999)+(1999*($AJ$1:$AJ$1999=\"\")), ROW(A926)))&\"\"","v":""},"",{"$f":"INDEX(AK:AK,SMALL(ROW($AK$1:$AK$1999)+(1999*($AK$1:$AK$1999=\"\")), ROW(A926)))&\"\"","v":""},"","","",null,"",""]
[null,null,null,null,null,null,null,null,null,null,null,null,null,null,null,null,null,null,null,null,null,null,null,null,null,null,null,null,null,null,null,null,{"$f":"INDEX(C:C, SMALL(ROW(C$1:C$5000)+(5000*(C$1:C$5000=\"\")),ROW(A927)))&\"\"","v":""},"",{"$f":"INDEX(B:B, SMALL(ROW(B$1:B$5000)+(5000*(B$1:B$5000=\"\")),ROW(A927)))&\"\"","v":""},"","","",null,null,{"$f":"INDEX(AH:AH,SMALL(ROW($AH$1:$AH$1999)+(1999*($AH$1:$AH$1999=\"\")), ROW(A927)))&\"\"","v":""},"","","","","","","","","","","","","","","","","","","","","","","","","","","","","","","",{"$f":"INDEX(AJ:AJ,SMALL(ROW($AJ$1:$AJ$1999)+(1999*($AJ$1:$AJ$1999=\"\")), ROW(A927)))&\"\"","v":""},"",{"$f":"INDEX(AK:AK,SMALL(ROW($AK$1:$AK$1999)+(1999*($AK$1:$AK$1999=\"\")), ROW(A927)))&\"\"","v":""},"","","",null,"",""]
[null,null,null,null,null,null,null,null,null,null,null,null,null,null,null,null,null,null,null,null,null,null,null,null,null,null,null,null,null,null,null,null,{"$f":"INDEX(C:C, SMALL(ROW(C$1:C$5000)+(5000*(C$1:C$5000=\"\")),ROW(A931)))&\"\"","v":""},"",{"$f":"INDEX(B:B, SMALL(ROW(B$1:B$5000)+(5000*(B$1:B$5000=\"\")),ROW(A931)))&\"\"","v":""},"","","",null,null,{"$f":"INDEX(AH:AH,SMALL(ROW($AH$1:$AH$1999)+(1999*($AH$1:$AH$1999=\"\")), ROW(A931)))&\"\"","v":""},"","","","","","","","","","","","","","","","","","","","","","","","","","","","","","","",{"$f":"INDEX(AJ:AJ,SMALL(ROW($AJ$1:$AJ$1999)+(1999*($AJ$1:$AJ$1999=\"\")), ROW(A931)))&\"\"","v":""},"",{"$f":"INDEX(AK:AK,SMALL(ROW($AK$1:$AK$1999)+(1999*($AK$1:$AK$1999=\"\")), ROW(A931)))&\"\"","v":""},"","","",null,"",""]
[null,null,null,null,null,null,null,null,null,null,null,null,null,null,null,null,null,null,null,null,null,null,null,null,null,null,null,null,null,null,null,null,{"$f":"INDEX(C:C, SMALL(ROW(C$1:C$5000)+(5000*(C$1:C$5000=\"\")),ROW(A932)))&\"\"","v":""},"",{"$f":"INDEX(B:B, SMALL(ROW(B$1:B$5000)+(5000*(B$1:B$5000=\"\")),ROW(A932)))&\"\"","v":""},"","","",null,null,{"$f":"INDEX(AH:AH,SMALL(ROW($AH$1:$AH$1999)+(1999*($AH$1:$AH$1999=\"\")), ROW(A932)))&\"\"","v":""},"","","","","","","","","","","","","","","","","","","","","","","","","","","","","","","",{"$f":"INDEX(AJ:AJ,SMALL(ROW($AJ$1:$AJ$1999)+(1999*($AJ$1:$AJ$1999=\"\")), ROW(A932)))&\"\"","v":""},"",{"$f":"INDEX(AK:AK,SMALL(ROW($AK$1:$AK$1999)+(1999*($AK$1:$AK$1999=\"\")), ROW(A932)))&\"\"","v":""},"","","",null,"",""]
[null,null,null,null,null,null,null,null,null,null,null,null,null,null,null,null,null,null,null,null,null,null,null,null,null,null,null,null,null,null,null,null,{"$f":"INDEX(C:C, SMALL(ROW(C$1:C$5000)+(5000*(C$1:C$5000=\"\")),ROW(A936)))&\"\"","v":""},"",{"$f":"INDEX(B:B, SMALL(ROW(B$1:B$5000)+(5000*(B$1:B$5000=\"\")),ROW(A936)))&\"\"","v":""},"","","",null,null,{"$f":"INDEX(AH:AH,SMALL(ROW($AH$1:$AH$1999)+(1999*($AH$1:$AH$1999=\"\")), ROW(A936)))&\"\"","v":""},"","","","","","","","","","","","","","","","","","","","","","","","","","","","","","","",{"$f":"INDEX(AJ:AJ,SMALL(ROW($AJ$1:$AJ$1999)+(1999*($AJ$1:$AJ$1999=\"\")), ROW(A936)))&\"\"","v":""},"",{"$f":"INDEX(AK:AK,SMALL(ROW($AK$1:$AK$1999)+(1999*($AK$1:$AK$1999=\"\")), ROW(A936)))&\"\"","v":""},"","","",null,"",""]
[null,null,null,null,null,null,null,null,null,null,null,null,null,null,null,null,null,null,null,null,null,null,null,null,null,null,null,null,null,null,null,null,{"$f":"INDEX(C:C, SMALL(ROW(C$1:C$5000)+(5000*(C$1:C$5000=\"\")),ROW(A939)))&\"\"","v":""},"",{"$f":"INDEX(B:B, SMALL(ROW(B$1:B$5000)+(5000*(B$1:B$5000=\"\")),ROW(A939)))&\"\"","v":""},"","","",null,null,{"$f":"INDEX(AH:AH,SMALL(ROW($AH$1:$AH$1999)+(1999*($AH$1:$AH$1999=\"\")), ROW(A939)))&\"\"","v":""},"","","","","","","","","","","","","","","","","","","","","","","","","","","","","","","",{"$f":"INDEX(AJ:AJ,SMALL(ROW($AJ$1:$AJ$1999)+(1999*($AJ$1:$AJ$1999=\"\")), ROW(A939)))&\"\"","v":""},"",{"$f":"INDEX(AK:AK,SMALL(ROW($AK$1:$AK$1999)+(1999*($AK$1:$AK$1999=\"\")), ROW(A939)))&\"\"","v":""},"","","",null,"",""]
[null,null,null,null,null,null,null,null,null,null,null,null,null,null,null,null,null,null,null,null,null,null,null,null,null,null,null,null,null,null,null,null,{"$f":"INDEX(C:C, SMALL(ROW(C$1:C$5000)+(5000*(C$1:C$5000=\"\")),ROW(A942)))&\"\"","v":""},"",{"$f":"INDEX(B:B, SMALL(ROW(B$1:B$5000)+(5000*(B$1:B$5000=\"\")),ROW(A942)))&\"\"","v":""},"","","",null,null,{"$f":"INDEX(AH:AH,SMALL(ROW($AH$1:$AH$1999)+(1999*($AH$1:$AH$1999=\"\")), ROW(A942)))&\"\"","v":""},"","","","","","","","","","","","","","","","","","","","","","","","","","","","","","","",{"$f":"INDEX(AJ:AJ,SMALL(ROW($AJ$1:$AJ$1999)+(1999*($AJ$1:$AJ$1999=\"\")), ROW(A942)))&\"\"","v":""},"",{"$f":"INDEX(AK:AK,SMALL(ROW($AK$1:$AK$1999)+(1999*($AK$1:$AK$1999=\"\")), ROW(A942)))&\"\"","v":""},"","","",null,"",""]
[null,null,null,null,null,null,null,null,null,null,null,null,null,null,null,null,null,null,null,null,null,null,null,null,null,null,null,null,null,null,null,null,{"$f":"INDEX(C:C, SMALL(ROW(C$1:C$5000)+(5000*(C$1:C$5000=\"\")),ROW(A945)))&\"\"","v":""},"",{"$f":"INDEX(B:B, SMALL(ROW(B$1:B$5000)+(5000*(B$1:B$5000=\"\")),ROW(A945)))&\"\"","v":""},"","","",null,null,{"$f":"INDEX(AH:AH,SMALL(ROW($AH$1:$AH$1999)+(1999*($AH$1:$AH$1999=\"\")), ROW(A945)))&\"\"","v":""},"","","","","","","","","","","","","","","","","","","","","","","","","","","","","","","",{"$f":"INDEX(AJ:AJ,SMALL(ROW($AJ$1:$AJ$1999)+(1999*($AJ$1:$AJ$1999=\"\")), ROW(A945)))&\"\"","v":""},"",{"$f":"INDEX(AK:AK,SMALL(ROW($AK$1:$AK$1999)+(1999*($AK$1:$AK$1999=\"\")), ROW(A945)))&\"\"","v":""},"","","",null,"",""]
[null,null,null,null,null,null,null,null,null,null,null,null,null,null,null,null,null,null,null,null,null,null,null,null,null,null,null,null,null,null,null,null,{"$f":"INDEX(C:C, SMALL(ROW(C$1:C$5000)+(5000*(C$1:C$5000=\"\")),ROW(A948)))&\"\"","v":""},"",{"$f":"INDEX(B:B, SMALL(ROW(B$1:B$5000)+(5000*(B$1:B$5000=\"\")),ROW(A948)))&\"\"","v":""},"","","",null,null,{"$f":"INDEX(AH:AH,SMALL(ROW($AH$1:$AH$1999)+(1999*($AH$1:$AH$1999=\"\")), ROW(A948)))&\"\"","v":""},"","","","","","","","","","","","","","","","","","","","","","","","","","","","","","","",{"$f":"INDEX(AJ:AJ,SMALL(ROW($AJ$1:$AJ$1999)+(1999*($AJ$1:$AJ$1999=\"\")), ROW(A948)))&\"\"","v":""},"",{"$f":"INDEX(AK:AK,SMALL(ROW($AK$1:$AK$1999)+(1999*($AK$1:$AK$1999=\"\")), ROW(A948)))&\"\"","v":""},"","","",null,"",""]
[null,null,null,null,null,null,null,null,null,null,null,null,null,null,null,null,null,null,null,null,null,null,null,null,null,null,null,null,null,null,null,null,{"$f":"INDEX(C:C, SMALL(ROW(C$1:C$5000)+(5000*(C$1:C$5000=\"\")),ROW(A949)))&\"\"","v":""},"",{"$f":"INDEX(B:B, SMALL(ROW(B$1:B$5000)+(5000*(B$1:B$5000=\"\")),ROW(A949)))&\"\"","v":""},"","","",null,null,{"$f":"INDEX(AH:AH,SMALL(ROW($AH$1:$AH$1999)+(1999*($AH$1:$AH$1999=\"\")), ROW(A949)))&\"\"","v":""},"","","","","","","","","","","","","","","","","","","","","","","","","","","","","","","",{"$f":"INDEX(AJ:AJ,SMALL(ROW($AJ$1:$AJ$1999)+(1999*($AJ$1:$AJ$1999=\"\")), ROW(A949)))&\"\"","v":""},"",{"$f":"INDEX(AK:AK,SMALL(ROW($AK$1:$AK$1999)+(1999*($AK$1:$AK$1999=\"\")), ROW(A949)))&\"\"","v":""},"","","",null,"",""]
[null,null,null,null,null,null,null,null,null,null,null,null,null,null,null,null,null,null,null,null,null,null,null,null,null,null,null,null,null,null,null,null,{"$f":"INDEX(C:C, SMALL(ROW(C$1:C$5000)+(5000*(C$1:C$5000=\"\")),ROW(A953)))&\"\"","v":""},"",{"$f":"INDEX(B:B, SMALL(ROW(B$1:B$5000)+(5000*(B$1:B$5000=\"\")),ROW(A953)))&\"\"","v":""},"","","",null,null,{"$f":"INDEX(AH:AH,SMALL(ROW($AH$1:$AH$1999)+(1999*($AH$1:$AH$1999=\"\")), ROW(A953)))&\"\"","v":""},"","","","","","","","","","","","","","","","","","","","","","","","","","","","","","","",{"$f":"INDEX(AJ:AJ,SMALL(ROW($AJ$1:$AJ$1999)+(1999*($AJ$1:$AJ$1999=\"\")), ROW(A953)))&\"\"","v":""},"",{"$f":"INDEX(AK:AK,SMALL(ROW($AK$1:$AK$1999)+(1999*($AK$1:$AK$1999=\"\")), ROW(A953)))&\"\"","v":""},"","","",null,"",""]
[null,null,null,null,null,null,null,null,null,null,null,null,null,null,null,null,null,null,null,null,null,null,null,null,null,null,null,null,null,null,null,null,{"$f":"INDEX(C:C, SMALL(ROW(C$1:C$5000)+(5000*(C$1:C$5000=\"\")),ROW(A955)))&\"\"","v":""},"",{"$f":"INDEX(B:B, SMALL(ROW(B$1:B$5000)+(5000*(B$1:B$5000=\"\")),ROW(A955)))&\"\"","v":""},"","","",null,null,{"$f":"INDEX(AH:AH,SMALL(ROW($AH$1:$AH$1999)+(1999*($AH$1:$AH$1999=\"\")), ROW(A955)))&\"\"","v":""},"","","","","","","","","","","","","","","","","","","","","","","","","","","","","","","",{"$f":"INDEX(AJ:AJ,SMALL(ROW($AJ$1:$AJ$1999)+(1999*($AJ$1:$AJ$1999=\"\")), ROW(A955)))&\"\"","v":""},"",{"$f":"INDEX(AK:AK,SMALL(ROW($AK$1:$AK$1999)+(1999*($AK$1:$AK$1999=\"\")), ROW(A955)))&\"\"","v":""},"","","",null,"",""]
[null,null,null,null,null,null,null,null,null,null,null,null,null,null,null,null,null,null,null,null,null,null,null,null,null,null,null,null,null,null,null,null,{"$f":"INDEX(C:C, SMALL(ROW(C$1:C$5000)+(5000*(C$1:C$5000=\"\")),ROW(A958)))&\"\"","v":""},"",{"$f":"INDEX(B:B, SMALL(ROW(B$1:B$5000)+(5000*(B$1:B$5000=\"\")),ROW(A958)))&\"\"","v":""},"","","",null,null,{"$f":"INDEX(AH:AH,SMALL(ROW($AH$1:$AH$1999)+(1999*($AH$1:$AH$1999=\"\")), ROW(A958)))&\"\"","v":""},"","","","","","","","","","","","","","","","","","","","","","","","","","","","","","","",{"$f":"INDEX(AJ:AJ,SMALL(ROW($AJ$1:$AJ$1999)+(1999*($AJ$1:$AJ$1999=\"\")), ROW(A958)))&\"\"","v":""},"",{"$f":"INDEX(AK:AK,SMALL(ROW($AK$1:$AK$1999)+(1999*($AK$1:$AK$1999=\"\")), ROW(A958)))&\"\"","v":""},"","","",null,"",""]
[null,null,null,null,null,null,null,null,null,null,null,null,null,null,null,null,null,null,null,null,null,null,null,null,null,null,null,null,null,null,null,null,{"$f":"INDEX(C:C, SMALL(ROW(C$1:C$5000)+(5000*(C$1:C$5000=\"\")),ROW(A961)))&\"\"","v":""},{"$f":"IF(ISNUMBER(SEARCH(\"*,*\",AG961)),AG961,\"\")","v":""},{"$f":"INDEX(B:B, SMALL(ROW(B$1:B$5000)+(5000*(B$1:B$5000=\"\")),ROW(A961)))&\"\"","v":""},"","",{"$f":"IF(ISNUMBER(SEARCH(\"*Round*\",AI961)),AI961,\"\")","v":""},null,null,{"$f":"INDEX(AH:AH,SMALL(ROW($AH$1:$AH$1999)+(1999*($AH$1:$AH$1999=\"\")), ROW(A961)))&\"\"","v":""},"","","","","","","","","","","","","","","","","","","","","","","","","","","","","","","",{"$f":"INDEX(AJ:AJ,SMALL(ROW($AJ$1:$AJ$1999)+(1999*($AJ$1:$AJ$1999=\"\")), ROW(A961)))&\"\"","v":""},"",{"$f":"INDEX(AK:AK,SMALL(ROW($AK$1:$AK$1999)+(1999*($AK$1:$AK$1999=\"\")), ROW(A961)))&\"\"","v":""},"","","",null,"",""]
[null,null,null,null,null,null,null,null,null,null,null,null,null,null,null,null,null,null,null,null,null,null,null,null,null,null,null,null,null,null,null,null,{"$f":"INDEX(C:C, SMALL(ROW(C$1:C$5000)+(5000*(C$1:C$5000=\"\")),ROW(A964)))&\"\"","v":""},"",{"$f":"INDEX(B:B, SMALL(ROW(B$1:B$5000)+(5000*(B$1:B$5000=\"\")),ROW(A964)))&\"\"","v":""},"","","",null,null,{"$f":"INDEX(AH:AH,SMALL(ROW($AH$1:$AH$1999)+(1999*($AH$1:$AH$1999=\"\")), ROW(A964)))&\"\"","v":""},"","","","","","","","","","","","","","","","","","","","","","","","","","","","","","","",{"$f":"INDEX(AJ:AJ,SMALL(ROW($AJ$1:$AJ$1999)+(1999*($AJ$1:$AJ$1999=\"\")), ROW(A964)))&\"\"","v":""},"",{"$f":"INDEX(AK:AK,SMALL(ROW($AK$1:$AK$1999)+(1999*($AK$1:$AK$1999=\"\")), ROW(A964)))&\"\"","v":""},"","","",null,"",""]
[null,null,null,null,null,null,null,null,null,null,null,null,null,null,null,null,null,null,null,null,null,null,null,null,null,null,null,null,null,null,null,null,{"$f":"INDEX(C:C, SMALL(ROW(C$1:C$5000)+(5000*(C$1:C$5000=\"\")),ROW(A967)))&\"\"","v":""},"",{"$f":"INDEX(B:B, SMALL(ROW(B$1:B$5000)+(5000*(B$1:B$5000=\"\")),ROW(A967)))&\"\"","v":""},"","","",null,null,{"$f":"INDEX(AH:AH,SMALL(ROW($AH$1:$AH$1999)+(1999*($AH$1:$AH$1999=\"\")), ROW(A967)))&\"\"","v":""},"","","","","","","","","","","","","","","","","","","","","","","","","","","","","","","",{"$f":"INDEX(AJ:AJ,SMALL(ROW($AJ$1:$AJ$1999)+(1999*($AJ$1:$AJ$1999=\"\")), ROW(A967)))&\"\"","v":""},"",{"$f":"INDEX(AK:AK,SMALL(ROW($AK$1:$AK$1999)+(1999*($AK$1:$AK$1999=\"\")), ROW(A967)))&\"\"","v":""},"","","",null,"",""]
[null,null,null,null,null,null,null,null,null,null,null,null,null,null,null,null,null,null,null,null,null,null,null,null,null,null,null,null,null,null,null,null,{"$f":"INDEX(C:C, SMALL(ROW(C$1:C$5000)+(5000*(C$1:C$5000=\"\")),ROW(A970)))&\"\"","v":""},"",{"$f":"INDEX(B:B, SMALL(ROW(B$1:B$5000)+(5000*(B$1:B$5000=\"\")),ROW(A970)))&\"\"","v":""},"","","",null,null,{"$f":"INDEX(AH:AH,SMALL(ROW($AH$1:$AH$1999)+(1999*($AH$1:$AH$1999=\"\")), ROW(A970)))&\"\"","v":""},"","","","","","","","","","","","","","","","","","","","","","","","","","","","","","","",{"$f":"INDEX(AJ:AJ,SMALL(ROW($AJ$1:$AJ$1999)+(1999*($AJ$1:$AJ$1999=\"\")), ROW(A970)))&\"\"","v":""},"",{"$f":"INDEX(AK:AK,SMALL(ROW($AK$1:$AK$1999)+(1999*($AK$1:$AK$1999=\"\")), ROW(A970)))&\"\"","v":""},"","","",null,"",""]
[null,null,null,null,null,null,null,null,null,null,null,null,null,null,null,null,null,null,null,null,null,null,null,null,null,null,null,null,null,null,null,null,{"$f":"INDEX(C:C, SMALL(ROW(C$1:C$5000)+(5000*(C$1:C$5000=\"\")),ROW(A971)))&\"\"","v":""},"",{"$f":"INDEX(B:B, SMALL(ROW(B$1:B$5000)+(5000*(B$1:B$5000=\"\")),ROW(A971)))&\"\"","v":""},"","","",null,null,{"$f":"INDEX(AH:AH,SMALL(ROW($AH$1:$AH$1999)+(1999*($AH$1:$AH$1999=\"\")), ROW(A971)))&\"\"","v":""},"","","","","","","","","","","","","","","","","","","","","","","","","","","","","","","",{"$f":"INDEX(AJ:AJ,SMALL(ROW($AJ$1:$AJ$1999)+(1999*($AJ$1:$AJ$1999=\"\")), ROW(A971)))&\"\"","v":""},"",{"$f":"INDEX(AK:AK,SMALL(ROW($AK$1:$AK$1999)+(1999*($AK$1:$AK$1999=\"\")), ROW(A971)))&\"\"","v":""},"","","",null,"",""]
[null,null,null,null,null,null,null,null,null,null,null,null,null,null,null,null,null,null,null,null,null,null,null,null,null,null,null,null,null,null,null,null,{"$f":"INDEX(C:C, SMALL(ROW(C$1:C$5000)+(5000*(C$1:C$5000=\"\")),ROW(A975)))&\"\"","v":""},"",{"$f":"INDEX(B:B, SMALL(ROW(B$1:B$5000)+(5000*(B$1:B$5000=\"\")),ROW(A975)))&\"\"","v":""},"","","",null,null,{"$f":"INDEX(AH:AH,SMALL(ROW($AH$1:$AH$1999)+(1999*($AH$1:$AH$1999=\"\")), ROW(A975)))&\"\"","v":""},"","","","","","","","","","","","","","","","","","","","","","","","","","","","","","","",{"$f":"INDEX(AJ:AJ,SMALL(ROW($AJ$1:$AJ$1999)+(1999*($AJ$1:$AJ$1999=\"\")), ROW(A975)))&\"\"","v":""},"",{"$f":"INDEX(AK:AK,SMALL(ROW($AK$1:$AK$1999)+(1999*($AK$1:$AK$1999=\"\")), ROW(A975)))&\"\"","v":""},"","","",null,"",""]
[null,null,null,null,null,null,null,null,null,null,null,null,null,null,null,null,null,null,null,null,null,null,null,null,null,null,null,null,null,null,null,null,{"$f":"INDEX(C:C, SMALL(ROW(C$1:C$5000)+(5000*(C$1:C$5000=\"\")),ROW(A977)))&\"\"","v":""},"",{"$f":"INDEX(B:B, SMALL(ROW(B$1:B$5000)+(5000*(B$1:B$5000=\"\")),ROW(A977)))&\"\"","v":""},"","","",null,null,{"$f":"INDEX(AH:AH,SMALL(ROW($AH$1:$AH$1999)+(1999*($AH$1:$AH$1999=\"\")), ROW(A977)))&\"\"","v":""},"","","","","","","","","","","","","","","","","","","","","","","","","","","","","","","",{"$f":"INDEX(AJ:AJ,SMALL(ROW($AJ$1:$AJ$1999)+(1999*($AJ$1:$AJ$1999=\"\")), ROW(A977)))&\"\"","v":""},"",{"$f":"INDEX(AK:AK,SMALL(ROW($AK$1:$AK$1999)+(1999*($AK$1:$AK$1999=\"\")), ROW(A977)))&\"\"","v":""},"","","",null,"",""]
[null,null,null,null,null,null,null,null,null,null,null,null,null,null,null,null,null,null,null,null,null,null,null,null,null,null,null,null,null,null,null,null,{"$f":"INDEX(C:C, SMALL(ROW(C$1:C$5000)+(5000*(C$1:C$5000=\"\")),ROW(A980)))&\"\"","v":""},"",{"$f":"INDEX(B:B, SMALL(ROW(B$1:B$5000)+(5000*(B$1:B$5000=\"\")),ROW(A980)))&\"\"","v":""},"","","",null,null,{"$f":"INDEX(AH:AH,SMALL(ROW($AH$1:$AH$1999)+(1999*($AH$1:$AH$1999=\"\")), ROW(A980)))&\"\"","v":""},"","","","","","","","","","","","","","","","","","","","","","","","","","","","","","","",{"$f":"INDEX(AJ:AJ,SMALL(ROW($AJ$1:$AJ$1999)+(1999*($AJ$1:$AJ$1999=\"\")), ROW(A980)))&\"\"","v":""},"",{"$f":"INDEX(AK:AK,SMALL(ROW($AK$1:$AK$1999)+(1999*($AK$1:$AK$1999=\"\")), ROW(A980)))&\"\"","v":""},"","","",null,"",""]
[null,null,null,null,null,null,null,null,null,null,null,null,null,null,null,null,null,null,null,null,null,null,null,null,null,null,null,null,null,null,null,null,{"$f":"INDEX(C:C, SMALL(ROW(C$1:C$5000)+(5000*(C$1:C$5000=\"\")),ROW(A983)))&\"\"","v":""},"",{"$f":"INDEX(B:B, SMALL(ROW(B$1:B$5000)+(5000*(B$1:B$5000=\"\")),ROW(A983)))&\"\"","v":""},"","","",null,null,{"$f":"INDEX(AH:AH,SMALL(ROW($AH$1:$AH$1999)+(1999*($AH$1:$AH$1999=\"\")), ROW(A983)))&\"\"","v":""},"","","","","","","","","","","","","","","","","","","","","","","","","","","","","","","",{"$f":"INDEX(AJ:AJ,SMALL(ROW($AJ$1:$AJ$1999)+(1999*($AJ$1:$AJ$1999=\"\")), ROW(A983)))&\"\"","v":""},"",{"$f":"INDEX(AK:AK,SMALL(ROW($AK$1:$AK$1999)+(1999*($AK$1:$AK$1999=\"\")), ROW(A983)))&\"\"","v":""},"","","",null,"",""]
[null,null,null,null,null,null,null,null,null,null,null,null,null,null,null,null,null,null,null,null,null,null,null,null,null,null,null,null,null,null,null,null,{"$f":"INDEX(C:C, SMALL(ROW(C$1:C$5000)+(5000*(C$1:C$5000=\"\")),ROW(A986)))&\"\"","v":""},"",{"$f":"INDEX(B:B, SMALL(ROW(B$1:B$5000)+(5000*(B$1:B$5000=\"\")),ROW(A986)))&\"\"","v":""},"","","",null,null,{"$f":"INDEX(AH:AH,SMALL(ROW($AH$1:$AH$1999)+(1999*($AH$1:$AH$1999=\"\")), ROW(A986)))&\"\"","v":""},"","","","","","","","","","","","","","","","","","","","","","","","","","","","","","","",{"$f":"INDEX(AJ:AJ,SMALL(ROW($AJ$1:$AJ$1999)+(1999*($AJ$1:$AJ$1999=\"\")), ROW(A986)))&\"\"","v":""},"",{"$f":"INDEX(AK:AK,SMALL(ROW($AK$1:$AK$1999)+(1999*($AK$1:$AK$1999=\"\")), ROW(A986)))&\"\"","v":""},"","","",null,"",""]
[null,null,null,null,null,null,null,null,null,null,null,null,null,null,null,null,null,null,null,null,null,null,null,null,null,null,null,null,null,null,null,null,{"$f":"INDEX(C:C, SMALL(ROW(C$1:C$5000)+(5000*(C$1:C$5000=\"\")),ROW(A989)))&\"\"","v":""},"",{"$f":"INDEX(B:B, SMALL(ROW(B$1:B$5000)+(5000*(B$1:B$5000=\"\")),ROW(A989)))&\"\"","v":""},"","","",null,null,{"$f":"INDEX(AH:AH,SMALL(ROW($AH$1:$AH$1999)+(1999*($AH$1:$AH$1999=\"\")), ROW(A989)))&\"\"","v":""},"","","","","","","","","","","","","","","","","","","","","","","","","","","","","","","",{"$f":"INDEX(AJ:AJ,SMALL(ROW($AJ$1:$AJ$1999)+(1999*($AJ$1:$AJ$1999=\"\")), ROW(A989)))&\"\"","v":""},"",{"$f":"INDEX(AK:AK,SMALL(ROW($AK$1:$AK$1999)+(1999*($AK$1:$AK$1999=\"\")), ROW(A989)))&\"\"","v":""},"","","",null,"",""]
[null,null,null,null,null,null,null,null,null,null,null,null,null,null,null,null,null,null,null,null,null,null,null,null,null,null,null,null,null,null,null,null,{"$f":"INDEX(C:C, SMALL(ROW(C$1:C$5000)+(5000*(C$1:C$5000=\"\")),ROW(A992)))&\"\"","v":""},"",{"$f":"INDEX(B:B, SMALL(ROW(B$1:B$5000)+(5000*(B$1:B$5000=\"\")),ROW(A992)))&\"\"","v":""},"","","",null,null,{"$f":"INDEX(AH:AH,SMALL(ROW($AH$1:$AH$1999)+(1999*($AH$1:$AH$1999=\"\")), ROW(A992)))&\"\"","v":""},"","","","","","","","","","","","","","","","","","","","","","","","","","","","","","","",{"$f":"INDEX(AJ:AJ,SMALL(ROW($AJ$1:$AJ$1999)+(1999*($AJ$1:$AJ$1999=\"\")), ROW(A992)))&\"\"","v":""},"",{"$f":"INDEX(AK:AK,SMALL(ROW($AK$1:$AK$1999)+(1999*($AK$1:$AK$1999=\"\")), ROW(A992)))&\"\"","v":""},"","","",null,"",""]
[null,null,null,null,null,null,null,null,null,null,null,null,null,null,null,null,null,null,null,null,null,null,null,null,null,null,null,null,null,null,null,null,{"$f":"INDEX(C:C, SMALL(ROW(C$1:C$5000)+(5000*(C$1:C$5000=\"\")),ROW(A993)))&\"\"","v":""},"",{"$f":"INDEX(B:B, SMALL(ROW(B$1:B$5000)+(5000*(B$1:B$5000=\"\")),ROW(A993)))&\"\"","v":""},"","","",null,null,{"$f":"INDEX(AH:AH,SMALL(ROW($AH$1:$AH$1999)+(1999*($AH$1:$AH$1999=\"\")), ROW(A993)))&\"\"","v":""},"","","","","","","","","","","","","","","","","","","","","","","","","","","","","","","",{"$f":"INDEX(AJ:AJ,SMALL(ROW($AJ$1:$AJ$1999)+(1999*($AJ$1:$AJ$1999=\"\")), ROW(A993)))&\"\"","v":""},"",{"$f":"INDEX(AK:AK,SMALL(ROW($AK$1:$AK$1999)+(1999*($AK$1:$AK$1999=\"\")), ROW(A993)))&\"\"","v":""},"","","",null,"",""]
[null,null,null,null,null,null,null,null,null,null,null,null,null,null,null,null,null,null,null,null,null,null,null,null,null,null,null,null,null,null,null,null,{"$f":"INDEX(C:C, SMALL(ROW(C$1:C$5000)+(5000*(C$1:C$5000=\"\")),ROW(A997)))&\"\"","v":""},"",{"$f":"INDEX(B:B, SMALL(ROW(B$1:B$5000)+(5000*(B$1:B$5000=\"\")),ROW(A997)))&\"\"","v":""},"","","",null,null,{"$f":"INDEX(AH:AH,SMALL(ROW($AH$1:$AH$1999)+(1999*($AH$1:$AH$1999=\"\")), ROW(A997)))&\"\"","v":""},"","","","","","","","","","","","","","","","","","","","","","","","","","","","","","","",{"$f":"INDEX(AJ:AJ,SMALL(ROW($AJ$1:$AJ$1999)+(1999*($AJ$1:$AJ$1999=\"\")), ROW(A997)))&\"\"","v":""},"",{"$f":"INDEX(AK:AK,SMALL(ROW($AK$1:$AK$1999)+(1999*($AK$1:$AK$1999=\"\")), ROW(A997)))&\"\"","v":""},"","","",null,"",""]
[null,null,null,null,null,null,null,null,null,null,null,null,null,null,null,null,null,null,null,null,null,null,null,null,null,null,null,null,null,null,null,null,{"$f":"INDEX(C:C, SMALL(ROW(C$1:C$5000)+(5000*(C$1:C$5000=\"\")),ROW(A999)))&\"\"","v":""},"",{"$f":"INDEX(B:B, SMALL(ROW(B$1:B$5000)+(5000*(B$1:B$5000=\"\")),ROW(A999)))&\"\"","v":""},"","","",null,null,{"$f":"INDEX(AH:AH,SMALL(ROW($AH$1:$AH$1999)+(1999*($AH$1:$AH$1999=\"\")), ROW(A999)))&\"\"","v":""},"","","","","","","","","","","","","","","","","","","","","","","","","","","","","","","",{"$f":"INDEX(AJ:AJ,SMALL(ROW($AJ$1:$AJ$1999)+(1999*($AJ$1:$AJ$1999=\"\")), ROW(A999)))&\"\"","v":""},"",{"$f":"INDEX(AK:AK,SMALL(ROW($AK$1:$AK$1999)+(1999*($AK$1:$AK$1999=\"\")), ROW(A999)))&\"\"","v":""},"","","",null,"",""]
[null,null,null,null,null,null,null,null,null,null,null,null,null,null,null,null,null,null,null,null,null,null,null,null,null,null,null,null,null,null,null,null,{"$f":"INDEX(C:C, SMALL(ROW(C$1:C$5000)+(5000*(C$1:C$5000=\"\")),ROW(A1002)))&\"\"","v":""},"",{"$f":"INDEX(B:B, SMALL(ROW(B$1:B$5000)+(5000*(B$1:B$5000=\"\")),ROW(A1002)))&\"\"","v":""},"","","",null,null,{"$f":"INDEX(AH:AH,SMALL(ROW($AH$1:$AH$1999)+(1999*($AH$1:$AH$1999=\"\")), ROW(A1002)))&\"\"","v":""},"","","","","","","","","","","","","","","","","","","","","","","","","","","","","","","",{"$f":"INDEX(AJ:AJ,SMALL(ROW($AJ$1:$AJ$1999)+(1999*($AJ$1:$AJ$1999=\"\")), ROW(A1002)))&\"\"","v":""},"",{"$f":"INDEX(AK:AK,SMALL(ROW($AK$1:$AK$1999)+(1999*($AK$1:$AK$1999=\"\")), ROW(A1002)))&\"\"","v":""},"","","",null,"",""]
[null,null,null,null,null,null,null,null,null,null,null,null,null,null,null,null,null,null,null,null,null,null,null,null,null,null,null,null,null,null,null,null,{"$f":"INDEX(C:C, SMALL(ROW(C$1:C$5000)+(5000*(C$1:C$5000=\"\")),ROW(A1005)))&\"\"","v":""},"",{"$f":"INDEX(B:B, SMALL(ROW(B$1:B$5000)+(5000*(B$1:B$5000=\"\")),ROW(A1005)))&\"\"","v":""},"","","",null,null,{"$f":"INDEX(AH:AH,SMALL(ROW($AH$1:$AH$1999)+(1999*($AH$1:$AH$1999=\"\")), ROW(A1005)))&\"\"","v":""},"","","","","","","","","","","","","","","","","","","","","","","","","","","","","","","",{"$f":"INDEX(AJ:AJ,SMALL(ROW($AJ$1:$AJ$1999)+(1999*($AJ$1:$AJ$1999=\"\")), ROW(A1005)))&\"\"","v":""},"",{"$f":"INDEX(AK:AK,SMALL(ROW($AK$1:$AK$1999)+(1999*($AK$1:$AK$1999=\"\")), ROW(A1005)))&\"\"","v":""},"","","",null,"",""]
[null,null,null,null,null,null,null,null,null,null,null,null,null,null,null,null,null,null,null,null,null,null,null,null,null,null,null,null,null,null,null,null,{"$f":"INDEX(C:C, SMALL(ROW(C$1:C$5000)+(5000*(C$1:C$5000=\"\")),ROW(A1008)))&\"\"","v":""},"",{"$f":"INDEX(B:B, SMALL(ROW(B$1:B$5000)+(5000*(B$1:B$5000=\"\")),ROW(A1008)))&\"\"","v":""},"","","",null,null,{"$f":"INDEX(AH:AH,SMALL(ROW($AH$1:$AH$1999)+(1999*($AH$1:$AH$1999=\"\")), ROW(A1008)))&\"\"","v":""},"","","","","","","","","","","","","","","","","","","","","","","","","","","","","","","",{"$f":"INDEX(AJ:AJ,SMALL(ROW($AJ$1:$AJ$1999)+(1999*($AJ$1:$AJ$1999=\"\")), ROW(A1008)))&\"\"","v":""},"",{"$f":"INDEX(AK:AK,SMALL(ROW($AK$1:$AK$1999)+(1999*($AK$1:$AK$1999=\"\")), ROW(A1008)))&\"\"","v":""},"","","",null,"",""]
[null,null,null,null,null,null,null,null,null,null,null,null,null,null,null,null,null,null,null,null,null,null,null,null,null,null,null,null,null,null,null,null,{"$f":"INDEX(C:C, SMALL(ROW(C$1:C$5000)+(5000*(C$1:C$5000=\"\")),ROW(A1011)))&\"\"","v":""},"",{"$f":"INDEX(B:B, SMALL(ROW(B$1:B$5000)+(5000*(B$1:B$5000=\"\")),ROW(A1011)))&\"\"","v":""},"","","",null,null,{"$f":"INDEX(AH:AH,SMALL(ROW($AH$1:$AH$1999)+(1999*($AH$1:$AH$1999=\"\")), ROW(A1011)))&\"\"","v":""},"","","","","","","","","","","","","","","","","","","","","","","","","","","","","","","",{"$f":"INDEX(AJ:AJ,SMALL(ROW($AJ$1:$AJ$1999)+(1999*($AJ$1:$AJ$1999=\"\")), ROW(A1011)))&\"\"","v":""},"",{"$f":"INDEX(AK:AK,SMALL(ROW($AK$1:$AK$1999)+(1999*($AK$1:$AK$1999=\"\")), ROW(A1011)))&\"\"","v":""},"","","",null,"",""]
[null,null,null,null,null,null,null,null,null,null,null,null,null,null,null,null,null,null,null,null,null,null,null,null,null,null,null,null,null,null,null,null,{"$f":"INDEX(C:C, SMALL(ROW(C$1:C$5000)+(5000*(C$1:C$5000=\"\")),ROW(A1012)))&\"\"","v":""},"",{"$f":"INDEX(B:B, SMALL(ROW(B$1:B$5000)+(5000*(B$1:B$5000=\"\")),ROW(A1012)))&\"\"","v":""},"","","",null,null,{"$f":"INDEX(AH:AH,SMALL(ROW($AH$1:$AH$1999)+(1999*($AH$1:$AH$1999=\"\")), ROW(A1012)))&\"\"","v":""},"","","","","","","","","","","","","","","","","","","","","","","","","","","","","","","",{"$f":"INDEX(AJ:AJ,SMALL(ROW($AJ$1:$AJ$1999)+(1999*($AJ$1:$AJ$1999=\"\")), ROW(A1012)))&\"\"","v":""},"",{"$f":"INDEX(AK:AK,SMALL(ROW($AK$1:$AK$1999)+(1999*($AK$1:$AK$1999=\"\")), ROW(A1012)))&\"\"","v":""},"","","",null,"",""]
[null,null,null,null,null,null,null,null,null,null,null,null,null,null,null,null,null,null,null,null,null,null,null,null,null,null,null,null,null,null,null,null,{"$f":"INDEX(C:C, SMALL(ROW(C$1:C$5000)+(5000*(C$1:C$5000=\"\")),ROW(A1015)))&\"\"","v":""},"",{"$f":"INDEX(B:B, SMALL(ROW(B$1:B$5000)+(5000*(B$1:B$5000=\"\")),ROW(A1015)))&\"\"","v":""},"","","",null,null,{"$f":"INDEX(AH:AH,SMALL(ROW($AH$1:$AH$1999)+(1999*($AH$1:$AH$1999=\"\")), ROW(A1015)))&\"\"","v":""},"","","","","","","","","","","","","","","","","","","","","","","","","","","","","","","",{"$f":"INDEX(AJ:AJ,SMALL(ROW($AJ$1:$AJ$1999)+(1999*($AJ$1:$AJ$1999=\"\")), ROW(A1015)))&\"\"","v":""},"",{"$f":"INDEX(AK:AK,SMALL(ROW($AK$1:$AK$1999)+(1999*($AK$1:$AK$1999=\"\")), ROW(A1015)))&\"\"","v":""},"","","",null,"",""]
[null,null,null,null,null,null,null,null,null,null,null,null,null,null,null,null,null,null,null,null,null,null,null,null,null,null,null,null,null,null,null,null,{"$f":"INDEX(C:C, SMALL(ROW(C$1:C$5000)+(5000*(C$1:C$5000=\"\")),ROW(A1019)))&\"\"","v":""},"",{"$f":"INDEX(B:B, SMALL(ROW(B$1:B$5000)+(5000*(B$1:B$5000=\"\")),ROW(A1019)))&\"\"","v":""},"","","",null,null,{"$f":"INDEX(AH:AH,SMALL(ROW($AH$1:$AH$1999)+(1999*($AH$1:$AH$1999=\"\")), ROW(A1019)))&\"\"","v":""},"","","","","","","","","","","","","","","","","","","","","","","","","","","","","","","",{"$f":"INDEX(AJ:AJ,SMALL(ROW($AJ$1:$AJ$1999)+(1999*($AJ$1:$AJ$1999=\"\")), ROW(A1019)))&\"\"","v":""},"",{"$f":"INDEX(AK:AK,SMALL(ROW($AK$1:$AK$1999)+(1999*($AK$1:$AK$1999=\"\")), ROW(A1019)))&\"\"","v":""},"","","",null,"",""]
[null,null,null,null,null,null,null,null,null,null,null,null,null,null,null,null,null,null,null,null,null,null,null,null,null,null,null,null,null,null,null,null,{"$f":"INDEX(C:C, SMALL(ROW(C$1:C$5000)+(5000*(C$1:C$5000=\"\")),ROW(A1021)))&\"\"","v":""},"",{"$f":"INDEX(B:B, SMALL(ROW(B$1:B$5000)+(5000*(B$1:B$5000=\"\")),ROW(A1021)))&\"\"","v":""},"","","",null,null,{"$f":"INDEX(AH:AH,SMALL(ROW($AH$1:$AH$1999)+(1999*($AH$1:$AH$1999=\"\")), ROW(A1021)))&\"\"","v":""},"","","","","","","","","","","","","","","","","","","","","","","","","","","","","","","",{"$f":"INDEX(AJ:AJ,SMALL(ROW($AJ$1:$AJ$1999)+(1999*($AJ$1:$AJ$1999=\"\")), ROW(A1021)))&\"\"","v":""},"",{"$f":"INDEX(AK:AK,SMALL(ROW($AK$1:$AK$1999)+(1999*($AK$1:$AK$1999=\"\")), ROW(A1021)))&\"\"","v":""},"","","",null,"",""]
[null,null,null,null,null,null,null,null,null,null,null,null,null,null,null,null,null,null,null,null,null,null,null,null,null,null,null,null,null,null,null,null,{"$f":"INDEX(C:C, SMALL(ROW(C$1:C$5000)+(5000*(C$1:C$5000=\"\")),ROW(A1024)))&\"\"","v":""},"",{"$f":"INDEX(B:B, SMALL(ROW(B$1:B$5000)+(5000*(B$1:B$5000=\"\")),ROW(A1024)))&\"\"","v":""},"","","",null,null,{"$f":"INDEX(AH:AH,SMALL(ROW($AH$1:$AH$1999)+(1999*($AH$1:$AH$1999=\"\")), ROW(A1024)))&\"\"","v":""},"","","","","","","","","","","","","","","","","","","","","","","","","","","","","","","",{"$f":"INDEX(AJ:AJ,SMALL(ROW($AJ$1:$AJ$1999)+(1999*($AJ$1:$AJ$1999=\"\")), ROW(A1024)))&\"\"","v":""},"",{"$f":"INDEX(AK:AK,SMALL(ROW($AK$1:$AK$1999)+(1999*($AK$1:$AK$1999=\"\")), ROW(A1024)))&\"\"","v":""},"","","",null,"",""]
[null,null,null,null,null,null,null,null,null,null,null,null,null,null,null,null,null,null,null,null,null,null,null,null,null,null,null,null,null,null,null,null,{"$f":"INDEX(C:C, SMALL(ROW(C$1:C$5000)+(5000*(C$1:C$5000=\"\")),ROW(A1027)))&\"\"","v":""},"",{"$f":"INDEX(B:B, SMALL(ROW(B$1:B$5000)+(5000*(B$1:B$5000=\"\")),ROW(A1027)))&\"\"","v":""},"","","",null,null,{"$f":"INDEX(AH:AH,SMALL(ROW($AH$1:$AH$1999)+(1999*($AH$1:$AH$1999=\"\")), ROW(A1027)))&\"\"","v":""},"","","","","","","","","","","","","","","","","","","","","","","","","","","","","","","",{"$f":"INDEX(AJ:AJ,SMALL(ROW($AJ$1:$AJ$1999)+(1999*($AJ$1:$AJ$1999=\"\")), ROW(A1027)))&\"\"","v":""},"",{"$f":"INDEX(AK:AK,SMALL(ROW($AK$1:$AK$1999)+(1999*($AK$1:$AK$1999=\"\")), ROW(A1027)))&\"\"","v":""},"","","",null,"",""]
[null,null,null,null,null,null,null,null,null,null,null,null,null,null,null,null,null,null,null,null,null,null,null,null,null,null,null,null,null,null,null,null,{"$f":"INDEX(C:C, SMALL(ROW(C$1:C$5000)+(5000*(C$1:C$5000=\"\")),ROW(A1030)))&\"\"","v":""},"",{"$f":"INDEX(B:B, SMALL(ROW(B$1:B$5000)+(5000*(B$1:B$5000=\"\")),ROW(A1030)))&\"\"","v":""},"","","",null,null,{"$f":"INDEX(AH:AH,SMALL(ROW($AH$1:$AH$1999)+(1999*($AH$1:$AH$1999=\"\")), ROW(A1030)))&\"\"","v":""},"","","","","","","","","","","","","","","","","","","","","","","","","","","","","","","",{"$f":"INDEX(AJ:AJ,SMALL(ROW($AJ$1:$AJ$1999)+(1999*($AJ$1:$AJ$1999=\"\")), ROW(A1030)))&\"\"","v":""},"",{"$f":"INDEX(AK:AK,SMALL(ROW($AK$1:$AK$1999)+(1999*($AK$1:$AK$1999=\"\")), ROW(A1030)))&\"\"","v":""},"","","",null,"",""]
[null,null,null,null,null,null,null,null,null,null,null,null,null,null,null,null,null,null,null,null,null,null,null,null,null,null,null,null,null,null,null,null,{"$f":"INDEX(C:C, SMALL(ROW(C$1:C$5000)+(5000*(C$1:C$5000=\"\")),ROW(A1033)))&\"\"","v":""},"",{"$f":"INDEX(B:B, SMALL(ROW(B$1:B$5000)+(5000*(B$1:B$5000=\"\")),ROW(A1033)))&\"\"","v":""},"","","",null,null,{"$f":"INDEX(AH:AH,SMALL(ROW($AH$1:$AH$1999)+(1999*($AH$1:$AH$1999=\"\")), ROW(A1033)))&\"\"","v":""},"","","","","","","","","","","","","","","","","","","","","","","","","","","","","","","",{"$f":"INDEX(AJ:AJ,SMALL(ROW($AJ$1:$AJ$1999)+(1999*($AJ$1:$AJ$1999=\"\")), ROW(A1033)))&\"\"","v":""},"",{"$f":"INDEX(AK:AK,SMALL(ROW($AK$1:$AK$1999)+(1999*($AK$1:$AK$1999=\"\")), ROW(A1033)))&\"\"","v":""},"","","",null,"",""]
[null,null,null,null,null,null,null,null,null,null,null,null,null,null,null,null,null,null,null,null,null,null,null,null,null,null,null,null,null,null,null,null,{"$f":"INDEX(C:C, SMALL(ROW(C$1:C$5000)+(5000*(C$1:C$5000=\"\")),ROW(A1034)))&\"\"","v":""},"",{"$f":"INDEX(B:B, SMALL(ROW(B$1:B$5000)+(5000*(B$1:B$5000=\"\")),ROW(A1034)))&\"\"","v":""},"","","",null,null,{"$f":"INDEX(AH:AH,SMALL(ROW($AH$1:$AH$1999)+(1999*($AH$1:$AH$1999=\"\")), ROW(A1034)))&\"\"","v":""},"","","","","","","","","","","","","","","","","","","","","","","","","","","","","","","",{"$f":"INDEX(AJ:AJ,SMALL(ROW($AJ$1:$AJ$1999)+(1999*($AJ$1:$AJ$1999=\"\")), ROW(A1034)))&\"\"","v":""},"",{"$f":"INDEX(AK:AK,SMALL(ROW($AK$1:$AK$1999)+(1999*($AK$1:$AK$1999=\"\")), ROW(A1034)))&\"\"","v":""},"","","",null,"",""]
[null,null,null,null,null,null,null,null,null,null,null,null,null,null,null,null,null,null,null,null,null,null,null,null,null,null,null,null,null,null,null,null,{"$f":"INDEX(C:C, SMALL(ROW(C$1:C$5000)+(5000*(C$1:C$5000=\"\")),ROW(A1037)))&\"\"","v":""},"",{"$f":"INDEX(B:B, SMALL(ROW(B$1:B$5000)+(5000*(B$1:B$5000=\"\")),ROW(A1037)))&\"\"","v":""},"","","",null,null,{"$f":"INDEX(AH:AH,SMALL(ROW($AH$1:$AH$1999)+(1999*($AH$1:$AH$1999=\"\")), ROW(A1037)))&\"\"","v":""},"","","","","","","","","","","","","","","","","","","","","","","","","","","","","","","",{"$f":"INDEX(AJ:AJ,SMALL(ROW($AJ$1:$AJ$1999)+(1999*($AJ$1:$AJ$1999=\"\")), ROW(A1037)))&\"\"","v":""},"",{"$f":"INDEX(AK:AK,SMALL(ROW($AK$1:$AK$1999)+(1999*($AK$1:$AK$1999=\"\")), ROW(A1037)))&\"\"","v":""},"","","",null,"",""]
[null,null,null,null,null,null,null,null,null,null,null,null,null,null,null,null,null,null,null,null,null,null,null,null,null,null,null,null,null,null,null,null,{"$f":"INDEX(C:C, SMALL(ROW(C$1:C$5000)+(5000*(C$1:C$5000=\"\")),ROW(A1041)))&\"\"","v":""},"",{"$f":"INDEX(B:B, SMALL(ROW(B$1:B$5000)+(5000*(B$1:B$5000=\"\")),ROW(A1041)))&\"\"","v":""},"","","",null,null,{"$f":"INDEX(AH:AH,SMALL(ROW($AH$1:$AH$1999)+(1999*($AH$1:$AH$1999=\"\")), ROW(A1041)))&\"\"","v":""},"","","","","","","","","","","","","","","","","","","","","","","","","","","","","","","",{"$f":"INDEX(AJ:AJ,SMALL(ROW($AJ$1:$AJ$1999)+(1999*($AJ$1:$AJ$1999=\"\")), ROW(A1041)))&\"\"","v":""},"",{"$f":"INDEX(AK:AK,SMALL(ROW($AK$1:$AK$1999)+(1999*($AK$1:$AK$1999=\"\")), ROW(A1041)))&\"\"","v":""},"","","",null,"",""]
[null,null,null,null,null,null,null,null,null,null,null,null,null,null,null,null,null,null,null,null,null,null,null,null,null,null,null,null,null,null,null,null,{"$f":"INDEX(C:C, SMALL(ROW(C$1:C$5000)+(5000*(C$1:C$5000=\"\")),ROW(A1043)))&\"\"","v":""},"",{"$f":"INDEX(B:B, SMALL(ROW(B$1:B$5000)+(5000*(B$1:B$5000=\"\")),ROW(A1043)))&\"\"","v":""},"","","",null,null,{"$f":"INDEX(AH:AH,SMALL(ROW($AH$1:$AH$1999)+(1999*($AH$1:$AH$1999=\"\")), ROW(A1043)))&\"\"","v":""},"","","","","","","","","","","","","","","","","","","","","","","","","","","","","","","",{"$f":"INDEX(AJ:AJ,SMALL(ROW($AJ$1:$AJ$1999)+(1999*($AJ$1:$AJ$1999=\"\")), ROW(A1043)))&\"\"","v":""},"",{"$f":"INDEX(AK:AK,SMALL(ROW($AK$1:$AK$1999)+(1999*($AK$1:$AK$1999=\"\")), ROW(A1043)))&\"\"","v":""},"","","",null,"",""]
[null,null,null,null,null,null,null,null,null,null,null,null,null,null,null,null,null,null,null,null,null,null,null,null,null,null,null,null,null,null,null,null,{"$f":"INDEX(C:C, SMALL(ROW(C$1:C$5000)+(5000*(C$1:C$5000=\"\")),ROW(A1046)))&\"\"","v":""},"",{"$f":"INDEX(B:B, SMALL(ROW(B$1:B$5000)+(5000*(B$1:B$5000=\"\")),ROW(A1046)))&\"\"","v":""},"","","",null,null,{"$f":"INDEX(AH:AH,SMALL(ROW($AH$1:$AH$1999)+(1999*($AH$1:$AH$1999=\"\")), ROW(A1046)))&\"\"","v":""},"","","","","","","","","","","","","","","","","","","","","","","","","","","","","","","",{"$f":"INDEX(AJ:AJ,SMALL(ROW($AJ$1:$AJ$1999)+(1999*($AJ$1:$AJ$1999=\"\")), ROW(A1046)))&\"\"","v":""},"",{"$f":"INDEX(AK:AK,SMALL(ROW($AK$1:$AK$1999)+(1999*($AK$1:$AK$1999=\"\")), ROW(A1046)))&\"\"","v":""},"","","",null,"",""]
[null,null,null,null,null,null,null,null,null,null,null,null,null,null,null,null,null,null,null,null,null,null,null,null,null,null,null,null,null,null,null,null,{"$f":"INDEX(C:C, SMALL(ROW(C$1:C$5000)+(5000*(C$1:C$5000=\"\")),ROW(A1050)))&\"\"","v":""},"",{"$f":"INDEX(B:B, SMALL(ROW(B$1:B$5000)+(5000*(B$1:B$5000=\"\")),ROW(A1050)))&\"\"","v":""},"","","",null,null,{"$f":"INDEX(AH:AH,SMALL(ROW($AH$1:$AH$1999)+(1999*($AH$1:$AH$1999=\"\")), ROW(A1050)))&\"\"","v":""},"","","","","","","","","","","","","","","","","","","","","","","","","","","","","","","",{"$f":"INDEX(AJ:AJ,SMALL(ROW($AJ$1:$AJ$1999)+(1999*($AJ$1:$AJ$1999=\"\")), ROW(A1050)))&\"\"","v":""},"",{"$f":"INDEX(AK:AK,SMALL(ROW($AK$1:$AK$1999)+(1999*($AK$1:$AK$1999=\"\")), ROW(A1050)))&\"\"","v":""},"","","",null,"",""]
[null,null,null,null,null,null,null,null,null,null,null,null,null,null,null,null,null,null,null,null,null,null,null,null,null,null,null,null,null,null,null,null,{"$f":"INDEX(C:C, SMALL(ROW(C$1:C$5000)+(5000*(C$1:C$5000=\"\")),ROW(A1052)))&\"\"","v":""},"",{"$f":"INDEX(B:B, SMALL(ROW(B$1:B$5000)+(5000*(B$1:B$5000=\"\")),ROW(A1052)))&\"\"","v":""},"","","",null,null,{"$f":"INDEX(AH:AH,SMALL(ROW($AH$1:$AH$1999)+(1999*($AH$1:$AH$1999=\"\")), ROW(A1052)))&\"\"","v":""},"","","","","","","","","","","","","","","","","","","","","","","","","","","","","","","",{"$f":"INDEX(AJ:AJ,SMALL(ROW($AJ$1:$AJ$1999)+(1999*($AJ$1:$AJ$1999=\"\")), ROW(A1052)))&\"\"","v":""},"",{"$f":"INDEX(AK:AK,SMALL(ROW($AK$1:$AK$1999)+(1999*($AK$1:$AK$1999=\"\")), ROW(A1052)))&\"\"","v":""},"","","",null,"",""]
[null,null,null,null,null,null,null,null,null,null,null,null,null,null,null,null,null,null,null,null,null,null,null,null,null,null,null,null,null,null,null,null,{"$f":"INDEX(C:C, SMALL(ROW(C$1:C$5000)+(5000*(C$1:C$5000=\"\")),ROW(A1055)))&\"\"","v":""},"",{"$f":"INDEX(B:B, SMALL(ROW(B$1:B$5000)+(5000*(B$1:B$5000=\"\")),ROW(A1055)))&\"\"","v":""},"","","",null,null,{"$f":"INDEX(AH:AH,SMALL(ROW($AH$1:$AH$1999)+(1999*($AH$1:$AH$1999=\"\")), ROW(A1055)))&\"\"","v":""},"","","","","","","","","","","","","","","","","","","","","","","","","","","","","","","",{"$f":"INDEX(AJ:AJ,SMALL(ROW($AJ$1:$AJ$1999)+(1999*($AJ$1:$AJ$1999=\"\")), ROW(A1055)))&\"\"","v":""},"",{"$f":"INDEX(AK:AK,SMALL(ROW($AK$1:$AK$1999)+(1999*($AK$1:$AK$1999=\"\")), ROW(A1055)))&\"\"","v":""},"","","",null,"",""]
[null,null,null,null,null,null,null,null,null,null,null,null,null,null,null,null,null,null,null,null,null,null,null,null,null,null,null,null,null,null,null,null,{"$f":"INDEX(C:C, SMALL(ROW(C$1:C$5000)+(5000*(C$1:C$5000=\"\")),ROW(A1056)))&\"\"","v":""},"",{"$f":"INDEX(B:B, SMALL(ROW(B$1:B$5000)+(5000*(B$1:B$5000=\"\")),ROW(A1056)))&\"\"","v":""},"","","",null,null,{"$f":"INDEX(AH:AH,SMALL(ROW($AH$1:$AH$1999)+(1999*($AH$1:$AH$1999=\"\")), ROW(A1056)))&\"\"","v":""},"","","","","","","","","","","","","","","","","","","","","","","","","","","","","","","",{"$f":"INDEX(AJ:AJ,SMALL(ROW($AJ$1:$AJ$1999)+(1999*($AJ$1:$AJ$1999=\"\")), ROW(A1056)))&\"\"","v":""},"",{"$f":"INDEX(AK:AK,SMALL(ROW($AK$1:$AK$1999)+(1999*($AK$1:$AK$1999=\"\")), ROW(A1056)))&\"\"","v":""},"","","",null,"",""]
[null,null,null,null,null,null,null,null,null,null,null,null,null,null,null,null,null,null,null,null,null,null,null,null,null,null,null,null,null,null,null,null,{"$f":"INDEX(C:C, SMALL(ROW(C$1:C$5000)+(5000*(C$1:C$5000=\"\")),ROW(A1059)))&\"\"","v":""},"",{"$f":"INDEX(B:B, SMALL(ROW(B$1:B$5000)+(5000*(B$1:B$5000=\"\")),ROW(A1059)))&\"\"","v":""},"","","",null,null,{"$f":"INDEX(AH:AH,SMALL(ROW($AH$1:$AH$1999)+(1999*($AH$1:$AH$1999=\"\")), ROW(A1059)))&\"\"","v":""},"","","","","","","","","","","","","","","","","","","","","","","","","","","","","","","",{"$f":"INDEX(AJ:AJ,SMALL(ROW($AJ$1:$AJ$1999)+(1999*($AJ$1:$AJ$1999=\"\")), ROW(A1059)))&\"\"","v":""},"",{"$f":"INDEX(AK:AK,SMALL(ROW($AK$1:$AK$1999)+(1999*($AK$1:$AK$1999=\"\")), ROW(A1059)))&\"\"","v":""},"","","",null,"",""]
[null,null,null,null,null,null,null,null,null,null,null,null,null,null,null,null,null,null,null,null,null,null,null,null,null,null,null,null,null,null,null,null,{"$f":"INDEX(C:C, SMALL(ROW(C$1:C$5000)+(5000*(C$1:C$5000=\"\")),ROW(A1063)))&\"\"","v":""},"",{"$f":"INDEX(B:B, SMALL(ROW(B$1:B$5000)+(5000*(B$1:B$5000=\"\")),ROW(A1063)))&\"\"","v":""},"","","",null,null,{"$f":"INDEX(AH:AH,SMALL(ROW($AH$1:$AH$1999)+(1999*($AH$1:$AH$1999=\"\")), ROW(A1063)))&\"\"","v":""},"","","","","","","","","","","","","","","","","","","","","","","","","","","","","","","",{"$f":"INDEX(AJ:AJ,SMALL(ROW($AJ$1:$AJ$1999)+(1999*($AJ$1:$AJ$1999=\"\")), ROW(A1063)))&\"\"","v":""},"",{"$f":"INDEX(AK:AK,SMALL(ROW($AK$1:$AK$1999)+(1999*($AK$1:$AK$1999=\"\")), ROW(A1063)))&\"\"","v":""},"","","",null,"",""]
[null,null,null,null,null,null,null,null,null,null,null,null,null,null,null,null,null,null,null,null,null,null,null,null,null,null,null,null,null,null,null,null,{"$f":"INDEX(C:C, SMALL(ROW(C$1:C$5000)+(5000*(C$1:C$5000=\"\")),ROW(A1065)))&\"\"","v":""},"",{"$f":"INDEX(B:B, SMALL(ROW(B$1:B$5000)+(5000*(B$1:B$5000=\"\")),ROW(A1065)))&\"\"","v":""},"","","",null,null,{"$f":"INDEX(AH:AH,SMALL(ROW($AH$1:$AH$1999)+(1999*($AH$1:$AH$1999=\"\")), ROW(A1065)))&\"\"","v":""},"","","","","","","","","","","","","","","","","","","","","","","","","","","","","","","",{"$f":"INDEX(AJ:AJ,SMALL(ROW($AJ$1:$AJ$1999)+(1999*($AJ$1:$AJ$1999=\"\")), ROW(A1065)))&\"\"","v":""},"",{"$f":"INDEX(AK:AK,SMALL(ROW($AK$1:$AK$1999)+(1999*($AK$1:$AK$1999=\"\")), ROW(A1065)))&\"\"","v":""},"","","",null,"",""]
[null,null,null,null,null,null,null,null,null,null,null,null,null,null,null,null,null,null,null,null,null,null,null,null,null,null,null,null,null,null,null,null,{"$f":"INDEX(C:C, SMALL(ROW(C$1:C$5000)+(5000*(C$1:C$5000=\"\")),ROW(A1068)))&\"\"","v":""},"",{"$f":"INDEX(B:B, SMALL(ROW(B$1:B$5000)+(5000*(B$1:B$5000=\"\")),ROW(A1068)))&\"\"","v":""},"","","",null,null,{"$f":"INDEX(AH:AH,SMALL(ROW($AH$1:$AH$1999)+(1999*($AH$1:$AH$1999=\"\")), ROW(A1068)))&\"\"","v":""},"","","","","","","","","","","","","","","","","","","","","","","","","","","","","","","",{"$f":"INDEX(AJ:AJ,SMALL(ROW($AJ$1:$AJ$1999)+(1999*($AJ$1:$AJ$1999=\"\")), ROW(A1068)))&\"\"","v":""},"",{"$f":"INDEX(AK:AK,SMALL(ROW($AK$1:$AK$1999)+(1999*($AK$1:$AK$1999=\"\")), ROW(A1068)))&\"\"","v":""},"","","",null,"",""]
[null,null,null,null,null,null,null,null,null,null,null,null,null,null,null,null,null,null,null,null,null,null,null,null,null,null,null,null,null,null,null,null,{"$f":"INDEX(C:C, SMALL(ROW(C$1:C$5000)+(5000*(C$1:C$5000=\"\")),ROW(A1072)))&\"\"","v":""},"",{"$f":"INDEX(B:B, SMALL(ROW(B$1:B$5000)+(5000*(B$1:B$5000=\"\")),ROW(A1072)))&\"\"","v":""},"","","",null,null,{"$f":"INDEX(AH:AH,SMALL(ROW($AH$1:$AH$1999)+(1999*($AH$1:$AH$1999=\"\")), ROW(A1072)))&\"\"","v":""},"","","","","","","","","","","","","","","","","","","","","","","","","","","","","","","",{"$f":"INDEX(AJ:AJ,SMALL(ROW($AJ$1:$AJ$1999)+(1999*($AJ$1:$AJ$1999=\"\")), ROW(A1072)))&\"\"","v":""},"",{"$f":"INDEX(AK:AK,SMALL(ROW($AK$1:$AK$1999)+(1999*($AK$1:$AK$1999=\"\")), ROW(A1072)))&\"\"","v":""},"","","",null,"",""]
[null,null,null,null,null,null,null,null,null,null,null,null,null,null,null,null,null,null,null,null,null,null,null,null,null,null,null,null,null,null,null,null,{"$f":"INDEX(C:C, SMALL(ROW(C$1:C$5000)+(5000*(C$1:C$5000=\"\")),ROW(A1074)))&\"\"","v":""},"",{"$f":"INDEX(B:B, SMALL(ROW(B$1:B$5000)+(5000*(B$1:B$5000=\"\")),ROW(A1074)))&\"\"","v":""},"","","",null,null,{"$f":"INDEX(AH:AH,SMALL(ROW($AH$1:$AH$1999)+(1999*($AH$1:$AH$1999=\"\")), ROW(A1074)))&\"\"","v":""},"","","","","","","","","","","","","","","","","","","","","","","","","","","","","","","",{"$f":"INDEX(AJ:AJ,SMALL(ROW($AJ$1:$AJ$1999)+(1999*($AJ$1:$AJ$1999=\"\")), ROW(A1074)))&\"\"","v":""},"",{"$f":"INDEX(AK:AK,SMALL(ROW($AK$1:$AK$1999)+(1999*($AK$1:$AK$1999=\"\")), ROW(A1074)))&\"\"","v":""},"","","",null,"",""]
[null,null,null,null,null,null,null,null,null,null,null,null,null,null,null,null,null,null,null,null,null,null,null,null,null,null,null,null,null,null,null,null,{"$f":"INDEX(C:C, SMALL(ROW(C$1:C$5000)+(5000*(C$1:C$5000=\"\")),ROW(A1077)))&\"\"","v":""},"",{"$f":"INDEX(B:B, SMALL(ROW(B$1:B$5000)+(5000*(B$1:B$5000=\"\")),ROW(A1077)))&\"\"","v":""},"","","",null,null,{"$f":"INDEX(AH:AH,SMALL(ROW($AH$1:$AH$1999)+(1999*($AH$1:$AH$1999=\"\")), ROW(A1077)))&\"\"","v":""},"","","","","","","","","","","","","","","","","","","","","","","","","","","","","","","",{"$f":"INDEX(AJ:AJ,SMALL(ROW($AJ$1:$AJ$1999)+(1999*($AJ$1:$AJ$1999=\"\")), ROW(A1077)))&\"\"","v":""},"",{"$f":"INDEX(AK:AK,SMALL(ROW($AK$1:$AK$1999)+(1999*($AK$1:$AK$1999=\"\")), ROW(A1077)))&\"\"","v":""},"","","",null,"",""]
[null,null,null,null,null,null,null,null,null,null,null,null,null,null,null,null,null,null,null,null,null,null,null,null,null,null,null,null,null,null,null,null,{"$f":"INDEX(C:C, SMALL(ROW(C$1:C$5000)+(5000*(C$1:C$5000=\"\")),ROW(A1078)))&\"\"","v":""},"",{"$f":"INDEX(B:B, SMALL(ROW(B$1:B$5000)+(5000*(B$1:B$5000=\"\")),ROW(A1078)))&\"\"","v":""},"","","",null,null,{"$f":"INDEX(AH:AH,SMALL(ROW($AH$1:$AH$1999)+(1999*($AH$1:$AH$1999=\"\")), ROW(A1078)))&\"\"","v":""},"","","","","","","","","","","","","","","","","","","","","","","","","","","","","","","",{"$f":"INDEX(AJ:AJ,SMALL(ROW($AJ$1:$AJ$1999)+(1999*($AJ$1:$AJ$1999=\"\")), ROW(A1078)))&\"\"","v":""},"",{"$f":"INDEX(AK:AK,SMALL(ROW($AK$1:$AK$1999)+(1999*($AK$1:$AK$1999=\"\")), ROW(A1078)))&\"\"","v":""},"","","",null,"",""]
[null,null,null,null,null,null,null,null,null,null,null,null,null,null,null,null,null,null,null,null,null,null,null,null,null,null,null,null,null,null,null,null,{"$f":"INDEX(C:C, SMALL(ROW(C$1:C$5000)+(5000*(C$1:C$5000=\"\")),ROW(A1081)))&\"\"","v":""},"",{"$f":"INDEX(B:B, SMALL(ROW(B$1:B$5000)+(5000*(B$1:B$5000=\"\")),ROW(A1081)))&\"\"","v":""},"","","",null,null,{"$f":"INDEX(AH:AH,SMALL(ROW($AH$1:$AH$1999)+(1999*($AH$1:$AH$1999=\"\")), ROW(A1081)))&\"\"","v":""},"","","","","","","","","","","","","","","","","","","","","","","","","","","","","","","",{"$f":"INDEX(AJ:AJ,SMALL(ROW($AJ$1:$AJ$1999)+(1999*($AJ$1:$AJ$1999=\"\")), ROW(A1081)))&\"\"","v":""},"",{"$f":"INDEX(AK:AK,SMALL(ROW($AK$1:$AK$1999)+(1999*($AK$1:$AK$1999=\"\")), ROW(A1081)))&\"\"","v":""},"","","",null,"",""]
[null,null,null,null,null,null,null,null,null,null,null,null,null,null,null,null,null,null,null,null,null,null,null,null,null,null,null,null,null,null,null,null,{"$f":"INDEX(C:C, SMALL(ROW(C$1:C$5000)+(5000*(C$1:C$5000=\"\")),ROW(A1085)))&\"\"","v":""},"",{"$f":"INDEX(B:B, SMALL(ROW(B$1:B$5000)+(5000*(B$1:B$5000=\"\")),ROW(A1085)))&\"\"","v":""},"","","",null,null,{"$f":"INDEX(AH:AH,SMALL(ROW($AH$1:$AH$1999)+(1999*($AH$1:$AH$1999=\"\")), ROW(A1085)))&\"\"","v":""},"","","","","","","","","","","","","","","","","","","","","","","","","","","","","","","",{"$f":"INDEX(AJ:AJ,SMALL(ROW($AJ$1:$AJ$1999)+(1999*($AJ$1:$AJ$1999=\"\")), ROW(A1085)))&\"\"","v":""},"",{"$f":"INDEX(AK:AK,SMALL(ROW($AK$1:$AK$1999)+(1999*($AK$1:$AK$1999=\"\")), ROW(A1085)))&\"\"","v":""},"","","",null,"",""]
[null,null,null,null,null,null,null,null,null,null,null,null,null,null,null,null,null,null,null,null,null,null,null,null,null,null,null,null,null,null,null,null,{"$f":"INDEX(C:C, SMALL(ROW(C$1:C$5000)+(5000*(C$1:C$5000=\"\")),ROW(A1087)))&\"\"","v":""},"",{"$f":"INDEX(B:B, SMALL(ROW(B$1:B$5000)+(5000*(B$1:B$5000=\"\")),ROW(A1087)))&\"\"","v":""},"","","",null,null,{"$f":"INDEX(AH:AH,SMALL(ROW($AH$1:$AH$1999)+(1999*($AH$1:$AH$1999=\"\")), ROW(A1087)))&\"\"","v":""},"","","","","","","","","","","","","","","","","","","","","","","","","","","","","","","",{"$f":"INDEX(AJ:AJ,SMALL(ROW($AJ$1:$AJ$1999)+(1999*($AJ$1:$AJ$1999=\"\")), ROW(A1087)))&\"\"","v":""},"",{"$f":"INDEX(AK:AK,SMALL(ROW($AK$1:$AK$1999)+(1999*($AK$1:$AK$1999=\"\")), ROW(A1087)))&\"\"","v":""},"","","",null,"",""]
[null,null,null,null,null,null,null,null,null,null,null,null,null,null,null,null,null,null,null,null,null,null,null,null,null,null,null,null,null,null,null,null,{"$f":"INDEX(C:C, SMALL(ROW(C$1:C$5000)+(5000*(C$1:C$5000=\"\")),ROW(A1090)))&\"\"","v":""},"",{"$f":"INDEX(B:B, SMALL(ROW(B$1:B$5000)+(5000*(B$1:B$5000=\"\")),ROW(A1090)))&\"\"","v":""},{"$f":"IF(ISNUMBER(SEARCH(\"*years*\",AI1090)),AI1090,\"\")","v":""},{"$f":"IF(ISNUMBER(SEARCH(\"*, 19*\",AI1090)),AI1090,\"\")","v":""},"",null,null,{"$f":"INDEX(AH:AH,SMALL(ROW($AH$1:$AH$1999)+(1999*($AH$1:$AH$1999=\"\")), ROW(A1090)))&\"\"","v":""},{"$f":"TRIM(TEXT(RIGHT(AO1090,2),))","v":""},{"$f":"IF(ISNUMBER(SEARCH(\"*QB*\",AP1090)),AO1090,\"\")","v":""},{"$f":"IFERROR(IF(ISNUMBER(SEARCH(\"*QB*\",AQ1090)),BV1090,\"\"),VALUE(0))","v":""},{"$f":"IFERROR(IF(ISNUMBER(SEARCH(\"*QB*\",AQ1090)),BX1090,\"\"),VALUE(0))","v":""},{"$f":"IF(ISNUMBER(SEARCH(\"*RB*\",AP1090)),AO1090,\"\")","v":""},{"$f":"IFERROR(IF(ISNUMBER(SEARCH(\"*RB*\",AT1090)),BV1090,\"\"),VALUE(0))","v":""},{"$f":"IFERROR(IF(ISNUMBER(SEARCH(\"*RB*\",AT1090)),BX1090,\"\"),VALUE(0))","v":""},{"$f":"IF(ISNUMBER(SEARCH(\"*WR*\",AP1090)),AO1090,\"\")","v":""},{"$f":"IFERROR(IF(ISNUMBER(SEARCH(\"*WR*\",AW1090)),BV1090,\"\"),VALUE(0))","v":""},{"$f":"IFERROR(IF(ISNUMBER(SEARCH(\"*WR*\",AW1090)),BX1090,\"\"),VALUE(0))","v":""},{"$f":"IF(ISNUMBER(SEARCH(\"*TE*\",AP1090)),AO1090,\"\")","v":""},"",{"$f":"IFERROR(IF(ISNUMBER(SEARCH(\"*TE*\",AZ1090)),BX1090,\"\"),VALUE(0))","v":""},{"$f":"IF(ISNUMBER(SEARCH(\"*PK*\",AP1090)),AO1090,\"\")","v":""},{"$f":"IFERROR(IF(ISNUMBER(SEARCH(\"*PK*\",BC1090)),BV1090,\"\"),VALUE(0))","v":""},{"$f":"IFERROR(IF(ISNUMBER(SEARCH(\"*PK*\",BC1090)),BX1090,\"\"),VALUE(0))","v":""},{"$f":"IF(ISNUMBER(SEARCH(\"*DT*\",AP1090)),AO1090,\"\")","v":""},{"$f":"IFERROR(IF(ISNUMBER(SEARCH(\"*DT*\",BF1090)),BV1090,\"\"),VALUE(0))","v":""},{"$f":"IFERROR(IF(ISNUMBER(SEARCH(\"*DT*\",BF1090)),BX1090,\"\"),VALUE(0))","v":""},{"$f":"IF(ISNUMBER(SEARCH(\"*DE*\",AP1090)),AO1090,\"\")","v":""},{"$f":"IFERROR(IF(ISNUMBER(SEARCH(\"*DE*\",BI1090)),BV1090,\"\"),VALUE(0))","v":""},{"$f":"IFERROR(IF(ISNUMBER(SEARCH(\"*DE*\",BI1090)),BX1090,\"\"),VALUE(0))","v":""},{"$f":"IF(ISNUMBER(SEARCH(\"*LB*\",AP1090)),AO1090,\"\")","v":""},{"$f":"IFERROR(IF(ISNUMBER(SEARCH(\"*LB*\",BL1090)),BV1090,\"\"),VALUE(0))","v":""},{"$f":"IFERROR(IF(ISNUMBER(SEARCH(\"*LB*\",BL1090)),BX1090,\"\"),VALUE(0))","v":""},{"$f":"IF(ISNUMBER(SEARCH(\"*CB*\",AP1090)),AO1090,\"\")","v":""},{"$f":"IFERROR(IF(ISNUMBER(SEARCH(\"*CB*\",BO1090)),BV1090,\"\"),VALUE(0))","v":""},{"$f":"IFERROR(IF(ISNUMBER(SEARCH(\"*CB*\",BO1090)),BX1090,\"\"),VALUE(0))","v":""},{"$f":"IF(ISNUMBER(SEARCH(\"*S*\",AP1090)),AO1090,\"\")","v":""},{"$f":"IFERROR(IF(ISNUMBER(SEARCH(\"*S*\",BR1090)),BV1090,\"\"),VALUE(0))","v":""},{"$f":"IFERROR(IF(ISNUMBER(SEARCH(\"*S*\",BR1090)),BX1090,\"\"),VALUE(0))","v":""},{"$f":"INDEX(AJ:AJ,SMALL(ROW($AJ$1:$AJ$1999)+(1999*($AJ$1:$AJ$1999=\"\")), ROW(A1090)))&\"\"","v":""},{"$f":"IFERROR(IF(BW1090<>\"\",VALUE(LEFT(BU1090,LEN(BU1090)-6)),\"\"),VALUE(0))","v":""},{"$f":"INDEX(AK:AK,SMALL(ROW($AK$1:$AK$1999)+(1999*($AK$1:$AK$1999=\"\")), ROW(A1090)))&\"\"","v":""},{"$f":"IF(BW1090<>\"\",VALUE(RIGHT(BW1090,2)),\"\")","v":""},{"$f":"IF(BX1090=\"\",\"\",IF(BX1090>27,1,0))","v":""},{"$f":"IF(BX1090=\"\",\"\",IF(BX1090<27,1,0))","v":""},null,{"$f":"IF(BV1090=\"\",\"\",IF(BV1090>3.5,1,0))","v":""},{"$f":"IF(BV1090=\"\",\"\",IF(BV1090<3.5,1,0))","v":""}]
[null,null,null,null,null,null,null,null,null,null,null,null,null,null,null,null,null,null,null,null,null,null,null,null,null,null,null,null,null,null,null,null,{"$f":"INDEX(C:C, SMALL(ROW(C$1:C$5000)+(5000*(C$1:C$5000=\"\")),ROW(A1094)))&\"\"","v":""},"",{"$f":"INDEX(B:B, SMALL(ROW(B$1:B$5000)+(5000*(B$1:B$5000=\"\")),ROW(A1094)))&\"\"","v":""},"","","",null,null,{"$f":"INDEX(AH:AH,SMALL(ROW($AH$1:$AH$1999)+(1999*($AH$1:$AH$1999=\"\")), ROW(A1094)))&\"\"","v":""},"","","","","","","","","","","","","","","","","","","","","","","","","","","","","","","",{"$f":"INDEX(AJ:AJ,SMALL(ROW($AJ$1:$AJ$1999)+(1999*($AJ$1:$AJ$1999=\"\")), ROW(A1094)))&\"\"","v":""},"",{"$f":"INDEX(AK:AK,SMALL(ROW($AK$1:$AK$1999)+(1999*($AK$1:$AK$1999=\"\")), ROW(A1094)))&\"\"","v":""},"","","",null,"",""]
[null,null,null,null,null,null,null,null,null,null,null,null,null,null,null,null,null,null,null,null,null,null,null,null,null,null,null,null,null,null,null,null,{"$f":"INDEX(C:C, SMALL(ROW(C$1:C$5000)+(5000*(C$1:C$5000=\"\")),ROW(A1096)))&\"\"","v":""},"",{"$f":"INDEX(B:B, SMALL(ROW(B$1:B$5000)+(5000*(B$1:B$5000=\"\")),ROW(A1096)))&\"\"","v":""},"","","",null,null,{"$f":"INDEX(AH:AH,SMALL(ROW($AH$1:$AH$1999)+(1999*($AH$1:$AH$1999=\"\")), ROW(A1096)))&\"\"","v":""},"","","","","","","","","","","","","","","","","","","","","","","","","","","","","","","",{"$f":"INDEX(AJ:AJ,SMALL(ROW($AJ$1:$AJ$1999)+(1999*($AJ$1:$AJ$1999=\"\")), ROW(A1096)))&\"\"","v":""},"",{"$f":"INDEX(AK:AK,SMALL(ROW($AK$1:$AK$1999)+(1999*($AK$1:$AK$1999=\"\")), ROW(A1096)))&\"\"","v":""},"","","",null,"",""]
[null,null,null,null,null,null,null,null,null,null,null,null,null,null,null,null,null,null,null,null,null,null,null,null,null,null,null,null,null,null,null,null,{"$f":"INDEX(C:C, SMALL(ROW(C$1:C$5000)+(5000*(C$1:C$5000=\"\")),ROW(A1099)))&\"\"","v":""},"",{"$f":"INDEX(B:B, SMALL(ROW(B$1:B$5000)+(5000*(B$1:B$5000=\"\")),ROW(A1099)))&\"\"","v":""},"","","",null,null,{"$f":"INDEX(AH:AH,SMALL(ROW($AH$1:$AH$1999)+(1999*($AH$1:$AH$1999=\"\")), ROW(A1099)))&\"\"","v":""},"","","","","","","","","","","","","","","","","","","","","","","","","","","","","","","",{"$f":"INDEX(AJ:AJ,SMALL(ROW($AJ$1:$AJ$1999)+(1999*($AJ$1:$AJ$1999=\"\")), ROW(A1099)))&\"\"","v":""},"",{"$f":"INDEX(AK:AK,SMALL(ROW($AK$1:$AK$1999)+(1999*($AK$1:$AK$1999=\"\")), ROW(A1099)))&\"\"","v":""},"","","",null,"",""]
[null,null,null,null,null,null,null,null,null,null,null,null,null,null,null,null,null,null,null,null,null,null,null,null,null,null,null,null,null,null,null,null,{"$f":"INDEX(C:C, SMALL(ROW(C$1:C$5000)+(5000*(C$1:C$5000=\"\")),ROW(A1100)))&\"\"","v":""},"",{"$f":"INDEX(B:B, SMALL(ROW(B$1:B$5000)+(5000*(B$1:B$5000=\"\")),ROW(A1100)))&\"\"","v":""},"","","",null,null,{"$f":"INDEX(AH:AH,SMALL(ROW($AH$1:$AH$1999)+(1999*($AH$1:$AH$1999=\"\")), ROW(A1100)))&\"\"","v":""},"","","","","","","","","","","","","","","","","","","","","","","","","","","","","","","",{"$f":"INDEX(AJ:AJ,SMALL(ROW($AJ$1:$AJ$1999)+(1999*($AJ$1:$AJ$1999=\"\")), ROW(A1100)))&\"\"","v":""},"",{"$f":"INDEX(AK:AK,SMALL(ROW($AK$1:$AK$1999)+(1999*($AK$1:$AK$1999=\"\")), ROW(A1100)))&\"\"","v":""},"","","",null,"",""]
[null,null,null,null,null,null,null,null,null,null,null,null,null,null,null,null,null,null,null,null,null,null,null,null,null,null,null,null,null,null,null,null,{"$f":"INDEX(C:C, SMALL(ROW(C$1:C$5000)+(5000*(C$1:C$5000=\"\")),ROW(A1103)))&\"\"","v":""},"",{"$f":"INDEX(B:B, SMALL(ROW(B$1:B$5000)+(5000*(B$1:B$5000=\"\")),ROW(A1103)))&\"\"","v":""},"","","",null,null,{"$f":"INDEX(AH:AH,SMALL(ROW($AH$1:$AH$1999)+(1999*($AH$1:$AH$1999=\"\")), ROW(A1103)))&\"\"","v":""},"","","","","","","","","","","","","","","","","","","","","","","","","","","","","","","",{"$f":"INDEX(AJ:AJ,SMALL(ROW($AJ$1:$AJ$1999)+(1999*($AJ$1:$AJ$1999=\"\")), ROW(A1103)))&\"\"","v":""},"",{"$f":"INDEX(AK:AK,SMALL(ROW($AK$1:$AK$1999)+(1999*($AK$1:$AK$1999=\"\")), ROW(A1103)))&\"\"","v":""},"","","",null,"",""]
[null,null,null,null,null,null,null,null,null,null,null,null,null,null,null,null,null,null,null,null,null,null,null,null,null,null,null,null,null,null,null,null,{"$f":"INDEX(C:C, SMALL(ROW(C$1:C$5000)+(5000*(C$1:C$5000=\"\")),ROW(A1107)))&\"\"","v":""},"",{"$f":"INDEX(B:B, SMALL(ROW(B$1:B$5000)+(5000*(B$1:B$5000=\"\")),ROW(A1107)))&\"\"","v":""},"","","",null,null,{"$f":"INDEX(AH:AH,SMALL(ROW($AH$1:$AH$1999)+(1999*($AH$1:$AH$1999=\"\")), ROW(A1107)))&\"\"","v":""},"","","","","","","","","","","","","","","","","","","","","","","","","","","","","","","",{"$f":"INDEX(AJ:AJ,SMALL(ROW($AJ$1:$AJ$1999)+(1999*($AJ$1:$AJ$1999=\"\")), ROW(A1107)))&\"\"","v":""},"",{"$f":"INDEX(AK:AK,SMALL(ROW($AK$1:$AK$1999)+(1999*($AK$1:$AK$1999=\"\")), ROW(A1107)))&\"\"","v":""},"","","",null,"",""]
[null,null,null,null,null,null,null,null,null,null,null,null,null,null,null,null,null,null,null,null,null,null,null,null,null,null,null,null,null,null,null,null,{"$f":"INDEX(C:C, SMALL(ROW(C$1:C$5000)+(5000*(C$1:C$5000=\"\")),ROW(A1109)))&\"\"","v":""},"",{"$f":"INDEX(B:B, SMALL(ROW(B$1:B$5000)+(5000*(B$1:B$5000=\"\")),ROW(A1109)))&\"\"","v":""},"","","",null,null,{"$f":"INDEX(AH:AH,SMALL(ROW($AH$1:$AH$1999)+(1999*($AH$1:$AH$1999=\"\")), ROW(A1109)))&\"\"","v":""},"","","","","","","","","","","","","","","","","","","","","","","","","","","","","","","",{"$f":"INDEX(AJ:AJ,SMALL(ROW($AJ$1:$AJ$1999)+(1999*($AJ$1:$AJ$1999=\"\")), ROW(A1109)))&\"\"","v":""},"",{"$f":"INDEX(AK:AK,SMALL(ROW($AK$1:$AK$1999)+(1999*($AK$1:$AK$1999=\"\")), ROW(A1109)))&\"\"","v":""},"","","",null,"",""]
[null,null,null,null,null,null,null,null,null,null,null,null,null,null,null,null,null,null,null,null,null,null,null,null,null,null,null,null,null,null,null,null,{"$f":"INDEX(C:C, SMALL(ROW(C$1:C$5000)+(5000*(C$1:C$5000=\"\")),ROW(A1112)))&\"\"","v":""},"",{"$f":"INDEX(B:B, SMALL(ROW(B$1:B$5000)+(5000*(B$1:B$5000=\"\")),ROW(A1112)))&\"\"","v":""},"","","",null,null,{"$f":"INDEX(AH:AH,SMALL(ROW($AH$1:$AH$1999)+(1999*($AH$1:$AH$1999=\"\")), ROW(A1112)))&\"\"","v":""},"","","","","","","","","","","","","","","","","","","","","","","","","","","","","","","",{"$f":"INDEX(AJ:AJ,SMALL(ROW($AJ$1:$AJ$1999)+(1999*($AJ$1:$AJ$1999=\"\")), ROW(A1112)))&\"\"","v":""},"",{"$f":"INDEX(AK:AK,SMALL(ROW($AK$1:$AK$1999)+(1999*($AK$1:$AK$1999=\"\")), ROW(A1112)))&\"\"","v":""},"","","",null,"",""]
[null,null,null,null,null,null,null,null,null,null,null,null,null,null,null,null,null,null,null,null,null,null,null,null,null,null,null,null,null,null,null,null,{"$f":"INDEX(C:C, SMALL(ROW(C$1:C$5000)+(5000*(C$1:C$5000=\"\")),ROW(A1116)))&\"\"","v":""},"",{"$f":"INDEX(B:B, SMALL(ROW(B$1:B$5000)+(5000*(B$1:B$5000=\"\")),ROW(A1116)))&\"\"","v":""},"","","",null,null,{"$f":"INDEX(AH:AH,SMALL(ROW($AH$1:$AH$1999)+(1999*($AH$1:$AH$1999=\"\")), ROW(A1116)))&\"\"","v":""},"","","","","","","","","","","","","","","","","","","","","","","","","","","","","","","",{"$f":"INDEX(AJ:AJ,SMALL(ROW($AJ$1:$AJ$1999)+(1999*($AJ$1:$AJ$1999=\"\")), ROW(A1116)))&\"\"","v":""},"",{"$f":"INDEX(AK:AK,SMALL(ROW($AK$1:$AK$1999)+(1999*($AK$1:$AK$1999=\"\")), ROW(A1116)))&\"\"","v":""},"","","",null,"",""]
[null,null,null,null,null,null,null,null,null,null,null,null,null,null,null,null,null,null,null,null,null,null,null,null,null,null,null,null,null,null,null,null,{"$f":"INDEX(C:C, SMALL(ROW(C$1:C$5000)+(5000*(C$1:C$5000=\"\")),ROW(A1118)))&\"\"","v":""},"",{"$f":"INDEX(B:B, SMALL(ROW(B$1:B$5000)+(5000*(B$1:B$5000=\"\")),ROW(A1118)))&\"\"","v":""},"","","",null,null,{"$f":"INDEX(AH:AH,SMALL(ROW($AH$1:$AH$1999)+(1999*($AH$1:$AH$1999=\"\")), ROW(A1118)))&\"\"","v":""},"","","","","","","","","","","",{"$f":"IFERROR(IF(ISNUMBER(SEARCH(\"*TE*\",AZ1118)),BV1118,\"\"),VALUE(0))","v":""},"","","","","","","","","","","","","","","","","","","",{"$f":"INDEX(AJ:AJ,SMALL(ROW($AJ$1:$AJ$1999)+(1999*($AJ$1:$AJ$1999=\"\")), ROW(A1118)))&\"\"","v":""},"",{"$f":"INDEX(AK:AK,SMALL(ROW($AK$1:$AK$1999)+(1999*($AK$1:$AK$1999=\"\")), ROW(A1118)))&\"\"","v":""},"","","",null,"",""]
[null,null,null,null,null,null,null,null,null,null,null,null,null,null,null,null,null,null,null,null,null,null,null,null,null,null,null,null,null,null,null,null,{"$f":"INDEX(C:C, SMALL(ROW(C$1:C$5000)+(5000*(C$1:C$5000=\"\")),ROW(A1121)))&\"\"","v":""},"",{"$f":"INDEX(B:B, SMALL(ROW(B$1:B$5000)+(5000*(B$1:B$5000=\"\")),ROW(A1121)))&\"\"","v":""},"","","",null,null,{"$f":"INDEX(AH:AH,SMALL(ROW($AH$1:$AH$1999)+(1999*($AH$1:$AH$1999=\"\")), ROW(A1121)))&\"\"","v":""},"","","","","","","","","","","","","","","","","","","","","","","","","","","","","","","",{"$f":"INDEX(AJ:AJ,SMALL(ROW($AJ$1:$AJ$1999)+(1999*($AJ$1:$AJ$1999=\"\")), ROW(A1121)))&\"\"","v":""},"",{"$f":"INDEX(AK:AK,SMALL(ROW($AK$1:$AK$1999)+(1999*($AK$1:$AK$1999=\"\")), ROW(A1121)))&\"\"","v":""},"","","",null,"",""]
[null,null,null,null,null,null,null,null,null,null,null,null,null,null,null,null,null,null,null,null,null,null,null,null,null,null,null,null,null,null,null,null,{"$f":"INDEX(C:C, SMALL(ROW(C$1:C$5000)+(5000*(C$1:C$5000=\"\")),ROW(A1122)))&\"\"","v":""},"",{"$f":"INDEX(B:B, SMALL(ROW(B$1:B$5000)+(5000*(B$1:B$5000=\"\")),ROW(A1122)))&\"\"","v":""},"","","",null,null,{"$f":"INDEX(AH:AH,SMALL(ROW($AH$1:$AH$1999)+(1999*($AH$1:$AH$1999=\"\")), ROW(A1122)))&\"\"","v":""},"","","","","","","","","","","","","","","","","","","","","","","","","","","","","","","",{"$f":"INDEX(AJ:AJ,SMALL(ROW($AJ$1:$AJ$1999)+(1999*($AJ$1:$AJ$1999=\"\")), ROW(A1122)))&\"\"","v":""},"",{"$f":"INDEX(AK:AK,SMALL(ROW($AK$1:$AK$1999)+(1999*($AK$1:$AK$1999=\"\")), ROW(A1122)))&\"\"","v":""},"","","",null,"",""]
[null,null,null,null,null,null,null,null,null,null,null,null,null,null,null,null,null,null,null,null,null,null,null,null,null,null,null,null,null,null,null,null,{"$f":"INDEX(C:C, SMALL(ROW(C$1:C$5000)+(5000*(C$1:C$5000=\"\")),ROW(A1125)))&\"\"","v":""},"",{"$f":"INDEX(B:B, SMALL(ROW(B$1:B$5000)+(5000*(B$1:B$5000=\"\")),ROW(A1125)))&\"\"","v":""},"","","",null,null,{"$f":"INDEX(AH:AH,SMALL(ROW($AH$1:$AH$1999)+(1999*($AH$1:$AH$1999=\"\")), ROW(A1125)))&\"\"","v":""},"","","","","","","","","","","","","","","","","","","","","","","","","","","","","","","",{"$f":"INDEX(AJ:AJ,SMALL(ROW($AJ$1:$AJ$1999)+(1999*($AJ$1:$AJ$1999=\"\")), ROW(A1125)))&\"\"","v":""},"",{"$f":"INDEX(AK:AK,SMALL(ROW($AK$1:$AK$1999)+(1999*($AK$1:$AK$1999=\"\")), ROW(A1125)))&\"\"","v":""},"","","",null,"",""]
[null,null,null,null,null,null,null,null,null,null,null,null,null,null,null,null,null,null,null,null,null,null,null,null,null,null,null,null,null,null,null,null,{"$f":"INDEX(C:C, SMALL(ROW(C$1:C$5000)+(5000*(C$1:C$5000=\"\")),ROW(A1129)))&\"\"","v":""},"",{"$f":"INDEX(B:B, SMALL(ROW(B$1:B$5000)+(5000*(B$1:B$5000=\"\")),ROW(A1129)))&\"\"","v":""},"","","",null,null,{"$f":"INDEX(AH:AH,SMALL(ROW($AH$1:$AH$1999)+(1999*($AH$1:$AH$1999=\"\")), ROW(A1129)))&\"\"","v":""},"","","","","","","","","","","","","","","","","","","","","","","","","","","","","","","",{"$f":"INDEX(AJ:AJ,SMALL(ROW($AJ$1:$AJ$1999)+(1999*($AJ$1:$AJ$1999=\"\")), ROW(A1129)))&\"\"","v":""},"",{"$f":"INDEX(AK:AK,SMALL(ROW($AK$1:$AK$1999)+(1999*($AK$1:$AK$1999=\"\")), ROW(A1129)))&\"\"","v":""},"","","",null,"",""]
[null,null,null,null,null,null,null,null,null,null,null,null,null,null,null,null,null,null,null,null,null,null,null,null,null,null,null,null,null,null,null,null,{"$f":"INDEX(C:C, SMALL(ROW(C$1:C$5000)+(5000*(C$1:C$5000=\"\")),ROW(A1131)))&\"\"","v":""},"",{"$f":"INDEX(B:B, SMALL(ROW(B$1:B$5000)+(5000*(B$1:B$5000=\"\")),ROW(A1131)))&\"\"","v":""},"","","",null,null,{"$f":"INDEX(AH:AH,SMALL(ROW($AH$1:$AH$1999)+(1999*($AH$1:$AH$1999=\"\")), ROW(A1131)))&\"\"","v":""},"","","","","","","","","","","","","","","","","","","","","","","","","","","","","","","",{"$f":"INDEX(AJ:AJ,SMALL(ROW($AJ$1:$AJ$1999)+(1999*($AJ$1:$AJ$1999=\"\")), ROW(A1131)))&\"\"","v":""},"",{"$f":"INDEX(AK:AK,SMALL(ROW($AK$1:$AK$1999)+(1999*($AK$1:$AK$1999=\"\")), ROW(A1131)))&\"\"","v":""},"","","",null,"",""]
[null,null,null,null,null,null,null,null,null,null,null,null,null,null,null,null,null,null,null,null,null,null,null,null,null,null,null,null,null,null,null,null,{"$f":"INDEX(C:C, SMALL(ROW(C$1:C$5000)+(5000*(C$1:C$5000=\"\")),ROW(A1134)))&\"\"","v":""},"",{"$f":"INDEX(B:B, SMALL(ROW(B$1:B$5000)+(5000*(B$1:B$5000=\"\")),ROW(A1134)))&\"\"","v":""},"","","",null,null,{"$f":"INDEX(AH:AH,SMALL(ROW($AH$1:$AH$1999)+(1999*($AH$1:$AH$1999=\"\")), ROW(A1134)))&\"\"","v":""},"","","","","","","","","","","","","","","","","","","","","","","","","","","","","","","",{"$f":"INDEX(AJ:AJ,SMALL(ROW($AJ$1:$AJ$1999)+(1999*($AJ$1:$AJ$1999=\"\")), ROW(A1134)))&\"\"","v":""},"",{"$f":"INDEX(AK:AK,SMALL(ROW($AK$1:$AK$1999)+(1999*($AK$1:$AK$1999=\"\")), ROW(A1134)))&\"\"","v":""},"","","",null,"",""]
[null,null,null,null,null,null,null,null,null,null,null,null,null,null,null,null,null,null,null,null,null,null,null,null,null,null,null,null,null,null,null,null,{"$f":"INDEX(C:C, SMALL(ROW(C$1:C$5000)+(5000*(C$1:C$5000=\"\")),ROW(A1138)))&\"\"","v":""},"",{"$f":"INDEX(B:B, SMALL(ROW(B$1:B$5000)+(5000*(B$1:B$5000=\"\")),ROW(A1138)))&\"\"","v":""},"","","",null,null,{"$f":"INDEX(AH:AH,SMALL(ROW($AH$1:$AH$1999)+(1999*($AH$1:$AH$1999=\"\")), ROW(A1138)))&\"\"","v":""},"","","","","","","","","","","","","","","","","","","","","","","","","","","","","","","",{"$f":"INDEX(AJ:AJ,SMALL(ROW($AJ$1:$AJ$1999)+(1999*($AJ$1:$AJ$1999=\"\")), ROW(A1138)))&\"\"","v":""},"",{"$f":"INDEX(AK:AK,SMALL(ROW($AK$1:$AK$1999)+(1999*($AK$1:$AK$1999=\"\")), ROW(A1138)))&\"\"","v":""},"","","",null,"",""]
[null,null,null,null,null,null,null,null,null,null,null,null,null,null,null,null,null,null,null,null,null,null,null,null,null,null,null,null,null,null,null,null,{"$f":"INDEX(C:C, SMALL(ROW(C$1:C$5000)+(5000*(C$1:C$5000=\"\")),ROW(A1140)))&\"\"","v":""},"",{"$f":"INDEX(B:B, SMALL(ROW(B$1:B$5000)+(5000*(B$1:B$5000=\"\")),ROW(A1140)))&\"\"","v":""},"","","",null,null,{"$f":"INDEX(AH:AH,SMALL(ROW($AH$1:$AH$1999)+(1999*($AH$1:$AH$1999=\"\")), ROW(A1140)))&\"\"","v":""},"","","","","","","","","","","","","","","","","","","","","","","","","","","","","","","",{"$f":"INDEX(AJ:AJ,SMALL(ROW($AJ$1:$AJ$1999)+(1999*($AJ$1:$AJ$1999=\"\")), ROW(A1140)))&\"\"","v":""},"",{"$f":"INDEX(AK:AK,SMALL(ROW($AK$1:$AK$1999)+(1999*($AK$1:$AK$1999=\"\")), ROW(A1140)))&\"\"","v":""},"","","",null,"",""]
[null,null,null,null,null,null,null,null,null,null,null,null,null,null,null,null,null,null,null,null,null,null,null,null,null,null,null,null,null,null,null,null,{"$f":"INDEX(C:C, SMALL(ROW(C$1:C$5000)+(5000*(C$1:C$5000=\"\")),ROW(A1143)))&\"\"","v":""},"",{"$f":"INDEX(B:B, SMALL(ROW(B$1:B$5000)+(5000*(B$1:B$5000=\"\")),ROW(A1143)))&\"\"","v":""},"","","",null,null,{"$f":"INDEX(AH:AH,SMALL(ROW($AH$1:$AH$1999)+(1999*($AH$1:$AH$1999=\"\")), ROW(A1143)))&\"\"","v":""},"","","","","","","","","","","","","","","","","","","","","","","","","","","","","","","",{"$f":"INDEX(AJ:AJ,SMALL(ROW($AJ$1:$AJ$1999)+(1999*($AJ$1:$AJ$1999=\"\")), ROW(A1143)))&\"\"","v":""},"",{"$f":"INDEX(AK:AK,SMALL(ROW($AK$1:$AK$1999)+(1999*($AK$1:$AK$1999=\"\")), ROW(A1143)))&\"\"","v":""},"","","",null,"",""]
[null,null,null,null,null,null,null,null,null,null,null,null,null,null,null,null,null,null,null,null,null,null,null,null,null,null,null,null,null,null,null,null,{"$f":"INDEX(C:C, SMALL(ROW(C$1:C$5000)+(5000*(C$1:C$5000=\"\")),ROW(A1144)))&\"\"","v":""},"",{"$f":"INDEX(B:B, SMALL(ROW(B$1:B$5000)+(5000*(B$1:B$5000=\"\")),ROW(A1144)))&\"\"","v":""},"","","",null,null,{"$f":"INDEX(AH:AH,SMALL(ROW($AH$1:$AH$1999)+(1999*($AH$1:$AH$1999=\"\")), ROW(A1144)))&\"\"","v":""},"","","","","","","","","","","","","","","","","","","","","","","","","","","","","","","",{"$f":"INDEX(AJ:AJ,SMALL(ROW($AJ$1:$AJ$1999)+(1999*($AJ$1:$AJ$1999=\"\")), ROW(A1144)))&\"\"","v":""},"",{"$f":"INDEX(AK:AK,SMALL(ROW($AK$1:$AK$1999)+(1999*($AK$1:$AK$1999=\"\")), ROW(A1144)))&\"\"","v":""},"","","",null,"",""]
[null,null,null,null,null,null,null,null,null,null,null,null,null,null,null,null,null,null,null,null,null,null,null,null,null,null,null,null,null,null,null,null,{"$f":"INDEX(C:C, SMALL(ROW(C$1:C$5000)+(5000*(C$1:C$5000=\"\")),ROW(A1147)))&\"\"","v":""},"",{"$f":"INDEX(B:B, SMALL(ROW(B$1:B$5000)+(5000*(B$1:B$5000=\"\")),ROW(A1147)))&\"\"","v":""},"","","",null,null,{"$f":"INDEX(AH:AH,SMALL(ROW($AH$1:$AH$1999)+(1999*($AH$1:$AH$1999=\"\")), ROW(A1147)))&\"\"","v":""},"","","","","","","","","","","","","","","","","","","","","","","","","","","","","","","",{"$f":"INDEX(AJ:AJ,SMALL(ROW($AJ$1:$AJ$1999)+(1999*($AJ$1:$AJ$1999=\"\")), ROW(A1147)))&\"\"","v":""},"",{"$f":"INDEX(AK:AK,SMALL(ROW($AK$1:$AK$1999)+(1999*($AK$1:$AK$1999=\"\")), ROW(A1147)))&\"\"","v":""},"","","",null,"",""]
[null,null,null,null,null,null,null,null,null,null,null,null,null,null,null,null,null,null,null,null,null,null,null,null,null,null,null,null,null,null,null,null,{"$f":"INDEX(C:C, SMALL(ROW(C$1:C$5000)+(5000*(C$1:C$5000=\"\")),ROW(A1151)))&\"\"","v":""},"",{"$f":"INDEX(B:B, SMALL(ROW(B$1:B$5000)+(5000*(B$1:B$5000=\"\")),ROW(A1151)))&\"\"","v":""},"","","",null,null,{"$f":"INDEX(AH:AH,SMALL(ROW($AH$1:$AH$1999)+(1999*($AH$1:$AH$1999=\"\")), ROW(A1151)))&\"\"","v":""},"","","","","","","","","","","","","","","","","","","","","","","","","","","","","","","",{"$f":"INDEX(AJ:AJ,SMALL(ROW($AJ$1:$AJ$1999)+(1999*($AJ$1:$AJ$1999=\"\")), ROW(A1151)))&\"\"","v":""},"",{"$f":"INDEX(AK:AK,SMALL(ROW($AK$1:$AK$1999)+(1999*($AK$1:$AK$1999=\"\")), ROW(A1151)))&\"\"","v":""},"","","",null,"",""]
[null,null,null,null,null,null,null,null,null,null,null,null,null,null,null,null,null,null,null,null,null,null,null,null,null,null,null,null,null,null,null,null,{"$f":"INDEX(C:C, SMALL(ROW(C$1:C$5000)+(5000*(C$1:C$5000=\"\")),ROW(A1153)))&\"\"","v":""},{"$f":"IF(ISNUMBER(SEARCH(\"*,*\",AG1153)),AG1153,\"\")","v":""},{"$f":"INDEX(B:B, SMALL(ROW(B$1:B$5000)+(5000*(B$1:B$5000=\"\")),ROW(A1153)))&\"\"","v":""},"","",{"$f":"IF(ISNUMBER(SEARCH(\"*Round*\",AI1153)),AI1153,\"\")","v":""},null,null,{"$f":"INDEX(AH:AH,SMALL(ROW($AH$1:$AH$1999)+(1999*($AH$1:$AH$1999=\"\")), ROW(A1153)))&\"\"","v":""},"","","","","","","","","","","","","","","","","","","","","","","","","","","","","","","",{"$f":"INDEX(AJ:AJ,SMALL(ROW($AJ$1:$AJ$1999)+(1999*($AJ$1:$AJ$1999=\"\")), ROW(A1153)))&\"\"","v":""},"",{"$f":"INDEX(AK:AK,SMALL(ROW($AK$1:$AK$1999)+(1999*($AK$1:$AK$1999=\"\")), ROW(A1153)))&\"\"","v":""},"","","",null,"",""]
[null,null,null,null,null,null,null,null,null,null,null,null,null,null,null,null,null,null,null,null,null,null,null,null,null,null,null,null,null,null,null,null,{"$f":"INDEX(C:C, SMALL(ROW(C$1:C$5000)+(5000*(C$1:C$5000=\"\")),ROW(A1156)))&\"\"","v":""},"",{"$f":"INDEX(B:B, SMALL(ROW(B$1:B$5000)+(5000*(B$1:B$5000=\"\")),ROW(A1156)))&\"\"","v":""},"","","",null,null,{"$f":"INDEX(AH:AH,SMALL(ROW($AH$1:$AH$1999)+(1999*($AH$1:$AH$1999=\"\")), ROW(A1156)))&\"\"","v":""},"","","","","","","","","","","","","","","","","","","","","","","","","","","","","","","",{"$f":"INDEX(AJ:AJ,SMALL(ROW($AJ$1:$AJ$1999)+(1999*($AJ$1:$AJ$1999=\"\")), ROW(A1156)))&\"\"","v":""},"",{"$f":"INDEX(AK:AK,SMALL(ROW($AK$1:$AK$1999)+(1999*($AK$1:$AK$1999=\"\")), ROW(A1156)))&\"\"","v":""},"","","",null,"",""]
[null,null,null,null,null,null,null,null,null,null,null,null,null,null,null,null,null,null,null,null,null,null,null,null,null,null,null,null,null,null,null,null,{"$f":"INDEX(C:C, SMALL(ROW(C$1:C$5000)+(5000*(C$1:C$5000=\"\")),ROW(A1160)))&\"\"","v":""},"",{"$f":"INDEX(B:B, SMALL(ROW(B$1:B$5000)+(5000*(B$1:B$5000=\"\")),ROW(A1160)))&\"\"","v":""},"","","",null,null,{"$f":"INDEX(AH:AH,SMALL(ROW($AH$1:$AH$1999)+(1999*($AH$1:$AH$1999=\"\")), ROW(A1160)))&\"\"","v":""},"","","","","","","","","","","","","","","","","","","","","","","","","","","","","","","",{"$f":"INDEX(AJ:AJ,SMALL(ROW($AJ$1:$AJ$1999)+(1999*($AJ$1:$AJ$1999=\"\")), ROW(A1160)))&\"\"","v":""},"",{"$f":"INDEX(AK:AK,SMALL(ROW($AK$1:$AK$1999)+(1999*($AK$1:$AK$1999=\"\")), ROW(A1160)))&\"\"","v":""},"","","",null,"",""]
[null,null,null,null,null,null,null,null,null,null,null,null,null,null,null,null,null,null,null,null,null,null,null,null,null,null,null,null,null,null,null,null,{"$f":"INDEX(C:C, SMALL(ROW(C$1:C$5000)+(5000*(C$1:C$5000=\"\")),ROW(A1162)))&\"\"","v":""},"",{"$f":"INDEX(B:B, SMALL(ROW(B$1:B$5000)+(5000*(B$1:B$5000=\"\")),ROW(A1162)))&\"\"","v":""},"","","",null,null,{"$f":"INDEX(AH:AH,SMALL(ROW($AH$1:$AH$1999)+(1999*($AH$1:$AH$1999=\"\")), ROW(A1162)))&\"\"","v":""},"","","","","","","","","","","","","","","","","","","","","","","","","","","","","","","",{"$f":"INDEX(AJ:AJ,SMALL(ROW($AJ$1:$AJ$1999)+(1999*($AJ$1:$AJ$1999=\"\")), ROW(A1162)))&\"\"","v":""},"",{"$f":"INDEX(AK:AK,SMALL(ROW($AK$1:$AK$1999)+(1999*($AK$1:$AK$1999=\"\")), ROW(A1162)))&\"\"","v":""},"","","",null,"",""]
[null,null,null,null,null,null,null,null,null,null,null,null,null,null,null,null,null,null,null,null,null,null,null,null,null,null,null,null,null,null,null,null,{"$f":"INDEX(C:C, SMALL(ROW(C$1:C$5000)+(5000*(C$1:C$5000=\"\")),ROW(A1163)))&\"\"","v":""},"",{"$f":"INDEX(B:B, SMALL(ROW(B$1:B$5000)+(5000*(B$1:B$5000=\"\")),ROW(A1163)))&\"\"","v":""},"","","",null,null,{"$f":"INDEX(AH:AH,SMALL(ROW($AH$1:$AH$1999)+(1999*($AH$1:$AH$1999=\"\")), ROW(A1163)))&\"\"","v":""},"","","","","","","","","","","","","","","","","","","","","","","","","","","","","","","",{"$f":"INDEX(AJ:AJ,SMALL(ROW($AJ$1:$AJ$1999)+(1999*($AJ$1:$AJ$1999=\"\")), ROW(A1163)))&\"\"","v":""},"",{"$f":"INDEX(AK:AK,SMALL(ROW($AK$1:$AK$1999)+(1999*($AK$1:$AK$1999=\"\")), ROW(A1163)))&\"\"","v":""},"","","",null,"",""]
[null,null,null,null,null,null,null,null,null,null,null,null,null,null,null,null,null,null,null,null,null,null,null,null,null,null,null,null,null,null,null,null,{"$f":"INDEX(C:C, SMALL(ROW(C$1:C$5000)+(5000*(C$1:C$5000=\"\")),ROW(A1166)))&\"\"","v":""},"",{"$f":"INDEX(B:B, SMALL(ROW(B$1:B$5000)+(5000*(B$1:B$5000=\"\")),ROW(A1166)))&\"\"","v":""},"","","",null,null,{"$f":"INDEX(AH:AH,SMALL(ROW($AH$1:$AH$1999)+(1999*($AH$1:$AH$1999=\"\")), ROW(A1166)))&\"\"","v":""},"","","","","","","","","","","","","","","","","","","","","","","","","","","","","","","",{"$f":"INDEX(AJ:AJ,SMALL(ROW($AJ$1:$AJ$1999)+(1999*($AJ$1:$AJ$1999=\"\")), ROW(A1166)))&\"\"","v":""},"",{"$f":"INDEX(AK:AK,SMALL(ROW($AK$1:$AK$1999)+(1999*($AK$1:$AK$1999=\"\")), ROW(A1166)))&\"\"","v":""},"","","",null,"",""]
[null,null,null,null,null,null,null,null,null,null,null,null,null,null,null,null,null,null,null,null,null,null,null,null,null,null,null,null,null,null,null,null,{"$f":"INDEX(C:C, SMALL(ROW(C$1:C$5000)+(5000*(C$1:C$5000=\"\")),ROW(A1169)))&\"\"","v":""},"",{"$f":"INDEX(B:B, SMALL(ROW(B$1:B$5000)+(5000*(B$1:B$5000=\"\")),ROW(A1169)))&\"\"","v":""},"","","",null,null,{"$f":"INDEX(AH:AH,SMALL(ROW($AH$1:$AH$1999)+(1999*($AH$1:$AH$1999=\"\")), ROW(A1169)))&\"\"","v":""},"","","","","","","","","","","","","","","","","","","","","","","","","","","","","","","",{"$f":"INDEX(AJ:AJ,SMALL(ROW($AJ$1:$AJ$1999)+(1999*($AJ$1:$AJ$1999=\"\")), ROW(A1169)))&\"\"","v":""},"",{"$f":"INDEX(AK:AK,SMALL(ROW($AK$1:$AK$1999)+(1999*($AK$1:$AK$1999=\"\")), ROW(A1169)))&\"\"","v":""},"","","",null,"",""]
[null,null,null,null,null,null,null,null,null,null,null,null,null,null,null,null,null,null,null,null,null,null,null,null,null,null,null,null,null,null,null,null,{"$f":"INDEX(C:C, SMALL(ROW(C$1:C$5000)+(5000*(C$1:C$5000=\"\")),ROW(A1173)))&\"\"","v":""},"",{"$f":"INDEX(B:B, SMALL(ROW(B$1:B$5000)+(5000*(B$1:B$5000=\"\")),ROW(A1173)))&\"\"","v":""},"","","",null,null,{"$f":"INDEX(AH:AH,SMALL(ROW($AH$1:$AH$1999)+(1999*($AH$1:$AH$1999=\"\")), ROW(A1173)))&\"\"","v":""},"","","","","","","","","","","","","","","","","","","","","","","","","","","","","","","",{"$f":"INDEX(AJ:AJ,SMALL(ROW($AJ$1:$AJ$1999)+(1999*($AJ$1:$AJ$1999=\"\")), ROW(A1173)))&\"\"","v":""},"",{"$f":"INDEX(AK:AK,SMALL(ROW($AK$1:$AK$1999)+(1999*($AK$1:$AK$1999=\"\")), ROW(A1173)))&\"\"","v":""},"","","",null,"",""]
[null,null,null,null,null,null,null,null,null,null,null,null,null,null,null,null,null,null,null,null,null,null,null,null,null,null,null,null,null,null,null,null,{"$f":"INDEX(C:C, SMALL(ROW(C$1:C$5000)+(5000*(C$1:C$5000=\"\")),ROW(A1175)))&\"\"","v":""},"",{"$f":"INDEX(B:B, SMALL(ROW(B$1:B$5000)+(5000*(B$1:B$5000=\"\")),ROW(A1175)))&\"\"","v":""},"","","",null,null,{"$f":"INDEX(AH:AH,SMALL(ROW($AH$1:$AH$1999)+(1999*($AH$1:$AH$1999=\"\")), ROW(A1175)))&\"\"","v":""},"","","","","","","","","","","","","","","","","","","","","","","","","","","","","","","",{"$f":"INDEX(AJ:AJ,SMALL(ROW($AJ$1:$AJ$1999)+(1999*($AJ$1:$AJ$1999=\"\")), ROW(A1175)))&\"\"","v":""},"",{"$f":"INDEX(AK:AK,SMALL(ROW($AK$1:$AK$1999)+(1999*($AK$1:$AK$1999=\"\")), ROW(A1175)))&\"\"","v":""},"","","",null,"",""]
[null,null,null,null,null,null,null,null,null,null,null,null,null,null,null,null,null,null,null,null,null,null,null,null,null,null,null,null,null,null,null,null,{"$f":"INDEX(C:C, SMALL(ROW(C$1:C$5000)+(5000*(C$1:C$5000=\"\")),ROW(A1178)))&\"\"","v":""},"",{"$f":"INDEX(B:B, SMALL(ROW(B$1:B$5000)+(5000*(B$1:B$5000=\"\")),ROW(A1178)))&\"\"","v":""},"","","",null,null,{"$f":"INDEX(AH:AH,SMALL(ROW($AH$1:$AH$1999)+(1999*($AH$1:$AH$1999=\"\")), ROW(A1178)))&\"\"","v":""},"","","","","","","","","","","","","","","","","","","","","","","","","","","","","","","",{"$f":"INDEX(AJ:AJ,SMALL(ROW($AJ$1:$AJ$1999)+(1999*($AJ$1:$AJ$1999=\"\")), ROW(A1178)))&\"\"","v":""},"",{"$f":"INDEX(AK:AK,SMALL(ROW($AK$1:$AK$1999)+(1999*($AK$1:$AK$1999=\"\")), ROW(A1178)))&\"\"","v":""},"","","",null,"",""]
[null,null,null,null,null,null,null,null,null,null,null,null,null,null,null,null,null,null,null,null,null,null,null,null,null,null,null,null,null,null,null,null,{"$f":"INDEX(C:C, SMALL(ROW(C$1:C$5000)+(5000*(C$1:C$5000=\"\")),ROW(A1182)))&\"\"","v":""},"",{"$f":"INDEX(B:B, SMALL(ROW(B$1:B$5000)+(5000*(B$1:B$5000=\"\")),ROW(A1182)))&\"\"","v":""},"","","",null,null,{"$f":"INDEX(AH:AH,SMALL(ROW($AH$1:$AH$1999)+(1999*($AH$1:$AH$1999=\"\")), ROW(A1182)))&\"\"","v":""},"","","","","","","","","","","",{"$f":"IFERROR(IF(ISNUMBER(SEARCH(\"*TE*\",AZ1182)),BV1182,\"\"),VALUE(0))","v":""},"","","","","","","","","","","","","","","","","","","",{"$f":"INDEX(AJ:AJ,SMALL(ROW($AJ$1:$AJ$1999)+(1999*($AJ$1:$AJ$1999=\"\")), ROW(A1182)))&\"\"","v":""},"",{"$f":"INDEX(AK:AK,SMALL(ROW($AK$1:$AK$1999)+(1999*($AK$1:$AK$1999=\"\")), ROW(A1182)))&\"\"","v":""},"","","",null,"",""]
[null,null,null,null,null,null,null,null,null,null,null,null,null,null,null,null,null,null,null,null,null,null,null,null,null,null,null,null,null,null,null,null,{"$f":"INDEX(C:C, SMALL(ROW(C$1:C$5000)+(5000*(C$1:C$5000=\"\")),ROW(A1184)))&\"\"","v":""},"",{"$f":"INDEX(B:B, SMALL(ROW(B$1:B$5000)+(5000*(B$1:B$5000=\"\")),ROW(A1184)))&\"\"","v":""},"","","",null,null,{"$f":"INDEX(AH:AH,SMALL(ROW($AH$1:$AH$1999)+(1999*($AH$1:$AH$1999=\"\")), ROW(A1184)))&\"\"","v":""},"","","","","","","","","","","","","","","","","","","","","","","","","","","","","","","",{"$f":"INDEX(AJ:AJ,SMALL(ROW($AJ$1:$AJ$1999)+(1999*($AJ$1:$AJ$1999=\"\")), ROW(A1184)))&\"\"","v":""},"",{"$f":"INDEX(AK:AK,SMALL(ROW($AK$1:$AK$1999)+(1999*($AK$1:$AK$1999=\"\")), ROW(A1184)))&\"\"","v":""},"","","",null,"",""]
[null,null,null,null,null,null,null,null,null,null,null,null,null,null,null,null,null,null,null,null,null,null,null,null,null,null,null,null,null,null,null,null,{"$f":"INDEX(C:C, SMALL(ROW(C$1:C$5000)+(5000*(C$1:C$5000=\"\")),ROW(A1185)))&\"\"","v":""},"",{"$f":"INDEX(B:B, SMALL(ROW(B$1:B$5000)+(5000*(B$1:B$5000=\"\")),ROW(A1185)))&\"\"","v":""},"","","",null,null,{"$f":"INDEX(AH:AH,SMALL(ROW($AH$1:$AH$1999)+(1999*($AH$1:$AH$1999=\"\")), ROW(A1185)))&\"\"","v":""},"","","","","","","","","","","","","","","","","","","","","","","","","","","","","","","",{"$f":"INDEX(AJ:AJ,SMALL(ROW($AJ$1:$AJ$1999)+(1999*($AJ$1:$AJ$1999=\"\")), ROW(A1185)))&\"\"","v":""},"",{"$f":"INDEX(AK:AK,SMALL(ROW($AK$1:$AK$1999)+(1999*($AK$1:$AK$1999=\"\")), ROW(A1185)))&\"\"","v":""},"","","",null,"",""]
[null,null,null,null,null,null,null,null,null,null,null,null,null,null,null,null,null,null,null,null,null,null,null,null,null,null,null,null,null,null,null,null,{"$f":"INDEX(C:C, SMALL(ROW(C$1:C$5000)+(5000*(C$1:C$5000=\"\")),ROW(A1188)))&\"\"","v":""},"",{"$f":"INDEX(B:B, SMALL(ROW(B$1:B$5000)+(5000*(B$1:B$5000=\"\")),ROW(A1188)))&\"\"","v":""},"","","",null,null,{"$f":"INDEX(AH:AH,SMALL(ROW($AH$1:$AH$1999)+(1999*($AH$1:$AH$1999=\"\")), ROW(A1188)))&\"\"","v":""},"","","","","","","","","","","","","","","","","","","","","","","","","","","","","","","",{"$f":"INDEX(AJ:AJ,SMALL(ROW($AJ$1:$AJ$1999)+(1999*($AJ$1:$AJ$1999=\"\")), ROW(A1188)))&\"\"","v":""},"",{"$f":"INDEX(AK:AK,SMALL(ROW($AK$1:$AK$1999)+(1999*($AK$1:$AK$1999=\"\")), ROW(A1188)))&\"\"","v":""},"","","",null,"",""]
[null,null,null,null,null,null,null,null,null,null,null,null,null,null,null,null,null,null,null,null,null,null,null,null,null,null,null,null,null,null,null,null,{"$f":"INDEX(C:C, SMALL(ROW(C$1:C$5000)+(5000*(C$1:C$5000=\"\")),ROW(A1191)))&\"\"","v":""},"",{"$f":"INDEX(B:B, SMALL(ROW(B$1:B$5000)+(5000*(B$1:B$5000=\"\")),ROW(A1191)))&\"\"","v":""},"","","",null,null,{"$f":"INDEX(AH:AH,SMALL(ROW($AH$1:$AH$1999)+(1999*($AH$1:$AH$1999=\"\")), ROW(A1191)))&\"\"","v":""},"","","","","","","","","","","","","","","","","","","","","","","","","","","","","","","",{"$f":"INDEX(AJ:AJ,SMALL(ROW($AJ$1:$AJ$1999)+(1999*($AJ$1:$AJ$1999=\"\")), ROW(A1191)))&\"\"","v":""},"",{"$f":"INDEX(AK:AK,SMALL(ROW($AK$1:$AK$1999)+(1999*($AK$1:$AK$1999=\"\")), ROW(A1191)))&\"\"","v":""},"","","",null,"",""]
[null,null,null,null,null,null,null,null,null,null,null,null,null,null,null,null,null,null,null,null,null,null,null,null,null,null,null,null,null,null,null,null,{"$f":"INDEX(C:C, SMALL(ROW(C$1:C$5000)+(5000*(C$1:C$5000=\"\")),ROW(A1195)))&\"\"","v":""},"",{"$f":"INDEX(B:B, SMALL(ROW(B$1:B$5000)+(5000*(B$1:B$5000=\"\")),ROW(A1195)))&\"\"","v":""},"","","",null,null,{"$f":"INDEX(AH:AH,SMALL(ROW($AH$1:$AH$1999)+(1999*($AH$1:$AH$1999=\"\")), ROW(A1195)))&\"\"","v":""},"","","","","","","","","","","","","","","","","","","","","","","","","","","","","","","",{"$f":"INDEX(AJ:AJ,SMALL(ROW($AJ$1:$AJ$1999)+(1999*($AJ$1:$AJ$1999=\"\")), ROW(A1195)))&\"\"","v":""},"",{"$f":"INDEX(AK:AK,SMALL(ROW($AK$1:$AK$1999)+(1999*($AK$1:$AK$1999=\"\")), ROW(A1195)))&\"\"","v":""},"","","",null,"",""]
[null,null,null,null,null,null,null,null,null,null,null,null,null,null,null,null,null,null,null,null,null,null,null,null,null,null,null,null,null,null,null,null,{"$f":"INDEX(C:C, SMALL(ROW(C$1:C$5000)+(5000*(C$1:C$5000=\"\")),ROW(A1197)))&\"\"","v":""},"",{"$f":"INDEX(B:B, SMALL(ROW(B$1:B$5000)+(5000*(B$1:B$5000=\"\")),ROW(A1197)))&\"\"","v":""},"","","",null,null,{"$f":"INDEX(AH:AH,SMALL(ROW($AH$1:$AH$1999)+(1999*($AH$1:$AH$1999=\"\")), ROW(A1197)))&\"\"","v":""},"","","","","","","","","","","","","","","","","","","","","","","","","","","","","","","",{"$f":"INDEX(AJ:AJ,SMALL(ROW($AJ$1:$AJ$1999)+(1999*($AJ$1:$AJ$1999=\"\")), ROW(A1197)))&\"\"","v":""},"",{"$f":"INDEX(AK:AK,SMALL(ROW($AK$1:$AK$1999)+(1999*($AK$1:$AK$1999=\"\")), ROW(A1197)))&\"\"","v":""},"","","",null,"",""]
[null,null,null,null,null,null,null,null,null,null,null,null,null,null,null,null,null,null,null,null,null,null,null,null,null,null,null,null,null,null,null,null,{"$f":"INDEX(C:C, SMALL(ROW(C$1:C$5000)+(5000*(C$1:C$5000=\"\")),ROW(A1201)))&\"\"","v":""},"",{"$f":"INDEX(B:B, SMALL(ROW(B$1:B$5000)+(5000*(B$1:B$5000=\"\")),ROW(A1201)))&\"\"","v":""},"","","",null,null,{"$f":"INDEX(AH:AH,SMALL(ROW($AH$1:$AH$1999)+(1999*($AH$1:$AH$1999=\"\")), ROW(A1201)))&\"\"","v":""},"","","","","","","","","","","","","","","","","","","","","","","","","","","","","","","",{"$f":"INDEX(AJ:AJ,SMALL(ROW($AJ$1:$AJ$1999)+(1999*($AJ$1:$AJ$1999=\"\")), ROW(A1201)))&\"\"","v":""},"",{"$f":"INDEX(AK:AK,SMALL(ROW($AK$1:$AK$1999)+(1999*($AK$1:$AK$1999=\"\")), ROW(A1201)))&\"\"","v":""},"","","",null,"",""]
[null,null,null,null,null,null,null,null,null,null,null,null,null,null,null,null,null,null,null,null,null,null,null,null,null,null,null,null,null,null,null,null,{"$f":"INDEX(C:C, SMALL(ROW(C$1:C$5000)+(5000*(C$1:C$5000=\"\")),ROW(A1204)))&\"\"","v":""},"",{"$f":"INDEX(B:B, SMALL(ROW(B$1:B$5000)+(5000*(B$1:B$5000=\"\")),ROW(A1204)))&\"\"","v":""},"","","",null,null,{"$f":"INDEX(AH:AH,SMALL(ROW($AH$1:$AH$1999)+(1999*($AH$1:$AH$1999=\"\")), ROW(A1204)))&\"\"","v":""},"","","","","","","","","","","","","","","","","","","","","","","","","","","","","","","",{"$f":"INDEX(AJ:AJ,SMALL(ROW($AJ$1:$AJ$1999)+(1999*($AJ$1:$AJ$1999=\"\")), ROW(A1204)))&\"\"","v":""},"",{"$f":"INDEX(AK:AK,SMALL(ROW($AK$1:$AK$1999)+(1999*($AK$1:$AK$1999=\"\")), ROW(A1204)))&\"\"","v":""},"","","",null,"",""]
[null,null,null,null,null,null,null,null,null,null,null,null,null,null,null,null,null,null,null,null,null,null,null,null,null,null,null,null,null,null,null,null,{"$f":"INDEX(C:C, SMALL(ROW(C$1:C$5000)+(5000*(C$1:C$5000=\"\")),ROW(A1206)))&\"\"","v":""},"",{"$f":"INDEX(B:B, SMALL(ROW(B$1:B$5000)+(5000*(B$1:B$5000=\"\")),ROW(A1206)))&\"\"","v":""},"","","",null,null,{"$f":"INDEX(AH:AH,SMALL(ROW($AH$1:$AH$1999)+(1999*($AH$1:$AH$1999=\"\")), ROW(A1206)))&\"\"","v":""},"","","","","","","","","","","","","","","","","","","","","","","","","","","","","","","",{"$f":"INDEX(AJ:AJ,SMALL(ROW($AJ$1:$AJ$1999)+(1999*($AJ$1:$AJ$1999=\"\")), ROW(A1206)))&\"\"","v":""},"",{"$f":"INDEX(AK:AK,SMALL(ROW($AK$1:$AK$1999)+(1999*($AK$1:$AK$1999=\"\")), ROW(A1206)))&\"\"","v":""},"","","",null,"",""]
[null,null,null,null,null,null,null,null,null,null,null,null,null,null,null,null,null,null,null,null,null,null,null,null,null,null,null,null,null,null,null,null,{"$f":"INDEX(C:C, SMALL(ROW(C$1:C$5000)+(5000*(C$1:C$5000=\"\")),ROW(A1207)))&\"\"","v":""},"",{"$f":"INDEX(B:B, SMALL(ROW(B$1:B$5000)+(5000*(B$1:B$5000=\"\")),ROW(A1207)))&\"\"","v":""},"","","",null,null,{"$f":"INDEX(AH:AH,SMALL(ROW($AH$1:$AH$1999)+(1999*($AH$1:$AH$1999=\"\")), ROW(A1207)))&\"\"","v":""},"","","","","","","","","","","","","","","","","","","","","","","","","","","","","","","",{"$f":"INDEX(AJ:AJ,SMALL(ROW($AJ$1:$AJ$1999)+(1999*($AJ$1:$AJ$1999=\"\")), ROW(A1207)))&\"\"","v":""},"",{"$f":"INDEX(AK:AK,SMALL(ROW($AK$1:$AK$1999)+(1999*($AK$1:$AK$1999=\"\")), ROW(A1207)))&\"\"","v":""},"","","",null,"",""]
[null,null,null,null,null,null,null,null,null,null,null,null,null,null,null,null,null,null,null,null,null,null,null,null,null,null,null,null,null,null,null,null,{"$f":"INDEX(C:C, SMALL(ROW(C$1:C$5000)+(5000*(C$1:C$5000=\"\")),ROW(A1210)))&\"\"","v":""},"",{"$f":"INDEX(B:B, SMALL(ROW(B$1:B$5000)+(5000*(B$1:B$5000=\"\")),ROW(A1210)))&\"\"","v":""},"","","",null,null,{"$f":"INDEX(AH:AH,SMALL(ROW($AH$1:$AH$1999)+(1999*($AH$1:$AH$1999=\"\")), ROW(A1210)))&\"\"","v":""},"","","","","","","","","","","","","","","","","","","","","","","","","","","","","","","",{"$f":"INDEX(AJ:AJ,SMALL(ROW($AJ$1:$AJ$1999)+(1999*($AJ$1:$AJ$1999=\"\")), ROW(A1210)))&\"\"","v":""},"",{"$f":"INDEX(AK:AK,SMALL(ROW($AK$1:$AK$1999)+(1999*($AK$1:$AK$1999=\"\")), ROW(A1210)))&\"\"","v":""},"","","",null,"",""]
[null,null,null,null,null,null,null,null,null,null,null,null,null,null,null,null,null,null,null,null,null,null,null,null,null,null,null,null,null,null,null,null,{"$f":"INDEX(C:C, SMALL(ROW(C$1:C$5000)+(5000*(C$1:C$5000=\"\")),ROW(A1213)))&\"\"","v":""},"",{"$f":"INDEX(B:B, SMALL(ROW(B$1:B$5000)+(5000*(B$1:B$5000=\"\")),ROW(A1213)))&\"\"","v":""},"","","",null,null,{"$f":"INDEX(AH:AH,SMALL(ROW($AH$1:$AH$1999)+(1999*($AH$1:$AH$1999=\"\")), ROW(A1213)))&\"\"","v":""},"","","","","","","","","","","","","","","","","","","","","","","","","","","","","","","",{"$f":"INDEX(AJ:AJ,SMALL(ROW($AJ$1:$AJ$1999)+(1999*($AJ$1:$AJ$1999=\"\")), ROW(A1213)))&\"\"","v":""},"",{"$f":"INDEX(AK:AK,SMALL(ROW($AK$1:$AK$1999)+(1999*($AK$1:$AK$1999=\"\")), ROW(A1213)))&\"\"","v":""},"","","",null,"",""]
[null,null,null,null,null,null,null,null,null,null,null,null,null,null,null,null,null,null,null,null,null,null,null,null,null,null,null,null,null,null,null,null,{"$f":"INDEX(C:C, SMALL(ROW(C$1:C$5000)+(5000*(C$1:C$5000=\"\")),ROW(A1217)))&\"\"","v":""},{"$f":"IF(ISNUMBER(SEARCH(\"*,*\",AG1217)),AG1217,\"\")","v":""},{"$f":"INDEX(B:B, SMALL(ROW(B$1:B$5000)+(5000*(B$1:B$5000=\"\")),ROW(A1217)))&\"\"","v":""},"","",{"$f":"IF(ISNUMBER(SEARCH(\"*Round*\",AI1217)),AI1217,\"\")","v":""},null,null,{"$f":"INDEX(AH:AH,SMALL(ROW($AH$1:$AH$1999)+(1999*($AH$1:$AH$1999=\"\")), ROW(A1217)))&\"\"","v":""},"","","","","","","","","","","","","","","","","","","","","","","","","","","","","","","",{"$f":"INDEX(AJ:AJ,SMALL(ROW($AJ$1:$AJ$1999)+(1999*($AJ$1:$AJ$1999=\"\")), ROW(A1217)))&\"\"","v":""},"",{"$f":"INDEX(AK:AK,SMALL(ROW($AK$1:$AK$1999)+(1999*($AK$1:$AK$1999=\"\")), ROW(A1217)))&\"\"","v":""},"","","",null,"",""]
[null,null,null,null,null,null,null,null,null,null,null,null,null,null,null,null,null,null,null,null,null,null,null,null,null,null,null,null,null,null,null,null,{"$f":"INDEX(C:C, SMALL(ROW(C$1:C$5000)+(5000*(C$1:C$5000=\"\")),ROW(A1219)))&\"\"","v":""},"",{"$f":"INDEX(B:B, SMALL(ROW(B$1:B$5000)+(5000*(B$1:B$5000=\"\")),ROW(A1219)))&\"\"","v":""},"","","",null,null,{"$f":"INDEX(AH:AH,SMALL(ROW($AH$1:$AH$1999)+(1999*($AH$1:$AH$1999=\"\")), ROW(A1219)))&\"\"","v":""},"","","","","","","","","","","","","","","","","","","","","","","","","","","","","","","",{"$f":"INDEX(AJ:AJ,SMALL(ROW($AJ$1:$AJ$1999)+(1999*($AJ$1:$AJ$1999=\"\")), ROW(A1219)))&\"\"","v":""},"",{"$f":"INDEX(AK:AK,SMALL(ROW($AK$1:$AK$1999)+(1999*($AK$1:$AK$1999=\"\")), ROW(A1219)))&\"\"","v":""},"","","",null,"",""]
[null,null,null,null,null,null,null,null,null,null,null,null,null,null,null,null,null,null,null,null,null,null,null,null,null,null,null,null,null,null,null,null,{"$f":"INDEX(C:C, SMALL(ROW(C$1:C$5000)+(5000*(C$1:C$5000=\"\")),ROW(A1223)))&\"\"","v":""},"",{"$f":"INDEX(B:B, SMALL(ROW(B$1:B$5000)+(5000*(B$1:B$5000=\"\")),ROW(A1223)))&\"\"","v":""},"","","",null,null,{"$f":"INDEX(AH:AH,SMALL(ROW($AH$1:$AH$1999)+(1999*($AH$1:$AH$1999=\"\")), ROW(A1223)))&\"\"","v":""},"","","","","","","","","","","","","","","","","","","","","","","","","","","","","","","",{"$f":"INDEX(AJ:AJ,SMALL(ROW($AJ$1:$AJ$1999)+(1999*($AJ$1:$AJ$1999=\"\")), ROW(A1223)))&\"\"","v":""},"",{"$f":"INDEX(AK:AK,SMALL(ROW($AK$1:$AK$1999)+(1999*($AK$1:$AK$1999=\"\")), ROW(A1223)))&\"\"","v":""},"","","",null,"",""]
[null,null,null,null,null,null,null,null,null,null,null,null,null,null,null,null,null,null,null,null,null,null,null,null,null,null,null,null,null,null,null,null,{"$f":"INDEX(C:C, SMALL(ROW(C$1:C$5000)+(5000*(C$1:C$5000=\"\")),ROW(A1226)))&\"\"","v":""},"",{"$f":"INDEX(B:B, SMALL(ROW(B$1:B$5000)+(5000*(B$1:B$5000=\"\")),ROW(A1226)))&\"\"","v":""},"","","",null,null,{"$f":"INDEX(AH:AH,SMALL(ROW($AH$1:$AH$1999)+(1999*($AH$1:$AH$1999=\"\")), ROW(A1226)))&\"\"","v":""},"","","","","","","","","","","","","","","","","","","","","","","","","","","","","","","",{"$f":"INDEX(AJ:AJ,SMALL(ROW($AJ$1:$AJ$1999)+(1999*($AJ$1:$AJ$1999=\"\")), ROW(A1226)))&\"\"","v":""},"",{"$f":"INDEX(AK:AK,SMALL(ROW($AK$1:$AK$1999)+(1999*($AK$1:$AK$1999=\"\")), ROW(A1226)))&\"\"","v":""},"","","",null,"",""]
[null,null,null,null,null,null,null,null,null,null,null,null,null,null,null,null,null,null,null,null,null,null,null,null,null,null,null,null,null,null,null,null,{"$f":"INDEX(C:C, SMALL(ROW(C$1:C$5000)+(5000*(C$1:C$5000=\"\")),ROW(A1228)))&\"\"","v":""},"",{"$f":"INDEX(B:B, SMALL(ROW(B$1:B$5000)+(5000*(B$1:B$5000=\"\")),ROW(A1228)))&\"\"","v":""},"","","",null,null,{"$f":"INDEX(AH:AH,SMALL(ROW($AH$1:$AH$1999)+(1999*($AH$1:$AH$1999=\"\")), ROW(A1228)))&\"\"","v":""},"","","","","","","","","","","","","","","","","","","","","","","","","","","","","","","",{"$f":"INDEX(AJ:AJ,SMALL(ROW($AJ$1:$AJ$1999)+(1999*($AJ$1:$AJ$1999=\"\")), ROW(A1228)))&\"\"","v":""},"",{"$f":"INDEX(AK:AK,SMALL(ROW($AK$1:$AK$1999)+(1999*($AK$1:$AK$1999=\"\")), ROW(A1228)))&\"\"","v":""},"","","",null,"",""]
[null,null,null,null,null,null,null,null,null,null,null,null,null,null,null,null,null,null,null,null,null,null,null,null,null,null,null,null,null,null,null,null,{"$f":"INDEX(C:C, SMALL(ROW(C$1:C$5000)+(5000*(C$1:C$5000=\"\")),ROW(A1229)))&\"\"","v":""},"",{"$f":"INDEX(B:B, SMALL(ROW(B$1:B$5000)+(5000*(B$1:B$5000=\"\")),ROW(A1229)))&\"\"","v":""},"","","",null,null,{"$f":"INDEX(AH:AH,SMALL(ROW($AH$1:$AH$1999)+(1999*($AH$1:$AH$1999=\"\")), ROW(A1229)))&\"\"","v":""},"","","","","","","","","","","","","","","","","","","","","","","","","","","","","","","",{"$f":"INDEX(AJ:AJ,SMALL(ROW($AJ$1:$AJ$1999)+(1999*($AJ$1:$AJ$1999=\"\")), ROW(A1229)))&\"\"","v":""},"",{"$f":"INDEX(AK:AK,SMALL(ROW($AK$1:$AK$1999)+(1999*($AK$1:$AK$1999=\"\")), ROW(A1229)))&\"\"","v":""},"","","",null,"",""]
[null,null,null,null,null,null,null,null,null,null,null,null,null,null,null,null,null,null,null,null,null,null,null,null,null,null,null,null,null,null,null,null,{"$f":"INDEX(C:C, SMALL(ROW(C$1:C$5000)+(5000*(C$1:C$5000=\"\")),ROW(A1232)))&\"\"","v":""},"",{"$f":"INDEX(B:B, SMALL(ROW(B$1:B$5000)+(5000*(B$1:B$5000=\"\")),ROW(A1232)))&\"\"","v":""},"","","",null,null,{"$f":"INDEX(AH:AH,SMALL(ROW($AH$1:$AH$1999)+(1999*($AH$1:$AH$1999=\"\")), ROW(A1232)))&\"\"","v":""},"","","","","","","","","","","","","","","","","","","","","","","","","","","","","","","",{"$f":"INDEX(AJ:AJ,SMALL(ROW($AJ$1:$AJ$1999)+(1999*($AJ$1:$AJ$1999=\"\")), ROW(A1232)))&\"\"","v":""},"",{"$f":"INDEX(AK:AK,SMALL(ROW($AK$1:$AK$1999)+(1999*($AK$1:$AK$1999=\"\")), ROW(A1232)))&\"\"","v":""},"","","",null,"",""]
[null,null,null,null,null,null,null,null,null,null,null,null,null,null,null,null,null,null,null,null,null,null,null,null,null,null,null,null,null,null,null,null,{"$f":"INDEX(C:C, SMALL(ROW(C$1:C$5000)+(5000*(C$1:C$5000=\"\")),ROW(A1235)))&\"\"","v":""},"",{"$f":"INDEX(B:B, SMALL(ROW(B$1:B$5000)+(5000*(B$1:B$5000=\"\")),ROW(A1235)))&\"\"","v":""},"","","",null,null,{"$f":"INDEX(AH:AH,SMALL(ROW($AH$1:$AH$1999)+(1999*($AH$1:$AH$1999=\"\")), ROW(A1235)))&\"\"","v":""},"","","","","","","","","","","","","","","","","","","","","","","","","","","","","","","",{"$f":"INDEX(AJ:AJ,SMALL(ROW($AJ$1:$AJ$1999)+(1999*($AJ$1:$AJ$1999=\"\")), ROW(A1235)))&\"\"","v":""},"",{"$f":"INDEX(AK:AK,SMALL(ROW($AK$1:$AK$1999)+(1999*($AK$1:$AK$1999=\"\")), ROW(A1235)))&\"\"","v":""},"","","",null,"",""]
[null,null,null,null,null,null,null,null,null,null,null,null,null,null,null,null,null,null,null,null,null,null,null,null,null,null,null,null,null,null,null,null,{"$f":"INDEX(C:C, SMALL(ROW(C$1:C$5000)+(5000*(C$1:C$5000=\"\")),ROW(A1239)))&\"\"","v":""},"",{"$f":"INDEX(B:B, SMALL(ROW(B$1:B$5000)+(5000*(B$1:B$5000=\"\")),ROW(A1239)))&\"\"","v":""},"","","",null,null,{"$f":"INDEX(AH:AH,SMALL(ROW($AH$1:$AH$1999)+(1999*($AH$1:$AH$1999=\"\")), ROW(A1239)))&\"\"","v":""},"","","","","","","","","","","","","","","","","","","","","","","","","","","","","","","",{"$f":"INDEX(AJ:AJ,SMALL(ROW($AJ$1:$AJ$1999)+(1999*($AJ$1:$AJ$1999=\"\")), ROW(A1239)))&\"\"","v":""},"",{"$f":"INDEX(AK:AK,SMALL(ROW($AK$1:$AK$1999)+(1999*($AK$1:$AK$1999=\"\")), ROW(A1239)))&\"\"","v":""},"","","",null,"",""]
[null,null,null,null,null,null,null,null,null,null,null,null,null,null,null,null,null,null,null,null,null,null,null,null,null,null,null,null,null,null,null,null,{"$f":"INDEX(C:C, SMALL(ROW(C$1:C$5000)+(5000*(C$1:C$5000=\"\")),ROW(A1241)))&\"\"","v":""},"",{"$f":"INDEX(B:B, SMALL(ROW(B$1:B$5000)+(5000*(B$1:B$5000=\"\")),ROW(A1241)))&\"\"","v":""},"","","",null,null,{"$f":"INDEX(AH:AH,SMALL(ROW($AH$1:$AH$1999)+(1999*($AH$1:$AH$1999=\"\")), ROW(A1241)))&\"\"","v":""},"","","","","","","","","","","","","","","","","","","","","","","","","","","","","","","",{"$f":"INDEX(AJ:AJ,SMALL(ROW($AJ$1:$AJ$1999)+(1999*($AJ$1:$AJ$1999=\"\")), ROW(A1241)))&\"\"","v":""},"",{"$f":"INDEX(AK:AK,SMALL(ROW($AK$1:$AK$1999)+(1999*($AK$1:$AK$1999=\"\")), ROW(A1241)))&\"\"","v":""},"","","",null,"",""]
[null,null,null,null,null,null,null,null,null,null,null,null,null,null,null,null,null,null,null,null,null,null,null,null,null,null,null,null,null,null,null,null,{"$f":"INDEX(C:C, SMALL(ROW(C$1:C$5000)+(5000*(C$1:C$5000=\"\")),ROW(A1245)))&\"\"","v":""},"",{"$f":"INDEX(B:B, SMALL(ROW(B$1:B$5000)+(5000*(B$1:B$5000=\"\")),ROW(A1245)))&\"\"","v":""},"","","",null,null,{"$f":"INDEX(AH:AH,SMALL(ROW($AH$1:$AH$1999)+(1999*($AH$1:$AH$1999=\"\")), ROW(A1245)))&\"\"","v":""},"","","","","","","","","","","","","","","","","","","","","","","","","","","","","","","",{"$f":"INDEX(AJ:AJ,SMALL(ROW($AJ$1:$AJ$1999)+(1999*($AJ$1:$AJ$1999=\"\")), ROW(A1245)))&\"\"","v":""},"",{"$f":"INDEX(AK:AK,SMALL(ROW($AK$1:$AK$1999)+(1999*($AK$1:$AK$1999=\"\")), ROW(A1245)))&\"\"","v":""},"","","",null,"",""]
[null,null,null,null,null,null,null,null,null,null,null,null,null,null,null,null,null,null,null,null,null,null,null,null,null,null,null,null,null,null,null,null,{"$f":"INDEX(C:C, SMALL(ROW(C$1:C$5000)+(5000*(C$1:C$5000=\"\")),ROW(A1248)))&\"\"","v":""},"",{"$f":"INDEX(B:B, SMALL(ROW(B$1:B$5000)+(5000*(B$1:B$5000=\"\")),ROW(A1248)))&\"\"","v":""},"","","",null,null,{"$f":"INDEX(AH:AH,SMALL(ROW($AH$1:$AH$1999)+(1999*($AH$1:$AH$1999=\"\")), ROW(A1248)))&\"\"","v":""},"","","","","","","","","","","","","","","","","","","","","","","","","","","","","","","",{"$f":"INDEX(AJ:AJ,SMALL(ROW($AJ$1:$AJ$1999)+(1999*($AJ$1:$AJ$1999=\"\")), ROW(A1248)))&\"\"","v":""},"",{"$f":"INDEX(AK:AK,SMALL(ROW($AK$1:$AK$1999)+(1999*($AK$1:$AK$1999=\"\")), ROW(A1248)))&\"\"","v":""},"","","",null,"",""]
[null,null,null,null,null,null,null,null,null,null,null,null,null,null,null,null,null,null,null,null,null,null,null,null,null,null,null,null,null,null,null,null,{"$f":"INDEX(C:C, SMALL(ROW(C$1:C$5000)+(5000*(C$1:C$5000=\"\")),ROW(A1250)))&\"\"","v":""},"",{"$f":"INDEX(B:B, SMALL(ROW(B$1:B$5000)+(5000*(B$1:B$5000=\"\")),ROW(A1250)))&\"\"","v":""},"","","",null,null,{"$f":"INDEX(AH:AH,SMALL(ROW($AH$1:$AH$1999)+(1999*($AH$1:$AH$1999=\"\")), ROW(A1250)))&\"\"","v":""},"","","","","","","","","","","","","","","","","","","","","","","","","","","","","","","",{"$f":"INDEX(AJ:AJ,SMALL(ROW($AJ$1:$AJ$1999)+(1999*($AJ$1:$AJ$1999=\"\")), ROW(A1250)))&\"\"","v":""},"",{"$f":"INDEX(AK:AK,SMALL(ROW($AK$1:$AK$1999)+(1999*($AK$1:$AK$1999=\"\")), ROW(A1250)))&\"\"","v":""},"","","",null,"",""]
[null,null,null,null,null,null,null,null,null,null,null,null,null,null,null,null,null,null,null,null,null,null,null,null,null,null,null,null,null,null,null,null,{"$f":"INDEX(C:C, SMALL(ROW(C$1:C$5000)+(5000*(C$1:C$5000=\"\")),ROW(A1251)))&\"\"","v":""},"",{"$f":"INDEX(B:B, SMALL(ROW(B$1:B$5000)+(5000*(B$1:B$5000=\"\")),ROW(A1251)))&\"\"","v":""},"","","",null,null,{"$f":"INDEX(AH:AH,SMALL(ROW($AH$1:$AH$1999)+(1999*($AH$1:$AH$1999=\"\")), ROW(A1251)))&\"\"","v":""},"","","","","","","","","","","","","","","","","","","","","","","","","","","","","","","",{"$f":"INDEX(AJ:AJ,SMALL(ROW($AJ$1:$AJ$1999)+(1999*($AJ$1:$AJ$1999=\"\")), ROW(A1251)))&\"\"","v":""},"",{"$f":"INDEX(AK:AK,SMALL(ROW($AK$1:$AK$1999)+(1999*($AK$1:$AK$1999=\"\")), ROW(A1251)))&\"\"","v":""},"","","",null,"",""]
[null,null,null,null,null,null,null,null,null,null,null,null,null,null,null,null,null,null,null,null,null,null,null,null,null,null,null,null,null,null,null,null,{"$f":"INDEX(C:C, SMALL(ROW(C$1:C$5000)+(5000*(C$1:C$5000=\"\")),ROW(A1254)))&\"\"","v":""},"",{"$f":"INDEX(B:B, SMALL(ROW(B$1:B$5000)+(5000*(B$1:B$5000=\"\")),ROW(A1254)))&\"\"","v":""},"","","",null,null,{"$f":"INDEX(AH:AH,SMALL(ROW($AH$1:$AH$1999)+(1999*($AH$1:$AH$1999=\"\")), ROW(A1254)))&\"\"","v":""},"","","","","","","","","","","","","","","","","","","","","","","","","","","","","","","",{"$f":"INDEX(AJ:AJ,SMALL(ROW($AJ$1:$AJ$1999)+(1999*($AJ$1:$AJ$1999=\"\")), ROW(A1254)))&\"\"","v":""},"",{"$f":"INDEX(AK:AK,SMALL(ROW($AK$1:$AK$1999)+(1999*($AK$1:$AK$1999=\"\")), ROW(A1254)))&\"\"","v":""},"","","",null,"",""]
[null,null,null,null,null,null,null,null,null,null,null,null,null,null,null,null,null,null,null,null,null,null,null,null,null,null,null,null,null,null,null,null,{"$f":"INDEX(C:C, SMALL(ROW(C$1:C$5000)+(5000*(C$1:C$5000=\"\")),ROW(A1258)))&\"\"","v":""},"",{"$f":"INDEX(B:B, SMALL(ROW(B$1:B$5000)+(5000*(B$1:B$5000=\"\")),ROW(A1258)))&\"\"","v":""},"","","",null,null,{"$f":"INDEX(AH:AH,SMALL(ROW($AH$1:$AH$1999)+(1999*($AH$1:$AH$1999=\"\")), ROW(A1258)))&\"\"","v":""},"","","","","","","","","","","","","","","","","","","","","","","","","","","","","","","",{"$f":"INDEX(AJ:AJ,SMALL(ROW($AJ$1:$AJ$1999)+(1999*($AJ$1:$AJ$1999=\"\")), ROW(A1258)))&\"\"","v":""},"",{"$f":"INDEX(AK:AK,SMALL(ROW($AK$1:$AK$1999)+(1999*($AK$1:$AK$1999=\"\")), ROW(A1258)))&\"\"","v":""},"","","",null,"",""]
[null,null,null,null,null,null,null,null,null,null,null,null,null,null,null,null,null,null,null,null,null,null,null,null,null,null,null,null,null,null,null,null,{"$f":"INDEX(C:C, SMALL(ROW(C$1:C$5000)+(5000*(C$1:C$5000=\"\")),ROW(A1261)))&\"\"","v":""},"",{"$f":"INDEX(B:B, SMALL(ROW(B$1:B$5000)+(5000*(B$1:B$5000=\"\")),ROW(A1261)))&\"\"","v":""},"","","",null,null,{"$f":"INDEX(AH:AH,SMALL(ROW($AH$1:$AH$1999)+(1999*($AH$1:$AH$1999=\"\")), ROW(A1261)))&\"\"","v":""},"","","","","","","","","","","","","","","","","","","","","","","","","","","","","","","",{"$f":"INDEX(AJ:AJ,SMALL(ROW($AJ$1:$AJ$1999)+(1999*($AJ$1:$AJ$1999=\"\")), ROW(A1261)))&\"\"","v":""},"",{"$f":"INDEX(AK:AK,SMALL(ROW($AK$1:$AK$1999)+(1999*($AK$1:$AK$1999=\"\")), ROW(A1261)))&\"\"","v":""},"","","",null,"",""]
[null,null,null,null,null,null,null,null,null,null,null,null,null,null,null,null,null,null,null,null,null,null,null,null,null,null,null,null,null,null,null,null,{"$f":"INDEX(C:C, SMALL(ROW(C$1:C$5000)+(5000*(C$1:C$5000=\"\")),ROW(A1263)))&\"\"","v":""},"",{"$f":"INDEX(B:B, SMALL(ROW(B$1:B$5000)+(5000*(B$1:B$5000=\"\")),ROW(A1263)))&\"\"","v":""},"","","",null,null,{"$f":"INDEX(AH:AH,SMALL(ROW($AH$1:$AH$1999)+(1999*($AH$1:$AH$1999=\"\")), ROW(A1263)))&\"\"","v":""},"","","","","","","","","","","","","","","","","","","","","","","","","","","","","","","",{"$f":"INDEX(AJ:AJ,SMALL(ROW($AJ$1:$AJ$1999)+(1999*($AJ$1:$AJ$1999=\"\")), ROW(A1263)))&\"\"","v":""},"",{"$f":"INDEX(AK:AK,SMALL(ROW($AK$1:$AK$1999)+(1999*($AK$1:$AK$1999=\"\")), ROW(A1263)))&\"\"","v":""},"","","",null,"",""]
[null,null,null,null,null,null,null,null,null,null,null,null,null,null,null,null,null,null,null,null,null,null,null,null,null,null,null,null,null,null,null,null,{"$f":"INDEX(C:C, SMALL(ROW(C$1:C$5000)+(5000*(C$1:C$5000=\"\")),ROW(A1267)))&\"\"","v":""},"",{"$f":"INDEX(B:B, SMALL(ROW(B$1:B$5000)+(5000*(B$1:B$5000=\"\")),ROW(A1267)))&\"\"","v":""},"","","",null,null,{"$f":"INDEX(AH:AH,SMALL(ROW($AH$1:$AH$1999)+(1999*($AH$1:$AH$1999=\"\")), ROW(A1267)))&\"\"","v":""},"","","","","","","","","","","","","","","","","","","","","","","","","","","","","","","",{"$f":"INDEX(AJ:AJ,SMALL(ROW($AJ$1:$AJ$1999)+(1999*($AJ$1:$AJ$1999=\"\")), ROW(A1267)))&\"\"","v":""},"",{"$f":"INDEX(AK:AK,SMALL(ROW($AK$1:$AK$1999)+(1999*($AK$1:$AK$1999=\"\")), ROW(A1267)))&\"\"","v":""},"","","",null,"",""]
[null,null,null,null,null,null,null,null,null,null,null,null,null,null,null,null,null,null,null,null,null,null,null,null,null,null,null,null,null,null,null,null,{"$f":"INDEX(C:C, SMALL(ROW(C$1:C$5000)+(5000*(C$1:C$5000=\"\")),ROW(A1270)))&\"\"","v":""},"",{"$f":"INDEX(B:B, SMALL(ROW(B$1:B$5000)+(5000*(B$1:B$5000=\"\")),ROW(A1270)))&\"\"","v":""},"","","",null,null,{"$f":"INDEX(AH:AH,SMALL(ROW($AH$1:$AH$1999)+(1999*($AH$1:$AH$1999=\"\")), ROW(A1270)))&\"\"","v":""},"","","","","","","","","","","","","","","","","","","","","","","","","","","","","","","",{"$f":"INDEX(AJ:AJ,SMALL(ROW($AJ$1:$AJ$1999)+(1999*($AJ$1:$AJ$1999=\"\")), ROW(A1270)))&\"\"","v":""},"",{"$f":"INDEX(AK:AK,SMALL(ROW($AK$1:$AK$1999)+(1999*($AK$1:$AK$1999=\"\")), ROW(A1270)))&\"\"","v":""},"","","",null,"",""]
[null,null,null,null,null,null,null,null,null,null,null,null,null,null,null,null,null,null,null,null,null,null,null,null,null,null,null,null,null,null,null,null,{"$f":"INDEX(C:C, SMALL(ROW(C$1:C$5000)+(5000*(C$1:C$5000=\"\")),ROW(A1272)))&\"\"","v":""},"",{"$f":"INDEX(B:B, SMALL(ROW(B$1:B$5000)+(5000*(B$1:B$5000=\"\")),ROW(A1272)))&\"\"","v":""},"","","",null,null,{"$f":"INDEX(AH:AH,SMALL(ROW($AH$1:$AH$1999)+(1999*($AH$1:$AH$1999=\"\")), ROW(A1272)))&\"\"","v":""},"","","","","","","","","","","","","","","","","","","","","","","","","","","","","","","",{"$f":"INDEX(AJ:AJ,SMALL(ROW($AJ$1:$AJ$1999)+(1999*($AJ$1:$AJ$1999=\"\")), ROW(A1272)))&\"\"","v":""},"",{"$f":"INDEX(AK:AK,SMALL(ROW($AK$1:$AK$1999)+(1999*($AK$1:$AK$1999=\"\")), ROW(A1272)))&\"\"","v":""},"","","",null,"",""]
[null,null,null,null,null,null,null,null,null,null,null,null,null,null,null,null,null,null,null,null,null,null,null,null,null,null,null,null,null,null,null,null,{"$f":"INDEX(C:C, SMALL(ROW(C$1:C$5000)+(5000*(C$1:C$5000=\"\")),ROW(A1273)))&\"\"","v":""},"",{"$f":"INDEX(B:B, SMALL(ROW(B$1:B$5000)+(5000*(B$1:B$5000=\"\")),ROW(A1273)))&\"\"","v":""},"","","",null,null,{"$f":"INDEX(AH:AH,SMALL(ROW($AH$1:$AH$1999)+(1999*($AH$1:$AH$1999=\"\")), ROW(A1273)))&\"\"","v":""},"","","","","","","","","","","","","","","","","","","","","","","","","","","","","","","",{"$f":"INDEX(AJ:AJ,SMALL(ROW($AJ$1:$AJ$1999)+(1999*($AJ$1:$AJ$1999=\"\")), ROW(A1273)))&\"\"","v":""},"",{"$f":"INDEX(AK:AK,SMALL(ROW($AK$1:$AK$1999)+(1999*($AK$1:$AK$1999=\"\")), ROW(A1273)))&\"\"","v":""},"","","",null,"",""]
[null,null,null,null,null,null,null,null,null,null,null,null,null,null,null,null,null,null,null,null,null,null,null,null,null,null,null,null,null,null,null,null,{"$f":"INDEX(C:C, SMALL(ROW(C$1:C$5000)+(5000*(C$1:C$5000=\"\")),ROW(A1276)))&\"\"","v":""},"",{"$f":"INDEX(B:B, SMALL(ROW(B$1:B$5000)+(5000*(B$1:B$5000=\"\")),ROW(A1276)))&\"\"","v":""},"","","",null,null,{"$f":"INDEX(AH:AH,SMALL(ROW($AH$1:$AH$1999)+(1999*($AH$1:$AH$1999=\"\")), ROW(A1276)))&\"\"","v":""},"","","","","","","","","","","","","","","","","","","","","","","","","","","","","","","",{"$f":"INDEX(AJ:AJ,SMALL(ROW($AJ$1:$AJ$1999)+(1999*($AJ$1:$AJ$1999=\"\")), ROW(A1276)))&\"\"","v":""},"",{"$f":"INDEX(AK:AK,SMALL(ROW($AK$1:$AK$1999)+(1999*($AK$1:$AK$1999=\"\")), ROW(A1276)))&\"\"","v":""},"","","",null,"",""]
[null,null,null,null,null,null,null,null,null,null,null,null,null,null,null,null,null,null,null,null,null,null,null,null,null,null,null,null,null,null,null,null,{"$f":"INDEX(C:C, SMALL(ROW(C$1:C$5000)+(5000*(C$1:C$5000=\"\")),ROW(A1280)))&\"\"","v":""},"",{"$f":"INDEX(B:B, SMALL(ROW(B$1:B$5000)+(5000*(B$1:B$5000=\"\")),ROW(A1280)))&\"\"","v":""},"","","",null,null,{"$f":"INDEX(AH:AH,SMALL(ROW($AH$1:$AH$1999)+(1999*($AH$1:$AH$1999=\"\")), ROW(A1280)))&\"\"","v":""},"","","","","","","","","","","","","","","","","","","","","","","","","","","","","","","",{"$f":"INDEX(AJ:AJ,SMALL(ROW($AJ$1:$AJ$1999)+(1999*($AJ$1:$AJ$1999=\"\")), ROW(A1280)))&\"\"","v":""},"",{"$f":"INDEX(AK:AK,SMALL(ROW($AK$1:$AK$1999)+(1999*($AK$1:$AK$1999=\"\")), ROW(A1280)))&\"\"","v":""},"","","",null,"",""]
[null,null,null,null,null,null,null,null,null,null,null,null,null,null,null,null,null,null,null,null,null,null,null,null,null,null,null,null,null,null,null,null,{"$f":"INDEX(C:C, SMALL(ROW(C$1:C$5000)+(5000*(C$1:C$5000=\"\")),ROW(A1283)))&\"\"","v":""},"",{"$f":"INDEX(B:B, SMALL(ROW(B$1:B$5000)+(5000*(B$1:B$5000=\"\")),ROW(A1283)))&\"\"","v":""},"","","",null,null,{"$f":"INDEX(AH:AH,SMALL(ROW($AH$1:$AH$1999)+(1999*($AH$1:$AH$1999=\"\")), ROW(A1283)))&\"\"","v":""},"","","","","","","","","","","","","","","","","","","","","","","","","","","","","","","",{"$f":"INDEX(AJ:AJ,SMALL(ROW($AJ$1:$AJ$1999)+(1999*($AJ$1:$AJ$1999=\"\")), ROW(A1283)))&\"\"","v":""},"",{"$f":"INDEX(AK:AK,SMALL(ROW($AK$1:$AK$1999)+(1999*($AK$1:$AK$1999=\"\")), ROW(A1283)))&\"\"","v":""},"","","",null,"",""]
[null,null,null,null,null,null,null,null,null,null,null,null,null,null,null,null,null,null,null,null,null,null,null,null,null,null,null,null,null,null,null,null,{"$f":"INDEX(C:C, SMALL(ROW(C$1:C$5000)+(5000*(C$1:C$5000=\"\")),ROW(A1285)))&\"\"","v":""},"",{"$f":"INDEX(B:B, SMALL(ROW(B$1:B$5000)+(5000*(B$1:B$5000=\"\")),ROW(A1285)))&\"\"","v":""},"","","",null,null,{"$f":"INDEX(AH:AH,SMALL(ROW($AH$1:$AH$1999)+(1999*($AH$1:$AH$1999=\"\")), ROW(A1285)))&\"\"","v":""},"","","","","","","","","","","","","","","","","","","","","","","","","","","","","","","",{"$f":"INDEX(AJ:AJ,SMALL(ROW($AJ$1:$AJ$1999)+(1999*($AJ$1:$AJ$1999=\"\")), ROW(A1285)))&\"\"","v":""},"",{"$f":"INDEX(AK:AK,SMALL(ROW($AK$1:$AK$1999)+(1999*($AK$1:$AK$1999=\"\")), ROW(A1285)))&\"\"","v":""},"","","",null,"",""]
[null,null,null,null,null,null,null,null,null,null,null,null,null,null,null,null,null,null,null,null,null,null,null,null,null,null,null,null,null,null,null,null,{"$f":"INDEX(C:C, SMALL(ROW(C$1:C$5000)+(5000*(C$1:C$5000=\"\")),ROW(A1289)))&\"\"","v":""},"",{"$f":"INDEX(B:B, SMALL(ROW(B$1:B$5000)+(5000*(B$1:B$5000=\"\")),ROW(A1289)))&\"\"","v":""},"","","",null,null,{"$f":"INDEX(AH:AH,SMALL(ROW($AH$1:$AH$1999)+(1999*($AH$1:$AH$1999=\"\")), ROW(A1289)))&\"\"","v":""},"","","","","","","","","","","","","","","","","","","","","","","","","","","","","","","",{"$f":"INDEX(AJ:AJ,SMALL(ROW($AJ$1:$AJ$1999)+(1999*($AJ$1:$AJ$1999=\"\")), ROW(A1289)))&\"\"","v":""},"",{"$f":"INDEX(AK:AK,SMALL(ROW($AK$1:$AK$1999)+(1999*($AK$1:$AK$1999=\"\")), ROW(A1289)))&\"\"","v":""},"","","",null,"",""]
[null,null,null,null,null,null,null,null,null,null,null,null,null,null,null,null,null,null,null,null,null,null,null,null,null,null,null,null,null,null,null,null,{"$f":"INDEX(C:C, SMALL(ROW(C$1:C$5000)+(5000*(C$1:C$5000=\"\")),ROW(A1292)))&\"\"","v":""},"",{"$f":"INDEX(B:B, SMALL(ROW(B$1:B$5000)+(5000*(B$1:B$5000=\"\")),ROW(A1292)))&\"\"","v":""},"","","",null,null,{"$f":"INDEX(AH:AH,SMALL(ROW($AH$1:$AH$1999)+(1999*($AH$1:$AH$1999=\"\")), ROW(A1292)))&\"\"","v":""},"","","","","","","","","","","","","","","","","","","","","","","","","","","","","","","",{"$f":"INDEX(AJ:AJ,SMALL(ROW($AJ$1:$AJ$1999)+(1999*($AJ$1:$AJ$1999=\"\")), ROW(A1292)))&\"\"","v":""},"",{"$f":"INDEX(AK:AK,SMALL(ROW($AK$1:$AK$1999)+(1999*($AK$1:$AK$1999=\"\")), ROW(A1292)))&\"\"","v":""},"","","",null,"",""]
[null,null,null,null,null,null,null,null,null,null,null,null,null,null,null,null,null,null,null,null,null,null,null,null,null,null,null,null,null,null,null,null,{"$f":"INDEX(C:C, SMALL(ROW(C$1:C$5000)+(5000*(C$1:C$5000=\"\")),ROW(A1294)))&\"\"","v":""},"",{"$f":"INDEX(B:B, SMALL(ROW(B$1:B$5000)+(5000*(B$1:B$5000=\"\")),ROW(A1294)))&\"\"","v":""},"","","",null,null,{"$f":"INDEX(AH:AH,SMALL(ROW($AH$1:$AH$1999)+(1999*($AH$1:$AH$1999=\"\")), ROW(A1294)))&\"\"","v":""},"","","","","","","","","","","","","","","","","","","","","","","","","","","","","","","",{"$f":"INDEX(AJ:AJ,SMALL(ROW($AJ$1:$AJ$1999)+(1999*($AJ$1:$AJ$1999=\"\")), ROW(A1294)))&\"\"","v":""},"",{"$f":"INDEX(AK:AK,SMALL(ROW($AK$1:$AK$1999)+(1999*($AK$1:$AK$1999=\"\")), ROW(A1294)))&\"\"","v":""},"","","",null,"",""]
[null,null,null,null,null,null,null,null,null,null,null,null,null,null,null,null,null,null,null,null,null,null,null,null,null,null,null,null,null,null,null,null,{"$f":"INDEX(C:C, SMALL(ROW(C$1:C$5000)+(5000*(C$1:C$5000=\"\")),ROW(A1295)))&\"\"","v":""},"",{"$f":"INDEX(B:B, SMALL(ROW(B$1:B$5000)+(5000*(B$1:B$5000=\"\")),ROW(A1295)))&\"\"","v":""},"","","",null,null,{"$f":"INDEX(AH:AH,SMALL(ROW($AH$1:$AH$1999)+(1999*($AH$1:$AH$1999=\"\")), ROW(A1295)))&\"\"","v":""},"","","","","","","","","","","","","","","","","","","","","","","","","","","","","","","",{"$f":"INDEX(AJ:AJ,SMALL(ROW($AJ$1:$AJ$1999)+(1999*($AJ$1:$AJ$1999=\"\")), ROW(A1295)))&\"\"","v":""},"",{"$f":"INDEX(AK:AK,SMALL(ROW($AK$1:$AK$1999)+(1999*($AK$1:$AK$1999=\"\")), ROW(A1295)))&\"\"","v":""},"","","",null,"",""]
[null,null,null,null,null,null,null,null,null,null,null,null,null,null,null,null,null,null,null,null,null,null,null,null,null,null,null,null,null,null,null,null,{"$f":"INDEX(C:C, SMALL(ROW(C$1:C$5000)+(5000*(C$1:C$5000=\"\")),ROW(A1298)))&\"\"","v":""},"",{"$f":"INDEX(B:B, SMALL(ROW(B$1:B$5000)+(5000*(B$1:B$5000=\"\")),ROW(A1298)))&\"\"","v":""},"","","",null,null,{"$f":"INDEX(AH:AH,SMALL(ROW($AH$1:$AH$1999)+(1999*($AH$1:$AH$1999=\"\")), ROW(A1298)))&\"\"","v":""},"","","","","","","","","","","","","","","","","","","","","","","","","","","","","","","",{"$f":"INDEX(AJ:AJ,SMALL(ROW($AJ$1:$AJ$1999)+(1999*($AJ$1:$AJ$1999=\"\")), ROW(A1298)))&\"\"","v":""},"",{"$f":"INDEX(AK:AK,SMALL(ROW($AK$1:$AK$1999)+(1999*($AK$1:$AK$1999=\"\")), ROW(A1298)))&\"\"","v":""},"","","",null,"",""]
[null,null,null,null,null,null,null,null,null,null,null,null,null,null,null,null,null,null,null,null,null,null,null,null,null,null,null,null,null,null,null,null,{"$f":"INDEX(C:C, SMALL(ROW(C$1:C$5000)+(5000*(C$1:C$5000=\"\")),ROW(A1302)))&\"\"","v":""},"",{"$f":"INDEX(B:B, SMALL(ROW(B$1:B$5000)+(5000*(B$1:B$5000=\"\")),ROW(A1302)))&\"\"","v":""},"","","",null,null,{"$f":"INDEX(AH:AH,SMALL(ROW($AH$1:$AH$1999)+(1999*($AH$1:$AH$1999=\"\")), ROW(A1302)))&\"\"","v":""},"","","","","","","","","","","","","","","","","","","","","","","","","","","","","","","",{"$f":"INDEX(AJ:AJ,SMALL(ROW($AJ$1:$AJ$1999)+(1999*($AJ$1:$AJ$1999=\"\")), ROW(A1302)))&\"\"","v":""},"",{"$f":"INDEX(AK:AK,SMALL(ROW($AK$1:$AK$1999)+(1999*($AK$1:$AK$1999=\"\")), ROW(A1302)))&\"\"","v":""},"","","",null,"",""]
[null,null,null,null,null,null,null,null,null,null,null,null,null,null,null,null,null,null,null,null,null,null,null,null,null,null,null,null,null,null,null,null,{"$f":"INDEX(C:C, SMALL(ROW(C$1:C$5000)+(5000*(C$1:C$5000=\"\")),ROW(A1305)))&\"\"","v":""},"",{"$f":"INDEX(B:B, SMALL(ROW(B$1:B$5000)+(5000*(B$1:B$5000=\"\")),ROW(A1305)))&\"\"","v":""},"","","",null,null,{"$f":"INDEX(AH:AH,SMALL(ROW($AH$1:$AH$1999)+(1999*($AH$1:$AH$1999=\"\")), ROW(A1305)))&\"\"","v":""},"","","","","","","","","","","","","","","","","","","","","","","","","","","","","","","",{"$f":"INDEX(AJ:AJ,SMALL(ROW($AJ$1:$AJ$1999)+(1999*($AJ$1:$AJ$1999=\"\")), ROW(A1305)))&\"\"","v":""},"",{"$f":"INDEX(AK:AK,SMALL(ROW($AK$1:$AK$1999)+(1999*($AK$1:$AK$1999=\"\")), ROW(A1305)))&\"\"","v":""},"","","",null,"",""]
[null,null,null,null,null,null,null,null,null,null,null,null,null,null,null,null,null,null,null,null,null,null,null,null,null,null,null,null,null,null,null,null,{"$f":"INDEX(C:C, SMALL(ROW(C$1:C$5000)+(5000*(C$1:C$5000=\"\")),ROW(A1307)))&\"\"","v":""},"",{"$f":"INDEX(B:B, SMALL(ROW(B$1:B$5000)+(5000*(B$1:B$5000=\"\")),ROW(A1307)))&\"\"","v":""},"","","",null,null,{"$f":"INDEX(AH:AH,SMALL(ROW($AH$1:$AH$1999)+(1999*($AH$1:$AH$1999=\"\")), ROW(A1307)))&\"\"","v":""},"","","","","","","","","","","","","","","","","","","","","","","","","","","","","","","",{"$f":"INDEX(AJ:AJ,SMALL(ROW($AJ$1:$AJ$1999)+(1999*($AJ$1:$AJ$1999=\"\")), ROW(A1307)))&\"\"","v":""},"",{"$f":"INDEX(AK:AK,SMALL(ROW($AK$1:$AK$1999)+(1999*($AK$1:$AK$1999=\"\")), ROW(A1307)))&\"\"","v":""},"","","",null,"",""]
[null,null,null,null,null,null,null,null,null,null,null,null,null,null,null,null,null,null,null,null,null,null,null,null,null,null,null,null,null,null,null,null,{"$f":"INDEX(C:C, SMALL(ROW(C$1:C$5000)+(5000*(C$1:C$5000=\"\")),ROW(A1311)))&\"\"","v":""},"",{"$f":"INDEX(B:B, SMALL(ROW(B$1:B$5000)+(5000*(B$1:B$5000=\"\")),ROW(A1311)))&\"\"","v":""},"","","",null,null,{"$f":"INDEX(AH:AH,SMALL(ROW($AH$1:$AH$1999)+(1999*($AH$1:$AH$1999=\"\")), ROW(A1311)))&\"\"","v":""},"","","","","","","","","","","","","","","","","","","","","","","","","","","","","","","",{"$f":"INDEX(AJ:AJ,SMALL(ROW($AJ$1:$AJ$1999)+(1999*($AJ$1:$AJ$1999=\"\")), ROW(A1311)))&\"\"","v":""},"",{"$f":"INDEX(AK:AK,SMALL(ROW($AK$1:$AK$1999)+(1999*($AK$1:$AK$1999=\"\")), ROW(A1311)))&\"\"","v":""},"","","",null,"",""]
[null,null,null,null,null,null,null,null,null,null,null,null,null,null,null,null,null,null,null,null,null,null,null,null,null,null,null,null,null,null,null,null,{"$f":"INDEX(C:C, SMALL(ROW(C$1:C$5000)+(5000*(C$1:C$5000=\"\")),ROW(A1314)))&\"\"","v":""},"",{"$f":"INDEX(B:B, SMALL(ROW(B$1:B$5000)+(5000*(B$1:B$5000=\"\")),ROW(A1314)))&\"\"","v":""},"","","",null,null,{"$f":"INDEX(AH:AH,SMALL(ROW($AH$1:$AH$1999)+(1999*($AH$1:$AH$1999=\"\")), ROW(A1314)))&\"\"","v":""},"","","","","","","","","","","","","","","","","","","","","","","","","","","","","","","",{"$f":"INDEX(AJ:AJ,SMALL(ROW($AJ$1:$AJ$1999)+(1999*($AJ$1:$AJ$1999=\"\")), ROW(A1314)))&\"\"","v":""},"",{"$f":"INDEX(AK:AK,SMALL(ROW($AK$1:$AK$1999)+(1999*($AK$1:$AK$1999=\"\")), ROW(A1314)))&\"\"","v":""},"","","",null,"",""]
[null,null,null,null,null,null,null,null,null,null,null,null,null,null,null,null,null,null,null,null,null,null,null,null,null,null,null,null,null,null,null,null,{"$f":"INDEX(C:C, SMALL(ROW(C$1:C$5000)+(5000*(C$1:C$5000=\"\")),ROW(A1316)))&\"\"","v":""},"",{"$f":"INDEX(B:B, SMALL(ROW(B$1:B$5000)+(5000*(B$1:B$5000=\"\")),ROW(A1316)))&\"\"","v":""},"","","",null,null,{"$f":"INDEX(AH:AH,SMALL(ROW($AH$1:$AH$1999)+(1999*($AH$1:$AH$1999=\"\")), ROW(A1316)))&\"\"","v":""},"","","","","","","","","","","","","","","","","","","","","","","","","","","","","","","",{"$f":"INDEX(AJ:AJ,SMALL(ROW($AJ$1:$AJ$1999)+(1999*($AJ$1:$AJ$1999=\"\")), ROW(A1316)))&\"\"","v":""},"",{"$f":"INDEX(AK:AK,SMALL(ROW($AK$1:$AK$1999)+(1999*($AK$1:$AK$1999=\"\")), ROW(A1316)))&\"\"","v":""},"","","",null,"",""]
[null,null,null,null,null,null,null,null,null,null,null,null,null,null,null,null,null,null,null,null,null,null,null,null,null,null,null,null,null,null,null,null,{"$f":"INDEX(C:C, SMALL(ROW(C$1:C$5000)+(5000*(C$1:C$5000=\"\")),ROW(A1317)))&\"\"","v":""},"",{"$f":"INDEX(B:B, SMALL(ROW(B$1:B$5000)+(5000*(B$1:B$5000=\"\")),ROW(A1317)))&\"\"","v":""},"","","",null,null,{"$f":"INDEX(AH:AH,SMALL(ROW($AH$1:$AH$1999)+(1999*($AH$1:$AH$1999=\"\")), ROW(A1317)))&\"\"","v":""},"","","","","","","","","","","","","","","","","","","","","","","","","","","","","","","",{"$f":"INDEX(AJ:AJ,SMALL(ROW($AJ$1:$AJ$1999)+(1999*($AJ$1:$AJ$1999=\"\")), ROW(A1317)))&\"\"","v":""},"",{"$f":"INDEX(AK:AK,SMALL(ROW($AK$1:$AK$1999)+(1999*($AK$1:$AK$1999=\"\")), ROW(A1317)))&\"\"","v":""},"","","",null,"",""]
[null,null,null,null,null,null,null,null,null,null,null,null,null,null,null,null,null,null,null,null,null,null,null,null,null,null,null,null,null,null,null,null,{"$f":"INDEX(C:C, SMALL(ROW(C$1:C$5000)+(5000*(C$1:C$5000=\"\")),ROW(A1320)))&\"\"","v":""},"",{"$f":"INDEX(B:B, SMALL(ROW(B$1:B$5000)+(5000*(B$1:B$5000=\"\")),ROW(A1320)))&\"\"","v":""},"","","",null,null,{"$f":"INDEX(AH:AH,SMALL(ROW($AH$1:$AH$1999)+(1999*($AH$1:$AH$1999=\"\")), ROW(A1320)))&\"\"","v":""},"","","","","","","","","","","","","","","","","","","","","","","","","","","","","","","",{"$f":"INDEX(AJ:AJ,SMALL(ROW($AJ$1:$AJ$1999)+(1999*($AJ$1:$AJ$1999=\"\")), ROW(A1320)))&\"\"","v":""},"",{"$f":"INDEX(AK:AK,SMALL(ROW($AK$1:$AK$1999)+(1999*($AK$1:$AK$1999=\"\")), ROW(A1320)))&\"\"","v":""},"","","",null,"",""]
[null,null,null,null,null,null,null,null,null,null,null,null,null,null,null,null,null,null,null,null,null,null,null,null,null,null,null,null,null,null,null,null,{"$f":"INDEX(C:C, SMALL(ROW(C$1:C$5000)+(5000*(C$1:C$5000=\"\")),ROW(A1324)))&\"\"","v":""},"",{"$f":"INDEX(B:B, SMALL(ROW(B$1:B$5000)+(5000*(B$1:B$5000=\"\")),ROW(A1324)))&\"\"","v":""},"","","",null,null,{"$f":"INDEX(AH:AH,SMALL(ROW($AH$1:$AH$1999)+(1999*($AH$1:$AH$1999=\"\")), ROW(A1324)))&\"\"","v":""},"","","","","","","","","","","","","","","","","","","","","","","","","","","","","","","",{"$f":"INDEX(AJ:AJ,SMALL(ROW($AJ$1:$AJ$1999)+(1999*($AJ$1:$AJ$1999=\"\")), ROW(A1324)))&\"\"","v":""},"",{"$f":"INDEX(AK:AK,SMALL(ROW($AK$1:$AK$1999)+(1999*($AK$1:$AK$1999=\"\")), ROW(A1324)))&\"\"","v":""},"","","",null,"",""]
[null,null,null,null,null,null,null,null,null,null,null,null,null,null,null,null,null,null,null,null,null,null,null,null,null,null,null,null,null,null,null,null,{"$f":"INDEX(C:C, SMALL(ROW(C$1:C$5000)+(5000*(C$1:C$5000=\"\")),ROW(A1327)))&\"\"","v":""},"",{"$f":"INDEX(B:B, SMALL(ROW(B$1:B$5000)+(5000*(B$1:B$5000=\"\")),ROW(A1327)))&\"\"","v":""},"","","",null,null,{"$f":"INDEX(AH:AH,SMALL(ROW($AH$1:$AH$1999)+(1999*($AH$1:$AH$1999=\"\")), ROW(A1327)))&\"\"","v":""},"","","","","","","","","","","","","","","","","","","","","","","","","","","","","","","",{"$f":"INDEX(AJ:AJ,SMALL(ROW($AJ$1:$AJ$1999)+(1999*($AJ$1:$AJ$1999=\"\")), ROW(A1327)))&\"\"","v":""},"",{"$f":"INDEX(AK:AK,SMALL(ROW($AK$1:$AK$1999)+(1999*($AK$1:$AK$1999=\"\")), ROW(A1327)))&\"\"","v":""},"","","",null,"",""]
[null,null,null,null,null,null,null,null,null,null,null,null,null,null,null,null,null,null,null,null,null,null,null,null,null,null,null,null,null,null,null,null,{"$f":"INDEX(C:C, SMALL(ROW(C$1:C$5000)+(5000*(C$1:C$5000=\"\")),ROW(A1329)))&\"\"","v":""},"",{"$f":"INDEX(B:B, SMALL(ROW(B$1:B$5000)+(5000*(B$1:B$5000=\"\")),ROW(A1329)))&\"\"","v":""},"","","",null,null,{"$f":"INDEX(AH:AH,SMALL(ROW($AH$1:$AH$1999)+(1999*($AH$1:$AH$1999=\"\")), ROW(A1329)))&\"\"","v":""},"","","","","","","","","","","","","","","","","","","","","","","","","","","","","","","",{"$f":"INDEX(AJ:AJ,SMALL(ROW($AJ$1:$AJ$1999)+(1999*($AJ$1:$AJ$1999=\"\")), ROW(A1329)))&\"\"","v":""},"",{"$f":"INDEX(AK:AK,SMALL(ROW($AK$1:$AK$1999)+(1999*($AK$1:$AK$1999=\"\")), ROW(A1329)))&\"\"","v":""},"","","",null,"",""]
[null,null,null,null,null,null,null,null,null,null,null,null,null,null,null,null,null,null,null,null,null,null,null,null,null,null,null,null,null,null,null,null,{"$f":"INDEX(C:C, SMALL(ROW(C$1:C$5000)+(5000*(C$1:C$5000=\"\")),ROW(A1333)))&\"\"","v":""},"",{"$f":"INDEX(B:B, SMALL(ROW(B$1:B$5000)+(5000*(B$1:B$5000=\"\")),ROW(A1333)))&\"\"","v":""},"","","",null,null,{"$f":"INDEX(AH:AH,SMALL(ROW($AH$1:$AH$1999)+(1999*($AH$1:$AH$1999=\"\")), ROW(A1333)))&\"\"","v":""},"","","","","","","","","","","","","","","","","","","","","","","","","","","","","","","",{"$f":"INDEX(AJ:AJ,SMALL(ROW($AJ$1:$AJ$1999)+(1999*($AJ$1:$AJ$1999=\"\")), ROW(A1333)))&\"\"","v":""},"",{"$f":"INDEX(AK:AK,SMALL(ROW($AK$1:$AK$1999)+(1999*($AK$1:$AK$1999=\"\")), ROW(A1333)))&\"\"","v":""},"","","",null,"",""]
[null,null,null,null,null,null,null,null,null,null,null,null,null,null,null,null,null,null,null,null,null,null,null,null,null,null,null,null,null,null,null,null,{"$f":"INDEX(C:C, SMALL(ROW(C$1:C$5000)+(5000*(C$1:C$5000=\"\")),ROW(A1336)))&\"\"","v":""},"",{"$f":"INDEX(B:B, SMALL(ROW(B$1:B$5000)+(5000*(B$1:B$5000=\"\")),ROW(A1336)))&\"\"","v":""},"","","",null,null,{"$f":"INDEX(AH:AH,SMALL(ROW($AH$1:$AH$1999)+(1999*($AH$1:$AH$1999=\"\")), ROW(A1336)))&\"\"","v":""},"","","","","","","","","","","","","","","","","","","","","","","","","","","","","","","",{"$f":"INDEX(AJ:AJ,SMALL(ROW($AJ$1:$AJ$1999)+(1999*($AJ$1:$AJ$1999=\"\")), ROW(A1336)))&\"\"","v":""},"",{"$f":"INDEX(AK:AK,SMALL(ROW($AK$1:$AK$1999)+(1999*($AK$1:$AK$1999=\"\")), ROW(A1336)))&\"\"","v":""},"","","",null,"",""]
[null,null,null,null,null,null,null,null,null,null,null,null,null,null,null,null,null,null,null,null,null,null,null,null,null,null,null,null,null,null,null,null,{"$f":"INDEX(C:C, SMALL(ROW(C$1:C$5000)+(5000*(C$1:C$5000=\"\")),ROW(A1338)))&\"\"","v":""},"",{"$f":"INDEX(B:B, SMALL(ROW(B$1:B$5000)+(5000*(B$1:B$5000=\"\")),ROW(A1338)))&\"\"","v":""},"","","",null,null,{"$f":"INDEX(AH:AH,SMALL(ROW($AH$1:$AH$1999)+(1999*($AH$1:$AH$1999=\"\")), ROW(A1338)))&\"\"","v":""},"","","","","","","","","","","","","","","","","","","","","","","","","","","","","","","",{"$f":"INDEX(AJ:AJ,SMALL(ROW($AJ$1:$AJ$1999)+(1999*($AJ$1:$AJ$1999=\"\")), ROW(A1338)))&\"\"","v":""},"",{"$f":"INDEX(AK:AK,SMALL(ROW($AK$1:$AK$1999)+(1999*($AK$1:$AK$1999=\"\")), ROW(A1338)))&\"\"","v":""},"","","",null,"",""]
[null,null,null,null,null,null,null,null,null,null,null,null,null,null,null,null,null,null,null,null,null,null,null,null,null,null,null,null,null,null,null,null,{"$f":"INDEX(C:C, SMALL(ROW(C$1:C$5000)+(5000*(C$1:C$5000=\"\")),ROW(A1339)))&\"\"","v":""},"",{"$f":"INDEX(B:B, SMALL(ROW(B$1:B$5000)+(5000*(B$1:B$5000=\"\")),ROW(A1339)))&\"\"","v":""},"","","",null,null,{"$f":"INDEX(AH:AH,SMALL(ROW($AH$1:$AH$1999)+(1999*($AH$1:$AH$1999=\"\")), ROW(A1339)))&\"\"","v":""},"","","","","","","","","","","","","","","","","","","","","","","","","","","","","","","",{"$f":"INDEX(AJ:AJ,SMALL(ROW($AJ$1:$AJ$1999)+(1999*($AJ$1:$AJ$1999=\"\")), ROW(A1339)))&\"\"","v":""},"",{"$f":"INDEX(AK:AK,SMALL(ROW($AK$1:$AK$1999)+(1999*($AK$1:$AK$1999=\"\")), ROW(A1339)))&\"\"","v":""},"","","",null,"",""]
[null,null,null,null,null,null,null,null,null,null,null,null,null,null,null,null,null,null,null,null,null,null,null,null,null,null,null,null,null,null,null,null,{"$f":"INDEX(C:C, SMALL(ROW(C$1:C$5000)+(5000*(C$1:C$5000=\"\")),ROW(A1342)))&\"\"","v":""},"",{"$f":"INDEX(B:B, SMALL(ROW(B$1:B$5000)+(5000*(B$1:B$5000=\"\")),ROW(A1342)))&\"\"","v":""},"","","",null,null,{"$f":"INDEX(AH:AH,SMALL(ROW($AH$1:$AH$1999)+(1999*($AH$1:$AH$1999=\"\")), ROW(A1342)))&\"\"","v":""},"","","","","","","","","","","","","","","","","","","","","","","","","","","","","","","",{"$f":"INDEX(AJ:AJ,SMALL(ROW($AJ$1:$AJ$1999)+(1999*($AJ$1:$AJ$1999=\"\")), ROW(A1342)))&\"\"","v":""},"",{"$f":"INDEX(AK:AK,SMALL(ROW($AK$1:$AK$1999)+(1999*($AK$1:$AK$1999=\"\")), ROW(A1342)))&\"\"","v":""},"","","",null,"",""]
[null,null,null,null,null,null,null,null,null,null,null,null,null,null,null,null,null,null,null,null,null,null,null,null,null,null,null,null,null,null,null,null,{"$f":"INDEX(C:C, SMALL(ROW(C$1:C$5000)+(5000*(C$1:C$5000=\"\")),ROW(A1346)))&\"\"","v":""},"",{"$f":"INDEX(B:B, SMALL(ROW(B$1:B$5000)+(5000*(B$1:B$5000=\"\")),ROW(A1346)))&\"\"","v":""},{"$f":"IF(ISNUMBER(SEARCH(\"*years*\",AI1346)),AI1346,\"\")","v":""},{"$f":"IF(ISNUMBER(SEARCH(\"*, 19*\",AI1346)),AI1346,\"\")","v":""},"",null,null,{"$f":"INDEX(AH:AH,SMALL(ROW($AH$1:$AH$1999)+(1999*($AH$1:$AH$1999=\"\")), ROW(A1346)))&\"\"","v":""},{"$f":"TRIM(TEXT(RIGHT(AO1346,2),))","v":""},{"$f":"IF(ISNUMBER(SEARCH(\"*QB*\",AP1346)),AO1346,\"\")","v":""},{"$f":"IFERROR(IF(ISNUMBER(SEARCH(\"*QB*\",AQ1346)),BV1346,\"\"),VALUE(0))","v":""},{"$f":"IFERROR(IF(ISNUMBER(SEARCH(\"*QB*\",AQ1346)),BX1346,\"\"),VALUE(0))","v":""},{"$f":"IF(ISNUMBER(SEARCH(\"*RB*\",AP1346)),AO1346,\"\")","v":""},{"$f":"IFERROR(IF(ISNUMBER(SEARCH(\"*RB*\",AT1346)),BV1346,\"\"),VALUE(0))","v":""},{"$f":"IFERROR(IF(ISNUMBER(SEARCH(\"*RB*\",AT1346)),BX1346,\"\"),VALUE(0))","v":""},{"$f":"IF(ISNUMBER(SEARCH(\"*WR*\",AP1346)),AO1346,\"\")","v":""},{"$f":"IFERROR(IF(ISNUMBER(SEARCH(\"*WR*\",AW1346)),BV1346,\"\"),VALUE(0))","v":""},{"$f":"IFERROR(IF(ISNUMBER(SEARCH(\"*WR*\",AW1346)),BX1346,\"\"),VALUE(0))","v":""},{"$f":"IF(ISNUMBER(SEARCH(\"*TE*\",AP1346)),AO1346,\"\")","v":""},"",{"$f":"IFERROR(IF(ISNUMBER(SEARCH(\"*TE*\",AZ1346)),BX1346,\"\"),VALUE(0))","v":""},{"$f":"IF(ISNUMBER(SEARCH(\"*PK*\",AP1346)),AO1346,\"\")","v":""},{"$f":"IFERROR(IF(ISNUMBER(SEARCH(\"*PK*\",BC1346)),BV1346,\"\"),VALUE(0))","v":""},{"$f":"IFERROR(IF(ISNUMBER(SEARCH(\"*PK*\",BC1346)),BX1346,\"\"),VALUE(0))","v":""},{"$f":"IF(ISNUMBER(SEARCH(\"*DT*\",AP1346)),AO1346,\"\")","v":""},{"$f":"IFERROR(IF(ISNUMBER(SEARCH(\"*DT*\",BF1346)),BV1346,\"\"),VALUE(0))","v":""},{"$f":"IFERROR(IF(ISNUMBER(SEARCH(\"*DT*\",BF1346)),BX1346,\"\"),VALUE(0))","v":""},{"$f":"IF(ISNUMBER(SEARCH(\"*DE*\",AP1346)),AO1346,\"\")","v":""},{"$f":"IFERROR(IF(ISNUMBER(SEARCH(\"*DE*\",BI1346)),BV1346,\"\"),VALUE(0))","v":""},{"$f":"IFERROR(IF(ISNUMBER(SEARCH(\"*DE*\",BI1346)),BX1346,\"\"),VALUE(0))","v":""},{"$f":"IF(ISNUMBER(SEARCH(\"*LB*\",AP1346)),AO1346,\"\")","v":""},{"$f":"IFERROR(IF(ISNUMBER(SEARCH(\"*LB*\",BL1346)),BV1346,\"\"),VALUE(0))","v":""},{"$f":"IFERROR(IF(ISNUMBER(SEARCH(\"*LB*\",BL1346)),BX1346,\"\"),VALUE(0))","v":""},{"$f":"IF(ISNUMBER(SEARCH(\"*CB*\",AP1346)),AO1346,\"\")","v":""},{"$f":"IFERROR(IF(ISNUMBER(SEARCH(\"*CB*\",BO1346)),BV1346,\"\"),VALUE(0))","v":""},{"$f":"IFERROR(IF(ISNUMBER(SEARCH(\"*CB*\",BO1346)),BX1346,\"\"),VALUE(0))","v":""},{"$f":"IF(ISNUMBER(SEARCH(\"*S*\",AP1346)),AO1346,\"\")","v":""},{"$f":"IFERROR(IF(ISNUMBER(SEARCH(\"*S*\",BR1346)),BV1346,\"\"),VALUE(0))","v":""},{"$f":"IFERROR(IF(ISNUMBER(SEARCH(\"*S*\",BR1346)),BX1346,\"\"),VALUE(0))","v":""},{"$f":"INDEX(AJ:AJ,SMALL(ROW($AJ$1:$AJ$1999)+(1999*($AJ$1:$AJ$1999=\"\")), ROW(A1346)))&\"\"","v":""},{"$f":"IFERROR(IF(BW1346<>\"\",VALUE(LEFT(BU1346,LEN(BU1346)-6)),\"\"),VALUE(0))","v":""},{"$f":"INDEX(AK:AK,SMALL(ROW($AK$1:$AK$1999)+(1999*($AK$1:$AK$1999=\"\")), ROW(A1346)))&\"\"","v":""},{"$f":"IF(BW1346<>\"\",VALUE(RIGHT(BW1346,2)),\"\")","v":""},{"$f":"IF(BX1346=\"\",\"\",IF(BX1346>27,1,0))","v":""},{"$f":"IF(BX1346=\"\",\"\",IF(BX1346<27,1,0))","v":""},null,{"$f":"IF(BV1346=\"\",\"\",IF(BV1346>3.5,1,0))","v":""},{"$f":"IF(BV1346=\"\",\"\",IF(BV1346<3.5,1,0))","v":""}]
[null,null,null,null,null,null,null,null,null,null,null,null,null,null,null,null,null,null,null,null,null,null,null,null,null,null,null,null,null,null,null,null,{"$f":"INDEX(C:C, SMALL(ROW(C$1:C$5000)+(5000*(C$1:C$5000=\"\")),ROW(A1349)))&\"\"","v":""},"",{"$f":"INDEX(B:B, SMALL(ROW(B$1:B$5000)+(5000*(B$1:B$5000=\"\")),ROW(A1349)))&\"\"","v":""},"","","",null,null,{"$f":"INDEX(AH:AH,SMALL(ROW($AH$1:$AH$1999)+(1999*($AH$1:$AH$1999=\"\")), ROW(A1349)))&\"\"","v":""},"","","","","","","","","","","","","","","","","","","","","","","","","","","","","","","",{"$f":"INDEX(AJ:AJ,SMALL(ROW($AJ$1:$AJ$1999)+(1999*($AJ$1:$AJ$1999=\"\")), ROW(A1349)))&\"\"","v":""},"",{"$f":"INDEX(AK:AK,SMALL(ROW($AK$1:$AK$1999)+(1999*($AK$1:$AK$1999=\"\")), ROW(A1349)))&\"\"","v":""},"","","",null,"",""]
[null,null,null,null,null,null,null,null,null,null,null,null,null,null,null,null,null,null,null,null,null,null,null,null,null,null,null,null,null,null,null,null,{"$f":"INDEX(C:C, SMALL(ROW(C$1:C$5000)+(5000*(C$1:C$5000=\"\")),ROW(A1352)))&\"\"","v":""},"",{"$f":"INDEX(B:B, SMALL(ROW(B$1:B$5000)+(5000*(B$1:B$5000=\"\")),ROW(A1352)))&\"\"","v":""},"","","",null,null,{"$f":"INDEX(AH:AH,SMALL(ROW($AH$1:$AH$1999)+(1999*($AH$1:$AH$1999=\"\")), ROW(A1352)))&\"\"","v":""},"","","","","","","","","","","","","","","","","","","","","","","","","","","","","","","",{"$f":"INDEX(AJ:AJ,SMALL(ROW($AJ$1:$AJ$1999)+(1999*($AJ$1:$AJ$1999=\"\")), ROW(A1352)))&\"\"","v":""},"",{"$f":"INDEX(AK:AK,SMALL(ROW($AK$1:$AK$1999)+(1999*($AK$1:$AK$1999=\"\")), ROW(A1352)))&\"\"","v":""},"","","",null,"",""]
[null,null,null,null,null,null,null,null,null,null,null,null,null,null,null,null,null,null,null,null,null,null,null,null,null,null,null,null,null,null,null,null,{"$f":"INDEX(C:C, SMALL(ROW(C$1:C$5000)+(5000*(C$1:C$5000=\"\")),ROW(A1355)))&\"\"","v":""},"",{"$f":"INDEX(B:B, SMALL(ROW(B$1:B$5000)+(5000*(B$1:B$5000=\"\")),ROW(A1355)))&\"\"","v":""},"","","",null,null,{"$f":"INDEX(AH:AH,SMALL(ROW($AH$1:$AH$1999)+(1999*($AH$1:$AH$1999=\"\")), ROW(A1355)))&\"\"","v":""},"","","","","","","","","","","","","","","","","","","","","","","","","","","","","","","",{"$f":"INDEX(AJ:AJ,SMALL(ROW($AJ$1:$AJ$1999)+(1999*($AJ$1:$AJ$1999=\"\")), ROW(A1355)))&\"\"","v":""},"",{"$f":"INDEX(AK:AK,SMALL(ROW($AK$1:$AK$1999)+(1999*($AK$1:$AK$1999=\"\")), ROW(A1355)))&\"\"","v":""},"","","",null,"",""]
[null,null,null,null,null,null,null,null,null,null,null,null,null,null,null,null,null,null,null,null,null,null,null,null,null,null,null,null,null,null,null,null,{"$f":"INDEX(C:C, SMALL(ROW(C$1:C$5000)+(5000*(C$1:C$5000=\"\")),ROW(A1358)))&\"\"","v":""},"",{"$f":"INDEX(B:B, SMALL(ROW(B$1:B$5000)+(5000*(B$1:B$5000=\"\")),ROW(A1358)))&\"\"","v":""},"","","",null,null,{"$f":"INDEX(AH:AH,SMALL(ROW($AH$1:$AH$1999)+(1999*($AH$1:$AH$1999=\"\")), ROW(A1358)))&\"\"","v":""},"","","","","","","","","","","","","","","","","","","","","","","","","","","","","","","",{"$f":"INDEX(AJ:AJ,SMALL(ROW($AJ$1:$AJ$1999)+(1999*($AJ$1:$AJ$1999=\"\")), ROW(A1358)))&\"\"","v":""},"",{"$f":"INDEX(AK:AK,SMALL(ROW($AK$1:$AK$1999)+(1999*($AK$1:$AK$1999=\"\")), ROW(A1358)))&\"\"","v":""},"","","",null,"",""]
[null,null,null,null,null,null,null,null,null,null,null,null,null,null,null,null,null,null,null,null,null,null,null,null,null,null,null,null,null,null,null,null,{"$f":"INDEX(C:C, SMALL(ROW(C$1:C$5000)+(5000*(C$1:C$5000=\"\")),ROW(A1360)))&\"\"","v":""},"",{"$f":"INDEX(B:B, SMALL(ROW(B$1:B$5000)+(5000*(B$1:B$5000=\"\")),ROW(A1360)))&\"\"","v":""},"","","",null,null,{"$f":"INDEX(AH:AH,SMALL(ROW($AH$1:$AH$1999)+(1999*($AH$1:$AH$1999=\"\")), ROW(A1360)))&\"\"","v":""},"","","","","","","","","","","","","","","","","","","","","","","","","","","","","","","",{"$f":"INDEX(AJ:AJ,SMALL(ROW($AJ$1:$AJ$1999)+(1999*($AJ$1:$AJ$1999=\"\")), ROW(A1360)))&\"\"","v":""},"",{"$f":"INDEX(AK:AK,SMALL(ROW($AK$1:$AK$1999)+(1999*($AK$1:$AK$1999=\"\")), ROW(A1360)))&\"\"","v":""},"","","",null,"",""]
[null,null,null,null,null,null,null,null,null,null,null,null,null,null,null,null,null,null,null,null,null,null,null,null,null,null,null,null,null,null,null,null,{"$f":"INDEX(C:C, SMALL(ROW(C$1:C$5000)+(5000*(C$1:C$5000=\"\")),ROW(A1361)))&\"\"","v":""},"",{"$f":"INDEX(B:B, SMALL(ROW(B$1:B$5000)+(5000*(B$1:B$5000=\"\")),ROW(A1361)))&\"\"","v":""},"","","",null,null,{"$f":"INDEX(AH:AH,SMALL(ROW($AH$1:$AH$1999)+(1999*($AH$1:$AH$1999=\"\")), ROW(A1361)))&\"\"","v":""},"","","","","","","","","","","","","","","","","","","","","","","","","","","","","","","",{"$f":"INDEX(AJ:AJ,SMALL(ROW($AJ$1:$AJ$1999)+(1999*($AJ$1:$AJ$1999=\"\")), ROW(A1361)))&\"\"","v":""},"",{"$f":"INDEX(AK:AK,SMALL(ROW($AK$1:$AK$1999)+(1999*($AK$1:$AK$1999=\"\")), ROW(A1361)))&\"\"","v":""},"","","",null,"",""]
[null,null,null,null,null,null,null,null,null,null,null,null,null,null,null,null,null,null,null,null,null,null,null,null,null,null,null,null,null,null,null,null,{"$f":"INDEX(C:C, SMALL(ROW(C$1:C$5000)+(5000*(C$1:C$5000=\"\")),ROW(A1364)))&\"\"","v":""},"",{"$f":"INDEX(B:B, SMALL(ROW(B$1:B$5000)+(5000*(B$1:B$5000=\"\")),ROW(A1364)))&\"\"","v":""},"","","",null,null,{"$f":"INDEX(AH:AH,SMALL(ROW($AH$1:$AH$1999)+(1999*($AH$1:$AH$1999=\"\")), ROW(A1364)))&\"\"","v":""},"","","","","","","","","","","","","","","","","","","","","","","","","","","","","","","",{"$f":"INDEX(AJ:AJ,SMALL(ROW($AJ$1:$AJ$1999)+(1999*($AJ$1:$AJ$1999=\"\")), ROW(A1364)))&\"\"","v":""},"",{"$f":"INDEX(AK:AK,SMALL(ROW($AK$1:$AK$1999)+(1999*($AK$1:$AK$1999=\"\")), ROW(A1364)))&\"\"","v":""},"","","",null,"",""]
[null,null,null,null,null,null,null,null,null,null,null,null,null,null,null,null,null,null,null,null,null,null,null,null,null,null,null,null,null,null,null,null,{"$f":"INDEX(C:C, SMALL(ROW(C$1:C$5000)+(5000*(C$1:C$5000=\"\")),ROW(A1368)))&\"\"","v":""},"",{"$f":"INDEX(B:B, SMALL(ROW(B$1:B$5000)+(5000*(B$1:B$5000=\"\")),ROW(A1368)))&\"\"","v":""},"","","",null,null,{"$f":"INDEX(AH:AH,SMALL(ROW($AH$1:$AH$1999)+(1999*($AH$1:$AH$1999=\"\")), ROW(A1368)))&\"\"","v":""},"","","","","","","","","","","","","","","","","","","","","","","","","","","","","","","",{"$f":"INDEX(AJ:AJ,SMALL(ROW($AJ$1:$AJ$1999)+(1999*($AJ$1:$AJ$1999=\"\")), ROW(A1368)))&\"\"","v":""},"",{"$f":"INDEX(AK:AK,SMALL(ROW($AK$1:$AK$1999)+(1999*($AK$1:$AK$1999=\"\")), ROW(A1368)))&\"\"","v":""},"","","",null,"",""]
[null,null,null,null,null,null,null,null,null,null,null,null,null,null,null,null,null,null,null,null,null,null,null,null,null,null,null,null,null,null,null,null,{"$f":"INDEX(C:C, SMALL(ROW(C$1:C$5000)+(5000*(C$1:C$5000=\"\")),ROW(A1371)))&\"\"","v":""},"",{"$f":"INDEX(B:B, SMALL(ROW(B$1:B$5000)+(5000*(B$1:B$5000=\"\")),ROW(A1371)))&\"\"","v":""},"","","",null,null,{"$f":"INDEX(AH:AH,SMALL(ROW($AH$1:$AH$1999)+(1999*($AH$1:$AH$1999=\"\")), ROW(A1371)))&\"\"","v":""},"","","","","","","","","","","","","","","","","","","","","","","","","","","","","","","",{"$f":"INDEX(AJ:AJ,SMALL(ROW($AJ$1:$AJ$1999)+(1999*($AJ$1:$AJ$1999=\"\")), ROW(A1371)))&\"\"","v":""},"",{"$f":"INDEX(AK:AK,SMALL(ROW($AK$1:$AK$1999)+(1999*($AK$1:$AK$1999=\"\")), ROW(A1371)))&\"\"","v":""},"","","",null,"",""]
[null,null,null,null,null,null,null,null,null,null,null,null,null,null,null,null,null,null,null,null,null,null,null,null,null,null,null,null,null,null,null,null,{"$f":"INDEX(C:C, SMALL(ROW(C$1:C$5000)+(5000*(C$1:C$5000=\"\")),ROW(A1374)))&\"\"","v":""},"",{"$f":"INDEX(B:B, SMALL(ROW(B$1:B$5000)+(5000*(B$1:B$5000=\"\")),ROW(A1374)))&\"\"","v":""},"","","",null,null,{"$f":"INDEX(AH:AH,SMALL(ROW($AH$1:$AH$1999)+(1999*($AH$1:$AH$1999=\"\")), ROW(A1374)))&\"\"","v":""},"","","","","","","","","","","",{"$f":"IFERROR(IF(ISNUMBER(SEARCH(\"*TE*\",AZ1374)),BV1374,\"\"),VALUE(0))","v":""},"","","","","","","","","","","","","","","","","","","",{"$f":"INDEX(AJ:AJ,SMALL(ROW($AJ$1:$AJ$1999)+(1999*($AJ$1:$AJ$1999=\"\")), ROW(A1374)))&\"\"","v":""},"",{"$f":"INDEX(AK:AK,SMALL(ROW($AK$1:$AK$1999)+(1999*($AK$1:$AK$1999=\"\")), ROW(A1374)))&\"\"","v":""},"","","",null,"",""]
[null,null,null,null,null,null,null,null,null,null,null,null,null,null,null,null,null,null,null,null,null,null,null,null,null,null,null,null,null,null,null,null,{"$f":"INDEX(C:C, SMALL(ROW(C$1:C$5000)+(5000*(C$1:C$5000=\"\")),ROW(A1377)))&\"\"","v":""},"",{"$f":"INDEX(B:B, SMALL(ROW(B$1:B$5000)+(5000*(B$1:B$5000=\"\")),ROW(A1377)))&\"\"","v":""},"","","",null,null,{"$f":"INDEX(AH:AH,SMALL(ROW($AH$1:$AH$1999)+(1999*($AH$1:$AH$1999=\"\")), ROW(A1377)))&\"\"","v":""},"","","","","","","","","","","","","","","","","","","","","","","","","","","","","","","",{"$f":"INDEX(AJ:AJ,SMALL(ROW($AJ$1:$AJ$1999)+(1999*($AJ$1:$AJ$1999=\"\")), ROW(A1377)))&\"\"","v":""},"",{"$f":"INDEX(AK:AK,SMALL(ROW($AK$1:$AK$1999)+(1999*($AK$1:$AK$1999=\"\")), ROW(A1377)))&\"\"","v":""},"","","",null,"",""]
[null,null,null,null,null,null,null,null,null,null,null,null,null,null,null,null,null,null,null,null,null,null,null,null,null,null,null,null,null,null,null,null,{"$f":"INDEX(C:C, SMALL(ROW(C$1:C$5000)+(5000*(C$1:C$5000=\"\")),ROW(A1380)))&\"\"","v":""},"",{"$f":"INDEX(B:B, SMALL(ROW(B$1:B$5000)+(5000*(B$1:B$5000=\"\")),ROW(A1380)))&\"\"","v":""},"","","",null,null,{"$f":"INDEX(AH:AH,SMALL(ROW($AH$1:$AH$1999)+(1999*($AH$1:$AH$1999=\"\")), ROW(A1380)))&\"\"","v":""},"","","","","","","","","","","","","","","","","","","","","","","","","","","","","","","",{"$f":"INDEX(AJ:AJ,SMALL(ROW($AJ$1:$AJ$1999)+(1999*($AJ$1:$AJ$1999=\"\")), ROW(A1380)))&\"\"","v":""},"",{"$f":"INDEX(AK:AK,SMALL(ROW($AK$1:$AK$1999)+(1999*($AK$1:$AK$1999=\"\")), ROW(A1380)))&\"\"","v":""},"","","",null,"",""]
[null,null,null,null,null,null,null,null,null,null,null,null,null,null,null,null,null,null,null,null,null,null,null,null,null,null,null,null,null,null,null,null,{"$f":"INDEX(C:C, SMALL(ROW(C$1:C$5000)+(5000*(C$1:C$5000=\"\")),ROW(A1382)))&\"\"","v":""},"",{"$f":"INDEX(B:B, SMALL(ROW(B$1:B$5000)+(5000*(B$1:B$5000=\"\")),ROW(A1382)))&\"\"","v":""},"","","",null,null,{"$f":"INDEX(AH:AH,SMALL(ROW($AH$1:$AH$1999)+(1999*($AH$1:$AH$1999=\"\")), ROW(A1382)))&\"\"","v":""},"","","","","","","","","","","","","","","","","","","","","","","","","","","","","","","",{"$f":"INDEX(AJ:AJ,SMALL(ROW($AJ$1:$AJ$1999)+(1999*($AJ$1:$AJ$1999=\"\")), ROW(A1382)))&\"\"","v":""},"",{"$f":"INDEX(AK:AK,SMALL(ROW($AK$1:$AK$1999)+(1999*($AK$1:$AK$1999=\"\")), ROW(A1382)))&\"\"","v":""},"","","",null,"",""]
[null,null,null,null,null,null,null,null,null,null,null,null,null,null,null,null,null,null,null,null,null,null,null,null,null,null,null,null,null,null,null,null,{"$f":"INDEX(C:C, SMALL(ROW(C$1:C$5000)+(5000*(C$1:C$5000=\"\")),ROW(A1383)))&\"\"","v":""},"",{"$f":"INDEX(B:B, SMALL(ROW(B$1:B$5000)+(5000*(B$1:B$5000=\"\")),ROW(A1383)))&\"\"","v":""},"","","",null,null,{"$f":"INDEX(AH:AH,SMALL(ROW($AH$1:$AH$1999)+(1999*($AH$1:$AH$1999=\"\")), ROW(A1383)))&\"\"","v":""},"","","","","","","","","","","","","","","","","","","","","","","","","","","","","","","",{"$f":"INDEX(AJ:AJ,SMALL(ROW($AJ$1:$AJ$1999)+(1999*($AJ$1:$AJ$1999=\"\")), ROW(A1383)))&\"\"","v":""},"",{"$f":"INDEX(AK:AK,SMALL(ROW($AK$1:$AK$1999)+(1999*($AK$1:$AK$1999=\"\")), ROW(A1383)))&\"\"","v":""},"","","",null,"",""]
[null,null,null,null,null,null,null,null,null,null,null,null,null,null,null,null,null,null,null,null,null,null,null,null,null,null,null,null,null,null,null,null,{"$f":"INDEX(C:C, SMALL(ROW(C$1:C$5000)+(5000*(C$1:C$5000=\"\")),ROW(A1386)))&\"\"","v":""},"",{"$f":"INDEX(B:B, SMALL(ROW(B$1:B$5000)+(5000*(B$1:B$5000=\"\")),ROW(A1386)))&\"\"","v":""},"","","",null,null,{"$f":"INDEX(AH:AH,SMALL(ROW($AH$1:$AH$1999)+(1999*($AH$1:$AH$1999=\"\")), ROW(A1386)))&\"\"","v":""},"","","","","","","","","","","","","","","","","","","","","","","","","","","","","","","",{"$f":"INDEX(AJ:AJ,SMALL(ROW($AJ$1:$AJ$1999)+(1999*($AJ$1:$AJ$1999=\"\")), ROW(A1386)))&\"\"","v":""},"",{"$f":"INDEX(AK:AK,SMALL(ROW($AK$1:$AK$1999)+(1999*($AK$1:$AK$1999=\"\")), ROW(A1386)))&\"\"","v":""},"","","",null,"",""]
[null,null,null,null,null,null,null,null,null,null,null,null,null,null,null,null,null,null,null,null,null,null,null,null,null,null,null,null,null,null,null,null,{"$f":"INDEX(C:C, SMALL(ROW(C$1:C$5000)+(5000*(C$1:C$5000=\"\")),ROW(A1390)))&\"\"","v":""},"",{"$f":"INDEX(B:B, SMALL(ROW(B$1:B$5000)+(5000*(B$1:B$5000=\"\")),ROW(A1390)))&\"\"","v":""},"","","",null,null,{"$f":"INDEX(AH:AH,SMALL(ROW($AH$1:$AH$1999)+(1999*($AH$1:$AH$1999=\"\")), ROW(A1390)))&\"\"","v":""},"","","","","","","","","","","","","","","","","","","","","","","","","","","","","","","",{"$f":"INDEX(AJ:AJ,SMALL(ROW($AJ$1:$AJ$1999)+(1999*($AJ$1:$AJ$1999=\"\")), ROW(A1390)))&\"\"","v":""},"",{"$f":"INDEX(AK:AK,SMALL(ROW($AK$1:$AK$1999)+(1999*($AK$1:$AK$1999=\"\")), ROW(A1390)))&\"\"","v":""},"","","",null,"",""]
[null,null,null,null,null,null,null,null,null,null,null,null,null,null,null,null,null,null,null,null,null,null,null,null,null,null,null,null,null,null,null,null,{"$f":"INDEX(C:C, SMALL(ROW(C$1:C$5000)+(5000*(C$1:C$5000=\"\")),ROW(A1393)))&\"\"","v":""},"",{"$f":"INDEX(B:B, SMALL(ROW(B$1:B$5000)+(5000*(B$1:B$5000=\"\")),ROW(A1393)))&\"\"","v":""},"","","",null,null,{"$f":"INDEX(AH:AH,SMALL(ROW($AH$1:$AH$1999)+(1999*($AH$1:$AH$1999=\"\")), ROW(A1393)))&\"\"","v":""},"","","","","","","","","","","","","","","","","","","","","","","","","","","","","","","",{"$f":"INDEX(AJ:AJ,SMALL(ROW($AJ$1:$AJ$1999)+(1999*($AJ$1:$AJ$1999=\"\")), ROW(A1393)))&\"\"","v":""},"",{"$f":"INDEX(AK:AK,SMALL(ROW($AK$1:$AK$1999)+(1999*($AK$1:$AK$1999=\"\")), ROW(A1393)))&\"\"","v":""},"","","",null,"",""]
[null,null,null,null,null,null,null,null,null,null,null,null,null,null,null,null,null,null,null,null,null,null,null,null,null,null,null,null,null,null,null,null,{"$f":"INDEX(C:C, SMALL(ROW(C$1:C$5000)+(5000*(C$1:C$5000=\"\")),ROW(A1396)))&\"\"","v":""},"",{"$f":"INDEX(B:B, SMALL(ROW(B$1:B$5000)+(5000*(B$1:B$5000=\"\")),ROW(A1396)))&\"\"","v":""},"","","",null,null,{"$f":"INDEX(AH:AH,SMALL(ROW($AH$1:$AH$1999)+(1999*($AH$1:$AH$1999=\"\")), ROW(A1396)))&\"\"","v":""},"","","","","","","","","","","","","","","","","","","","","","","","","","","","","","","",{"$f":"INDEX(AJ:AJ,SMALL(ROW($AJ$1:$AJ$1999)+(1999*($AJ$1:$AJ$1999=\"\")), ROW(A1396)))&\"\"","v":""},"",{"$f":"INDEX(AK:AK,SMALL(ROW($AK$1:$AK$1999)+(1999*($AK$1:$AK$1999=\"\")), ROW(A1396)))&\"\"","v":""},"","","",null,"",""]
[null,null,null,null,null,null,null,null,null,null,null,null,null,null,null,null,null,null,null,null,null,null,null,null,null,null,null,null,null,null,null,null,{"$f":"INDEX(C:C, SMALL(ROW(C$1:C$5000)+(5000*(C$1:C$5000=\"\")),ROW(A1399)))&\"\"","v":""},"",{"$f":"INDEX(B:B, SMALL(ROW(B$1:B$5000)+(5000*(B$1:B$5000=\"\")),ROW(A1399)))&\"\"","v":""},"","","",null,null,{"$f":"INDEX(AH:AH,SMALL(ROW($AH$1:$AH$1999)+(1999*($AH$1:$AH$1999=\"\")), ROW(A1399)))&\"\"","v":""},"","","","","","","","","","","","","","","","","","","","","","","","","","","","","","","",{"$f":"INDEX(AJ:AJ,SMALL(ROW($AJ$1:$AJ$1999)+(1999*($AJ$1:$AJ$1999=\"\")), ROW(A1399)))&\"\"","v":""},"",{"$f":"INDEX(AK:AK,SMALL(ROW($AK$1:$AK$1999)+(1999*($AK$1:$AK$1999=\"\")), ROW(A1399)))&\"\"","v":""},"","","",null,"",""]
[null,null,null,null,null,null,null,null,null,null,null,null,null,null,null,null,null,null,null,null,null,null,null,null,null,null,null,null,null,null,null,null,{"$f":"INDEX(C:C, SMALL(ROW(C$1:C$5000)+(5000*(C$1:C$5000=\"\")),ROW(A1402)))&\"\"","v":""},"",{"$f":"INDEX(B:B, SMALL(ROW(B$1:B$5000)+(5000*(B$1:B$5000=\"\")),ROW(A1402)))&\"\"","v":""},"","","",null,null,{"$f":"INDEX(AH:AH,SMALL(ROW($AH$1:$AH$1999)+(1999*($AH$1:$AH$1999=\"\")), ROW(A1402)))&\"\"","v":""},"","","","","","","","","","","","","","","","","","","","","","","","","","","","","","","",{"$f":"INDEX(AJ:AJ,SMALL(ROW($AJ$1:$AJ$1999)+(1999*($AJ$1:$AJ$1999=\"\")), ROW(A1402)))&\"\"","v":""},"",{"$f":"INDEX(AK:AK,SMALL(ROW($AK$1:$AK$1999)+(1999*($AK$1:$AK$1999=\"\")), ROW(A1402)))&\"\"","v":""},"","","",null,"",""]
[null,null,null,null,null,null,null,null,null,null,null,null,null,null,null,null,null,null,null,null,null,null,null,null,null,null,null,null,null,null,null,null,{"$f":"INDEX(C:C, SMALL(ROW(C$1:C$5000)+(5000*(C$1:C$5000=\"\")),ROW(A1404)))&\"\"","v":""},"",{"$f":"INDEX(B:B, SMALL(ROW(B$1:B$5000)+(5000*(B$1:B$5000=\"\")),ROW(A1404)))&\"\"","v":""},"","","",null,null,{"$f":"INDEX(AH:AH,SMALL(ROW($AH$1:$AH$1999)+(1999*($AH$1:$AH$1999=\"\")), ROW(A1404)))&\"\"","v":""},"","","","","","","","","","","","","","","","","","","","","","","","","","","","","","","",{"$f":"INDEX(AJ:AJ,SMALL(ROW($AJ$1:$AJ$1999)+(1999*($AJ$1:$AJ$1999=\"\")), ROW(A1404)))&\"\"","v":""},"",{"$f":"INDEX(AK:AK,SMALL(ROW($AK$1:$AK$1999)+(1999*($AK$1:$AK$1999=\"\")), ROW(A1404)))&\"\"","v":""},"","","",null,"",""]
[null,null,null,null,null,null,null,null,null,null,null,null,null,null,null,null,null,null,null,null,null,null,null,null,null,null,null,null,null,null,null,null,{"$f":"INDEX(C:C, SMALL(ROW(C$1:C$5000)+(5000*(C$1:C$5000=\"\")),ROW(A1405)))&\"\"","v":""},"",{"$f":"INDEX(B:B, SMALL(ROW(B$1:B$5000)+(5000*(B$1:B$5000=\"\")),ROW(A1405)))&\"\"","v":""},"","","",null,null,{"$f":"INDEX(AH:AH,SMALL(ROW($AH$1:$AH$1999)+(1999*($AH$1:$AH$1999=\"\")), ROW(A1405)))&\"\"","v":""},"","","","","","","","","","","","","","","","","","","","","","","","","","","","","","","",{"$f":"INDEX(AJ:AJ,SMALL(ROW($AJ$1:$AJ$1999)+(1999*($AJ$1:$AJ$1999=\"\")), ROW(A1405)))&\"\"","v":""},"",{"$f":"INDEX(AK:AK,SMALL(ROW($AK$1:$AK$1999)+(1999*($AK$1:$AK$1999=\"\")), ROW(A1405)))&\"\"","v":""},"","","",null,"",""]
[null,null,null,null,null,null,null,null,null,null,null,null,null,null,null,null,null,null,null,null,null,null,null,null,null,null,null,null,null,null,null,null,{"$f":"INDEX(C:C, SMALL(ROW(C$1:C$5000)+(5000*(C$1:C$5000=\"\")),ROW(A1409)))&\"\"","v":""},{"$f":"IF(ISNUMBER(SEARCH(\"*,*\",AG1409)),AG1409,\"\")","v":""},{"$f":"INDEX(B:B, SMALL(ROW(B$1:B$5000)+(5000*(B$1:B$5000=\"\")),ROW(A1409)))&\"\"","v":""},"","",{"$f":"IF(ISNUMBER(SEARCH(\"*Round*\",AI1409)),AI1409,\"\")","v":""},null,null,{"$f":"INDEX(AH:AH,SMALL(ROW($AH$1:$AH$1999)+(1999*($AH$1:$AH$1999=\"\")), ROW(A1409)))&\"\"","v":""},"","","","","","","","","","","","","","","","","","","","","","","","","","","","","","","",{"$f":"INDEX(AJ:AJ,SMALL(ROW($AJ$1:$AJ$1999)+(1999*($AJ$1:$AJ$1999=\"\")), ROW(A1409)))&\"\"","v":""},"",{"$f":"INDEX(AK:AK,SMALL(ROW($AK$1:$AK$1999)+(1999*($AK$1:$AK$1999=\"\")), ROW(A1409)))&\"\"","v":""},"","","",null,"",""]
[null,null,null,null,null,null,null,null,null,null,null,null,null,null,null,null,null,null,null,null,null,null,null,null,null,null,null,null,null,null,null,null,{"$f":"INDEX(C:C, SMALL(ROW(C$1:C$5000)+(5000*(C$1:C$5000=\"\")),ROW(A1412)))&\"\"","v":""},"",{"$f":"INDEX(B:B, SMALL(ROW(B$1:B$5000)+(5000*(B$1:B$5000=\"\")),ROW(A1412)))&\"\"","v":""},"","","",null,null,{"$f":"INDEX(AH:AH,SMALL(ROW($AH$1:$AH$1999)+(1999*($AH$1:$AH$1999=\"\")), ROW(A1412)))&\"\"","v":""},"","","","","","","","","","","","","","","","","","","","","","","","","","","","","","","",{"$f":"INDEX(AJ:AJ,SMALL(ROW($AJ$1:$AJ$1999)+(1999*($AJ$1:$AJ$1999=\"\")), ROW(A1412)))&\"\"","v":""},"",{"$f":"INDEX(AK:AK,SMALL(ROW($AK$1:$AK$1999)+(1999*($AK$1:$AK$1999=\"\")), ROW(A1412)))&\"\"","v":""},"","","",null,"",""]
[null,null,null,null,null,null,null,null,null,null,null,null,null,null,null,null,null,null,null,null,null,null,null,null,null,null,null,null,null,null,null,null,{"$f":"INDEX(C:C, SMALL(ROW(C$1:C$5000)+(5000*(C$1:C$5000=\"\")),ROW(A1415)))&\"\"","v":""},"",{"$f":"INDEX(B:B, SMALL(ROW(B$1:B$5000)+(5000*(B$1:B$5000=\"\")),ROW(A1415)))&\"\"","v":""},"","","",null,null,{"$f":"INDEX(AH:AH,SMALL(ROW($AH$1:$AH$1999)+(1999*($AH$1:$AH$1999=\"\")), ROW(A1415)))&\"\"","v":""},"","","","","","","","","","","","","","","","","","","","","","","","","","","","","","","",{"$f":"INDEX(AJ:AJ,SMALL(ROW($AJ$1:$AJ$1999)+(1999*($AJ$1:$AJ$1999=\"\")), ROW(A1415)))&\"\"","v":""},"",{"$f":"INDEX(AK:AK,SMALL(ROW($AK$1:$AK$1999)+(1999*($AK$1:$AK$1999=\"\")), ROW(A1415)))&\"\"","v":""},"","","",null,"",""]
[null,null,null,null,null,null,null,null,null,null,null,null,null,null,null,null,null,null,null,null,null,null,null,null,null,null,null,null,null,null,null,null,{"$f":"INDEX(C:C, SMALL(ROW(C$1:C$5000)+(5000*(C$1:C$5000=\"\")),ROW(A1418)))&\"\"","v":""},"",{"$f":"INDEX(B:B, SMALL(ROW(B$1:B$5000)+(5000*(B$1:B$5000=\"\")),ROW(A1418)))&\"\"","v":""},"","","",null,null,{"$f":"INDEX(AH:AH,SMALL(ROW($AH$1:$AH$1999)+(1999*($AH$1:$AH$1999=\"\")), ROW(A1418)))&\"\"","v":""},"","","","","","","","","","","","","","","","","","","","","","","","","","","","","","","",{"$f":"INDEX(AJ:AJ,SMALL(ROW($AJ$1:$AJ$1999)+(1999*($AJ$1:$AJ$1999=\"\")), ROW(A1418)))&\"\"","v":""},"",{"$f":"INDEX(AK:AK,SMALL(ROW($AK$1:$AK$1999)+(1999*($AK$1:$AK$1999=\"\")), ROW(A1418)))&\"\"","v":""},"","","",null,"",""]
[null,null,null,null,null,null,null,null,null,null,null,null,null,null,null,null,null,null,null,null,null,null,null,null,null,null,null,null,null,null,null,null,{"$f":"INDEX(C:C, SMALL(ROW(C$1:C$5000)+(5000*(C$1:C$5000=\"\")),ROW(A1421)))&\"\"","v":""},"",{"$f":"INDEX(B:B, SMALL(ROW(B$1:B$5000)+(5000*(B$1:B$5000=\"\")),ROW(A1421)))&\"\"","v":""},"","","",null,null,{"$f":"INDEX(AH:AH,SMALL(ROW($AH$1:$AH$1999)+(1999*($AH$1:$AH$1999=\"\")), ROW(A1421)))&\"\"","v":""},"","","","","","","","","","","","","","","","","","","","","","","","","","","","","","","",{"$f":"INDEX(AJ:AJ,SMALL(ROW($AJ$1:$AJ$1999)+(1999*($AJ$1:$AJ$1999=\"\")), ROW(A1421)))&\"\"","v":""},"",{"$f":"INDEX(AK:AK,SMALL(ROW($AK$1:$AK$1999)+(1999*($AK$1:$AK$1999=\"\")), ROW(A1421)))&\"\"","v":""},"","","",null,"",""]
[null,null,null,null,null,null,null,null,null,null,null,null,null,null,null,null,null,null,null,null,null,null,null,null,null,null,null,null,null,null,null,null,{"$f":"INDEX(C:C, SMALL(ROW(C$1:C$5000)+(5000*(C$1:C$5000=\"\")),ROW(A1424)))&\"\"","v":""},"",{"$f":"INDEX(B:B, SMALL(ROW(B$1:B$5000)+(5000*(B$1:B$5000=\"\")),ROW(A1424)))&\"\"","v":""},"","","",null,null,{"$f":"INDEX(AH:AH,SMALL(ROW($AH$1:$AH$1999)+(1999*($AH$1:$AH$1999=\"\")), ROW(A1424)))&\"\"","v":""},"","","","","","","","","","","","","","","","","","","","","","","","","","","","","","","",{"$f":"INDEX(AJ:AJ,SMALL(ROW($AJ$1:$AJ$1999)+(1999*($AJ$1:$AJ$1999=\"\")), ROW(A1424)))&\"\"","v":""},"",{"$f":"INDEX(AK:AK,SMALL(ROW($AK$1:$AK$1999)+(1999*($AK$1:$AK$1999=\"\")), ROW(A1424)))&\"\"","v":""},"","","",null,"",""]
[null,null,null,null,null,null,null,null,null,null,null,null,null,null,null,null,null,null,null,null,null,null,null,null,null,null,null,null,null,null,null,null,{"$f":"INDEX(C:C, SMALL(ROW(C$1:C$5000)+(5000*(C$1:C$5000=\"\")),ROW(A1426)))&\"\"","v":""},"",{"$f":"INDEX(B:B, SMALL(ROW(B$1:B$5000)+(5000*(B$1:B$5000=\"\")),ROW(A1426)))&\"\"","v":""},"","","",null,null,{"$f":"INDEX(AH:AH,SMALL(ROW($AH$1:$AH$1999)+(1999*($AH$1:$AH$1999=\"\")), ROW(A1426)))&\"\"","v":""},"","","","","","","","","","","","","","","","","","","","","","","","","","","","","","","",{"$f":"INDEX(AJ:AJ,SMALL(ROW($AJ$1:$AJ$1999)+(1999*($AJ$1:$AJ$1999=\"\")), ROW(A1426)))&\"\"","v":""},"",{"$f":"INDEX(AK:AK,SMALL(ROW($AK$1:$AK$1999)+(1999*($AK$1:$AK$1999=\"\")), ROW(A1426)))&\"\"","v":""},"","","",null,"",""]
[null,null,null,null,null,null,null,null,null,null,null,null,null,null,null,null,null,null,null,null,null,null,null,null,null,null,null,null,null,null,null,null,{"$f":"INDEX(C:C, SMALL(ROW(C$1:C$5000)+(5000*(C$1:C$5000=\"\")),ROW(A1427)))&\"\"","v":""},"",{"$f":"INDEX(B:B, SMALL(ROW(B$1:B$5000)+(5000*(B$1:B$5000=\"\")),ROW(A1427)))&\"\"","v":""},"","","",null,null,{"$f":"INDEX(AH:AH,SMALL(ROW($AH$1:$AH$1999)+(1999*($AH$1:$AH$1999=\"\")), ROW(A1427)))&\"\"","v":""},"","","","","","","","","","","","","","","","","","","","","","","","","","","","","","","",{"$f":"INDEX(AJ:AJ,SMALL(ROW($AJ$1:$AJ$1999)+(1999*($AJ$1:$AJ$1999=\"\")), ROW(A1427)))&\"\"","v":""},"",{"$f":"INDEX(AK:AK,SMALL(ROW($AK$1:$AK$1999)+(1999*($AK$1:$AK$1999=\"\")), ROW(A1427)))&\"\"","v":""},"","","",null,"",""]
[null,null,null,null,null,null,null,null,null,null,null,null,null,null,null,null,null,null,null,null,null,null,null,null,null,null,null,null,null,null,null,null,{"$f":"INDEX(C:C, SMALL(ROW(C$1:C$5000)+(5000*(C$1:C$5000=\"\")),ROW(A1431)))&\"\"","v":""},"",{"$f":"INDEX(B:B, SMALL(ROW(B$1:B$5000)+(5000*(B$1:B$5000=\"\")),ROW(A1431)))&\"\"","v":""},"","","",null,null,{"$f":"INDEX(AH:AH,SMALL(ROW($AH$1:$AH$1999)+(1999*($AH$1:$AH$1999=\"\")), ROW(A1431)))&\"\"","v":""},"","","","","","","","","","","","","","","","","","","","","","","","","","","","","","","",{"$f":"INDEX(AJ:AJ,SMALL(ROW($AJ$1:$AJ$1999)+(1999*($AJ$1:$AJ$1999=\"\")), ROW(A1431)))&\"\"","v":""},"",{"$f":"INDEX(AK:AK,SMALL(ROW($AK$1:$AK$1999)+(1999*($AK$1:$AK$1999=\"\")), ROW(A1431)))&\"\"","v":""},"","","",null,"",""]
[null,null,null,null,null,null,null,null,null,null,null,null,null,null,null,null,null,null,null,null,null,null,null,null,null,null,null,null,null,null,null,null,{"$f":"INDEX(C:C, SMALL(ROW(C$1:C$5000)+(5000*(C$1:C$5000=\"\")),ROW(A1434)))&\"\"","v":""},"",{"$f":"INDEX(B:B, SMALL(ROW(B$1:B$5000)+(5000*(B$1:B$5000=\"\")),ROW(A1434)))&\"\"","v":""},"","","",null,null,{"$f":"INDEX(AH:AH,SMALL(ROW($AH$1:$AH$1999)+(1999*($AH$1:$AH$1999=\"\")), ROW(A1434)))&\"\"","v":""},"","","","","","","","","","","","","","","","","","","","","","","","","","","","","","","",{"$f":"INDEX(AJ:AJ,SMALL(ROW($AJ$1:$AJ$1999)+(1999*($AJ$1:$AJ$1999=\"\")), ROW(A1434)))&\"\"","v":""},"",{"$f":"INDEX(AK:AK,SMALL(ROW($AK$1:$AK$1999)+(1999*($AK$1:$AK$1999=\"\")), ROW(A1434)))&\"\"","v":""},"","","",null,"",""]
[null,null,null,null,null,null,null,null,null,null,null,null,null,null,null,null,null,null,null,null,null,null,null,null,null,null,null,null,null,null,null,null,{"$f":"INDEX(C:C, SMALL(ROW(C$1:C$5000)+(5000*(C$1:C$5000=\"\")),ROW(A1437)))&\"\"","v":""},"",{"$f":"INDEX(B:B, SMALL(ROW(B$1:B$5000)+(5000*(B$1:B$5000=\"\")),ROW(A1437)))&\"\"","v":""},"","","",null,null,{"$f":"INDEX(AH:AH,SMALL(ROW($AH$1:$AH$1999)+(1999*($AH$1:$AH$1999=\"\")), ROW(A1437)))&\"\"","v":""},"","","","","","","","","","","","","","","","","","","","","","","","","","","","","","","",{"$f":"INDEX(AJ:AJ,SMALL(ROW($AJ$1:$AJ$1999)+(1999*($AJ$1:$AJ$1999=\"\")), ROW(A1437)))&\"\"","v":""},"",{"$f":"INDEX(AK:AK,SMALL(ROW($AK$1:$AK$1999)+(1999*($AK$1:$AK$1999=\"\")), ROW(A1437)))&\"\"","v":""},"","","",null,"",""]
[null,null,null,null,null,null,null,null,null,null,null,null,null,null,null,null,null,null,null,null,null,null,null,null,null,null,null,null,null,null,null,null,{"$f":"INDEX(C:C, SMALL(ROW(C$1:C$5000)+(5000*(C$1:C$5000=\"\")),ROW(A1440)))&\"\"","v":""},"",{"$f":"INDEX(B:B, SMALL(ROW(B$1:B$5000)+(5000*(B$1:B$5000=\"\")),ROW(A1440)))&\"\"","v":""},"","","",null,null,{"$f":"INDEX(AH:AH,SMALL(ROW($AH$1:$AH$1999)+(1999*($AH$1:$AH$1999=\"\")), ROW(A1440)))&\"\"","v":""},"","","","","","","","","","","","","","","","","","","","","","","","","","","","","","","",{"$f":"INDEX(AJ:AJ,SMALL(ROW($AJ$1:$AJ$1999)+(1999*($AJ$1:$AJ$1999=\"\")), ROW(A1440)))&\"\"","v":""},"",{"$f":"INDEX(AK:AK,SMALL(ROW($AK$1:$AK$1999)+(1999*($AK$1:$AK$1999=\"\")), ROW(A1440)))&\"\"","v":""},"","","",null,"",""]
[null,null,null,null,null,null,null,null,null,null,null,null,null,null,null,null,null,null,null,null,null,null,null,null,null,null,null,null,null,null,null,null,{"$f":"INDEX(C:C, SMALL(ROW(C$1:C$5000)+(5000*(C$1:C$5000=\"\")),ROW(A1443)))&\"\"","v":""},"",{"$f":"INDEX(B:B, SMALL(ROW(B$1:B$5000)+(5000*(B$1:B$5000=\"\")),ROW(A1443)))&\"\"","v":""},"","","",null,null,{"$f":"INDEX(AH:AH,SMALL(ROW($AH$1:$AH$1999)+(1999*($AH$1:$AH$1999=\"\")), ROW(A1443)))&\"\"","v":""},"","","","","","","","","","","","","","","","","","","","","","","","","","","","","","","",{"$f":"INDEX(AJ:AJ,SMALL(ROW($AJ$1:$AJ$1999)+(1999*($AJ$1:$AJ$1999=\"\")), ROW(A1443)))&\"\"","v":""},"",{"$f":"INDEX(AK:AK,SMALL(ROW($AK$1:$AK$1999)+(1999*($AK$1:$AK$1999=\"\")), ROW(A1443)))&\"\"","v":""},"","","",null,"",""]
[null,null,null,null,null,null,null,null,null,null,null,null,null,null,null,null,null,null,null,null,null,null,null,null,null,null,null,null,null,null,null,null,{"$f":"INDEX(C:C, SMALL(ROW(C$1:C$5000)+(5000*(C$1:C$5000=\"\")),ROW(A1444)))&\"\"","v":""},"",{"$f":"INDEX(B:B, SMALL(ROW(B$1:B$5000)+(5000*(B$1:B$5000=\"\")),ROW(A1444)))&\"\"","v":""},"","","",null,null,{"$f":"INDEX(AH:AH,SMALL(ROW($AH$1:$AH$1999)+(1999*($AH$1:$AH$1999=\"\")), ROW(A1444)))&\"\"","v":""},"","","","","","","","","","","","","","","","","","","","","","","","","","","","","","","",{"$f":"INDEX(AJ:AJ,SMALL(ROW($AJ$1:$AJ$1999)+(1999*($AJ$1:$AJ$1999=\"\")), ROW(A1444)))&\"\"","v":""},"",{"$f":"INDEX(AK:AK,SMALL(ROW($AK$1:$AK$1999)+(1999*($AK$1:$AK$1999=\"\")), ROW(A1444)))&\"\"","v":""},"","","",null,"",""]
[null,null,null,null,null,null,null,null,null,null,null,null,null,null,null,null,null,null,null,null,null,null,null,null,null,null,null,null,null,null,null,null,{"$f":"INDEX(C:C, SMALL(ROW(C$1:C$5000)+(5000*(C$1:C$5000=\"\")),ROW(A1448)))&\"\"","v":""},"",{"$f":"INDEX(B:B, SMALL(ROW(B$1:B$5000)+(5000*(B$1:B$5000=\"\")),ROW(A1448)))&\"\"","v":""},"","","",null,null,{"$f":"INDEX(AH:AH,SMALL(ROW($AH$1:$AH$1999)+(1999*($AH$1:$AH$1999=\"\")), ROW(A1448)))&\"\"","v":""},"","","","","","","","","","","","","","","","","","","","","","","","","","","","","","","",{"$f":"INDEX(AJ:AJ,SMALL(ROW($AJ$1:$AJ$1999)+(1999*($AJ$1:$AJ$1999=\"\")), ROW(A1448)))&\"\"","v":""},"",{"$f":"INDEX(AK:AK,SMALL(ROW($AK$1:$AK$1999)+(1999*($AK$1:$AK$1999=\"\")), ROW(A1448)))&\"\"","v":""},"","","",null,"",""]
[null,null,null,null,null,null,null,null,null,null,null,null,null,null,null,null,null,null,null,null,null,null,null,null,null,null,null,null,null,null,null,null,{"$f":"INDEX(C:C, SMALL(ROW(C$1:C$5000)+(5000*(C$1:C$5000=\"\")),ROW(A1449)))&\"\"","v":""},"",{"$f":"INDEX(B:B, SMALL(ROW(B$1:B$5000)+(5000*(B$1:B$5000=\"\")),ROW(A1449)))&\"\"","v":""},"","","",null,null,{"$f":"INDEX(AH:AH,SMALL(ROW($AH$1:$AH$1999)+(1999*($AH$1:$AH$1999=\"\")), ROW(A1449)))&\"\"","v":""},"","","","","","","","","","","","","","","","","","","","","","","","","","","","","","","",{"$f":"INDEX(AJ:AJ,SMALL(ROW($AJ$1:$AJ$1999)+(1999*($AJ$1:$AJ$1999=\"\")), ROW(A1449)))&\"\"","v":""},"",{"$f":"INDEX(AK:AK,SMALL(ROW($AK$1:$AK$1999)+(1999*($AK$1:$AK$1999=\"\")), ROW(A1449)))&\"\"","v":""},"","","",null,"",""]
[null,null,null,null,null,null,null,null,null,null,null,null,null,null,null,null,null,null,null,null,null,null,null,null,null,null,null,null,null,null,null,null,{"$f":"INDEX(C:C, SMALL(ROW(C$1:C$5000)+(5000*(C$1:C$5000=\"\")),ROW(A1453)))&\"\"","v":""},"",{"$f":"INDEX(B:B, SMALL(ROW(B$1:B$5000)+(5000*(B$1:B$5000=\"\")),ROW(A1453)))&\"\"","v":""},"","","",null,null,{"$f":"INDEX(AH:AH,SMALL(ROW($AH$1:$AH$1999)+(1999*($AH$1:$AH$1999=\"\")), ROW(A1453)))&\"\"","v":""},"","","","","","","","","","","","","","","","","","","","","","","","","","","","","","","",{"$f":"INDEX(AJ:AJ,SMALL(ROW($AJ$1:$AJ$1999)+(1999*($AJ$1:$AJ$1999=\"\")), ROW(A1453)))&\"\"","v":""},"",{"$f":"INDEX(AK:AK,SMALL(ROW($AK$1:$AK$1999)+(1999*($AK$1:$AK$1999=\"\")), ROW(A1453)))&\"\"","v":""},"","","",null,"",""]
[null,null,null,null,null,null,null,null,null,null,null,null,null,null,null,null,null,null,null,null,null,null,null,null,null,null,null,null,null,null,null,null,{"$f":"INDEX(C:C, SMALL(ROW(C$1:C$5000)+(5000*(C$1:C$5000=\"\")),ROW(A1456)))&\"\"","v":""},"",{"$f":"INDEX(B:B, SMALL(ROW(B$1:B$5000)+(5000*(B$1:B$5000=\"\")),ROW(A1456)))&\"\"","v":""},"","","",null,null,{"$f":"INDEX(AH:AH,SMALL(ROW($AH$1:$AH$1999)+(1999*($AH$1:$AH$1999=\"\")), ROW(A1456)))&\"\"","v":""},"","","","","","","","","","","","","","","","","","","","","","","","","","","","","","","",{"$f":"INDEX(AJ:AJ,SMALL(ROW($AJ$1:$AJ$1999)+(1999*($AJ$1:$AJ$1999=\"\")), ROW(A1456)))&\"\"","v":""},"",{"$f":"INDEX(AK:AK,SMALL(ROW($AK$1:$AK$1999)+(1999*($AK$1:$AK$1999=\"\")), ROW(A1456)))&\"\"","v":""},"","","",null,"",""]
[null,null,null,null,null,null,null,null,null,null,null,null,null,null,null,null,null,null,null,null,null,null,null,null,null,null,null,null,null,null,null,null,{"$f":"INDEX(C:C, SMALL(ROW(C$1:C$5000)+(5000*(C$1:C$5000=\"\")),ROW(A1459)))&\"\"","v":""},"",{"$f":"INDEX(B:B, SMALL(ROW(B$1:B$5000)+(5000*(B$1:B$5000=\"\")),ROW(A1459)))&\"\"","v":""},"","","",null,null,{"$f":"INDEX(AH:AH,SMALL(ROW($AH$1:$AH$1999)+(1999*($AH$1:$AH$1999=\"\")), ROW(A1459)))&\"\"","v":""},"","","","","","","","","","","","","","","","","","","","","","","","","","","","","","","",{"$f":"INDEX(AJ:AJ,SMALL(ROW($AJ$1:$AJ$1999)+(1999*($AJ$1:$AJ$1999=\"\")), ROW(A1459)))&\"\"","v":""},"",{"$f":"INDEX(AK:AK,SMALL(ROW($AK$1:$AK$1999)+(1999*($AK$1:$AK$1999=\"\")), ROW(A1459)))&\"\"","v":""},"","","",null,"",""]
[null,null,null,null,null,null,null,null,null,null,null,null,null,null,null,null,null,null,null,null,null,null,null,null,null,null,null,null,null,null,null,null,{"$f":"INDEX(C:C, SMALL(ROW(C$1:C$5000)+(5000*(C$1:C$5000=\"\")),ROW(A1462)))&\"\"","v":""},"",{"$f":"INDEX(B:B, SMALL(ROW(B$1:B$5000)+(5000*(B$1:B$5000=\"\")),ROW(A1462)))&\"\"","v":""},"","","",null,null,{"$f":"INDEX(AH:AH,SMALL(ROW($AH$1:$AH$1999)+(1999*($AH$1:$AH$1999=\"\")), ROW(A1462)))&\"\"","v":""},"","","","","","","","","","","","","","","","","","","","","","","","","","","","","","","",{"$f":"INDEX(AJ:AJ,SMALL(ROW($AJ$1:$AJ$1999)+(1999*($AJ$1:$AJ$1999=\"\")), ROW(A1462)))&\"\"","v":""},"",{"$f":"INDEX(AK:AK,SMALL(ROW($AK$1:$AK$1999)+(1999*($AK$1:$AK$1999=\"\")), ROW(A1462)))&\"\"","v":""},"","","",null,"",""]
[null,null,null,null,null,null,null,null,null,null,null,null,null,null,null,null,null,null,null,null,null,null,null,null,null,null,null,null,null,null,null,null,{"$f":"INDEX(C:C, SMALL(ROW(C$1:C$5000)+(5000*(C$1:C$5000=\"\")),ROW(A1465)))&\"\"","v":""},"",{"$f":"INDEX(B:B, SMALL(ROW(B$1:B$5000)+(5000*(B$1:B$5000=\"\")),ROW(A1465)))&\"\"","v":""},"","","",null,null,{"$f":"INDEX(AH:AH,SMALL(ROW($AH$1:$AH$1999)+(1999*($AH$1:$AH$1999=\"\")), ROW(A1465)))&\"\"","v":""},"","","","","","","","","","","","","","","","","","","","","","","","","","","","","","","",{"$f":"INDEX(AJ:AJ,SMALL(ROW($AJ$1:$AJ$1999)+(1999*($AJ$1:$AJ$1999=\"\")), ROW(A1465)))&\"\"","v":""},"",{"$f":"INDEX(AK:AK,SMALL(ROW($AK$1:$AK$1999)+(1999*($AK$1:$AK$1999=\"\")), ROW(A1465)))&\"\"","v":""},"","","",null,"",""]
[null,null,null,null,null,null,null,null,null,null,null,null,null,null,null,null,null,null,null,null,null,null,null,null,null,null,null,null,null,null,null,null,{"$f":"INDEX(C:C, SMALL(ROW(C$1:C$5000)+(5000*(C$1:C$5000=\"\")),ROW(A1466)))&\"\"","v":""},"",{"$f":"INDEX(B:B, SMALL(ROW(B$1:B$5000)+(5000*(B$1:B$5000=\"\")),ROW(A1466)))&\"\"","v":""},"","","",null,null,{"$f":"INDEX(AH:AH,SMALL(ROW($AH$1:$AH$1999)+(1999*($AH$1:$AH$1999=\"\")), ROW(A1466)))&\"\"","v":""},"","","","","","","","","","","","","","","","","","","","","","","","","","","","","","","",{"$f":"INDEX(AJ:AJ,SMALL(ROW($AJ$1:$AJ$1999)+(1999*($AJ$1:$AJ$1999=\"\")), ROW(A1466)))&\"\"","v":""},"",{"$f":"INDEX(AK:AK,SMALL(ROW($AK$1:$AK$1999)+(1999*($AK$1:$AK$1999=\"\")), ROW(A1466)))&\"\"","v":""},"","","",null,"",""]
[null,null,null,null,null,null,null,null,null,null,null,null,null,null,null,null,null,null,null,null,null,null,null,null,null,null,null,null,null,null,null,null,{"$f":"INDEX(C:C, SMALL(ROW(C$1:C$5000)+(5000*(C$1:C$5000=\"\")),ROW(A1470)))&\"\"","v":""},"",{"$f":"INDEX(B:B, SMALL(ROW(B$1:B$5000)+(5000*(B$1:B$5000=\"\")),ROW(A1470)))&\"\"","v":""},"","","",null,null,{"$f":"INDEX(AH:AH,SMALL(ROW($AH$1:$AH$1999)+(1999*($AH$1:$AH$1999=\"\")), ROW(A1470)))&\"\"","v":""},"","","","","","","","","","","","","","","","","","","","","","","","","","","","","","","",{"$f":"INDEX(AJ:AJ,SMALL(ROW($AJ$1:$AJ$1999)+(1999*($AJ$1:$AJ$1999=\"\")), ROW(A1470)))&\"\"","v":""},"",{"$f":"INDEX(AK:AK,SMALL(ROW($AK$1:$AK$1999)+(1999*($AK$1:$AK$1999=\"\")), ROW(A1470)))&\"\"","v":""},"","","",null,"",""]
[null,null,null,null,null,null,null,null,null,null,null,null,null,null,null,null,null,null,null,null,null,null,null,null,null,null,null,null,null,null,null,null,{"$f":"INDEX(C:C, SMALL(ROW(C$1:C$5000)+(5000*(C$1:C$5000=\"\")),ROW(A1471)))&\"\"","v":""},"",{"$f":"INDEX(B:B, SMALL(ROW(B$1:B$5000)+(5000*(B$1:B$5000=\"\")),ROW(A1471)))&\"\"","v":""},"","","",null,null,{"$f":"INDEX(AH:AH,SMALL(ROW($AH$1:$AH$1999)+(1999*($AH$1:$AH$1999=\"\")), ROW(A1471)))&\"\"","v":""},"","","","","","","","","","","","","","","","","","","","","","","","","","","","","","","",{"$f":"INDEX(AJ:AJ,SMALL(ROW($AJ$1:$AJ$1999)+(1999*($AJ$1:$AJ$1999=\"\")), ROW(A1471)))&\"\"","v":""},"",{"$f":"INDEX(AK:AK,SMALL(ROW($AK$1:$AK$1999)+(1999*($AK$1:$AK$1999=\"\")), ROW(A1471)))&\"\"","v":""},"","","",null,"",""]
[null,null,null,null,null,null,null,null,null,null,null,null,null,null,null,null,null,null,null,null,null,null,null,null,null,null,null,null,null,null,null,null,{"$f":"INDEX(C:C, SMALL(ROW(C$1:C$5000)+(5000*(C$1:C$5000=\"\")),ROW(A1475)))&\"\"","v":""},"",{"$f":"INDEX(B:B, SMALL(ROW(B$1:B$5000)+(5000*(B$1:B$5000=\"\")),ROW(A1475)))&\"\"","v":""},"","","",null,null,{"$f":"INDEX(AH:AH,SMALL(ROW($AH$1:$AH$1999)+(1999*($AH$1:$AH$1999=\"\")), ROW(A1475)))&\"\"","v":""},"","","","","","","","","","","","","","","","","","","","","","","","","","","","","","","",{"$f":"INDEX(AJ:AJ,SMALL(ROW($AJ$1:$AJ$1999)+(1999*($AJ$1:$AJ$1999=\"\")), ROW(A1475)))&\"\"","v":""},"",{"$f":"INDEX(AK:AK,SMALL(ROW($AK$1:$AK$1999)+(1999*($AK$1:$AK$1999=\"\")), ROW(A1475)))&\"\"","v":""},"","","",null,"",""]
[null,null,null,null,null,null,null,null,null,null,null,null,null,null,null,null,null,null,null,null,null,null,null,null,null,null,null,null,null,null,null,null,{"$f":"INDEX(C:C, SMALL(ROW(C$1:C$5000)+(5000*(C$1:C$5000=\"\")),ROW(A1478)))&\"\"","v":""},"",{"$f":"INDEX(B:B, SMALL(ROW(B$1:B$5000)+(5000*(B$1:B$5000=\"\")),ROW(A1478)))&\"\"","v":""},"","","",null,null,{"$f":"INDEX(AH:AH,SMALL(ROW($AH$1:$AH$1999)+(1999*($AH$1:$AH$1999=\"\")), ROW(A1478)))&\"\"","v":""},"","","","","","","","","","","","","","","","","","","","","","","","","","","","","","","",{"$f":"INDEX(AJ:AJ,SMALL(ROW($AJ$1:$AJ$1999)+(1999*($AJ$1:$AJ$1999=\"\")), ROW(A1478)))&\"\"","v":""},"",{"$f":"INDEX(AK:AK,SMALL(ROW($AK$1:$AK$1999)+(1999*($AK$1:$AK$1999=\"\")), ROW(A1478)))&\"\"","v":""},"","","",null,"",""]
[null,null,null,null,null,null,null,null,null,null,null,null,null,null,null,null,null,null,null,null,null,null,null,null,null,null,null,null,null,null,null,null,{"$f":"INDEX(C:C, SMALL(ROW(C$1:C$5000)+(5000*(C$1:C$5000=\"\")),ROW(A1481)))&\"\"","v":""},"",{"$f":"INDEX(B:B, SMALL(ROW(B$1:B$5000)+(5000*(B$1:B$5000=\"\")),ROW(A1481)))&\"\"","v":""},"","","",null,null,{"$f":"INDEX(AH:AH,SMALL(ROW($AH$1:$AH$1999)+(1999*($AH$1:$AH$1999=\"\")), ROW(A1481)))&\"\"","v":""},"","","","","","","","","","","","","","","","","","","","","","","","","","","","","","","",{"$f":"INDEX(AJ:AJ,SMALL(ROW($AJ$1:$AJ$1999)+(1999*($AJ$1:$AJ$1999=\"\")), ROW(A1481)))&\"\"","v":""},"",{"$f":"INDEX(AK:AK,SMALL(ROW($AK$1:$AK$1999)+(1999*($AK$1:$AK$1999=\"\")), ROW(A1481)))&\"\"","v":""},"","","",null,"",""]
[null,null,null,null,null,null,null,null,null,null,null,null,null,null,null,null,null,null,null,null,null,null,null,null,null,null,null,null,null,null,null,null,{"$f":"INDEX(C:C, SMALL(ROW(C$1:C$5000)+(5000*(C$1:C$5000=\"\")),ROW(A1484)))&\"\"","v":""},"",{"$f":"INDEX(B:B, SMALL(ROW(B$1:B$5000)+(5000*(B$1:B$5000=\"\")),ROW(A1484)))&\"\"","v":""},"","","",null,null,{"$f":"INDEX(AH:AH,SMALL(ROW($AH$1:$AH$1999)+(1999*($AH$1:$AH$1999=\"\")), ROW(A1484)))&\"\"","v":""},"","","","","","","","","","","","","","","","","","","","","","","","","","","","","","","",{"$f":"INDEX(AJ:AJ,SMALL(ROW($AJ$1:$AJ$1999)+(1999*($AJ$1:$AJ$1999=\"\")), ROW(A1484)))&\"\"","v":""},"",{"$f":"INDEX(AK:AK,SMALL(ROW($AK$1:$AK$1999)+(1999*($AK$1:$AK$1999=\"\")), ROW(A1484)))&\"\"","v":""},"","","",null,"",""]
[null,null,null,null,null,null,null,null,null,null,null,null,null,null,null,null,null,null,null,null,null,null,null,null,null,null,null,null,null,null,null,null,{"$f":"INDEX(C:C, SMALL(ROW(C$1:C$5000)+(5000*(C$1:C$5000=\"\")),ROW(A1487)))&\"\"","v":""},"",{"$f":"INDEX(B:B, SMALL(ROW(B$1:B$5000)+(5000*(B$1:B$5000=\"\")),ROW(A1487)))&\"\"","v":""},"","","",null,null,{"$f":"INDEX(AH:AH,SMALL(ROW($AH$1:$AH$1999)+(1999*($AH$1:$AH$1999=\"\")), ROW(A1487)))&\"\"","v":""},"","","","","","","","","","","","","","","","","","","","","","","","","","","","","","","",{"$f":"INDEX(AJ:AJ,SMALL(ROW($AJ$1:$AJ$1999)+(1999*($AJ$1:$AJ$1999=\"\")), ROW(A1487)))&\"\"","v":""},"",{"$f":"INDEX(AK:AK,SMALL(ROW($AK$1:$AK$1999)+(1999*($AK$1:$AK$1999=\"\")), ROW(A1487)))&\"\"","v":""},"","","",null,"",""]
[null,null,null,null,null,null,null,null,null,null,null,null,null,null,null,null,null,null,null,null,null,null,null,null,null,null,null,null,null,null,null,null,{"$f":"INDEX(C:C, SMALL(ROW(C$1:C$5000)+(5000*(C$1:C$5000=\"\")),ROW(A1488)))&\"\"","v":""},"",{"$f":"INDEX(B:B, SMALL(ROW(B$1:B$5000)+(5000*(B$1:B$5000=\"\")),ROW(A1488)))&\"\"","v":""},"","","",null,null,{"$f":"INDEX(AH:AH,SMALL(ROW($AH$1:$AH$1999)+(1999*($AH$1:$AH$1999=\"\")), ROW(A1488)))&\"\"","v":""},"","","","","","","","","","","","","","","","","","","","","","","","","","","","","","","",{"$f":"INDEX(AJ:AJ,SMALL(ROW($AJ$1:$AJ$1999)+(1999*($AJ$1:$AJ$1999=\"\")), ROW(A1488)))&\"\"","v":""},"",{"$f":"INDEX(AK:AK,SMALL(ROW($AK$1:$AK$1999)+(1999*($AK$1:$AK$1999=\"\")), ROW(A1488)))&\"\"","v":""},"","","",null,"",""]
[null,null,null,null,null,null,null,null,null,null,null,null,null,null,null,null,null,null,null,null,null,null,null,null,null,null,null,null,null,null,null,null,{"$f":"INDEX(C:C, SMALL(ROW(C$1:C$5000)+(5000*(C$1:C$5000=\"\")),ROW(A1492)))&\"\"","v":""},"",{"$f":"INDEX(B:B, SMALL(ROW(B$1:B$5000)+(5000*(B$1:B$5000=\"\")),ROW(A1492)))&\"\"","v":""},"","","",null,null,{"$f":"INDEX(AH:AH,SMALL(ROW($AH$1:$AH$1999)+(1999*($AH$1:$AH$1999=\"\")), ROW(A1492)))&\"\"","v":""},"","","","","","","","","","","","","","","","","","","","","","","","","","","","","","","",{"$f":"INDEX(AJ:AJ,SMALL(ROW($AJ$1:$AJ$1999)+(1999*($AJ$1:$AJ$1999=\"\")), ROW(A1492)))&\"\"","v":""},"",{"$f":"INDEX(AK:AK,SMALL(ROW($AK$1:$AK$1999)+(1999*($AK$1:$AK$1999=\"\")), ROW(A1492)))&\"\"","v":""},"","","",null,"",""]
[null,null,null,null,null,null,null,null,null,null,null,null,null,null,null,null,null,null,null,null,null,null,null,null,null,null,null,null,null,null,null,null,{"$f":"INDEX(C:C, SMALL(ROW(C$1:C$5000)+(5000*(C$1:C$5000=\"\")),ROW(A1493)))&\"\"","v":""},"",{"$f":"INDEX(B:B, SMALL(ROW(B$1:B$5000)+(5000*(B$1:B$5000=\"\")),ROW(A1493)))&\"\"","v":""},"","","",null,null,{"$f":"INDEX(AH:AH,SMALL(ROW($AH$1:$AH$1999)+(1999*($AH$1:$AH$1999=\"\")), ROW(A1493)))&\"\"","v":""},"","","","","","","","","","","","","","","","","","","","","","","","","","","","","","","",{"$f":"INDEX(AJ:AJ,SMALL(ROW($AJ$1:$AJ$1999)+(1999*($AJ$1:$AJ$1999=\"\")), ROW(A1493)))&\"\"","v":""},"",{"$f":"INDEX(AK:AK,SMALL(ROW($AK$1:$AK$1999)+(1999*($AK$1:$AK$1999=\"\")), ROW(A1493)))&\"\"","v":""},"","","",null,"",""]
[null,null,null,null,null,null,null,null,null,null,null,null,null,null,null,null,null,null,null,null,null,null,null,null,null,null,null,null,null,null,null,null,{"$f":"INDEX(C:C, SMALL(ROW(C$1:C$5000)+(5000*(C$1:C$5000=\"\")),ROW(A1497)))&\"\"","v":""},"",{"$f":"INDEX(B:B, SMALL(ROW(B$1:B$5000)+(5000*(B$1:B$5000=\"\")),ROW(A1497)))&\"\"","v":""},"","","",null,null,{"$f":"INDEX(AH:AH,SMALL(ROW($AH$1:$AH$1999)+(1999*($AH$1:$AH$1999=\"\")), ROW(A1497)))&\"\"","v":""},"","","","","","","","","","","","","","","","","","","","","","","","","","","","","","","",{"$f":"INDEX(AJ:AJ,SMALL(ROW($AJ$1:$AJ$1999)+(1999*($AJ$1:$AJ$1999=\"\")), ROW(A1497)))&\"\"","v":""},"",{"$f":"INDEX(AK:AK,SMALL(ROW($AK$1:$AK$1999)+(1999*($AK$1:$AK$1999=\"\")), ROW(A1497)))&\"\"","v":""},"","","",null,"",""]
[null,null,null,null,null,null,null,null,null,null,null,null,null,null,null,null,null,null,null,null,null,null,null,null,null,null,null,null,null,null,null,null,{"$f":"INDEX(C:C, SMALL(ROW(C$1:C$5000)+(5000*(C$1:C$5000=\"\")),ROW(A1500)))&\"\"","v":""},"",{"$f":"INDEX(B:B, SMALL(ROW(B$1:B$5000)+(5000*(B$1:B$5000=\"\")),ROW(A1500)))&\"\"","v":""},"","","",null,null,{"$f":"INDEX(AH:AH,SMALL(ROW($AH$1:$AH$1999)+(1999*($AH$1:$AH$1999=\"\")), ROW(A1500)))&\"\"","v":""},"","","","","","","","","","","","","","","","","","","","","","","","","","","","","","","",{"$f":"INDEX(AJ:AJ,SMALL(ROW($AJ$1:$AJ$1999)+(1999*($AJ$1:$AJ$1999=\"\")), ROW(A1500)))&\"\"","v":""},"",{"$f":"INDEX(AK:AK,SMALL(ROW($AK$1:$AK$1999)+(1999*($AK$1:$AK$1999=\"\")), ROW(A1500)))&\"\"","v":""},"","","",null,"",""]
[null,null,null,null,null,null,null,null,null,null,null,null,null,null,null,null,null,null,null,null,null,null,null,null,null,null,null,null,null,null,null,null,{"$f":"INDEX(C:C, SMALL(ROW(C$1:C$5000)+(5000*(C$1:C$5000=\"\")),ROW(A1503)))&\"\"","v":""},"",{"$f":"INDEX(B:B, SMALL(ROW(B$1:B$5000)+(5000*(B$1:B$5000=\"\")),ROW(A1503)))&\"\"","v":""},"","","",null,null,{"$f":"INDEX(AH:AH,SMALL(ROW($AH$1:$AH$1999)+(1999*($AH$1:$AH$1999=\"\")), ROW(A1503)))&\"\"","v":""},"","","","","","","","","","","","","","","","","","","","","","","","","","","","","","","",{"$f":"INDEX(AJ:AJ,SMALL(ROW($AJ$1:$AJ$1999)+(1999*($AJ$1:$AJ$1999=\"\")), ROW(A1503)))&\"\"","v":""},"",{"$f":"INDEX(AK:AK,SMALL(ROW($AK$1:$AK$1999)+(1999*($AK$1:$AK$1999=\"\")), ROW(A1503)))&\"\"","v":""},"","","",null,"",""]
[null,null,null,null,null,null,null,null,null,null,null,null,null,null,null,null,null,null,null,null,null,null,null,null,null,null,null,null,null,null,null,null,{"$f":"INDEX(C:C, SMALL(ROW(C$1:C$5000)+(5000*(C$1:C$5000=\"\")),ROW(A1506)))&\"\"","v":""},"",{"$f":"INDEX(B:B, SMALL(ROW(B$1:B$5000)+(5000*(B$1:B$5000=\"\")),ROW(A1506)))&\"\"","v":""},"","","",null,null,{"$f":"INDEX(AH:AH,SMALL(ROW($AH$1:$AH$1999)+(1999*($AH$1:$AH$1999=\"\")), ROW(A1506)))&\"\"","v":""},"","","","","","","","","","","","","","","","","","","","","","","","","","","","","","","",{"$f":"INDEX(AJ:AJ,SMALL(ROW($AJ$1:$AJ$1999)+(1999*($AJ$1:$AJ$1999=\"\")), ROW(A1506)))&\"\"","v":""},"",{"$f":"INDEX(AK:AK,SMALL(ROW($AK$1:$AK$1999)+(1999*($AK$1:$AK$1999=\"\")), ROW(A1506)))&\"\"","v":""},"","","",null,"",""]
[null,null,null,null,null,null,null,null,null,null,null,null,null,null,null,null,null,null,null,null,null,null,null,null,null,null,null,null,null,null,null,null,{"$f":"INDEX(C:C, SMALL(ROW(C$1:C$5000)+(5000*(C$1:C$5000=\"\")),ROW(A1509)))&\"\"","v":""},"",{"$f":"INDEX(B:B, SMALL(ROW(B$1:B$5000)+(5000*(B$1:B$5000=\"\")),ROW(A1509)))&\"\"","v":""},"","","",null,null,{"$f":"INDEX(AH:AH,SMALL(ROW($AH$1:$AH$1999)+(1999*($AH$1:$AH$1999=\"\")), ROW(A1509)))&\"\"","v":""},"","","","","","","","","","","","","","","","","","","","","","","","","","","","","","","",{"$f":"INDEX(AJ:AJ,SMALL(ROW($AJ$1:$AJ$1999)+(1999*($AJ$1:$AJ$1999=\"\")), ROW(A1509)))&\"\"","v":""},"",{"$f":"INDEX(AK:AK,SMALL(ROW($AK$1:$AK$1999)+(1999*($AK$1:$AK$1999=\"\")), ROW(A1509)))&\"\"","v":""},"","","",null,"",""]
[null,null,null,null,null,null,null,null,null,null,null,null,null,null,null,null,null,null,null,null,null,null,null,null,null,null,null,null,null,null,null,null,{"$f":"INDEX(C:C, SMALL(ROW(C$1:C$5000)+(5000*(C$1:C$5000=\"\")),ROW(A1510)))&\"\"","v":""},"",{"$f":"INDEX(B:B, SMALL(ROW(B$1:B$5000)+(5000*(B$1:B$5000=\"\")),ROW(A1510)))&\"\"","v":""},"","","",null,null,{"$f":"INDEX(AH:AH,SMALL(ROW($AH$1:$AH$1999)+(1999*($AH$1:$AH$1999=\"\")), ROW(A1510)))&\"\"","v":""},"","","","","","","","","","","","","","","","","","","","","","","","","","","","","","","",{"$f":"INDEX(AJ:AJ,SMALL(ROW($AJ$1:$AJ$1999)+(1999*($AJ$1:$AJ$1999=\"\")), ROW(A1510)))&\"\"","v":""},"",{"$f":"INDEX(AK:AK,SMALL(ROW($AK$1:$AK$1999)+(1999*($AK$1:$AK$1999=\"\")), ROW(A1510)))&\"\"","v":""},"","","",null,"",""]
[null,null,null,null,null,null,null,null,null,null,null,null,null,null,null,null,null,null,null,null,null,null,null,null,null,null,null,null,null,null,null,null,{"$f":"INDEX(C:C, SMALL(ROW(C$1:C$5000)+(5000*(C$1:C$5000=\"\")),ROW(A1514)))&\"\"","v":""},"",{"$f":"INDEX(B:B, SMALL(ROW(B$1:B$5000)+(5000*(B$1:B$5000=\"\")),ROW(A1514)))&\"\"","v":""},"","","",null,null,{"$f":"INDEX(AH:AH,SMALL(ROW($AH$1:$AH$1999)+(1999*($AH$1:$AH$1999=\"\")), ROW(A1514)))&\"\"","v":""},"","","","","","","","","","","","","","","","","","","","","","","","","","","","","","","",{"$f":"INDEX(AJ:AJ,SMALL(ROW($AJ$1:$AJ$1999)+(1999*($AJ$1:$AJ$1999=\"\")), ROW(A1514)))&\"\"","v":""},"",{"$f":"INDEX(AK:AK,SMALL(ROW($AK$1:$AK$1999)+(1999*($AK$1:$AK$1999=\"\")), ROW(A1514)))&\"\"","v":""},"","","",null,"",""]
[null,null,null,null,null,null,null,null,null,null,null,null,null,null,null,null,null,null,null,null,null,null,null,null,null,null,null,null,null,null,null,null,{"$f":"INDEX(C:C, SMALL(ROW(C$1:C$5000)+(5000*(C$1:C$5000=\"\")),ROW(A1515)))&\"\"","v":""},"",{"$f":"INDEX(B:B, SMALL(ROW(B$1:B$5000)+(5000*(B$1:B$5000=\"\")),ROW(A1515)))&\"\"","v":""},"","","",null,null,{"$f":"INDEX(AH:AH,SMALL(ROW($AH$1:$AH$1999)+(1999*($AH$1:$AH$1999=\"\")), ROW(A1515)))&\"\"","v":""},"","","","","","","","","","","","","","","","","","","","","","","","","","","","","","","",{"$f":"INDEX(AJ:AJ,SMALL(ROW($AJ$1:$AJ$1999)+(1999*($AJ$1:$AJ$1999=\"\")), ROW(A1515)))&\"\"","v":""},"",{"$f":"INDEX(AK:AK,SMALL(ROW($AK$1:$AK$1999)+(1999*($AK$1:$AK$1999=\"\")), ROW(A1515)))&\"\"","v":""},"","","",null,"",""]
[null,null,null,null,null,null,null,null,null,null,null,null,null,null,null,null,null,null,null,null,null,null,null,null,null,null,null,null,null,null,null,null,{"$f":"INDEX(C:C, SMALL(ROW(C$1:C$5000)+(5000*(C$1:C$5000=\"\")),ROW(A1519)))&\"\"","v":""},"",{"$f":"INDEX(B:B, SMALL(ROW(B$1:B$5000)+(5000*(B$1:B$5000=\"\")),ROW(A1519)))&\"\"","v":""},"","","",null,null,{"$f":"INDEX(AH:AH,SMALL(ROW($AH$1:$AH$1999)+(1999*($AH$1:$AH$1999=\"\")), ROW(A1519)))&\"\"","v":""},"","","","","","","","","","","","","","","","","","","","","","","","","","","","","","","",{"$f":"INDEX(AJ:AJ,SMALL(ROW($AJ$1:$AJ$1999)+(1999*($AJ$1:$AJ$1999=\"\")), ROW(A1519)))&\"\"","v":""},"",{"$f":"INDEX(AK:AK,SMALL(ROW($AK$1:$AK$1999)+(1999*($AK$1:$AK$1999=\"\")), ROW(A1519)))&\"\"","v":""},"","","",null,"",""]
[null,null,null,null,null,null,null,null,null,null,null,null,null,null,null,null,null,null,null,null,null,null,null,null,null,null,null,null,null,null,null,null,{"$f":"INDEX(C:C, SMALL(ROW(C$1:C$5000)+(5000*(C$1:C$5000=\"\")),ROW(A1522)))&\"\"","v":""},"",{"$f":"INDEX(B:B, SMALL(ROW(B$1:B$5000)+(5000*(B$1:B$5000=\"\")),ROW(A1522)))&\"\"","v":""},"","","",null,null,{"$f":"INDEX(AH:AH,SMALL(ROW($AH$1:$AH$1999)+(1999*($AH$1:$AH$1999=\"\")), ROW(A1522)))&\"\"","v":""},"","","","","","","","","","","","","","","","","","","","","","","","","","","","","","","",{"$f":"INDEX(AJ:AJ,SMALL(ROW($AJ$1:$AJ$1999)+(1999*($AJ$1:$AJ$1999=\"\")), ROW(A1522)))&\"\"","v":""},"",{"$f":"INDEX(AK:AK,SMALL(ROW($AK$1:$AK$1999)+(1999*($AK$1:$AK$1999=\"\")), ROW(A1522)))&\"\"","v":""},"","","",null,"",""]
[null,null,null,null,null,null,null,null,null,null,null,null,null,null,null,null,null,null,null,null,null,null,null,null,null,null,null,null,null,null,null,null,{"$f":"INDEX(C:C, SMALL(ROW(C$1:C$5000)+(5000*(C$1:C$5000=\"\")),ROW(A1525)))&\"\"","v":""},"",{"$f":"INDEX(B:B, SMALL(ROW(B$1:B$5000)+(5000*(B$1:B$5000=\"\")),ROW(A1525)))&\"\"","v":""},"","","",null,null,{"$f":"INDEX(AH:AH,SMALL(ROW($AH$1:$AH$1999)+(1999*($AH$1:$AH$1999=\"\")), ROW(A1525)))&\"\"","v":""},"","","","","","","","","","","","","","","","","","","","","","","","","","","","","","","",{"$f":"INDEX(AJ:AJ,SMALL(ROW($AJ$1:$AJ$1999)+(1999*($AJ$1:$AJ$1999=\"\")), ROW(A1525)))&\"\"","v":""},"",{"$f":"INDEX(AK:AK,SMALL(ROW($AK$1:$AK$1999)+(1999*($AK$1:$AK$1999=\"\")), ROW(A1525)))&\"\"","v":""},"","","",null,"",""]
[null,null,null,null,null,null,null,null,null,null,null,null,null,null,null,null,null,null,null,null,null,null,null,null,null,null,null,null,null,null,null,null,{"$f":"INDEX(C:C, SMALL(ROW(C$1:C$5000)+(5000*(C$1:C$5000=\"\")),ROW(A1528)))&\"\"","v":""},"",{"$f":"INDEX(B:B, SMALL(ROW(B$1:B$5000)+(5000*(B$1:B$5000=\"\")),ROW(A1528)))&\"\"","v":""},"","","",null,null,{"$f":"INDEX(AH:AH,SMALL(ROW($AH$1:$AH$1999)+(1999*($AH$1:$AH$1999=\"\")), ROW(A1528)))&\"\"","v":""},"","","","","","","","","","","","","","","","","","","","","","","","","","","","","","","",{"$f":"INDEX(AJ:AJ,SMALL(ROW($AJ$1:$AJ$1999)+(1999*($AJ$1:$AJ$1999=\"\")), ROW(A1528)))&\"\"","v":""},"",{"$f":"INDEX(AK:AK,SMALL(ROW($AK$1:$AK$1999)+(1999*($AK$1:$AK$1999=\"\")), ROW(A1528)))&\"\"","v":""},"","","",null,"",""]
[null,null,null,null,null,null,null,null,null,null,null,null,null,null,null,null,null,null,null,null,null,null,null,null,null,null,null,null,null,null,null,null,{"$f":"INDEX(C:C, SMALL(ROW(C$1:C$5000)+(5000*(C$1:C$5000=\"\")),ROW(A1531)))&\"\"","v":""},"",{"$f":"INDEX(B:B, SMALL(ROW(B$1:B$5000)+(5000*(B$1:B$5000=\"\")),ROW(A1531)))&\"\"","v":""},"","","",null,null,{"$f":"INDEX(AH:AH,SMALL(ROW($AH$1:$AH$1999)+(1999*($AH$1:$AH$1999=\"\")), ROW(A1531)))&\"\"","v":""},"","","","","","","","","","","","","","","","","","","","","","","","","","","","","","","",{"$f":"INDEX(AJ:AJ,SMALL(ROW($AJ$1:$AJ$1999)+(1999*($AJ$1:$AJ$1999=\"\")), ROW(A1531)))&\"\"","v":""},"",{"$f":"INDEX(AK:AK,SMALL(ROW($AK$1:$AK$1999)+(1999*($AK$1:$AK$1999=\"\")), ROW(A1531)))&\"\"","v":""},"","","",null,"",""]
[null,null,null,null,null,null,null,null,null,null,null,null,null,null,null,null,null,null,null,null,null,null,null,null,null,null,null,null,null,null,null,null,{"$f":"INDEX(C:C, SMALL(ROW(C$1:C$5000)+(5000*(C$1:C$5000=\"\")),ROW(A1532)))&\"\"","v":""},"",{"$f":"INDEX(B:B, SMALL(ROW(B$1:B$5000)+(5000*(B$1:B$5000=\"\")),ROW(A1532)))&\"\"","v":""},"","","",null,null,{"$f":"INDEX(AH:AH,SMALL(ROW($AH$1:$AH$1999)+(1999*($AH$1:$AH$1999=\"\")), ROW(A1532)))&\"\"","v":""},"","","","","","","","","","","","","","","","","","","","","","","","","","","","","","","",{"$f":"INDEX(AJ:AJ,SMALL(ROW($AJ$1:$AJ$1999)+(1999*($AJ$1:$AJ$1999=\"\")), ROW(A1532)))&\"\"","v":""},"",{"$f":"INDEX(AK:AK,SMALL(ROW($AK$1:$AK$1999)+(1999*($AK$1:$AK$1999=\"\")), ROW(A1532)))&\"\"","v":""},"","","",null,"",""]
[null,null,null,null,null,null,null,null,null,null,null,null,null,null,null,null,null,null,null,null,null,null,null,null,null,null,null,null,null,null,null,null,{"$f":"INDEX(C:C, SMALL(ROW(C$1:C$5000)+(5000*(C$1:C$5000=\"\")),ROW(A1536)))&\"\"","v":""},"",{"$f":"INDEX(B:B, SMALL(ROW(B$1:B$5000)+(5000*(B$1:B$5000=\"\")),ROW(A1536)))&\"\"","v":""},"","","",null,null,{"$f":"INDEX(AH:AH,SMALL(ROW($AH$1:$AH$1999)+(1999*($AH$1:$AH$1999=\"\")), ROW(A1536)))&\"\"","v":""},"","","","","","","","","","","","","","","","","","","","","","","","","","","","","","","",{"$f":"INDEX(AJ:AJ,SMALL(ROW($AJ$1:$AJ$1999)+(1999*($AJ$1:$AJ$1999=\"\")), ROW(A1536)))&\"\"","v":""},"",{"$f":"INDEX(AK:AK,SMALL(ROW($AK$1:$AK$1999)+(1999*($AK$1:$AK$1999=\"\")), ROW(A1536)))&\"\"","v":""},"","","",null,"",""]
[null,null,null,null,null,null,null,null,null,null,null,null,null,null,null,null,null,null,null,null,null,null,null,null,null,null,null,null,null,null,null,null,{"$f":"INDEX(C:C, SMALL(ROW(C$1:C$5000)+(5000*(C$1:C$5000=\"\")),ROW(A1538)))&\"\"","v":""},"",{"$f":"INDEX(B:B, SMALL(ROW(B$1:B$5000)+(5000*(B$1:B$5000=\"\")),ROW(A1538)))&\"\"","v":""},{"$f":"IF(ISNUMBER(SEARCH(\"*years*\",AI1538)),AI1538,\"\")","v":""},{"$f":"IF(ISNUMBER(SEARCH(\"*, 19*\",AI1538)),AI1538,\"\")","v":""},"",null,null,{"$f":"INDEX(AH:AH,SMALL(ROW($AH$1:$AH$1999)+(1999*($AH$1:$AH$1999=\"\")), ROW(A1538)))&\"\"","v":""},{"$f":"TRIM(TEXT(RIGHT(AO1538,2),))","v":""},{"$f":"IF(ISNUMBER(SEARCH(\"*QB*\",AP1538)),AO1538,\"\")","v":""},{"$f":"IFERROR(IF(ISNUMBER(SEARCH(\"*QB*\",AQ1538)),BV1538,\"\"),VALUE(0))","v":""},{"$f":"IFERROR(IF(ISNUMBER(SEARCH(\"*QB*\",AQ1538)),BX1538,\"\"),VALUE(0))","v":""},{"$f":"IF(ISNUMBER(SEARCH(\"*RB*\",AP1538)),AO1538,\"\")","v":""},{"$f":"IFERROR(IF(ISNUMBER(SEARCH(\"*RB*\",AT1538)),BV1538,\"\"),VALUE(0))","v":""},{"$f":"IFERROR(IF(ISNUMBER(SEARCH(\"*RB*\",AT1538)),BX1538,\"\"),VALUE(0))","v":""},{"$f":"IF(ISNUMBER(SEARCH(\"*WR*\",AP1538)),AO1538,\"\")","v":""},{"$f":"IFERROR(IF(ISNUMBER(SEARCH(\"*WR*\",AW1538)),BV1538,\"\"),VALUE(0))","v":""},{"$f":"IFERROR(IF(ISNUMBER(SEARCH(\"*WR*\",AW1538)),BX1538,\"\"),VALUE(0))","v":""},{"$f":"IF(ISNUMBER(SEARCH(\"*TE*\",AP1538)),AO1538,\"\")","v":""},"",{"$f":"IFERROR(IF(ISNUMBER(SEARCH(\"*TE*\",AZ1538)),BX1538,\"\"),VALUE(0))","v":""},{"$f":"IF(ISNUMBER(SEARCH(\"*PK*\",AP1538)),AO1538,\"\")","v":""},{"$f":"IFERROR(IF(ISNUMBER(SEARCH(\"*PK*\",BC1538)),BV1538,\"\"),VALUE(0))","v":""},{"$f":"IFERROR(IF(ISNUMBER(SEARCH(\"*PK*\",BC1538)),BX1538,\"\"),VALUE(0))","v":""},{"$f":"IF(ISNUMBER(SEARCH(\"*DT*\",AP1538)),AO1538,\"\")","v":""},{"$f":"IFERROR(IF(ISNUMBER(SEARCH(\"*DT*\",BF1538)),BV1538,\"\"),VALUE(0))","v":""},{"$f":"IFERROR(IF(ISNUMBER(SEARCH(\"*DT*\",BF1538)),BX1538,\"\"),VALUE(0))","v":""},{"$f":"IF(ISNUMBER(SEARCH(\"*DE*\",AP1538)),AO1538,\"\")","v":""},{"$f":"IFERROR(IF(ISNUMBER(SEARCH(\"*DE*\",BI1538)),BV1538,\"\"),VALUE(0))","v":""},{"$f":"IFERROR(IF(ISNUMBER(SEARCH(\"*DE*\",BI1538)),BX1538,\"\"),VALUE(0))","v":""},{"$f":"IF(ISNUMBER(SEARCH(\"*LB*\",AP1538)),AO1538,\"\")","v":""},{"$f":"IFERROR(IF(ISNUMBER(SEARCH(\"*LB*\",BL1538)),BV1538,\"\"),VALUE(0))","v":""},{"$f":"IFERROR(IF(ISNUMBER(SEARCH(\"*LB*\",BL1538)),BX1538,\"\"),VALUE(0))","v":""},{"$f":"IF(ISNUMBER(SEARCH(\"*CB*\",AP1538)),AO1538,\"\")","v":""},{"$f":"IFERROR(IF(ISNUMBER(SEARCH(\"*CB*\",BO1538)),BV1538,\"\"),VALUE(0))","v":""},{"$f":"IFERROR(IF(ISNUMBER(SEARCH(\"*CB*\",BO1538)),BX1538,\"\"),VALUE(0))","v":""},{"$f":"IF(ISNUMBER(SEARCH(\"*S*\",AP1538)),AO1538,\"\")","v":""},{"$f":"IFERROR(IF(ISNUMBER(SEARCH(\"*S*\",BR1538)),BV1538,\"\"),VALUE(0))","v":""},{"$f":"IFERROR(IF(ISNUMBER(SEARCH(\"*S*\",BR1538)),BX1538,\"\"),VALUE(0))","v":""},{"$f":"INDEX(AJ:AJ,SMALL(ROW($AJ$1:$AJ$1999)+(1999*($AJ$1:$AJ$1999=\"\")), ROW(A1538)))&\"\"","v":""},{"$f":"IFERROR(IF(BW1538<>\"\",VALUE(LEFT(BU1538,LEN(BU1538)-6)),\"\"),VALUE(0))","v":""},{"$f":"INDEX(AK:AK,SMALL(ROW($AK$1:$AK$1999)+(1999*($AK$1:$AK$1999=\"\")), ROW(A1538)))&\"\"","v":""},{"$f":"IF(BW1538<>\"\",VALUE(RIGHT(BW1538,2)),\"\")","v":""},{"$f":"IF(BX1538=\"\",\"\",IF(BX1538>27,1,0))","v":""},{"$f":"IF(BX1538=\"\",\"\",IF(BX1538<27,1,0))","v":""},null,{"$f":"IF(BV1538=\"\",\"\",IF(BV1538>3.5,1,0))","v":""},{"$f":"IF(BV1538=\"\",\"\",IF(BV1538<3.5,1,0))","v":""}]
[null,null,null,null,null,null,null,null,null,null,null,null,null,null,null,null,null,null,null,null,null,null,null,null,null,null,null,null,null,null,null,null,{"$f":"INDEX(C:C, SMALL(ROW(C$1:C$5000)+(5000*(C$1:C$5000=\"\")),ROW(A1541)))&\"\"","v":""},"",{"$f":"INDEX(B:B, SMALL(ROW(B$1:B$5000)+(5000*(B$1:B$5000=\"\")),ROW(A1541)))&\"\"","v":""},"","","",null,null,{"$f":"INDEX(AH:AH,SMALL(ROW($AH$1:$AH$1999)+(1999*($AH$1:$AH$1999=\"\")), ROW(A1541)))&\"\"","v":""},"","","","","","","","","","","","","","","","","","","","","","","","","","","","","","","",{"$f":"INDEX(AJ:AJ,SMALL(ROW($AJ$1:$AJ$1999)+(1999*($AJ$1:$AJ$1999=\"\")), ROW(A1541)))&\"\"","v":""},"",{"$f":"INDEX(AK:AK,SMALL(ROW($AK$1:$AK$1999)+(1999*($AK$1:$AK$1999=\"\")), ROW(A1541)))&\"\"","v":""},"","","",null,"",""]
[null,null,null,null,null,null,null,null,null,null,null,null,null,null,null,null,null,null,null,null,null,null,null,null,null,null,null,null,null,null,null,null,{"$f":"INDEX(C:C, SMALL(ROW(C$1:C$5000)+(5000*(C$1:C$5000=\"\")),ROW(A1544)))&\"\"","v":""},"",{"$f":"INDEX(B:B, SMALL(ROW(B$1:B$5000)+(5000*(B$1:B$5000=\"\")),ROW(A1544)))&\"\"","v":""},"","","",null,null,{"$f":"INDEX(AH:AH,SMALL(ROW($AH$1:$AH$1999)+(1999*($AH$1:$AH$1999=\"\")), ROW(A1544)))&\"\"","v":""},"","","","","","","","","","","","","","","","","","","","","","","","","","","","","","","",{"$f":"INDEX(AJ:AJ,SMALL(ROW($AJ$1:$AJ$1999)+(1999*($AJ$1:$AJ$1999=\"\")), ROW(A1544)))&\"\"","v":""},"",{"$f":"INDEX(AK:AK,SMALL(ROW($AK$1:$AK$1999)+(1999*($AK$1:$AK$1999=\"\")), ROW(A1544)))&\"\"","v":""},"","","",null,"",""]
[null,null,null,null,null,null,null,null,null,null,null,null,null,null,null,null,null,null,null,null,null,null,null,null,null,null,null,null,null,null,null,null,{"$f":"INDEX(C:C, SMALL(ROW(C$1:C$5000)+(5000*(C$1:C$5000=\"\")),ROW(A1547)))&\"\"","v":""},"",{"$f":"INDEX(B:B, SMALL(ROW(B$1:B$5000)+(5000*(B$1:B$5000=\"\")),ROW(A1547)))&\"\"","v":""},"","","",null,null,{"$f":"INDEX(AH:AH,SMALL(ROW($AH$1:$AH$1999)+(1999*($AH$1:$AH$1999=\"\")), ROW(A1547)))&\"\"","v":""},"","","","","","","","","","","","","","","","","","","","","","","","","","","","","","","",{"$f":"INDEX(AJ:AJ,SMALL(ROW($AJ$1:$AJ$1999)+(1999*($AJ$1:$AJ$1999=\"\")), ROW(A1547)))&\"\"","v":""},"",{"$f":"INDEX(AK:AK,SMALL(ROW($AK$1:$AK$1999)+(1999*($AK$1:$AK$1999=\"\")), ROW(A1547)))&\"\"","v":""},"","","",null,"",""]
[null,null,null,null,null,null,null,null,null,null,null,null,null,null,null,null,null,null,null,null,null,null,null,null,null,null,null,null,null,null,null,null,{"$f":"INDEX(C:C, SMALL(ROW(C$1:C$5000)+(5000*(C$1:C$5000=\"\")),ROW(A1550)))&\"\"","v":""},"",{"$f":"INDEX(B:B, SMALL(ROW(B$1:B$5000)+(5000*(B$1:B$5000=\"\")),ROW(A1550)))&\"\"","v":""},"","","",null,null,{"$f":"INDEX(AH:AH,SMALL(ROW($AH$1:$AH$1999)+(1999*($AH$1:$AH$1999=\"\")), ROW(A1550)))&\"\"","v":""},"","","","","","","","","","","","","","","","","","","","","","","","","","","","","","","",{"$f":"INDEX(AJ:AJ,SMALL(ROW($AJ$1:$AJ$1999)+(1999*($AJ$1:$AJ$1999=\"\")), ROW(A1550)))&\"\"","v":""},"",{"$f":"INDEX(AK:AK,SMALL(ROW($AK$1:$AK$1999)+(1999*($AK$1:$AK$1999=\"\")), ROW(A1550)))&\"\"","v":""},"","","",null,"",""]
[null,null,null,null,null,null,null,null,null,null,null,null,null,null,null,null,null,null,null,null,null,null,null,null,null,null,null,null,null,null,null,null,{"$f":"INDEX(C:C, SMALL(ROW(C$1:C$5000)+(5000*(C$1:C$5000=\"\")),ROW(A1553)))&\"\"","v":""},"",{"$f":"INDEX(B:B, SMALL(ROW(B$1:B$5000)+(5000*(B$1:B$5000=\"\")),ROW(A1553)))&\"\"","v":""},"","","",null,null,{"$f":"INDEX(AH:AH,SMALL(ROW($AH$1:$AH$1999)+(1999*($AH$1:$AH$1999=\"\")), ROW(A1553)))&\"\"","v":""},"","","","","","","","","","","","","","","","","","","","","","","","","","","","","","","",{"$f":"INDEX(AJ:AJ,SMALL(ROW($AJ$1:$AJ$1999)+(1999*($AJ$1:$AJ$1999=\"\")), ROW(A1553)))&\"\"","v":""},"",{"$f":"INDEX(AK:AK,SMALL(ROW($AK$1:$AK$1999)+(1999*($AK$1:$AK$1999=\"\")), ROW(A1553)))&\"\"","v":""},"","","",null,"",""]
[null,null,null,null,null,null,null,null,null,null,null,null,null,null,null,null,null,null,null,null,null,null,null,null,null,null,null,null,null,null,null,null,{"$f":"INDEX(C:C, SMALL(ROW(C$1:C$5000)+(5000*(C$1:C$5000=\"\")),ROW(A1554)))&\"\"","v":""},"",{"$f":"INDEX(B:B, SMALL(ROW(B$1:B$5000)+(5000*(B$1:B$5000=\"\")),ROW(A1554)))&\"\"","v":""},"","","",null,null,{"$f":"INDEX(AH:AH,SMALL(ROW($AH$1:$AH$1999)+(1999*($AH$1:$AH$1999=\"\")), ROW(A1554)))&\"\"","v":""},"","","","","","","","","","","","","","","","","","","","","","","","","","","","","","","",{"$f":"INDEX(AJ:AJ,SMALL(ROW($AJ$1:$AJ$1999)+(1999*($AJ$1:$AJ$1999=\"\")), ROW(A1554)))&\"\"","v":""},"",{"$f":"INDEX(AK:AK,SMALL(ROW($AK$1:$AK$1999)+(1999*($AK$1:$AK$1999=\"\")), ROW(A1554)))&\"\"","v":""},"","","",null,"",""]
[null,null,null,null,null,null,null,null,null,null,null,null,null,null,null,null,null,null,null,null,null,null,null,null,null,null,null,null,null,null,null,null,{"$f":"INDEX(C:C, SMALL(ROW(C$1:C$5000)+(5000*(C$1:C$5000=\"\")),ROW(A1558)))&\"\"","v":""},"",{"$f":"INDEX(B:B, SMALL(ROW(B$1:B$5000)+(5000*(B$1:B$5000=\"\")),ROW(A1558)))&\"\"","v":""},"","","",null,null,{"$f":"INDEX(AH:AH,SMALL(ROW($AH$1:$AH$1999)+(1999*($AH$1:$AH$1999=\"\")), ROW(A1558)))&\"\"","v":""},"","","","","","","","","","","","","","","","","","","","","","","","","","","","","","","",{"$f":"INDEX(AJ:AJ,SMALL(ROW($AJ$1:$AJ$1999)+(1999*($AJ$1:$AJ$1999=\"\")), ROW(A1558)))&\"\"","v":""},"",{"$f":"INDEX(AK:AK,SMALL(ROW($AK$1:$AK$1999)+(1999*($AK$1:$AK$1999=\"\")), ROW(A1558)))&\"\"","v":""},"","","",null,"",""]
[null,null,null,null,null,null,null,null,null,null,null,null,null,null,null,null,null,null,null,null,null,null,null,null,null,null,null,null,null,null,null,null,{"$f":"INDEX(C:C, SMALL(ROW(C$1:C$5000)+(5000*(C$1:C$5000=\"\")),ROW(A1560)))&\"\"","v":""},"",{"$f":"INDEX(B:B, SMALL(ROW(B$1:B$5000)+(5000*(B$1:B$5000=\"\")),ROW(A1560)))&\"\"","v":""},"","","",null,null,{"$f":"INDEX(AH:AH,SMALL(ROW($AH$1:$AH$1999)+(1999*($AH$1:$AH$1999=\"\")), ROW(A1560)))&\"\"","v":""},"","","","","","","","","","","","","","","","","","","","","","","","","","","","","","","",{"$f":"INDEX(AJ:AJ,SMALL(ROW($AJ$1:$AJ$1999)+(1999*($AJ$1:$AJ$1999=\"\")), ROW(A1560)))&\"\"","v":""},"",{"$f":"INDEX(AK:AK,SMALL(ROW($AK$1:$AK$1999)+(1999*($AK$1:$AK$1999=\"\")), ROW(A1560)))&\"\"","v":""},"","","",null,"",""]
[null,null,null,null,null,null,null,null,null,null,null,null,null,null,null,null,null,null,null,null,null,null,null,null,null,null,null,null,null,null,null,null,{"$f":"INDEX(C:C, SMALL(ROW(C$1:C$5000)+(5000*(C$1:C$5000=\"\")),ROW(A1563)))&\"\"","v":""},"",{"$f":"INDEX(B:B, SMALL(ROW(B$1:B$5000)+(5000*(B$1:B$5000=\"\")),ROW(A1563)))&\"\"","v":""},"","","",null,null,{"$f":"INDEX(AH:AH,SMALL(ROW($AH$1:$AH$1999)+(1999*($AH$1:$AH$1999=\"\")), ROW(A1563)))&\"\"","v":""},"","","","","","","","","","","","","","","","","","","","","","","","","","","","","","","",{"$f":"INDEX(AJ:AJ,SMALL(ROW($AJ$1:$AJ$1999)+(1999*($AJ$1:$AJ$1999=\"\")), ROW(A1563)))&\"\"","v":""},"",{"$f":"INDEX(AK:AK,SMALL(ROW($AK$1:$AK$1999)+(1999*($AK$1:$AK$1999=\"\")), ROW(A1563)))&\"\"","v":""},"","","",null,"",""]
[null,null,null,null,null,null,null,null,null,null,null,null,null,null,null,null,null,null,null,null,null,null,null,null,null,null,null,null,null,null,null,null,{"$f":"INDEX(C:C, SMALL(ROW(C$1:C$5000)+(5000*(C$1:C$5000=\"\")),ROW(A1566)))&\"\"","v":""},"",{"$f":"INDEX(B:B, SMALL(ROW(B$1:B$5000)+(5000*(B$1:B$5000=\"\")),ROW(A1566)))&\"\"","v":""},"","","",null,null,{"$f":"INDEX(AH:AH,SMALL(ROW($AH$1:$AH$1999)+(1999*($AH$1:$AH$1999=\"\")), ROW(A1566)))&\"\"","v":""},"","","","","","","","","","","",{"$f":"IFERROR(IF(ISNUMBER(SEARCH(\"*TE*\",AZ1566)),BV1566,\"\"),VALUE(0))","v":""},"","","","","","","","","","","","","","","","","","","",{"$f":"INDEX(AJ:AJ,SMALL(ROW($AJ$1:$AJ$1999)+(1999*($AJ$1:$AJ$1999=\"\")), ROW(A1566)))&\"\"","v":""},"",{"$f":"INDEX(AK:AK,SMALL(ROW($AK$1:$AK$1999)+(1999*($AK$1:$AK$1999=\"\")), ROW(A1566)))&\"\"","v":""},"","","",null,"",""]
[null,null,null,null,null,null,null,null,null,null,null,null,null,null,null,null,null,null,null,null,null,null,null,null,null,null,null,null,null,null,null,null,{"$f":"INDEX(C:C, SMALL(ROW(C$1:C$5000)+(5000*(C$1:C$5000=\"\")),ROW(A1569)))&\"\"","v":""},"",{"$f":"INDEX(B:B, SMALL(ROW(B$1:B$5000)+(5000*(B$1:B$5000=\"\")),ROW(A1569)))&\"\"","v":""},"","","",null,null,{"$f":"INDEX(AH:AH,SMALL(ROW($AH$1:$AH$1999)+(1999*($AH$1:$AH$1999=\"\")), ROW(A1569)))&\"\"","v":""},"","","","","","","","","","","","","","","","","","","","","","","","","","","","","","","",{"$f":"INDEX(AJ:AJ,SMALL(ROW($AJ$1:$AJ$1999)+(1999*($AJ$1:$AJ$1999=\"\")), ROW(A1569)))&\"\"","v":""},"",{"$f":"INDEX(AK:AK,SMALL(ROW($AK$1:$AK$1999)+(1999*($AK$1:$AK$1999=\"\")), ROW(A1569)))&\"\"","v":""},"","","",null,"",""]
[null,null,null,null,null,null,null,null,null,null,null,null,null,null,null,null,null,null,null,null,null,null,null,null,null,null,null,null,null,null,null,null,{"$f":"INDEX(C:C, SMALL(ROW(C$1:C$5000)+(5000*(C$1:C$5000=\"\")),ROW(A1572)))&\"\"","v":""},"",{"$f":"INDEX(B:B, SMALL(ROW(B$1:B$5000)+(5000*(B$1:B$5000=\"\")),ROW(A1572)))&\"\"","v":""},"","","",null,null,{"$f":"INDEX(AH:AH,SMALL(ROW($AH$1:$AH$1999)+(1999*($AH$1:$AH$1999=\"\")), ROW(A1572)))&\"\"","v":""},"","","","","","","","","","","","","","","","","","","","","","","","","","","","","","","",{"$f":"INDEX(AJ:AJ,SMALL(ROW($AJ$1:$AJ$1999)+(1999*($AJ$1:$AJ$1999=\"\")), ROW(A1572)))&\"\"","v":""},"",{"$f":"INDEX(AK:AK,SMALL(ROW($AK$1:$AK$1999)+(1999*($AK$1:$AK$1999=\"\")), ROW(A1572)))&\"\"","v":""},"","","",null,"",""]
[null,null,null,null,null,null,null,null,null,null,null,null,null,null,null,null,null,null,null,null,null,null,null,null,null,null,null,null,null,null,null,null,{"$f":"INDEX(C:C, SMALL(ROW(C$1:C$5000)+(5000*(C$1:C$5000=\"\")),ROW(A1575)))&\"\"","v":""},"",{"$f":"INDEX(B:B, SMALL(ROW(B$1:B$5000)+(5000*(B$1:B$5000=\"\")),ROW(A1575)))&\"\"","v":""},"","","",null,null,{"$f":"INDEX(AH:AH,SMALL(ROW($AH$1:$AH$1999)+(1999*($AH$1:$AH$1999=\"\")), ROW(A1575)))&\"\"","v":""},"","","","","","","","","","","","","","","","","","","","","","","","","","","","","","","",{"$f":"INDEX(AJ:AJ,SMALL(ROW($AJ$1:$AJ$1999)+(1999*($AJ$1:$AJ$1999=\"\")), ROW(A1575)))&\"\"","v":""},"",{"$f":"INDEX(AK:AK,SMALL(ROW($AK$1:$AK$1999)+(1999*($AK$1:$AK$1999=\"\")), ROW(A1575)))&\"\"","v":""},"","","",null,"",""]
[null,null,null,null,null,null,null,null,null,null,null,null,null,null,null,null,null,null,null,null,null,null,null,null,null,null,null,null,null,null,null,null,{"$f":"INDEX(C:C, SMALL(ROW(C$1:C$5000)+(5000*(C$1:C$5000=\"\")),ROW(A1576)))&\"\"","v":""},"",{"$f":"INDEX(B:B, SMALL(ROW(B$1:B$5000)+(5000*(B$1:B$5000=\"\")),ROW(A1576)))&\"\"","v":""},"","","",null,null,{"$f":"INDEX(AH:AH,SMALL(ROW($AH$1:$AH$1999)+(1999*($AH$1:$AH$1999=\"\")), ROW(A1576)))&\"\"","v":""},"","","","","","","","","","","","","","","","","","","","","","","","","","","","","","","",{"$f":"INDEX(AJ:AJ,SMALL(ROW($AJ$1:$AJ$1999)+(1999*($AJ$1:$AJ$1999=\"\")), ROW(A1576)))&\"\"","v":""},"",{"$f":"INDEX(AK:AK,SMALL(ROW($AK$1:$AK$1999)+(1999*($AK$1:$AK$1999=\"\")), ROW(A1576)))&\"\"","v":""},"","","",null,"",""]
[null,null,null,null,null,null,null,null,null,null,null,null,null,null,null,null,null,null,null,null,null,null,null,null,null,null,null,null,null,null,null,null,{"$f":"INDEX(C:C, SMALL(ROW(C$1:C$5000)+(5000*(C$1:C$5000=\"\")),ROW(A1580)))&\"\"","v":""},"",{"$f":"INDEX(B:B, SMALL(ROW(B$1:B$5000)+(5000*(B$1:B$5000=\"\")),ROW(A1580)))&\"\"","v":""},"","","",null,null,{"$f":"INDEX(AH:AH,SMALL(ROW($AH$1:$AH$1999)+(1999*($AH$1:$AH$1999=\"\")), ROW(A1580)))&\"\"","v":""},"","","","","","","","","","","","","","","","","","","","","","","","","","","","","","","",{"$f":"INDEX(AJ:AJ,SMALL(ROW($AJ$1:$AJ$1999)+(1999*($AJ$1:$AJ$1999=\"\")), ROW(A1580)))&\"\"","v":""},"",{"$f":"INDEX(AK:AK,SMALL(ROW($AK$1:$AK$1999)+(1999*($AK$1:$AK$1999=\"\")), ROW(A1580)))&\"\"","v":""},"","","",null,"",""]
[null,null,null,null,null,null,null,null,null,null,null,null,null,null,null,null,null,null,null,null,null,null,null,null,null,null,null,null,null,null,null,null,{"$f":"INDEX(C:C, SMALL(ROW(C$1:C$5000)+(5000*(C$1:C$5000=\"\")),ROW(A1582)))&\"\"","v":""},"",{"$f":"INDEX(B:B, SMALL(ROW(B$1:B$5000)+(5000*(B$1:B$5000=\"\")),ROW(A1582)))&\"\"","v":""},"","","",null,null,{"$f":"INDEX(AH:AH,SMALL(ROW($AH$1:$AH$1999)+(1999*($AH$1:$AH$1999=\"\")), ROW(A1582)))&\"\"","v":""},"","","","","","","","","","","","","","","","","","","","","","","","","","","","","","","",{"$f":"INDEX(AJ:AJ,SMALL(ROW($AJ$1:$AJ$1999)+(1999*($AJ$1:$AJ$1999=\"\")), ROW(A1582)))&\"\"","v":""},"",{"$f":"INDEX(AK:AK,SMALL(ROW($AK$1:$AK$1999)+(1999*($AK$1:$AK$1999=\"\")), ROW(A1582)))&\"\"","v":""},"","","",null,"",""]
[null,null,null,null,null,null,null,null,null,null,null,null,null,null,null,null,null,null,null,null,null,null,null,null,null,null,null,null,null,null,null,null,{"$f":"INDEX(C:C, SMALL(ROW(C$1:C$5000)+(5000*(C$1:C$5000=\"\")),ROW(A1585)))&\"\"","v":""},"",{"$f":"INDEX(B:B, SMALL(ROW(B$1:B$5000)+(5000*(B$1:B$5000=\"\")),ROW(A1585)))&\"\"","v":""},"","","",null,null,{"$f":"INDEX(AH:AH,SMALL(ROW($AH$1:$AH$1999)+(1999*($AH$1:$AH$1999=\"\")), ROW(A1585)))&\"\"","v":""},"","","","","","","","","","","","","","","","","","","","","","","","","","","","","","","",{"$f":"INDEX(AJ:AJ,SMALL(ROW($AJ$1:$AJ$1999)+(1999*($AJ$1:$AJ$1999=\"\")), ROW(A1585)))&\"\"","v":""},"",{"$f":"INDEX(AK:AK,SMALL(ROW($AK$1:$AK$1999)+(1999*($AK$1:$AK$1999=\"\")), ROW(A1585)))&\"\"","v":""},"","","",null,"",""]
[null,null,null,null,null,null,null,null,null,null,null,null,null,null,null,null,null,null,null,null,null,null,null,null,null,null,null,null,null,null,null,null,{"$f":"INDEX(C:C, SMALL(ROW(C$1:C$5000)+(5000*(C$1:C$5000=\"\")),ROW(A1588)))&\"\"","v":""},"",{"$f":"INDEX(B:B, SMALL(ROW(B$1:B$5000)+(5000*(B$1:B$5000=\"\")),ROW(A1588)))&\"\"","v":""},"","","",null,null,{"$f":"INDEX(AH:AH,SMALL(ROW($AH$1:$AH$1999)+(1999*($AH$1:$AH$1999=\"\")), ROW(A1588)))&\"\"","v":""},"","","","","","","","","","","","","","","","","","","","","","","","","","","","","","","",{"$f":"INDEX(AJ:AJ,SMALL(ROW($AJ$1:$AJ$1999)+(1999*($AJ$1:$AJ$1999=\"\")), ROW(A1588)))&\"\"","v":""},"",{"$f":"INDEX(AK:AK,SMALL(ROW($AK$1:$AK$1999)+(1999*($AK$1:$AK$1999=\"\")), ROW(A1588)))&\"\"","v":""},"","","",null,"",""]
[null,null,null,null,null,null,null,null,null,null,null,null,null,null,null,null,null,null,null,null,null,null,null,null,null,null,null,null,null,null,null,null,{"$f":"INDEX(C:C, SMALL(ROW(C$1:C$5000)+(5000*(C$1:C$5000=\"\")),ROW(A1591)))&\"\"","v":""},"",{"$f":"INDEX(B:B, SMALL(ROW(B$1:B$5000)+(5000*(B$1:B$5000=\"\")),ROW(A1591)))&\"\"","v":""},"","","",null,null,{"$f":"INDEX(AH:AH,SMALL(ROW($AH$1:$AH$1999)+(1999*($AH$1:$AH$1999=\"\")), ROW(A1591)))&\"\"","v":""},"","","","","","","","","","","","","","","","","","","","","","","","","","","","","","","",{"$f":"INDEX(AJ:AJ,SMALL(ROW($AJ$1:$AJ$1999)+(1999*($AJ$1:$AJ$1999=\"\")), ROW(A1591)))&\"\"","v":""},"",{"$f":"INDEX(AK:AK,SMALL(ROW($AK$1:$AK$1999)+(1999*($AK$1:$AK$1999=\"\")), ROW(A1591)))&\"\"","v":""},"","","",null,"",""]
[null,null,null,null,null,null,null,null,null,null,null,null,null,null,null,null,null,null,null,null,null,null,null,null,null,null,null,null,null,null,null,null,{"$f":"INDEX(C:C, SMALL(ROW(C$1:C$5000)+(5000*(C$1:C$5000=\"\")),ROW(A1594)))&\"\"","v":""},"",{"$f":"INDEX(B:B, SMALL(ROW(B$1:B$5000)+(5000*(B$1:B$5000=\"\")),ROW(A1594)))&\"\"","v":""},"","","",null,null,{"$f":"INDEX(AH:AH,SMALL(ROW($AH$1:$AH$1999)+(1999*($AH$1:$AH$1999=\"\")), ROW(A1594)))&\"\"","v":""},"","","","","","","","","","","","","","","","","","","","","","","","","","","","","","","",{"$f":"INDEX(AJ:AJ,SMALL(ROW($AJ$1:$AJ$1999)+(1999*($AJ$1:$AJ$1999=\"\")), ROW(A1594)))&\"\"","v":""},"",{"$f":"INDEX(AK:AK,SMALL(ROW($AK$1:$AK$1999)+(1999*($AK$1:$AK$1999=\"\")), ROW(A1594)))&\"\"","v":""},"","","",null,"",""]
[null,null,null,null,null,null,null,null,null,null,null,null,null,null,null,null,null,null,null,null,null,null,null,null,null,null,null,null,null,null,null,null,{"$f":"INDEX(C:C, SMALL(ROW(C$1:C$5000)+(5000*(C$1:C$5000=\"\")),ROW(A1595)))&\"\"","v":""},"",{"$f":"INDEX(B:B, SMALL(ROW(B$1:B$5000)+(5000*(B$1:B$5000=\"\")),ROW(A1595)))&\"\"","v":""},"","","",null,null,{"$f":"INDEX(AH:AH,SMALL(ROW($AH$1:$AH$1999)+(1999*($AH$1:$AH$1999=\"\")), ROW(A1595)))&\"\"","v":""},"","","","","","","","","","","","","","","","","","","","","","","","","","","","","","","",{"$f":"INDEX(AJ:AJ,SMALL(ROW($AJ$1:$AJ$1999)+(1999*($AJ$1:$AJ$1999=\"\")), ROW(A1595)))&\"\"","v":""},"",{"$f":"INDEX(AK:AK,SMALL(ROW($AK$1:$AK$1999)+(1999*($AK$1:$AK$1999=\"\")), ROW(A1595)))&\"\"","v":""},"","","",null,"",""]
[null,null,null,null,null,null,null,null,null,null,null,null,null,null,null,null,null,null,null,null,null,null,null,null,null,null,null,null,null,null,null,null,{"$f":"INDEX(C:C, SMALL(ROW(C$1:C$5000)+(5000*(C$1:C$5000=\"\")),ROW(A1598)))&\"\"","v":""},"",{"$f":"INDEX(B:B, SMALL(ROW(B$1:B$5000)+(5000*(B$1:B$5000=\"\")),ROW(A1598)))&\"\"","v":""},"","","",null,null,{"$f":"INDEX(AH:AH,SMALL(ROW($AH$1:$AH$1999)+(1999*($AH$1:$AH$1999=\"\")), ROW(A1598)))&\"\"","v":""},"","","","","","","","","","","","","","","","","","","","","","","","","","","","","","","",{"$f":"INDEX(AJ:AJ,SMALL(ROW($AJ$1:$AJ$1999)+(1999*($AJ$1:$AJ$1999=\"\")), ROW(A1598)))&\"\"","v":""},"",{"$f":"INDEX(AK:AK,SMALL(ROW($AK$1:$AK$1999)+(1999*($AK$1:$AK$1999=\"\")), ROW(A1598)))&\"\"","v":""},"","","",null,"",""]
[null,null,null,null,null,null,null,null,null,null,null,null,null,null,null,null,null,null,null,null,null,null,null,null,null,null,null,null,null,null,null,null,{"$f":"INDEX(C:C, SMALL(ROW(C$1:C$5000)+(5000*(C$1:C$5000=\"\")),ROW(A1602)))&\"\"","v":""},"",{"$f":"INDEX(B:B, SMALL(ROW(B$1:B$5000)+(5000*(B$1:B$5000=\"\")),ROW(A1602)))&\"\"","v":""},{"$f":"IF(ISNUMBER(SEARCH(\"*years*\",AI1602)),AI1602,\"\")","v":""},{"$f":"IF(ISNUMBER(SEARCH(\"*, 19*\",AI1602)),AI1602,\"\")","v":""},"",null,null,{"$f":"INDEX(AH:AH,SMALL(ROW($AH$1:$AH$1999)+(1999*($AH$1:$AH$1999=\"\")), ROW(A1602)))&\"\"","v":""},{"$f":"TRIM(TEXT(RIGHT(AO1602,2),))","v":""},{"$f":"IF(ISNUMBER(SEARCH(\"*QB*\",AP1602)),AO1602,\"\")","v":""},{"$f":"IFERROR(IF(ISNUMBER(SEARCH(\"*QB*\",AQ1602)),BV1602,\"\"),VALUE(0))","v":""},{"$f":"IFERROR(IF(ISNUMBER(SEARCH(\"*QB*\",AQ1602)),BX1602,\"\"),VALUE(0))","v":""},{"$f":"IF(ISNUMBER(SEARCH(\"*RB*\",AP1602)),AO1602,\"\")","v":""},{"$f":"IFERROR(IF(ISNUMBER(SEARCH(\"*RB*\",AT1602)),BV1602,\"\"),VALUE(0))","v":""},{"$f":"IFERROR(IF(ISNUMBER(SEARCH(\"*RB*\",AT1602)),BX1602,\"\"),VALUE(0))","v":""},{"$f":"IF(ISNUMBER(SEARCH(\"*WR*\",AP1602)),AO1602,\"\")","v":""},{"$f":"IFERROR(IF(ISNUMBER(SEARCH(\"*WR*\",AW1602)),BV1602,\"\"),VALUE(0))","v":""},{"$f":"IFERROR(IF(ISNUMBER(SEARCH(\"*WR*\",AW1602)),BX1602,\"\"),VALUE(0))","v":""},{"$f":"IF(ISNUMBER(SEARCH(\"*TE*\",AP1602)),AO1602,\"\")","v":""},"",{"$f":"IFERROR(IF(ISNUMBER(SEARCH(\"*TE*\",AZ1602)),BX1602,\"\"),VALUE(0))","v":""},{"$f":"IF(ISNUMBER(SEARCH(\"*PK*\",AP1602)),AO1602,\"\")","v":""},{"$f":"IFERROR(IF(ISNUMBER(SEARCH(\"*PK*\",BC1602)),BV1602,\"\"),VALUE(0))","v":""},{"$f":"IFERROR(IF(ISNUMBER(SEARCH(\"*PK*\",BC1602)),BX1602,\"\"),VALUE(0))","v":""},{"$f":"IF(ISNUMBER(SEARCH(\"*DT*\",AP1602)),AO1602,\"\")","v":""},{"$f":"IFERROR(IF(ISNUMBER(SEARCH(\"*DT*\",BF1602)),BV1602,\"\"),VALUE(0))","v":""},{"$f":"IFERROR(IF(ISNUMBER(SEARCH(\"*DT*\",BF1602)),BX1602,\"\"),VALUE(0))","v":""},{"$f":"IF(ISNUMBER(SEARCH(\"*DE*\",AP1602)),AO1602,\"\")","v":""},{"$f":"IFERROR(IF(ISNUMBER(SEARCH(\"*DE*\",BI1602)),BV1602,\"\"),VALUE(0))","v":""},{"$f":"IFERROR(IF(ISNUMBER(SEARCH(\"*DE*\",BI1602)),BX1602,\"\"),VALUE(0))","v":""},{"$f":"IF(ISNUMBER(SEARCH(\"*LB*\",AP1602)),AO1602,\"\")","v":""},{"$f":"IFERROR(IF(ISNUMBER(SEARCH(\"*LB*\",BL1602)),BV1602,\"\"),VALUE(0))","v":""},{"$f":"IFERROR(IF(ISNUMBER(SEARCH(\"*LB*\",BL1602)),BX1602,\"\"),VALUE(0))","v":""},{"$f":"IF(ISNUMBER(SEARCH(\"*CB*\",AP1602)),AO1602,\"\")","v":""},{"$f":"IFERROR(IF(ISNUMBER(SEARCH(\"*CB*\",BO1602)),BV1602,\"\"),VALUE(0))","v":""},{"$f":"IFERROR(IF(ISNUMBER(SEARCH(\"*CB*\",BO1602)),BX1602,\"\"),VALUE(0))","v":""},{"$f":"IF(ISNUMBER(SEARCH(\"*S*\",AP1602)),AO1602,\"\")","v":""},{"$f":"IFERROR(IF(ISNUMBER(SEARCH(\"*S*\",BR1602)),BV1602,\"\"),VALUE(0))","v":""},{"$f":"IFERROR(IF(ISNUMBER(SEARCH(\"*S*\",BR1602)),BX1602,\"\"),VALUE(0))","v":""},{"$f":"INDEX(AJ:AJ,SMALL(ROW($AJ$1:$AJ$1999)+(1999*($AJ$1:$AJ$1999=\"\")), ROW(A1602)))&\"\"","v":""},{"$f":"IFERROR(IF(BW1602<>\"\",VALUE(LEFT(BU1602,LEN(BU1602)-6)),\"\"),VALUE(0))","v":""},{"$f":"INDEX(AK:AK,SMALL(ROW($AK$1:$AK$1999)+(1999*($AK$1:$AK$1999=\"\")), ROW(A1602)))&\"\"","v":""},{"$f":"IF(BW1602<>\"\",VALUE(RIGHT(BW1602,2)),\"\")","v":""},{"$f":"IF(BX1602=\"\",\"\",IF(BX1602>27,1,0))","v":""},{"$f":"IF(BX1602=\"\",\"\",IF(BX1602<27,1,0))","v":""},null,{"$f":"IF(BV1602=\"\",\"\",IF(BV1602>3.5,1,0))","v":""},{"$f":"IF(BV1602=\"\",\"\",IF(BV1602<3.5,1,0))","v":""}]
[null,null,null,null,null,null,null,null,null,null,null,null,null,null,null,null,null,null,null,null,null,null,null,null,null,null,null,null,null,null,null,null,{"$f":"INDEX(C:C, SMALL(ROW(C$1:C$5000)+(5000*(C$1:C$5000=\"\")),ROW(A1604)))&\"\"","v":""},"",{"$f":"INDEX(B:B, SMALL(ROW(B$1:B$5000)+(5000*(B$1:B$5000=\"\")),ROW(A1604)))&\"\"","v":""},"","","",null,null,{"$f":"INDEX(AH:AH,SMALL(ROW($AH$1:$AH$1999)+(1999*($AH$1:$AH$1999=\"\")), ROW(A1604)))&\"\"","v":""},"","","","","","","","","","","","","","","","","","","","","","","","","","","","","","","",{"$f":"INDEX(AJ:AJ,SMALL(ROW($AJ$1:$AJ$1999)+(1999*($AJ$1:$AJ$1999=\"\")), ROW(A1604)))&\"\"","v":""},"",{"$f":"INDEX(AK:AK,SMALL(ROW($AK$1:$AK$1999)+(1999*($AK$1:$AK$1999=\"\")), ROW(A1604)))&\"\"","v":""},"","","",null,"",""]
[null,null,null,null,null,null,null,null,null,null,null,null,null,null,null,null,null,null,null,null,null,null,null,null,null,null,null,null,null,null,null,null,{"$f":"INDEX(C:C, SMALL(ROW(C$1:C$5000)+(5000*(C$1:C$5000=\"\")),ROW(A1607)))&\"\"","v":""},"",{"$f":"INDEX(B:B, SMALL(ROW(B$1:B$5000)+(5000*(B$1:B$5000=\"\")),ROW(A1607)))&\"\"","v":""},"","","",null,null,{"$f":"INDEX(AH:AH,SMALL(ROW($AH$1:$AH$1999)+(1999*($AH$1:$AH$1999=\"\")), ROW(A1607)))&\"\"","v":""},"","","","","","","","","","","","","","","","","","","","","","","","","","","","","","","",{"$f":"INDEX(AJ:AJ,SMALL(ROW($AJ$1:$AJ$1999)+(1999*($AJ$1:$AJ$1999=\"\")), ROW(A1607)))&\"\"","v":""},"",{"$f":"INDEX(AK:AK,SMALL(ROW($AK$1:$AK$1999)+(1999*($AK$1:$AK$1999=\"\")), ROW(A1607)))&\"\"","v":""},"","","",null,"",""]
[null,null,null,null,null,null,null,null,null,null,null,null,null,null,null,null,null,null,null,null,null,null,null,null,null,null,null,null,null,null,null,null,{"$f":"INDEX(C:C, SMALL(ROW(C$1:C$5000)+(5000*(C$1:C$5000=\"\")),ROW(A1610)))&\"\"","v":""},"",{"$f":"INDEX(B:B, SMALL(ROW(B$1:B$5000)+(5000*(B$1:B$5000=\"\")),ROW(A1610)))&\"\"","v":""},"","","",null,null,{"$f":"INDEX(AH:AH,SMALL(ROW($AH$1:$AH$1999)+(1999*($AH$1:$AH$1999=\"\")), ROW(A1610)))&\"\"","v":""},"","","","","","","","","","","","","","","","","","","","","","","","","","","","","","","",{"$f":"INDEX(AJ:AJ,SMALL(ROW($AJ$1:$AJ$1999)+(1999*($AJ$1:$AJ$1999=\"\")), ROW(A1610)))&\"\"","v":""},"",{"$f":"INDEX(AK:AK,SMALL(ROW($AK$1:$AK$1999)+(1999*($AK$1:$AK$1999=\"\")), ROW(A1610)))&\"\"","v":""},"","","",null,"",""]
[null,null,null,null,null,null,null,null,null,null,null,null,null,null,null,null,null,null,null,null,null,null,null,null,null,null,null,null,null,null,null,null,{"$f":"INDEX(C:C, SMALL(ROW(C$1:C$5000)+(5000*(C$1:C$5000=\"\")),ROW(A1613)))&\"\"","v":""},"",{"$f":"INDEX(B:B, SMALL(ROW(B$1:B$5000)+(5000*(B$1:B$5000=\"\")),ROW(A1613)))&\"\"","v":""},"","","",null,null,{"$f":"INDEX(AH:AH,SMALL(ROW($AH$1:$AH$1999)+(1999*($AH$1:$AH$1999=\"\")), ROW(A1613)))&\"\"","v":""},"","","","","","","","","","","","","","","","","","","","","","","","","","","","","","","",{"$f":"INDEX(AJ:AJ,SMALL(ROW($AJ$1:$AJ$1999)+(1999*($AJ$1:$AJ$1999=\"\")), ROW(A1613)))&\"\"","v":""},"",{"$f":"INDEX(AK:AK,SMALL(ROW($AK$1:$AK$1999)+(1999*($AK$1:$AK$1999=\"\")), ROW(A1613)))&\"\"","v":""},"","","",null,"",""]
[null,null,null,null,null,null,null,null,null,null,null,null,null,null,null,null,null,null,null,null,null,null,null,null,null,null,null,null,null,null,null,null,{"$f":"INDEX(C:C, SMALL(ROW(C$1:C$5000)+(5000*(C$1:C$5000=\"\")),ROW(A1616)))&\"\"","v":""},"",{"$f":"INDEX(B:B, SMALL(ROW(B$1:B$5000)+(5000*(B$1:B$5000=\"\")),ROW(A1616)))&\"\"","v":""},"","","",null,null,{"$f":"INDEX(AH:AH,SMALL(ROW($AH$1:$AH$1999)+(1999*($AH$1:$AH$1999=\"\")), ROW(A1616)))&\"\"","v":""},"","","","","","","","","","","","","","","","","","","","","","","","","","","","","","","",{"$f":"INDEX(AJ:AJ,SMALL(ROW($AJ$1:$AJ$1999)+(1999*($AJ$1:$AJ$1999=\"\")), ROW(A1616)))&\"\"","v":""},"",{"$f":"INDEX(AK:AK,SMALL(ROW($AK$1:$AK$1999)+(1999*($AK$1:$AK$1999=\"\")), ROW(A1616)))&\"\"","v":""},"","","",null,"",""]
[null,null,null,null,null,null,null,null,null,null,null,null,null,null,null,null,null,null,null,null,null,null,null,null,null,null,null,null,null,null,null,null,{"$f":"INDEX(C:C, SMALL(ROW(C$1:C$5000)+(5000*(C$1:C$5000=\"\")),ROW(A1617)))&\"\"","v":""},"",{"$f":"INDEX(B:B, SMALL(ROW(B$1:B$5000)+(5000*(B$1:B$5000=\"\")),ROW(A1617)))&\"\"","v":""},"","","",null,null,{"$f":"INDEX(AH:AH,SMALL(ROW($AH$1:$AH$1999)+(1999*($AH$1:$AH$1999=\"\")), ROW(A1617)))&\"\"","v":""},"","","","","","","","","","","","","","","","","","","","","","","","","","","","","","","",{"$f":"INDEX(AJ:AJ,SMALL(ROW($AJ$1:$AJ$1999)+(1999*($AJ$1:$AJ$1999=\"\")), ROW(A1617)))&\"\"","v":""},"",{"$f":"INDEX(AK:AK,SMALL(ROW($AK$1:$AK$1999)+(1999*($AK$1:$AK$1999=\"\")), ROW(A1617)))&\"\"","v":""},"","","",null,"",""]
[null,null,null,null,null,null,null,null,null,null,null,null,null,null,null,null,null,null,null,null,null,null,null,null,null,null,null,null,null,null,null,null,{"$f":"INDEX(C:C, SMALL(ROW(C$1:C$5000)+(5000*(C$1:C$5000=\"\")),ROW(A1620)))&\"\"","v":""},"",{"$f":"INDEX(B:B, SMALL(ROW(B$1:B$5000)+(5000*(B$1:B$5000=\"\")),ROW(A1620)))&\"\"","v":""},"","","",null,null,{"$f":"INDEX(AH:AH,SMALL(ROW($AH$1:$AH$1999)+(1999*($AH$1:$AH$1999=\"\")), ROW(A1620)))&\"\"","v":""},"","","","","","","","","","","","","","","","","","","","","","","","","","","","","","","",{"$f":"INDEX(AJ:AJ,SMALL(ROW($AJ$1:$AJ$1999)+(1999*($AJ$1:$AJ$1999=\"\")), ROW(A1620)))&\"\"","v":""},"",{"$f":"INDEX(AK:AK,SMALL(ROW($AK$1:$AK$1999)+(1999*($AK$1:$AK$1999=\"\")), ROW(A1620)))&\"\"","v":""},"","","",null,"",""]
[null,null,null,null,null,null,null,null,null,null,null,null,null,null,null,null,null,null,null,null,null,null,null,null,null,null,null,null,null,null,null,null,{"$f":"INDEX(C:C, SMALL(ROW(C$1:C$5000)+(5000*(C$1:C$5000=\"\")),ROW(A1624)))&\"\"","v":""},"",{"$f":"INDEX(B:B, SMALL(ROW(B$1:B$5000)+(5000*(B$1:B$5000=\"\")),ROW(A1624)))&\"\"","v":""},"","","",null,null,{"$f":"INDEX(AH:AH,SMALL(ROW($AH$1:$AH$1999)+(1999*($AH$1:$AH$1999=\"\")), ROW(A1624)))&\"\"","v":""},"","","","","","","","","","","","","","","","","","","","","","","","","","","","","","","",{"$f":"INDEX(AJ:AJ,SMALL(ROW($AJ$1:$AJ$1999)+(1999*($AJ$1:$AJ$1999=\"\")), ROW(A1624)))&\"\"","v":""},"",{"$f":"INDEX(AK:AK,SMALL(ROW($AK$1:$AK$1999)+(1999*($AK$1:$AK$1999=\"\")), ROW(A1624)))&\"\"","v":""},"","","",null,"",""]
[null,null,null,null,null,null,null,null,null,null,null,null,null,null,null,null,null,null,null,null,null,null,null,null,null,null,null,null,null,null,null,null,{"$f":"INDEX(C:C, SMALL(ROW(C$1:C$5000)+(5000*(C$1:C$5000=\"\")),ROW(A1626)))&\"\"","v":""},"",{"$f":"INDEX(B:B, SMALL(ROW(B$1:B$5000)+(5000*(B$1:B$5000=\"\")),ROW(A1626)))&\"\"","v":""},"","","",null,null,{"$f":"INDEX(AH:AH,SMALL(ROW($AH$1:$AH$1999)+(1999*($AH$1:$AH$1999=\"\")), ROW(A1626)))&\"\"","v":""},"","","","","","","","","","","","","","","","","","","","","","","","","","","","","","","",{"$f":"INDEX(AJ:AJ,SMALL(ROW($AJ$1:$AJ$1999)+(1999*($AJ$1:$AJ$1999=\"\")), ROW(A1626)))&\"\"","v":""},"",{"$f":"INDEX(AK:AK,SMALL(ROW($AK$1:$AK$1999)+(1999*($AK$1:$AK$1999=\"\")), ROW(A1626)))&\"\"","v":""},"","","",null,"",""]
[null,null,null,null,null,null,null,null,null,null,null,null,null,null,null,null,null,null,null,null,null,null,null,null,null,null,null,null,null,null,null,null,{"$f":"INDEX(C:C, SMALL(ROW(C$1:C$5000)+(5000*(C$1:C$5000=\"\")),ROW(A1629)))&\"\"","v":""},"",{"$f":"INDEX(B:B, SMALL(ROW(B$1:B$5000)+(5000*(B$1:B$5000=\"\")),ROW(A1629)))&\"\"","v":""},"","","",null,null,{"$f":"INDEX(AH:AH,SMALL(ROW($AH$1:$AH$1999)+(1999*($AH$1:$AH$1999=\"\")), ROW(A1629)))&\"\"","v":""},"","","","","","","","","","","","","","","","","","","","","","","","","","","","","","","",{"$f":"INDEX(AJ:AJ,SMALL(ROW($AJ$1:$AJ$1999)+(1999*($AJ$1:$AJ$1999=\"\")), ROW(A1629)))&\"\"","v":""},"",{"$f":"INDEX(AK:AK,SMALL(ROW($AK$1:$AK$1999)+(1999*($AK$1:$AK$1999=\"\")), ROW(A1629)))&\"\"","v":""},"","","",null,"",""]
[null,null,null,null,null,null,null,null,null,null,null,null,null,null,null,null,null,null,null,null,null,null,null,null,null,null,null,null,null,null,null,null,{"$f":"INDEX(C:C, SMALL(ROW(C$1:C$5000)+(5000*(C$1:C$5000=\"\")),ROW(A1632)))&\"\"","v":""},"",{"$f":"INDEX(B:B, SMALL(ROW(B$1:B$5000)+(5000*(B$1:B$5000=\"\")),ROW(A1632)))&\"\"","v":""},"","","",null,null,{"$f":"INDEX(AH:AH,SMALL(ROW($AH$1:$AH$1999)+(1999*($AH$1:$AH$1999=\"\")), ROW(A1632)))&\"\"","v":""},"","","","","","","","","","","","","","","","","","","","","","","","","","","","","","","",{"$f":"INDEX(AJ:AJ,SMALL(ROW($AJ$1:$AJ$1999)+(1999*($AJ$1:$AJ$1999=\"\")), ROW(A1632)))&\"\"","v":""},"",{"$f":"INDEX(AK:AK,SMALL(ROW($AK$1:$AK$1999)+(1999*($AK$1:$AK$1999=\"\")), ROW(A1632)))&\"\"","v":""},"","","",null,"",""]
[null,null,null,null,null,null,null,null,null,null,null,null,null,null,null,null,null,null,null,null,null,null,null,null,null,null,null,null,null,null,null,null,{"$f":"INDEX(C:C, SMALL(ROW(C$1:C$5000)+(5000*(C$1:C$5000=\"\")),ROW(A1635)))&\"\"","v":""},"",{"$f":"INDEX(B:B, SMALL(ROW(B$1:B$5000)+(5000*(B$1:B$5000=\"\")),ROW(A1635)))&\"\"","v":""},"","","",null,null,{"$f":"INDEX(AH:AH,SMALL(ROW($AH$1:$AH$1999)+(1999*($AH$1:$AH$1999=\"\")), ROW(A1635)))&\"\"","v":""},"","","","","","","","","","","","","","","","","","","","","","","","","","","","","","","",{"$f":"INDEX(AJ:AJ,SMALL(ROW($AJ$1:$AJ$1999)+(1999*($AJ$1:$AJ$1999=\"\")), ROW(A1635)))&\"\"","v":""},"",{"$f":"INDEX(AK:AK,SMALL(ROW($AK$1:$AK$1999)+(1999*($AK$1:$AK$1999=\"\")), ROW(A1635)))&\"\"","v":""},"","","",null,"",""]
[null,null,null,null,null,null,null,null,null,null,null,null,null,null,null,null,null,null,null,null,null,null,null,null,null,null,null,null,null,null,null,null,{"$f":"INDEX(C:C, SMALL(ROW(C$1:C$5000)+(5000*(C$1:C$5000=\"\")),ROW(A1638)))&\"\"","v":""},"",{"$f":"INDEX(B:B, SMALL(ROW(B$1:B$5000)+(5000*(B$1:B$5000=\"\")),ROW(A1638)))&\"\"","v":""},"","","",null,null,{"$f":"INDEX(AH:AH,SMALL(ROW($AH$1:$AH$1999)+(1999*($AH$1:$AH$1999=\"\")), ROW(A1638)))&\"\"","v":""},"","","","","","","","","","","","","","","","","","","","","","","","","","","","","","","",{"$f":"INDEX(AJ:AJ,SMALL(ROW($AJ$1:$AJ$1999)+(1999*($AJ$1:$AJ$1999=\"\")), ROW(A1638)))&\"\"","v":""},"",{"$f":"INDEX(AK:AK,SMALL(ROW($AK$1:$AK$1999)+(1999*($AK$1:$AK$1999=\"\")), ROW(A1638)))&\"\"","v":""},"","","",null,"",""]
[null,null,null,null,null,null,null,null,null,null,null,null,null,null,null,null,null,null,null,null,null,null,null,null,null,null,null,null,null,null,null,null,{"$f":"INDEX(C:C, SMALL(ROW(C$1:C$5000)+(5000*(C$1:C$5000=\"\")),ROW(A1639)))&\"\"","v":""},"",{"$f":"INDEX(B:B, SMALL(ROW(B$1:B$5000)+(5000*(B$1:B$5000=\"\")),ROW(A1639)))&\"\"","v":""},"","","",null,null,{"$f":"INDEX(AH:AH,SMALL(ROW($AH$1:$AH$1999)+(1999*($AH$1:$AH$1999=\"\")), ROW(A1639)))&\"\"","v":""},"","","","","","","","","","","","","","","","","","","","","","","","","","","","","","","",{"$f":"INDEX(AJ:AJ,SMALL(ROW($AJ$1:$AJ$1999)+(1999*($AJ$1:$AJ$1999=\"\")), ROW(A1639)))&\"\"","v":""},"",{"$f":"INDEX(AK:AK,SMALL(ROW($AK$1:$AK$1999)+(1999*($AK$1:$AK$1999=\"\")), ROW(A1639)))&\"\"","v":""},"","","",null,"",""]
[null,null,null,null,null,null,null,null,null,null,null,null,null,null,null,null,null,null,null,null,null,null,null,null,null,null,null,null,null,null,null,null,{"$f":"INDEX(C:C, SMALL(ROW(C$1:C$5000)+(5000*(C$1:C$5000=\"\")),ROW(A1642)))&\"\"","v":""},"",{"$f":"INDEX(B:B, SMALL(ROW(B$1:B$5000)+(5000*(B$1:B$5000=\"\")),ROW(A1642)))&\"\"","v":""},"","","",null,null,{"$f":"INDEX(AH:AH,SMALL(ROW($AH$1:$AH$1999)+(1999*($AH$1:$AH$1999=\"\")), ROW(A1642)))&\"\"","v":""},"","","","","","","","","","","","","","","","","","","","","","","","","","","","","","","",{"$f":"INDEX(AJ:AJ,SMALL(ROW($AJ$1:$AJ$1999)+(1999*($AJ$1:$AJ$1999=\"\")), ROW(A1642)))&\"\"","v":""},"",{"$f":"INDEX(AK:AK,SMALL(ROW($AK$1:$AK$1999)+(1999*($AK$1:$AK$1999=\"\")), ROW(A1642)))&\"\"","v":""},"","","",null,"",""]
[null,null,null,null,null,null,null,null,null,null,null,null,null,null,null,null,null,null,null,null,null,null,null,null,null,null,null,null,null,null,null,null,{"$f":"INDEX(C:C, SMALL(ROW(C$1:C$5000)+(5000*(C$1:C$5000=\"\")),ROW(A1646)))&\"\"","v":""},"",{"$f":"INDEX(B:B, SMALL(ROW(B$1:B$5000)+(5000*(B$1:B$5000=\"\")),ROW(A1646)))&\"\"","v":""},"","","",null,null,{"$f":"INDEX(AH:AH,SMALL(ROW($AH$1:$AH$1999)+(1999*($AH$1:$AH$1999=\"\")), ROW(A1646)))&\"\"","v":""},"","","","","","","","","","","","","","","","","","","","","","","","","","","","","","","",{"$f":"INDEX(AJ:AJ,SMALL(ROW($AJ$1:$AJ$1999)+(1999*($AJ$1:$AJ$1999=\"\")), ROW(A1646)))&\"\"","v":""},"",{"$f":"INDEX(AK:AK,SMALL(ROW($AK$1:$AK$1999)+(1999*($AK$1:$AK$1999=\"\")), ROW(A1646)))&\"\"","v":""},"","","",null,"",""]
[null,null,null,null,null,null,null,null,null,null,null,null,null,null,null,null,null,null,null,null,null,null,null,null,null,null,null,null,null,null,null,null,{"$f":"INDEX(C:C, SMALL(ROW(C$1:C$5000)+(5000*(C$1:C$5000=\"\")),ROW(A1648)))&\"\"","v":""},"",{"$f":"INDEX(B:B, SMALL(ROW(B$1:B$5000)+(5000*(B$1:B$5000=\"\")),ROW(A1648)))&\"\"","v":""},"","","",null,null,{"$f":"INDEX(AH:AH,SMALL(ROW($AH$1:$AH$1999)+(1999*($AH$1:$AH$1999=\"\")), ROW(A1648)))&\"\"","v":""},"","","","","","","","","","","","","","","","","","","","","","","","","","","","","","","",{"$f":"INDEX(AJ:AJ,SMALL(ROW($AJ$1:$AJ$1999)+(1999*($AJ$1:$AJ$1999=\"\")), ROW(A1648)))&\"\"","v":""},"",{"$f":"INDEX(AK:AK,SMALL(ROW($AK$1:$AK$1999)+(1999*($AK$1:$AK$1999=\"\")), ROW(A1648)))&\"\"","v":""},"","","",null,"",""]
[null,null,null,null,null,null,null,null,null,null,null,null,null,null,null,null,null,null,null,null,null,null,null,null,null,null,null,null,null,null,null,null,{"$f":"INDEX(C:C, SMALL(ROW(C$1:C$5000)+(5000*(C$1:C$5000=\"\")),ROW(A1651)))&\"\"","v":""},"",{"$f":"INDEX(B:B, SMALL(ROW(B$1:B$5000)+(5000*(B$1:B$5000=\"\")),ROW(A1651)))&\"\"","v":""},"","","",null,null,{"$f":"INDEX(AH:AH,SMALL(ROW($AH$1:$AH$1999)+(1999*($AH$1:$AH$1999=\"\")), ROW(A1651)))&\"\"","v":""},"","","","","","","","","","","","","","","","","","","","","","","","","","","","","","","",{"$f":"INDEX(AJ:AJ,SMALL(ROW($AJ$1:$AJ$1999)+(1999*($AJ$1:$AJ$1999=\"\")), ROW(A1651)))&\"\"","v":""},"",{"$f":"INDEX(AK:AK,SMALL(ROW($AK$1:$AK$1999)+(1999*($AK$1:$AK$1999=\"\")), ROW(A1651)))&\"\"","v":""},"","","",null,"",""]
[null,null,null,null,null,null,null,null,null,null,null,null,null,null,null,null,null,null,null,null,null,null,null,null,null,null,null,null,null,null,null,null,{"$f":"INDEX(C:C, SMALL(ROW(C$1:C$5000)+(5000*(C$1:C$5000=\"\")),ROW(A1655)))&\"\"","v":""},"",{"$f":"INDEX(B:B, SMALL(ROW(B$1:B$5000)+(5000*(B$1:B$5000=\"\")),ROW(A1655)))&\"\"","v":""},"","","",null,null,{"$f":"INDEX(AH:AH,SMALL(ROW($AH$1:$AH$1999)+(1999*($AH$1:$AH$1999=\"\")), ROW(A1655)))&\"\"","v":""},"","","","","","","","","","","","","","","","","","","","","","","","","","","","","","","",{"$f":"INDEX(AJ:AJ,SMALL(ROW($AJ$1:$AJ$1999)+(1999*($AJ$1:$AJ$1999=\"\")), ROW(A1655)))&\"\"","v":""},"",{"$f":"INDEX(AK:AK,SMALL(ROW($AK$1:$AK$1999)+(1999*($AK$1:$AK$1999=\"\")), ROW(A1655)))&\"\"","v":""},"","","",null,"",""]
[null,null,null,null,null,null,null,null,null,null,null,null,null,null,null,null,null,null,null,null,null,null,null,null,null,null,null,null,null,null,null,null,{"$f":"INDEX(C:C, SMALL(ROW(C$1:C$5000)+(5000*(C$1:C$5000=\"\")),ROW(A1657)))&\"\"","v":""},"",{"$f":"INDEX(B:B, SMALL(ROW(B$1:B$5000)+(5000*(B$1:B$5000=\"\")),ROW(A1657)))&\"\"","v":""},"","","",null,null,{"$f":"INDEX(AH:AH,SMALL(ROW($AH$1:$AH$1999)+(1999*($AH$1:$AH$1999=\"\")), ROW(A1657)))&\"\"","v":""},"","","","","","","","","","","","","","","","","","","","","","","","","","","","","","","",{"$f":"INDEX(AJ:AJ,SMALL(ROW($AJ$1:$AJ$1999)+(1999*($AJ$1:$AJ$1999=\"\")), ROW(A1657)))&\"\"","v":""},"",{"$f":"INDEX(AK:AK,SMALL(ROW($AK$1:$AK$1999)+(1999*($AK$1:$AK$1999=\"\")), ROW(A1657)))&\"\"","v":""},"","","",null,"",""]
[null,null,null,null,null,null,null,null,null,null,null,null,null,null,null,null,null,null,null,null,null,null,null,null,null,null,null,null,null,null,null,null,{"$f":"INDEX(C:C, SMALL(ROW(C$1:C$5000)+(5000*(C$1:C$5000=\"\")),ROW(A1660)))&\"\"","v":""},"",{"$f":"INDEX(B:B, SMALL(ROW(B$1:B$5000)+(5000*(B$1:B$5000=\"\")),ROW(A1660)))&\"\"","v":""},"","","",null,null,{"$f":"INDEX(AH:AH,SMALL(ROW($AH$1:$AH$1999)+(1999*($AH$1:$AH$1999=\"\")), ROW(A1660)))&\"\"","v":""},"","","","","","","","","","","","","","","","","","","","","","","","","","","","","","","",{"$f":"INDEX(AJ:AJ,SMALL(ROW($AJ$1:$AJ$1999)+(1999*($AJ$1:$AJ$1999=\"\")), ROW(A1660)))&\"\"","v":""},"",{"$f":"INDEX(AK:AK,SMALL(ROW($AK$1:$AK$1999)+(1999*($AK$1:$AK$1999=\"\")), ROW(A1660)))&\"\"","v":""},"","","",null,"",""]
[null,null,null,null,null,null,null,null,null,null,null,null,null,null,null,null,null,null,null,null,null,null,null,null,null,null,null,null,null,null,null,null,{"$f":"INDEX(C:C, SMALL(ROW(C$1:C$5000)+(5000*(C$1:C$5000=\"\")),ROW(A1661)))&\"\"","v":""},"",{"$f":"INDEX(B:B, SMALL(ROW(B$1:B$5000)+(5000*(B$1:B$5000=\"\")),ROW(A1661)))&\"\"","v":""},"","","",null,null,{"$f":"INDEX(AH:AH,SMALL(ROW($AH$1:$AH$1999)+(1999*($AH$1:$AH$1999=\"\")), ROW(A1661)))&\"\"","v":""},"","","","","","","","","","","","","","","","","","","","","","","","","","","","","","","",{"$f":"INDEX(AJ:AJ,SMALL(ROW($AJ$1:$AJ$1999)+(1999*($AJ$1:$AJ$1999=\"\")), ROW(A1661)))&\"\"","v":""},"",{"$f":"INDEX(AK:AK,SMALL(ROW($AK$1:$AK$1999)+(1999*($AK$1:$AK$1999=\"\")), ROW(A1661)))&\"\"","v":""},"","","",null,"",""]
[null,null,null,null,null,null,null,null,null,null,null,null,null,null,null,null,null,null,null,null,null,null,null,null,null,null,null,null,null,null,null,null,{"$f":"INDEX(C:C, SMALL(ROW(C$1:C$5000)+(5000*(C$1:C$5000=\"\")),ROW(A1664)))&\"\"","v":""},"",{"$f":"INDEX(B:B, SMALL(ROW(B$1:B$5000)+(5000*(B$1:B$5000=\"\")),ROW(A1664)))&\"\"","v":""},"","","",null,null,{"$f":"INDEX(AH:AH,SMALL(ROW($AH$1:$AH$1999)+(1999*($AH$1:$AH$1999=\"\")), ROW(A1664)))&\"\"","v":""},"","","","","","","","","","","","","","","","","","","","","","","","","","","","","","","",{"$f":"INDEX(AJ:AJ,SMALL(ROW($AJ$1:$AJ$1999)+(1999*($AJ$1:$AJ$1999=\"\")), ROW(A1664)))&\"\"","v":""},"",{"$f":"INDEX(AK:AK,SMALL(ROW($AK$1:$AK$1999)+(1999*($AK$1:$AK$1999=\"\")), ROW(A1664)))&\"\"","v":""},"","","",null,"",""]
[null,null,null,null,null,null,null,null,null,null,null,null,null,null,null,null,null,null,null,null,null,null,null,null,null,null,null,null,null,null,null,null,{"$f":"INDEX(C:C, SMALL(ROW(C$1:C$5000)+(5000*(C$1:C$5000=\"\")),ROW(A1668)))&\"\"","v":""},"",{"$f":"INDEX(B:B, SMALL(ROW(B$1:B$5000)+(5000*(B$1:B$5000=\"\")),ROW(A1668)))&\"\"","v":""},"","","",null,null,{"$f":"INDEX(AH:AH,SMALL(ROW($AH$1:$AH$1999)+(1999*($AH$1:$AH$1999=\"\")), ROW(A1668)))&\"\"","v":""},"","","","","","","","","","","","","","","","","","","","","","","","","","","","","","","",{"$f":"INDEX(AJ:AJ,SMALL(ROW($AJ$1:$AJ$1999)+(1999*($AJ$1:$AJ$1999=\"\")), ROW(A1668)))&\"\"","v":""},"",{"$f":"INDEX(AK:AK,SMALL(ROW($AK$1:$AK$1999)+(1999*($AK$1:$AK$1999=\"\")), ROW(A1668)))&\"\"","v":""},"","","",null,"",""]
[null,null,null,null,null,null,null,null,null,null,null,null,null,null,null,null,null,null,null,null,null,null,null,null,null,null,null,null,null,null,null,null,{"$f":"INDEX(C:C, SMALL(ROW(C$1:C$5000)+(5000*(C$1:C$5000=\"\")),ROW(A1670)))&\"\"","v":""},"",{"$f":"INDEX(B:B, SMALL(ROW(B$1:B$5000)+(5000*(B$1:B$5000=\"\")),ROW(A1670)))&\"\"","v":""},"","","",null,null,{"$f":"INDEX(AH:AH,SMALL(ROW($AH$1:$AH$1999)+(1999*($AH$1:$AH$1999=\"\")), ROW(A1670)))&\"\"","v":""},"","","","","","","","","","","","","","","","","","","","","","","","","","","","","","","",{"$f":"INDEX(AJ:AJ,SMALL(ROW($AJ$1:$AJ$1999)+(1999*($AJ$1:$AJ$1999=\"\")), ROW(A1670)))&\"\"","v":""},"",{"$f":"INDEX(AK:AK,SMALL(ROW($AK$1:$AK$1999)+(1999*($AK$1:$AK$1999=\"\")), ROW(A1670)))&\"\"","v":""},"","","",null,"",""]
[null,null,null,null,null,null,null,null,null,null,null,null,null,null,null,null,null,null,null,null,null,null,null,null,null,null,null,null,null,null,null,null,{"$f":"INDEX(C:C, SMALL(ROW(C$1:C$5000)+(5000*(C$1:C$5000=\"\")),ROW(A1673)))&\"\"","v":""},"",{"$f":"INDEX(B:B, SMALL(ROW(B$1:B$5000)+(5000*(B$1:B$5000=\"\")),ROW(A1673)))&\"\"","v":""},"","","",null,null,{"$f":"INDEX(AH:AH,SMALL(ROW($AH$1:$AH$1999)+(1999*($AH$1:$AH$1999=\"\")), ROW(A1673)))&\"\"","v":""},"","","","","","","","","","","","","","","","","","","","","","","","","","","","","","","",{"$f":"INDEX(AJ:AJ,SMALL(ROW($AJ$1:$AJ$1999)+(1999*($AJ$1:$AJ$1999=\"\")), ROW(A1673)))&\"\"","v":""},"",{"$f":"INDEX(AK:AK,SMALL(ROW($AK$1:$AK$1999)+(1999*($AK$1:$AK$1999=\"\")), ROW(A1673)))&\"\"","v":""},"","","",null,"",""]
[null,null,null,null,null,null,null,null,null,null,null,null,null,null,null,null,null,null,null,null,null,null,null,null,null,null,null,null,null,null,null,null,{"$f":"INDEX(C:C, SMALL(ROW(C$1:C$5000)+(5000*(C$1:C$5000=\"\")),ROW(A1677)))&\"\"","v":""},"",{"$f":"INDEX(B:B, SMALL(ROW(B$1:B$5000)+(5000*(B$1:B$5000=\"\")),ROW(A1677)))&\"\"","v":""},"","","",null,null,{"$f":"INDEX(AH:AH,SMALL(ROW($AH$1:$AH$1999)+(1999*($AH$1:$AH$1999=\"\")), ROW(A1677)))&\"\"","v":""},"","","","","","","","","","","","","","","","","","","","","","","","","","","","","","","",{"$f":"INDEX(AJ:AJ,SMALL(ROW($AJ$1:$AJ$1999)+(1999*($AJ$1:$AJ$1999=\"\")), ROW(A1677)))&\"\"","v":""},"",{"$f":"INDEX(AK:AK,SMALL(ROW($AK$1:$AK$1999)+(1999*($AK$1:$AK$1999=\"\")), ROW(A1677)))&\"\"","v":""},"","","",null,"",""]
[null,null,null,null,null,null,null,null,null,null,null,null,null,null,null,null,null,null,null,null,null,null,null,null,null,null,null,null,null,null,null,null,{"$f":"INDEX(C:C, SMALL(ROW(C$1:C$5000)+(5000*(C$1:C$5000=\"\")),ROW(A1679)))&\"\"","v":""},"",{"$f":"INDEX(B:B, SMALL(ROW(B$1:B$5000)+(5000*(B$1:B$5000=\"\")),ROW(A1679)))&\"\"","v":""},"","","",null,null,{"$f":"INDEX(AH:AH,SMALL(ROW($AH$1:$AH$1999)+(1999*($AH$1:$AH$1999=\"\")), ROW(A1679)))&\"\"","v":""},"","","","","","","","","","","","","","","","","","","","","","","","","","","","","","","",{"$f":"INDEX(AJ:AJ,SMALL(ROW($AJ$1:$AJ$1999)+(1999*($AJ$1:$AJ$1999=\"\")), ROW(A1679)))&\"\"","v":""},"",{"$f":"INDEX(AK:AK,SMALL(ROW($AK$1:$AK$1999)+(1999*($AK$1:$AK$1999=\"\")), ROW(A1679)))&\"\"","v":""},"","","",null,"",""]
[null,null,null,null,null,null,null,null,null,null,null,null,null,null,null,null,null,null,null,null,null,null,null,null,null,null,null,null,null,null,null,null,{"$f":"INDEX(C:C, SMALL(ROW(C$1:C$5000)+(5000*(C$1:C$5000=\"\")),ROW(A1682)))&\"\"","v":""},"",{"$f":"INDEX(B:B, SMALL(ROW(B$1:B$5000)+(5000*(B$1:B$5000=\"\")),ROW(A1682)))&\"\"","v":""},"","","",null,null,{"$f":"INDEX(AH:AH,SMALL(ROW($AH$1:$AH$1999)+(1999*($AH$1:$AH$1999=\"\")), ROW(A1682)))&\"\"","v":""},"","","","","","","","","","","","","","","","","","","","","","","","","","","","","","","",{"$f":"INDEX(AJ:AJ,SMALL(ROW($AJ$1:$AJ$1999)+(1999*($AJ$1:$AJ$1999=\"\")), ROW(A1682)))&\"\"","v":""},"",{"$f":"INDEX(AK:AK,SMALL(ROW($AK$1:$AK$1999)+(1999*($AK$1:$AK$1999=\"\")), ROW(A1682)))&\"\"","v":""},"","","",null,"",""]
[null,null,null,null,null,null,null,null,null,null,null,null,null,null,null,null,null,null,null,null,null,null,null,null,null,null,null,null,null,null,null,null,{"$f":"INDEX(C:C, SMALL(ROW(C$1:C$5000)+(5000*(C$1:C$5000=\"\")),ROW(A1683)))&\"\"","v":""},"",{"$f":"INDEX(B:B, SMALL(ROW(B$1:B$5000)+(5000*(B$1:B$5000=\"\")),ROW(A1683)))&\"\"","v":""},"","","",null,null,{"$f":"INDEX(AH:AH,SMALL(ROW($AH$1:$AH$1999)+(1999*($AH$1:$AH$1999=\"\")), ROW(A1683)))&\"\"","v":""},"","","","","","","","","","","","","","","","","","","","","","","","","","","","","","","",{"$f":"INDEX(AJ:AJ,SMALL(ROW($AJ$1:$AJ$1999)+(1999*($AJ$1:$AJ$1999=\"\")), ROW(A1683)))&\"\"","v":""},"",{"$f":"INDEX(AK:AK,SMALL(ROW($AK$1:$AK$1999)+(1999*($AK$1:$AK$1999=\"\")), ROW(A1683)))&\"\"","v":""},"","","",null,"",""]
[null,null,null,null,null,null,null,null,null,null,null,null,null,null,null,null,null,null,null,null,null,null,null,null,null,null,null,null,null,null,null,null,{"$f":"INDEX(C:C, SMALL(ROW(C$1:C$5000)+(5000*(C$1:C$5000=\"\")),ROW(A1686)))&\"\"","v":""},"",{"$f":"INDEX(B:B, SMALL(ROW(B$1:B$5000)+(5000*(B$1:B$5000=\"\")),ROW(A1686)))&\"\"","v":""},"","","",null,null,{"$f":"INDEX(AH:AH,SMALL(ROW($AH$1:$AH$1999)+(1999*($AH$1:$AH$1999=\"\")), ROW(A1686)))&\"\"","v":""},"","","","","","","","","","","","","","","","","","","","","","","","","","","","","","","",{"$f":"INDEX(AJ:AJ,SMALL(ROW($AJ$1:$AJ$1999)+(1999*($AJ$1:$AJ$1999=\"\")), ROW(A1686)))&\"\"","v":""},"",{"$f":"INDEX(AK:AK,SMALL(ROW($AK$1:$AK$1999)+(1999*($AK$1:$AK$1999=\"\")), ROW(A1686)))&\"\"","v":""},"","","",null,"",""]
[null,null,null,null,null,null,null,null,null,null,null,null,null,null,null,null,null,null,null,null,null,null,null,null,null,null,null,null,null,null,null,null,{"$f":"INDEX(C:C, SMALL(ROW(C$1:C$5000)+(5000*(C$1:C$5000=\"\")),ROW(A1690)))&\"\"","v":""},"",{"$f":"INDEX(B:B, SMALL(ROW(B$1:B$5000)+(5000*(B$1:B$5000=\"\")),ROW(A1690)))&\"\"","v":""},"","","",null,null,{"$f":"INDEX(AH:AH,SMALL(ROW($AH$1:$AH$1999)+(1999*($AH$1:$AH$1999=\"\")), ROW(A1690)))&\"\"","v":""},"","","","","","","","","","","","","","","","","","","","","","","","","","","","","","","",{"$f":"INDEX(AJ:AJ,SMALL(ROW($AJ$1:$AJ$1999)+(1999*($AJ$1:$AJ$1999=\"\")), ROW(A1690)))&\"\"","v":""},"",{"$f":"INDEX(AK:AK,SMALL(ROW($AK$1:$AK$1999)+(1999*($AK$1:$AK$1999=\"\")), ROW(A1690)))&\"\"","v":""},"","","",null,"",""]
[null,null,null,null,null,null,null,null,null,null,null,null,null,null,null,null,null,null,null,null,null,null,null,null,null,null,null,null,null,null,null,null,{"$f":"INDEX(C:C, SMALL(ROW(C$1:C$5000)+(5000*(C$1:C$5000=\"\")),ROW(A1692)))&\"\"","v":""},"",{"$f":"INDEX(B:B, SMALL(ROW(B$1:B$5000)+(5000*(B$1:B$5000=\"\")),ROW(A1692)))&\"\"","v":""},"","","",null,null,{"$f":"INDEX(AH:AH,SMALL(ROW($AH$1:$AH$1999)+(1999*($AH$1:$AH$1999=\"\")), ROW(A1692)))&\"\"","v":""},"","","","","","","","","","","","","","","","","","","","","","","","","","","","","","","",{"$f":"INDEX(AJ:AJ,SMALL(ROW($AJ$1:$AJ$1999)+(1999*($AJ$1:$AJ$1999=\"\")), ROW(A1692)))&\"\"","v":""},"",{"$f":"INDEX(AK:AK,SMALL(ROW($AK$1:$AK$1999)+(1999*($AK$1:$AK$1999=\"\")), ROW(A1692)))&\"\"","v":""},"","","",null,"",""]
[null,null,null,null,null,null,null,null,null,null,null,null,null,null,null,null,null,null,null,null,null,null,null,null,null,null,null,null,null,null,null,null,{"$f":"INDEX(C:C, SMALL(ROW(C$1:C$5000)+(5000*(C$1:C$5000=\"\")),ROW(A1695)))&\"\"","v":""},"",{"$f":"INDEX(B:B, SMALL(ROW(B$1:B$5000)+(5000*(B$1:B$5000=\"\")),ROW(A1695)))&\"\"","v":""},"","","",null,null,{"$f":"INDEX(AH:AH,SMALL(ROW($AH$1:$AH$1999)+(1999*($AH$1:$AH$1999=\"\")), ROW(A1695)))&\"\"","v":""},"","","","","","","","","","","","","","","","","","","","","","","","","","","","","","","",{"$f":"INDEX(AJ:AJ,SMALL(ROW($AJ$1:$AJ$1999)+(1999*($AJ$1:$AJ$1999=\"\")), ROW(A1695)))&\"\"","v":""},"",{"$f":"INDEX(AK:AK,SMALL(ROW($AK$1:$AK$1999)+(1999*($AK$1:$AK$1999=\"\")), ROW(A1695)))&\"\"","v":""},"","","",null,"",""]
[null,null,null,null,null,null,null,null,null,null,null,null,null,null,null,null,null,null,null,null,null,null,null,null,null,null,null,null,null,null,null,null,{"$f":"INDEX(C:C, SMALL(ROW(C$1:C$5000)+(5000*(C$1:C$5000=\"\")),ROW(A1699)))&\"\"","v":""},"",{"$f":"INDEX(B:B, SMALL(ROW(B$1:B$5000)+(5000*(B$1:B$5000=\"\")),ROW(A1699)))&\"\"","v":""},"","","",null,null,{"$f":"INDEX(AH:AH,SMALL(ROW($AH$1:$AH$1999)+(1999*($AH$1:$AH$1999=\"\")), ROW(A1699)))&\"\"","v":""},"","","","","","","","","","","","","","","","","","","","","","","","","","","","","","","",{"$f":"INDEX(AJ:AJ,SMALL(ROW($AJ$1:$AJ$1999)+(1999*($AJ$1:$AJ$1999=\"\")), ROW(A1699)))&\"\"","v":""},"",{"$f":"INDEX(AK:AK,SMALL(ROW($AK$1:$AK$1999)+(1999*($AK$1:$AK$1999=\"\")), ROW(A1699)))&\"\"","v":""},"","","",null,"",""]
[null,null,null,null,null,null,null,null,null,null,null,null,null,null,null,null,null,null,null,null,null,null,null,null,null,null,null,null,null,null,null,null,{"$f":"INDEX(C:C, SMALL(ROW(C$1:C$5000)+(5000*(C$1:C$5000=\"\")),ROW(A1701)))&\"\"","v":""},"",{"$f":"INDEX(B:B, SMALL(ROW(B$1:B$5000)+(5000*(B$1:B$5000=\"\")),ROW(A1701)))&\"\"","v":""},"","","",null,null,{"$f":"INDEX(AH:AH,SMALL(ROW($AH$1:$AH$1999)+(1999*($AH$1:$AH$1999=\"\")), ROW(A1701)))&\"\"","v":""},"","","","","","","","","","","","","","","","","","","","","","","","","","","","","","","",{"$f":"INDEX(AJ:AJ,SMALL(ROW($AJ$1:$AJ$1999)+(1999*($AJ$1:$AJ$1999=\"\")), ROW(A1701)))&\"\"","v":""},"",{"$f":"INDEX(AK:AK,SMALL(ROW($AK$1:$AK$1999)+(1999*($AK$1:$AK$1999=\"\")), ROW(A1701)))&\"\"","v":""},"","","",null,"",""]
[null,null,null,null,null,null,null,null,null,null,null,null,null,null,null,null,null,null,null,null,null,null,null,null,null,null,null,null,null,null,null,null,{"$f":"INDEX(C:C, SMALL(ROW(C$1:C$5000)+(5000*(C$1:C$5000=\"\")),ROW(A1704)))&\"\"","v":""},"",{"$f":"INDEX(B:B, SMALL(ROW(B$1:B$5000)+(5000*(B$1:B$5000=\"\")),ROW(A1704)))&\"\"","v":""},"","","",null,null,{"$f":"INDEX(AH:AH,SMALL(ROW($AH$1:$AH$1999)+(1999*($AH$1:$AH$1999=\"\")), ROW(A1704)))&\"\"","v":""},"","","","","","","","","","","","","","","","","","","","","","","","","","","","","","","",{"$f":"INDEX(AJ:AJ,SMALL(ROW($AJ$1:$AJ$1999)+(1999*($AJ$1:$AJ$1999=\"\")), ROW(A1704)))&\"\"","v":""},"",{"$f":"INDEX(AK:AK,SMALL(ROW($AK$1:$AK$1999)+(1999*($AK$1:$AK$1999=\"\")), ROW(A1704)))&\"\"","v":""},"","","",null,"",""]
[null,null,null,null,null,null,null,null,null,null,null,null,null,null,null,null,null,null,null,null,null,null,null,null,null,null,null,null,null,null,null,null,{"$f":"INDEX(C:C, SMALL(ROW(C$1:C$5000)+(5000*(C$1:C$5000=\"\")),ROW(A1705)))&\"\"","v":""},"",{"$f":"INDEX(B:B, SMALL(ROW(B$1:B$5000)+(5000*(B$1:B$5000=\"\")),ROW(A1705)))&\"\"","v":""},"","","",null,null,{"$f":"INDEX(AH:AH,SMALL(ROW($AH$1:$AH$1999)+(1999*($AH$1:$AH$1999=\"\")), ROW(A1705)))&\"\"","v":""},"","","","","","","","","","","","","","","","","","","","","","","","","","","","","","","",{"$f":"INDEX(AJ:AJ,SMALL(ROW($AJ$1:$AJ$1999)+(1999*($AJ$1:$AJ$1999=\"\")), ROW(A1705)))&\"\"","v":""},"",{"$f":"INDEX(AK:AK,SMALL(ROW($AK$1:$AK$1999)+(1999*($AK$1:$AK$1999=\"\")), ROW(A1705)))&\"\"","v":""},"","","",null,"",""]
[null,null,null,null,null,null,null,null,null,null,null,null,null,null,null,null,null,null,null,null,null,null,null,null,null,null,null,null,null,null,null,null,{"$f":"INDEX(C:C, SMALL(ROW(C$1:C$5000)+(5000*(C$1:C$5000=\"\")),ROW(A1708)))&\"\"","v":""},"",{"$f":"INDEX(B:B, SMALL(ROW(B$1:B$5000)+(5000*(B$1:B$5000=\"\")),ROW(A1708)))&\"\"","v":""},"","","",null,null,{"$f":"INDEX(AH:AH,SMALL(ROW($AH$1:$AH$1999)+(1999*($AH$1:$AH$1999=\"\")), ROW(A1708)))&\"\"","v":""},"","","","","","","","","","","","","","","","","","","","","","","","","","","","","","","",{"$f":"INDEX(AJ:AJ,SMALL(ROW($AJ$1:$AJ$1999)+(1999*($AJ$1:$AJ$1999=\"\")), ROW(A1708)))&\"\"","v":""},"",{"$f":"INDEX(AK:AK,SMALL(ROW($AK$1:$AK$1999)+(1999*($AK$1:$AK$1999=\"\")), ROW(A1708)))&\"\"","v":""},"","","",null,"",""]
[null,null,null,null,null,null,null,null,null,null,null,null,null,null,null,null,null,null,null,null,null,null,null,null,null,null,null,null,null,null,null,null,{"$f":"INDEX(C:C, SMALL(ROW(C$1:C$5000)+(5000*(C$1:C$5000=\"\")),ROW(A1712)))&\"\"","v":""},"",{"$f":"INDEX(B:B, SMALL(ROW(B$1:B$5000)+(5000*(B$1:B$5000=\"\")),ROW(A1712)))&\"\"","v":""},"","","",null,null,{"$f":"INDEX(AH:AH,SMALL(ROW($AH$1:$AH$1999)+(1999*($AH$1:$AH$1999=\"\")), ROW(A1712)))&\"\"","v":""},"","","","","","","","","","","","","","","","","","","","","","","","","","","","","","","",{"$f":"INDEX(AJ:AJ,SMALL(ROW($AJ$1:$AJ$1999)+(1999*($AJ$1:$AJ$1999=\"\")), ROW(A1712)))&\"\"","v":""},"",{"$f":"INDEX(AK:AK,SMALL(ROW($AK$1:$AK$1999)+(1999*($AK$1:$AK$1999=\"\")), ROW(A1712)))&\"\"","v":""},"","","",null,"",""]
[null,null,null,null,null,null,null,null,null,null,null,null,null,null,null,null,null,null,null,null,null,null,null,null,null,null,null,null,null,null,null,null,{"$f":"INDEX(C:C, SMALL(ROW(C$1:C$5000)+(5000*(C$1:C$5000=\"\")),ROW(A1714)))&\"\"","v":""},"",{"$f":"INDEX(B:B, SMALL(ROW(B$1:B$5000)+(5000*(B$1:B$5000=\"\")),ROW(A1714)))&\"\"","v":""},"","","",null,null,{"$f":"INDEX(AH:AH,SMALL(ROW($AH$1:$AH$1999)+(1999*($AH$1:$AH$1999=\"\")), ROW(A1714)))&\"\"","v":""},"","","","","","","","","","","","","","","","","","","","","","","","","","","","","","","",{"$f":"INDEX(AJ:AJ,SMALL(ROW($AJ$1:$AJ$1999)+(1999*($AJ$1:$AJ$1999=\"\")), ROW(A1714)))&\"\"","v":""},"",{"$f":"INDEX(AK:AK,SMALL(ROW($AK$1:$AK$1999)+(1999*($AK$1:$AK$1999=\"\")), ROW(A1714)))&\"\"","v":""},"","","",null,"",""]
[null,null,null,null,null,null,null,null,null,null,null,null,null,null,null,null,null,null,null,null,null,null,null,null,null,null,null,null,null,null,null,null,{"$f":"INDEX(C:C, SMALL(ROW(C$1:C$5000)+(5000*(C$1:C$5000=\"\")),ROW(A1717)))&\"\"","v":""},"",{"$f":"INDEX(B:B, SMALL(ROW(B$1:B$5000)+(5000*(B$1:B$5000=\"\")),ROW(A1717)))&\"\"","v":""},"","","",null,null,{"$f":"INDEX(AH:AH,SMALL(ROW($AH$1:$AH$1999)+(1999*($AH$1:$AH$1999=\"\")), ROW(A1717)))&\"\"","v":""},"","","","","","","","","","","","","","","","","","","","","","","","","","","","","","","",{"$f":"INDEX(AJ:AJ,SMALL(ROW($AJ$1:$AJ$1999)+(1999*($AJ$1:$AJ$1999=\"\")), ROW(A1717)))&\"\"","v":""},"",{"$f":"INDEX(AK:AK,SMALL(ROW($AK$1:$AK$1999)+(1999*($AK$1:$AK$1999=\"\")), ROW(A1717)))&\"\"","v":""},"","","",null,"",""]
[null,null,null,null,null,null,null,null,null,null,null,null,null,null,null,null,null,null,null,null,null,null,null,null,null,null,null,null,null,null,null,null,{"$f":"INDEX(C:C, SMALL(ROW(C$1:C$5000)+(5000*(C$1:C$5000=\"\")),ROW(A1721)))&\"\"","v":""},"",{"$f":"INDEX(B:B, SMALL(ROW(B$1:B$5000)+(5000*(B$1:B$5000=\"\")),ROW(A1721)))&\"\"","v":""},"","","",null,null,{"$f":"INDEX(AH:AH,SMALL(ROW($AH$1:$AH$1999)+(1999*($AH$1:$AH$1999=\"\")), ROW(A1721)))&\"\"","v":""},"","","","","","","","","","","","","","","","","","","","","","","","","","","","","","","",{"$f":"INDEX(AJ:AJ,SMALL(ROW($AJ$1:$AJ$1999)+(1999*($AJ$1:$AJ$1999=\"\")), ROW(A1721)))&\"\"","v":""},"",{"$f":"INDEX(AK:AK,SMALL(ROW($AK$1:$AK$1999)+(1999*($AK$1:$AK$1999=\"\")), ROW(A1721)))&\"\"","v":""},"","","",null,"",""]
[null,null,null,null,null,null,null,null,null,null,null,null,null,null,null,null,null,null,null,null,null,null,null,null,null,null,null,null,null,null,null,null,{"$f":"INDEX(C:C, SMALL(ROW(C$1:C$5000)+(5000*(C$1:C$5000=\"\")),ROW(A1723)))&\"\"","v":""},"",{"$f":"INDEX(B:B, SMALL(ROW(B$1:B$5000)+(5000*(B$1:B$5000=\"\")),ROW(A1723)))&\"\"","v":""},"","","",null,null,{"$f":"INDEX(AH:AH,SMALL(ROW($AH$1:$AH$1999)+(1999*($AH$1:$AH$1999=\"\")), ROW(A1723)))&\"\"","v":""},"","","","","","","","","","","","","","","","","","","","","","","","","","","","","","","",{"$f":"INDEX(AJ:AJ,SMALL(ROW($AJ$1:$AJ$1999)+(1999*($AJ$1:$AJ$1999=\"\")), ROW(A1723)))&\"\"","v":""},"",{"$f":"INDEX(AK:AK,SMALL(ROW($AK$1:$AK$1999)+(1999*($AK$1:$AK$1999=\"\")), ROW(A1723)))&\"\"","v":""},"","","",null,"",""]
[null,null,null,null,null,null,null,null,null,null,null,null,null,null,null,null,null,null,null,null,null,null,null,null,null,null,null,null,null,null,null,null,{"$f":"INDEX(C:C, SMALL(ROW(C$1:C$5000)+(5000*(C$1:C$5000=\"\")),ROW(A1726)))&\"\"","v":""},"",{"$f":"INDEX(B:B, SMALL(ROW(B$1:B$5000)+(5000*(B$1:B$5000=\"\")),ROW(A1726)))&\"\"","v":""},"","","",null,null,{"$f":"INDEX(AH:AH,SMALL(ROW($AH$1:$AH$1999)+(1999*($AH$1:$AH$1999=\"\")), ROW(A1726)))&\"\"","v":""},"","","","","","","","","","","","","","","","","","","","","","","","","","","","","","","",{"$f":"INDEX(AJ:AJ,SMALL(ROW($AJ$1:$AJ$1999)+(1999*($AJ$1:$AJ$1999=\"\")), ROW(A1726)))&\"\"","v":""},"",{"$f":"INDEX(AK:AK,SMALL(ROW($AK$1:$AK$1999)+(1999*($AK$1:$AK$1999=\"\")), ROW(A1726)))&\"\"","v":""},"","","",null,"",""]
[null,null,null,null,null,null,null,null,null,null,null,null,null,null,null,null,null,null,null,null,null,null,null,null,null,null,null,null,null,null,null,null,{"$f":"INDEX(C:C, SMALL(ROW(C$1:C$5000)+(5000*(C$1:C$5000=\"\")),ROW(A1727)))&\"\"","v":""},"",{"$f":"INDEX(B:B, SMALL(ROW(B$1:B$5000)+(5000*(B$1:B$5000=\"\")),ROW(A1727)))&\"\"","v":""},"","","",null,null,{"$f":"INDEX(AH:AH,SMALL(ROW($AH$1:$AH$1999)+(1999*($AH$1:$AH$1999=\"\")), ROW(A1727)))&\"\"","v":""},"","","","","","","","","","","","","","","","","","","","","","","","","","","","","","","",{"$f":"INDEX(AJ:AJ,SMALL(ROW($AJ$1:$AJ$1999)+(1999*($AJ$1:$AJ$1999=\"\")), ROW(A1727)))&\"\"","v":""},"",{"$f":"INDEX(AK:AK,SMALL(ROW($AK$1:$AK$1999)+(1999*($AK$1:$AK$1999=\"\")), ROW(A1727)))&\"\"","v":""},"","","",null,"",""]
[null,null,null,null,null,null,null,null,null,null,null,null,null,null,null,null,null,null,null,null,null,null,null,null,null,null,null,null,null,null,null,null,{"$f":"INDEX(C:C, SMALL(ROW(C$1:C$5000)+(5000*(C$1:C$5000=\"\")),ROW(A1730)))&\"\"","v":""},"",{"$f":"INDEX(B:B, SMALL(ROW(B$1:B$5000)+(5000*(B$1:B$5000=\"\")),ROW(A1730)))&\"\"","v":""},{"$f":"IF(ISNUMBER(SEARCH(\"*years*\",AI1730)),AI1730,\"\")","v":""},{"$f":"IF(ISNUMBER(SEARCH(\"*, 19*\",AI1730)),AI1730,\"\")","v":""},"",null,null,{"$f":"INDEX(AH:AH,SMALL(ROW($AH$1:$AH$1999)+(1999*($AH$1:$AH$1999=\"\")), ROW(A1730)))&\"\"","v":""},{"$f":"TRIM(TEXT(RIGHT(AO1730,2),))","v":""},{"$f":"IF(ISNUMBER(SEARCH(\"*QB*\",AP1730)),AO1730,\"\")","v":""},{"$f":"IFERROR(IF(ISNUMBER(SEARCH(\"*QB*\",AQ1730)),BV1730,\"\"),VALUE(0))","v":""},{"$f":"IFERROR(IF(ISNUMBER(SEARCH(\"*QB*\",AQ1730)),BX1730,\"\"),VALUE(0))","v":""},{"$f":"IF(ISNUMBER(SEARCH(\"*RB*\",AP1730)),AO1730,\"\")","v":""},{"$f":"IFERROR(IF(ISNUMBER(SEARCH(\"*RB*\",AT1730)),BV1730,\"\"),VALUE(0))","v":""},{"$f":"IFERROR(IF(ISNUMBER(SEARCH(\"*RB*\",AT1730)),BX1730,\"\"),VALUE(0))","v":""},{"$f":"IF(ISNUMBER(SEARCH(\"*WR*\",AP1730)),AO1730,\"\")","v":""},{"$f":"IFERROR(IF(ISNUMBER(SEARCH(\"*WR*\",AW1730)),BV1730,\"\"),VALUE(0))","v":""},{"$f":"IFERROR(IF(ISNUMBER(SEARCH(\"*WR*\",AW1730)),BX1730,\"\"),VALUE(0))","v":""},{"$f":"IF(ISNUMBER(SEARCH(\"*TE*\",AP1730)),AO1730,\"\")","v":""},"",{"$f":"IFERROR(IF(ISNUMBER(SEARCH(\"*TE*\",AZ1730)),BX1730,\"\"),VALUE(0))","v":""},{"$f":"IF(ISNUMBER(SEARCH(\"*PK*\",AP1730)),AO1730,\"\")","v":""},{"$f":"IFERROR(IF(ISNUMBER(SEARCH(\"*PK*\",BC1730)),BV1730,\"\"),VALUE(0))","v":""},{"$f":"IFERROR(IF(ISNUMBER(SEARCH(\"*PK*\",BC1730)),BX1730,\"\"),VALUE(0))","v":""},{"$f":"IF(ISNUMBER(SEARCH(\"*DT*\",AP1730)),AO1730,\"\")","v":""},{"$f":"IFERROR(IF(ISNUMBER(SEARCH(\"*DT*\",BF1730)),BV1730,\"\"),VALUE(0))","v":""},{"$f":"IFERROR(IF(ISNUMBER(SEARCH(\"*DT*\",BF1730)),BX1730,\"\"),VALUE(0))","v":""},{"$f":"IF(ISNUMBER(SEARCH(\"*DE*\",AP1730)),AO1730,\"\")","v":""},{"$f":"IFERROR(IF(ISNUMBER(SEARCH(\"*DE*\",BI1730)),BV1730,\"\"),VALUE(0))","v":""},{"$f":"IFERROR(IF(ISNUMBER(SEARCH(\"*DE*\",BI1730)),BX1730,\"\"),VALUE(0))","v":""},{"$f":"IF(ISNUMBER(SEARCH(\"*LB*\",AP1730)),AO1730,\"\")","v":""},{"$f":"IFERROR(IF(ISNUMBER(SEARCH(\"*LB*\",BL1730)),BV1730,\"\"),VALUE(0))","v":""},{"$f":"IFERROR(IF(ISNUMBER(SEARCH(\"*LB*\",BL1730)),BX1730,\"\"),VALUE(0))","v":""},{"$f":"IF(ISNUMBER(SEARCH(\"*CB*\",AP1730)),AO1730,\"\")","v":""},{"$f":"IFERROR(IF(ISNUMBER(SEARCH(\"*CB*\",BO1730)),BV1730,\"\"),VALUE(0))","v":""},{"$f":"IFERROR(IF(ISNUMBER(SEARCH(\"*CB*\",BO1730)),BX1730,\"\"),VALUE(0))","v":""},{"$f":"IF(ISNUMBER(SEARCH(\"*S*\",AP1730)),AO1730,\"\")","v":""},{"$f":"IFERROR(IF(ISNUMBER(SEARCH(\"*S*\",BR1730)),BV1730,\"\"),VALUE(0))","v":""},{"$f":"IFERROR(IF(ISNUMBER(SEARCH(\"*S*\",BR1730)),BX1730,\"\"),VALUE(0))","v":""},{"$f":"INDEX(AJ:AJ,SMALL(ROW($AJ$1:$AJ$1999)+(1999*($AJ$1:$AJ$1999=\"\")), ROW(A1730)))&\"\"","v":""},{"$f":"IFERROR(IF(BW1730<>\"\",VALUE(LEFT(BU1730,LEN(BU1730)-6)),\"\"),VALUE(0))","v":""},{"$f":"INDEX(AK:AK,SMALL(ROW($AK$1:$AK$1999)+(1999*($AK$1:$AK$1999=\"\")), ROW(A1730)))&\"\"","v":""},{"$f":"IF(BW1730<>\"\",VALUE(RIGHT(BW1730,2)),\"\")","v":""},{"$f":"IF(BX1730=\"\",\"\",IF(BX1730>27,1,0))","v":""},{"$f":"IF(BX1730=\"\",\"\",IF(BX1730<27,1,0))","v":""},null,{"$f":"IF(BV1730=\"\",\"\",IF(BV1730>3.5,1,0))","v":""},{"$f":"IF(BV1730=\"\",\"\",IF(BV1730<3.5,1,0))","v":""}]
[null,null,null,null,null,null,null,null,null,null,null,null,null,null,null,null,null,null,null,null,null,null,null,null,null,null,null,null,null,null,null,null,{"$f":"INDEX(C:C, SMALL(ROW(C$1:C$5000)+(5000*(C$1:C$5000=\"\")),ROW(A1734)))&\"\"","v":""},"",{"$f":"INDEX(B:B, SMALL(ROW(B$1:B$5000)+(5000*(B$1:B$5000=\"\")),ROW(A1734)))&\"\"","v":""},"","","",null,null,{"$f":"INDEX(AH:AH,SMALL(ROW($AH$1:$AH$1999)+(1999*($AH$1:$AH$1999=\"\")), ROW(A1734)))&\"\"","v":""},"","","","","","","","","","","","","","","","","","","","","","","","","","","","","","","",{"$f":"INDEX(AJ:AJ,SMALL(ROW($AJ$1:$AJ$1999)+(1999*($AJ$1:$AJ$1999=\"\")), ROW(A1734)))&\"\"","v":""},"",{"$f":"INDEX(AK:AK,SMALL(ROW($AK$1:$AK$1999)+(1999*($AK$1:$AK$1999=\"\")), ROW(A1734)))&\"\"","v":""},"","","",null,"",""]
[null,null,null,null,null,null,null,null,null,null,null,null,null,null,null,null,null,null,null,null,null,null,null,null,null,null,null,null,null,null,null,null,{"$f":"INDEX(C:C, SMALL(ROW(C$1:C$5000)+(5000*(C$1:C$5000=\"\")),ROW(A1736)))&\"\"","v":""},"",{"$f":"INDEX(B:B, SMALL(ROW(B$1:B$5000)+(5000*(B$1:B$5000=\"\")),ROW(A1736)))&\"\"","v":""},"","","",null,null,{"$f":"INDEX(AH:AH,SMALL(ROW($AH$1:$AH$1999)+(1999*($AH$1:$AH$1999=\"\")), ROW(A1736)))&\"\"","v":""},"","","","","","","","","","","","","","","","","","","","","","","","","","","","","","","",{"$f":"INDEX(AJ:AJ,SMALL(ROW($AJ$1:$AJ$1999)+(1999*($AJ$1:$AJ$1999=\"\")), ROW(A1736)))&\"\"","v":""},"",{"$f":"INDEX(AK:AK,SMALL(ROW($AK$1:$AK$1999)+(1999*($AK$1:$AK$1999=\"\")), ROW(A1736)))&\"\"","v":""},"","","",null,"",""]
[null,null,null,null,null,null,null,null,null,null,null,null,null,null,null,null,null,null,null,null,null,null,null,null,null,null,null,null,null,null,null,null,{"$f":"INDEX(C:C, SMALL(ROW(C$1:C$5000)+(5000*(C$1:C$5000=\"\")),ROW(A1739)))&\"\"","v":""},"",{"$f":"INDEX(B:B, SMALL(ROW(B$1:B$5000)+(5000*(B$1:B$5000=\"\")),ROW(A1739)))&\"\"","v":""},"","","",null,null,{"$f":"INDEX(AH:AH,SMALL(ROW($AH$1:$AH$1999)+(1999*($AH$1:$AH$1999=\"\")), ROW(A1739)))&\"\"","v":""},"","","","","","","","","","","","","","","","","","","","","","","","","","","","","","","",{"$f":"INDEX(AJ:AJ,SMALL(ROW($AJ$1:$AJ$1999)+(1999*($AJ$1:$AJ$1999=\"\")), ROW(A1739)))&\"\"","v":""},"",{"$f":"INDEX(AK:AK,SMALL(ROW($AK$1:$AK$1999)+(1999*($AK$1:$AK$1999=\"\")), ROW(A1739)))&\"\"","v":""},"","","",null,"",""]
[null,null,null,null,null,null,null,null,null,null,null,null,null,null,null,null,null,null,null,null,null,null,null,null,null,null,null,null,null,null,null,null,{"$f":"INDEX(C:C, SMALL(ROW(C$1:C$5000)+(5000*(C$1:C$5000=\"\")),ROW(A1743)))&\"\"","v":""},"",{"$f":"INDEX(B:B, SMALL(ROW(B$1:B$5000)+(5000*(B$1:B$5000=\"\")),ROW(A1743)))&\"\"","v":""},"","","",null,null,{"$f":"INDEX(AH:AH,SMALL(ROW($AH$1:$AH$1999)+(1999*($AH$1:$AH$1999=\"\")), ROW(A1743)))&\"\"","v":""},"","","","","","","","","","","","","","","","","","","","","","","","","","","","","","","",{"$f":"INDEX(AJ:AJ,SMALL(ROW($AJ$1:$AJ$1999)+(1999*($AJ$1:$AJ$1999=\"\")), ROW(A1743)))&\"\"","v":""},"",{"$f":"INDEX(AK:AK,SMALL(ROW($AK$1:$AK$1999)+(1999*($AK$1:$AK$1999=\"\")), ROW(A1743)))&\"\"","v":""},"","","",null,"",""]
[null,null,null,null,null,null,null,null,null,null,null,null,null,null,null,null,null,null,null,null,null,null,null,null,null,null,null,null,null,null,null,null,{"$f":"INDEX(C:C, SMALL(ROW(C$1:C$5000)+(5000*(C$1:C$5000=\"\")),ROW(A1745)))&\"\"","v":""},"",{"$f":"INDEX(B:B, SMALL(ROW(B$1:B$5000)+(5000*(B$1:B$5000=\"\")),ROW(A1745)))&\"\"","v":""},"","","",null,null,{"$f":"INDEX(AH:AH,SMALL(ROW($AH$1:$AH$1999)+(1999*($AH$1:$AH$1999=\"\")), ROW(A1745)))&\"\"","v":""},"","","","","","","","","","","","","","","","","","","","","","","","","","","","","","","",{"$f":"INDEX(AJ:AJ,SMALL(ROW($AJ$1:$AJ$1999)+(1999*($AJ$1:$AJ$1999=\"\")), ROW(A1745)))&\"\"","v":""},"",{"$f":"INDEX(AK:AK,SMALL(ROW($AK$1:$AK$1999)+(1999*($AK$1:$AK$1999=\"\")), ROW(A1745)))&\"\"","v":""},"","","",null,"",""]
[null,null,null,null,null,null,null,null,null,null,null,null,null,null,null,null,null,null,null,null,null,null,null,null,null,null,null,null,null,null,null,null,{"$f":"INDEX(C:C, SMALL(ROW(C$1:C$5000)+(5000*(C$1:C$5000=\"\")),ROW(A1746)))&\"\"","v":""},"",{"$f":"INDEX(B:B, SMALL(ROW(B$1:B$5000)+(5000*(B$1:B$5000=\"\")),ROW(A1746)))&\"\"","v":""},"","","",null,null,{"$f":"INDEX(AH:AH,SMALL(ROW($AH$1:$AH$1999)+(1999*($AH$1:$AH$1999=\"\")), ROW(A1746)))&\"\"","v":""},"","","","","","","","","","","","","","","","","","","","","","","","","","","","","","","",{"$f":"INDEX(AJ:AJ,SMALL(ROW($AJ$1:$AJ$1999)+(1999*($AJ$1:$AJ$1999=\"\")), ROW(A1746)))&\"\"","v":""},"",{"$f":"INDEX(AK:AK,SMALL(ROW($AK$1:$AK$1999)+(1999*($AK$1:$AK$1999=\"\")), ROW(A1746)))&\"\"","v":""},"","","",null,"",""]
[null,null,null,null,null,null,null,null,null,null,null,null,null,null,null,null,null,null,null,null,null,null,null,null,null,null,null,null,null,null,null,null,{"$f":"INDEX(C:C, SMALL(ROW(C$1:C$5000)+(5000*(C$1:C$5000=\"\")),ROW(A1749)))&\"\"","v":""},"",{"$f":"INDEX(B:B, SMALL(ROW(B$1:B$5000)+(5000*(B$1:B$5000=\"\")),ROW(A1749)))&\"\"","v":""},"","","",null,null,{"$f":"INDEX(AH:AH,SMALL(ROW($AH$1:$AH$1999)+(1999*($AH$1:$AH$1999=\"\")), ROW(A1749)))&\"\"","v":""},"","","","","","","","","","","","","","","","","","","","","","","","","","","","","","","",{"$f":"INDEX(AJ:AJ,SMALL(ROW($AJ$1:$AJ$1999)+(1999*($AJ$1:$AJ$1999=\"\")), ROW(A1749)))&\"\"","v":""},"",{"$f":"INDEX(AK:AK,SMALL(ROW($AK$1:$AK$1999)+(1999*($AK$1:$AK$1999=\"\")), ROW(A1749)))&\"\"","v":""},"","","",null,"",""]
[null,null,null,null,null,null,null,null,null,null,null,null,null,null,null,null,null,null,null,null,null,null,null,null,null,null,null,null,null,null,null,null,{"$f":"INDEX(C:C, SMALL(ROW(C$1:C$5000)+(5000*(C$1:C$5000=\"\")),ROW(A1752)))&\"\"","v":""},"",{"$f":"INDEX(B:B, SMALL(ROW(B$1:B$5000)+(5000*(B$1:B$5000=\"\")),ROW(A1752)))&\"\"","v":""},"","","",null,null,{"$f":"INDEX(AH:AH,SMALL(ROW($AH$1:$AH$1999)+(1999*($AH$1:$AH$1999=\"\")), ROW(A1752)))&\"\"","v":""},"","","","","","","","","","","","","","","","","","","","","","","","","","","","","","","",{"$f":"INDEX(AJ:AJ,SMALL(ROW($AJ$1:$AJ$1999)+(1999*($AJ$1:$AJ$1999=\"\")), ROW(A1752)))&\"\"","v":""},"",{"$f":"INDEX(AK:AK,SMALL(ROW($AK$1:$AK$1999)+(1999*($AK$1:$AK$1999=\"\")), ROW(A1752)))&\"\"","v":""},"","","",null,"",""]
[null,null,null,null,null,null,null,null,null,null,null,null,null,null,null,null,null,null,null,null,null,null,null,null,null,null,null,null,null,null,null,null,{"$f":"INDEX(C:C, SMALL(ROW(C$1:C$5000)+(5000*(C$1:C$5000=\"\")),ROW(A1756)))&\"\"","v":""},"",{"$f":"INDEX(B:B, SMALL(ROW(B$1:B$5000)+(5000*(B$1:B$5000=\"\")),ROW(A1756)))&\"\"","v":""},"","","",null,null,{"$f":"INDEX(AH:AH,SMALL(ROW($AH$1:$AH$1999)+(1999*($AH$1:$AH$1999=\"\")), ROW(A1756)))&\"\"","v":""},"","","","","","","","","","","","","","","","","","","","","","","","","","","","","","","",{"$f":"INDEX(AJ:AJ,SMALL(ROW($AJ$1:$AJ$1999)+(1999*($AJ$1:$AJ$1999=\"\")), ROW(A1756)))&\"\"","v":""},"",{"$f":"INDEX(AK:AK,SMALL(ROW($AK$1:$AK$1999)+(1999*($AK$1:$AK$1999=\"\")), ROW(A1756)))&\"\"","v":""},"","","",null,"",""]
[null,null,null,null,null,null,null,null,null,null,null,null,null,null,null,null,null,null,null,null,null,null,null,null,null,null,null,null,null,null,null,null,{"$f":"INDEX(C:C, SMALL(ROW(C$1:C$5000)+(5000*(C$1:C$5000=\"\")),ROW(A1758)))&\"\"","v":""},"",{"$f":"INDEX(B:B, SMALL(ROW(B$1:B$5000)+(5000*(B$1:B$5000=\"\")),ROW(A1758)))&\"\"","v":""},"","","",null,null,{"$f":"INDEX(AH:AH,SMALL(ROW($AH$1:$AH$1999)+(1999*($AH$1:$AH$1999=\"\")), ROW(A1758)))&\"\"","v":""},"","","","","","","","","","","",{"$f":"IFERROR(IF(ISNUMBER(SEARCH(\"*TE*\",AZ1758)),BV1758,\"\"),VALUE(0))","v":""},"","","","","","","","","","","","","","","","","","","",{"$f":"INDEX(AJ:AJ,SMALL(ROW($AJ$1:$AJ$1999)+(1999*($AJ$1:$AJ$1999=\"\")), ROW(A1758)))&\"\"","v":""},"",{"$f":"INDEX(AK:AK,SMALL(ROW($AK$1:$AK$1999)+(1999*($AK$1:$AK$1999=\"\")), ROW(A1758)))&\"\"","v":""},"","","",null,"",""]
[null,null,null,null,null,null,null,null,null,null,null,null,null,null,null,null,null,null,null,null,null,null,null,null,null,null,null,null,null,null,null,null,{"$f":"INDEX(C:C, SMALL(ROW(C$1:C$5000)+(5000*(C$1:C$5000=\"\")),ROW(A1761)))&\"\"","v":""},"",{"$f":"INDEX(B:B, SMALL(ROW(B$1:B$5000)+(5000*(B$1:B$5000=\"\")),ROW(A1761)))&\"\"","v":""},"","","",null,null,{"$f":"INDEX(AH:AH,SMALL(ROW($AH$1:$AH$1999)+(1999*($AH$1:$AH$1999=\"\")), ROW(A1761)))&\"\"","v":""},"","","","","","","","","","","","","","","","","","","","","","","","","","","","","","","",{"$f":"INDEX(AJ:AJ,SMALL(ROW($AJ$1:$AJ$1999)+(1999*($AJ$1:$AJ$1999=\"\")), ROW(A1761)))&\"\"","v":""},"",{"$f":"INDEX(AK:AK,SMALL(ROW($AK$1:$AK$1999)+(1999*($AK$1:$AK$1999=\"\")), ROW(A1761)))&\"\"","v":""},"","","",null,"",""]
[null,null,null,null,null,null,null,null,null,null,null,null,null,null,null,null,null,null,null,null,null,null,null,null,null,null,null,null,null,null,null,null,{"$f":"INDEX(C:C, SMALL(ROW(C$1:C$5000)+(5000*(C$1:C$5000=\"\")),ROW(A1765)))&\"\"","v":""},"",{"$f":"INDEX(B:B, SMALL(ROW(B$1:B$5000)+(5000*(B$1:B$5000=\"\")),ROW(A1765)))&\"\"","v":""},"","","",null,null,{"$f":"INDEX(AH:AH,SMALL(ROW($AH$1:$AH$1999)+(1999*($AH$1:$AH$1999=\"\")), ROW(A1765)))&\"\"","v":""},"","","","","","","","","","","","","","","","","","","","","","","","","","","","","","","",{"$f":"INDEX(AJ:AJ,SMALL(ROW($AJ$1:$AJ$1999)+(1999*($AJ$1:$AJ$1999=\"\")), ROW(A1765)))&\"\"","v":""},"",{"$f":"INDEX(AK:AK,SMALL(ROW($AK$1:$AK$1999)+(1999*($AK$1:$AK$1999=\"\")), ROW(A1765)))&\"\"","v":""},"","","",null,"",""]
[null,null,null,null,null,null,null,null,null,null,null,null,null,null,null,null,null,null,null,null,null,null,null,null,null,null,null,null,null,null,null,null,{"$f":"INDEX(C:C, SMALL(ROW(C$1:C$5000)+(5000*(C$1:C$5000=\"\")),ROW(A1767)))&\"\"","v":""},"",{"$f":"INDEX(B:B, SMALL(ROW(B$1:B$5000)+(5000*(B$1:B$5000=\"\")),ROW(A1767)))&\"\"","v":""},"","","",null,null,{"$f":"INDEX(AH:AH,SMALL(ROW($AH$1:$AH$1999)+(1999*($AH$1:$AH$1999=\"\")), ROW(A1767)))&\"\"","v":""},"","","","","","","","","","","","","","","","","","","","","","","","","","","","","","","",{"$f":"INDEX(AJ:AJ,SMALL(ROW($AJ$1:$AJ$1999)+(1999*($AJ$1:$AJ$1999=\"\")), ROW(A1767)))&\"\"","v":""},"",{"$f":"INDEX(AK:AK,SMALL(ROW($AK$1:$AK$1999)+(1999*($AK$1:$AK$1999=\"\")), ROW(A1767)))&\"\"","v":""},"","","",null,"",""]
[null,null,null,null,null,null,null,null,null,null,null,null,null,null,null,null,null,null,null,null,null,null,null,null,null,null,null,null,null,null,null,null,{"$f":"INDEX(C:C, SMALL(ROW(C$1:C$5000)+(5000*(C$1:C$5000=\"\")),ROW(A1768)))&\"\"","v":""},"",{"$f":"INDEX(B:B, SMALL(ROW(B$1:B$5000)+(5000*(B$1:B$5000=\"\")),ROW(A1768)))&\"\"","v":""},"","","",null,null,{"$f":"INDEX(AH:AH,SMALL(ROW($AH$1:$AH$1999)+(1999*($AH$1:$AH$1999=\"\")), ROW(A1768)))&\"\"","v":""},"","","","","","","","","","","","","","","","","","","","","","","","","","","","","","","",{"$f":"INDEX(AJ:AJ,SMALL(ROW($AJ$1:$AJ$1999)+(1999*($AJ$1:$AJ$1999=\"\")), ROW(A1768)))&\"\"","v":""},"",{"$f":"INDEX(AK:AK,SMALL(ROW($AK$1:$AK$1999)+(1999*($AK$1:$AK$1999=\"\")), ROW(A1768)))&\"\"","v":""},"","","",null,"",""]
[null,null,null,null,null,null,null,null,null,null,null,null,null,null,null,null,null,null,null,null,null,null,null,null,null,null,null,null,null,null,null,null,{"$f":"INDEX(C:C, SMALL(ROW(C$1:C$5000)+(5000*(C$1:C$5000=\"\")),ROW(A1771)))&\"\"","v":""},"",{"$f":"INDEX(B:B, SMALL(ROW(B$1:B$5000)+(5000*(B$1:B$5000=\"\")),ROW(A1771)))&\"\"","v":""},"","","",null,null,{"$f":"INDEX(AH:AH,SMALL(ROW($AH$1:$AH$1999)+(1999*($AH$1:$AH$1999=\"\")), ROW(A1771)))&\"\"","v":""},"","","","","","","","","","","","","","","","","","","","","","","","","","","","","","","",{"$f":"INDEX(AJ:AJ,SMALL(ROW($AJ$1:$AJ$1999)+(1999*($AJ$1:$AJ$1999=\"\")), ROW(A1771)))&\"\"","v":""},"",{"$f":"INDEX(AK:AK,SMALL(ROW($AK$1:$AK$1999)+(1999*($AK$1:$AK$1999=\"\")), ROW(A1771)))&\"\"","v":""},"","","",null,"",""]
[null,null,null,null,null,null,null,null,null,null,null,null,null,null,null,null,null,null,null,null,null,null,null,null,null,null,null,null,null,null,null,null,{"$f":"INDEX(C:C, SMALL(ROW(C$1:C$5000)+(5000*(C$1:C$5000=\"\")),ROW(A1774)))&\"\"","v":""},"",{"$f":"INDEX(B:B, SMALL(ROW(B$1:B$5000)+(5000*(B$1:B$5000=\"\")),ROW(A1774)))&\"\"","v":""},"","","",null,null,{"$f":"INDEX(AH:AH,SMALL(ROW($AH$1:$AH$1999)+(1999*($AH$1:$AH$1999=\"\")), ROW(A1774)))&\"\"","v":""},"","","","","","","","","","","","","","","","","","","","","","","","","","","","","","","",{"$f":"INDEX(AJ:AJ,SMALL(ROW($AJ$1:$AJ$1999)+(1999*($AJ$1:$AJ$1999=\"\")), ROW(A1774)))&\"\"","v":""},"",{"$f":"INDEX(AK:AK,SMALL(ROW($AK$1:$AK$1999)+(1999*($AK$1:$AK$1999=\"\")), ROW(A1774)))&\"\"","v":""},"","","",null,"",""]
[null,null,null,null,null,null,null,null,null,null,null,null,null,null,null,null,null,null,null,null,null,null,null,null,null,null,null,null,null,null,null,null,{"$f":"INDEX(C:C, SMALL(ROW(C$1:C$5000)+(5000*(C$1:C$5000=\"\")),ROW(A1778)))&\"\"","v":""},"",{"$f":"INDEX(B:B, SMALL(ROW(B$1:B$5000)+(5000*(B$1:B$5000=\"\")),ROW(A1778)))&\"\"","v":""},"","","",null,null,{"$f":"INDEX(AH:AH,SMALL(ROW($AH$1:$AH$1999)+(1999*($AH$1:$AH$1999=\"\")), ROW(A1778)))&\"\"","v":""},"","","","","","","","","","","","","","","","","","","","","","","","","","","","","","","",{"$f":"INDEX(AJ:AJ,SMALL(ROW($AJ$1:$AJ$1999)+(1999*($AJ$1:$AJ$1999=\"\")), ROW(A1778)))&\"\"","v":""},"",{"$f":"INDEX(AK:AK,SMALL(ROW($AK$1:$AK$1999)+(1999*($AK$1:$AK$1999=\"\")), ROW(A1778)))&\"\"","v":""},"","","",null,"",""]
[null,null,null,null,null,null,null,null,null,null,null,null,null,null,null,null,null,null,null,null,null,null,null,null,null,null,null,null,null,null,null,null,{"$f":"INDEX(C:C, SMALL(ROW(C$1:C$5000)+(5000*(C$1:C$5000=\"\")),ROW(A1780)))&\"\"","v":""},"",{"$f":"INDEX(B:B, SMALL(ROW(B$1:B$5000)+(5000*(B$1:B$5000=\"\")),ROW(A1780)))&\"\"","v":""},"","","",null,null,{"$f":"INDEX(AH:AH,SMALL(ROW($AH$1:$AH$1999)+(1999*($AH$1:$AH$1999=\"\")), ROW(A1780)))&\"\"","v":""},"","","","","","","","","","","","","","","","","","","","","","","","","","","","","","","",{"$f":"INDEX(AJ:AJ,SMALL(ROW($AJ$1:$AJ$1999)+(1999*($AJ$1:$AJ$1999=\"\")), ROW(A1780)))&\"\"","v":""},"",{"$f":"INDEX(AK:AK,SMALL(ROW($AK$1:$AK$1999)+(1999*($AK$1:$AK$1999=\"\")), ROW(A1780)))&\"\"","v":""},"","","",null,"",""]
[null,null,null,null,null,null,null,null,null,null,null,null,null,null,null,null,null,null,null,null,null,null,null,null,null,null,null,null,null,null,null,null,{"$f":"INDEX(C:C, SMALL(ROW(C$1:C$5000)+(5000*(C$1:C$5000=\"\")),ROW(A1783)))&\"\"","v":""},"",{"$f":"INDEX(B:B, SMALL(ROW(B$1:B$5000)+(5000*(B$1:B$5000=\"\")),ROW(A1783)))&\"\"","v":""},"","","",null,null,{"$f":"INDEX(AH:AH,SMALL(ROW($AH$1:$AH$1999)+(1999*($AH$1:$AH$1999=\"\")), ROW(A1783)))&\"\"","v":""},"","","","","","","","","","","","","","","","","","","","","","","","","","","","","","","",{"$f":"INDEX(AJ:AJ,SMALL(ROW($AJ$1:$AJ$1999)+(1999*($AJ$1:$AJ$1999=\"\")), ROW(A1783)))&\"\"","v":""},"",{"$f":"INDEX(AK:AK,SMALL(ROW($AK$1:$AK$1999)+(1999*($AK$1:$AK$1999=\"\")), ROW(A1783)))&\"\"","v":""},"","","",null,"",""]
[null,null,null,null,null,null,null,null,null,null,null,null,null,null,null,null,null,null,null,null,null,null,null,null,null,null,null,null,null,null,null,null,{"$f":"INDEX(C:C, SMALL(ROW(C$1:C$5000)+(5000*(C$1:C$5000=\"\")),ROW(A1787)))&\"\"","v":""},"",{"$f":"INDEX(B:B, SMALL(ROW(B$1:B$5000)+(5000*(B$1:B$5000=\"\")),ROW(A1787)))&\"\"","v":""},"","","",null,null,{"$f":"INDEX(AH:AH,SMALL(ROW($AH$1:$AH$1999)+(1999*($AH$1:$AH$1999=\"\")), ROW(A1787)))&\"\"","v":""},"","","","","","","","","","","","","","","","","","","","","","","","","","","","","","","",{"$f":"INDEX(AJ:AJ,SMALL(ROW($AJ$1:$AJ$1999)+(1999*($AJ$1:$AJ$1999=\"\")), ROW(A1787)))&\"\"","v":""},"",{"$f":"INDEX(AK:AK,SMALL(ROW($AK$1:$AK$1999)+(1999*($AK$1:$AK$1999=\"\")), ROW(A1787)))&\"\"","v":""},"","","",null,"",""]
[null,null,null,null,null,null,null,null,null,null,null,null,null,null,null,null,null,null,null,null,null,null,null,null,null,null,null,null,null,null,null,null,{"$f":"INDEX(C:C, SMALL(ROW(C$1:C$5000)+(5000*(C$1:C$5000=\"\")),ROW(A1789)))&\"\"","v":""},"",{"$f":"INDEX(B:B, SMALL(ROW(B$1:B$5000)+(5000*(B$1:B$5000=\"\")),ROW(A1789)))&\"\"","v":""},"","","",null,null,{"$f":"INDEX(AH:AH,SMALL(ROW($AH$1:$AH$1999)+(1999*($AH$1:$AH$1999=\"\")), ROW(A1789)))&\"\"","v":""},"","","","","","","","","","","","","","","","","","","","","","","","","","","","","","","",{"$f":"INDEX(AJ:AJ,SMALL(ROW($AJ$1:$AJ$1999)+(1999*($AJ$1:$AJ$1999=\"\")), ROW(A1789)))&\"\"","v":""},"",{"$f":"INDEX(AK:AK,SMALL(ROW($AK$1:$AK$1999)+(1999*($AK$1:$AK$1999=\"\")), ROW(A1789)))&\"\"","v":""},"","","",null,"",""]
[null,null,null,null,null,null,null,null,null,null,null,null,null,null,null,null,null,null,null,null,null,null,null,null,null,null,null,null,null,null,null,null,{"$f":"INDEX(C:C, SMALL(ROW(C$1:C$5000)+(5000*(C$1:C$5000=\"\")),ROW(A1790)))&\"\"","v":""},"",{"$f":"INDEX(B:B, SMALL(ROW(B$1:B$5000)+(5000*(B$1:B$5000=\"\")),ROW(A1790)))&\"\"","v":""},"","","",null,null,{"$f":"INDEX(AH:AH,SMALL(ROW($AH$1:$AH$1999)+(1999*($AH$1:$AH$1999=\"\")), ROW(A1790)))&\"\"","v":""},"","","","","","","","","","","","","","","","","","","","","","","","","","","","","","","",{"$f":"INDEX(AJ:AJ,SMALL(ROW($AJ$1:$AJ$1999)+(1999*($AJ$1:$AJ$1999=\"\")), ROW(A1790)))&\"\"","v":""},"",{"$f":"INDEX(AK:AK,SMALL(ROW($AK$1:$AK$1999)+(1999*($AK$1:$AK$1999=\"\")), ROW(A1790)))&\"\"","v":""},"","","",null,"",""]
[null,null,null,null,null,null,null,null,null,null,null,null,null,null,null,null,null,null,null,null,null,null,null,null,null,null,null,null,null,null,null,null,{"$f":"INDEX(C:C, SMALL(ROW(C$1:C$5000)+(5000*(C$1:C$5000=\"\")),ROW(A1793)))&\"\"","v":""},{"$f":"IF(ISNUMBER(SEARCH(\"*,*\",AG1793)),AG1793,\"\")","v":""},{"$f":"INDEX(B:B, SMALL(ROW(B$1:B$5000)+(5000*(B$1:B$5000=\"\")),ROW(A1793)))&\"\"","v":""},"","",{"$f":"IF(ISNUMBER(SEARCH(\"*Round*\",AI1793)),AI1793,\"\")","v":""},null,null,{"$f":"INDEX(AH:AH,SMALL(ROW($AH$1:$AH$1999)+(1999*($AH$1:$AH$1999=\"\")), ROW(A1793)))&\"\"","v":""},"","","","","","","","","","","","","","","","","","","","","","","","","","","","","","","",{"$f":"INDEX(AJ:AJ,SMALL(ROW($AJ$1:$AJ$1999)+(1999*($AJ$1:$AJ$1999=\"\")), ROW(A1793)))&\"\"","v":""},"",{"$f":"INDEX(AK:AK,SMALL(ROW($AK$1:$AK$1999)+(1999*($AK$1:$AK$1999=\"\")), ROW(A1793)))&\"\"","v":""},"","","",null,"",""]
[null,null,null,null,null,null,null,null,null,null,null,null,null,null,null,null,null,null,null,null,null,null,null,null,null,null,null,null,null,null,null,null,{"$f":"INDEX(C:C, SMALL(ROW(C$1:C$5000)+(5000*(C$1:C$5000=\"\")),ROW(A1796)))&\"\"","v":""},"",{"$f":"INDEX(B:B, SMALL(ROW(B$1:B$5000)+(5000*(B$1:B$5000=\"\")),ROW(A1796)))&\"\"","v":""},"","","",null,null,{"$f":"INDEX(AH:AH,SMALL(ROW($AH$1:$AH$1999)+(1999*($AH$1:$AH$1999=\"\")), ROW(A1796)))&\"\"","v":""},"","","","","","","","","","","","","","","","","","","","","","","","","","","","","","","",{"$f":"INDEX(AJ:AJ,SMALL(ROW($AJ$1:$AJ$1999)+(1999*($AJ$1:$AJ$1999=\"\")), ROW(A1796)))&\"\"","v":""},"",{"$f":"INDEX(AK:AK,SMALL(ROW($AK$1:$AK$1999)+(1999*($AK$1:$AK$1999=\"\")), ROW(A1796)))&\"\"","v":""},"","","",null,"",""]
[null,null,null,null,null,null,null,null,null,null,null,null,null,null,null,null,null,null,null,null,null,null,null,null,null,null,null,null,null,null,null,null,{"$f":"INDEX(C:C, SMALL(ROW(C$1:C$5000)+(5000*(C$1:C$5000=\"\")),ROW(A1800)))&\"\"","v":""},"",{"$f":"INDEX(B:B, SMALL(ROW(B$1:B$5000)+(5000*(B$1:B$5000=\"\")),ROW(A1800)))&\"\"","v":""},"","","",null,null,{"$f":"INDEX(AH:AH,SMALL(ROW($AH$1:$AH$1999)+(1999*($AH$1:$AH$1999=\"\")), ROW(A1800)))&\"\"","v":""},"","","","","","","","","","","","","","","","","","","","","","","","","","","","","","","",{"$f":"INDEX(AJ:AJ,SMALL(ROW($AJ$1:$AJ$1999)+(1999*($AJ$1:$AJ$1999=\"\")), ROW(A1800)))&\"\"","v":""},"",{"$f":"INDEX(AK:AK,SMALL(ROW($AK$1:$AK$1999)+(1999*($AK$1:$AK$1999=\"\")), ROW(A1800)))&\"\"","v":""},"","","",null,"",""]
[null,null,null,null,null,null,null,null,null,null,null,null,null,null,null,null,null,null,null,null,null,null,null,null,null,null,null,null,null,null,null,null,{"$f":"INDEX(C:C, SMALL(ROW(C$1:C$5000)+(5000*(C$1:C$5000=\"\")),ROW(A1802)))&\"\"","v":""},"",{"$f":"INDEX(B:B, SMALL(ROW(B$1:B$5000)+(5000*(B$1:B$5000=\"\")),ROW(A1802)))&\"\"","v":""},"","","",null,null,{"$f":"INDEX(AH:AH,SMALL(ROW($AH$1:$AH$1999)+(1999*($AH$1:$AH$1999=\"\")), ROW(A1802)))&\"\"","v":""},"","","","","","","","","","","","","","","","","","","","","","","","","","","","","","","",{"$f":"INDEX(AJ:AJ,SMALL(ROW($AJ$1:$AJ$1999)+(1999*($AJ$1:$AJ$1999=\"\")), ROW(A1802)))&\"\"","v":""},"",{"$f":"INDEX(AK:AK,SMALL(ROW($AK$1:$AK$1999)+(1999*($AK$1:$AK$1999=\"\")), ROW(A1802)))&\"\"","v":""},"","","",null,"",""]
[null,null,null,null,null,null,null,null,null,null,null,null,null,null,null,null,null,null,null,null,null,null,null,null,null,null,null,null,null,null,null,null,{"$f":"INDEX(C:C, SMALL(ROW(C$1:C$5000)+(5000*(C$1:C$5000=\"\")),ROW(A1806)))&\"\"","v":""},"",{"$f":"INDEX(B:B, SMALL(ROW(B$1:B$5000)+(5000*(B$1:B$5000=\"\")),ROW(A1806)))&\"\"","v":""},"","","",null,null,{"$f":"INDEX(AH:AH,SMALL(ROW($AH$1:$AH$1999)+(1999*($AH$1:$AH$1999=\"\")), ROW(A1806)))&\"\"","v":""},"","","","","","","","","","","","","","","","","","","","","","","","","","","","","","","",{"$f":"INDEX(AJ:AJ,SMALL(ROW($AJ$1:$AJ$1999)+(1999*($AJ$1:$AJ$1999=\"\")), ROW(A1806)))&\"\"","v":""},"",{"$f":"INDEX(AK:AK,SMALL(ROW($AK$1:$AK$1999)+(1999*($AK$1:$AK$1999=\"\")), ROW(A1806)))&\"\"","v":""},"","","",null,"",""]
[null,null,null,null,null,null,null,null,null,null,null,null,null,null,null,null,null,null,null,null,null,null,null,null,null,null,null,null,null,null,null,null,{"$f":"INDEX(C:C, SMALL(ROW(C$1:C$5000)+(5000*(C$1:C$5000=\"\")),ROW(A1809)))&\"\"","v":""},"",{"$f":"INDEX(B:B, SMALL(ROW(B$1:B$5000)+(5000*(B$1:B$5000=\"\")),ROW(A1809)))&\"\"","v":""},"","","",null,null,{"$f":"INDEX(AH:AH,SMALL(ROW($AH$1:$AH$1999)+(1999*($AH$1:$AH$1999=\"\")), ROW(A1809)))&\"\"","v":""},"","","","","","","","","","","","","","","","","","","","","","","","","","","","","","","",{"$f":"INDEX(AJ:AJ,SMALL(ROW($AJ$1:$AJ$1999)+(1999*($AJ$1:$AJ$1999=\"\")), ROW(A1809)))&\"\"","v":""},"",{"$f":"INDEX(AK:AK,SMALL(ROW($AK$1:$AK$1999)+(1999*($AK$1:$AK$1999=\"\")), ROW(A1809)))&\"\"","v":""},"","","",null,"",""]
[null,null,null,null,null,null,null,null,null,null,null,null,null,null,null,null,null,null,null,null,null,null,null,null,null,null,null,null,null,null,null,null,{"$f":"INDEX(C:C, SMALL(ROW(C$1:C$5000)+(5000*(C$1:C$5000=\"\")),ROW(A1811)))&\"\"","v":""},"",{"$f":"INDEX(B:B, SMALL(ROW(B$1:B$5000)+(5000*(B$1:B$5000=\"\")),ROW(A1811)))&\"\"","v":""},"","","",null,null,{"$f":"INDEX(AH:AH,SMALL(ROW($AH$1:$AH$1999)+(1999*($AH$1:$AH$1999=\"\")), ROW(A1811)))&\"\"","v":""},"","","","","","","","","","","","","","","","","","","","","","","","","","","","","","","",{"$f":"INDEX(AJ:AJ,SMALL(ROW($AJ$1:$AJ$1999)+(1999*($AJ$1:$AJ$1999=\"\")), ROW(A1811)))&\"\"","v":""},"",{"$f":"INDEX(AK:AK,SMALL(ROW($AK$1:$AK$1999)+(1999*($AK$1:$AK$1999=\"\")), ROW(A1811)))&\"\"","v":""},"","","",null,"",""]
[null,null,null,null,null,null,null,null,null,null,null,null,null,null,null,null,null,null,null,null,null,null,null,null,null,null,null,null,null,null,null,null,{"$f":"INDEX(C:C, SMALL(ROW(C$1:C$5000)+(5000*(C$1:C$5000=\"\")),ROW(A1812)))&\"\"","v":""},"",{"$f":"INDEX(B:B, SMALL(ROW(B$1:B$5000)+(5000*(B$1:B$5000=\"\")),ROW(A1812)))&\"\"","v":""},"","","",null,null,{"$f":"INDEX(AH:AH,SMALL(ROW($AH$1:$AH$1999)+(1999*($AH$1:$AH$1999=\"\")), ROW(A1812)))&\"\"","v":""},"","","","","","","","","","","","","","","","","","","","","","","","","","","","","","","",{"$f":"INDEX(AJ:AJ,SMALL(ROW($AJ$1:$AJ$1999)+(1999*($AJ$1:$AJ$1999=\"\")), ROW(A1812)))&\"\"","v":""},"",{"$f":"INDEX(AK:AK,SMALL(ROW($AK$1:$AK$1999)+(1999*($AK$1:$AK$1999=\"\")), ROW(A1812)))&\"\"","v":""},"","","",null,"",""]
[null,null,null,null,null,null,null,null,null,null,null,null,null,null,null,null,null,null,null,null,null,null,null,null,null,null,null,null,null,null,null,null,{"$f":"INDEX(C:C, SMALL(ROW(C$1:C$5000)+(5000*(C$1:C$5000=\"\")),ROW(A1815)))&\"\"","v":""},"",{"$f":"INDEX(B:B, SMALL(ROW(B$1:B$5000)+(5000*(B$1:B$5000=\"\")),ROW(A1815)))&\"\"","v":""},"","","",null,null,{"$f":"INDEX(AH:AH,SMALL(ROW($AH$1:$AH$1999)+(1999*($AH$1:$AH$1999=\"\")), ROW(A1815)))&\"\"","v":""},"","","","","","","","","","","","","","","","","","","","","","","","","","","","","","","",{"$f":"INDEX(AJ:AJ,SMALL(ROW($AJ$1:$AJ$1999)+(1999*($AJ$1:$AJ$1999=\"\")), ROW(A1815)))&\"\"","v":""},"",{"$f":"INDEX(AK:AK,SMALL(ROW($AK$1:$AK$1999)+(1999*($AK$1:$AK$1999=\"\")), ROW(A1815)))&\"\"","v":""},"","","",null,"",""]
[null,null,null,null,null,null,null,null,null,null,null,null,null,null,null,null,null,null,null,null,null,null,null,null,null,null,null,null,null,null,null,null,{"$f":"INDEX(C:C, SMALL(ROW(C$1:C$5000)+(5000*(C$1:C$5000=\"\")),ROW(A1818)))&\"\"","v":""},"",{"$f":"INDEX(B:B, SMALL(ROW(B$1:B$5000)+(5000*(B$1:B$5000=\"\")),ROW(A1818)))&\"\"","v":""},"","","",null,null,{"$f":"INDEX(AH:AH,SMALL(ROW($AH$1:$AH$1999)+(1999*($AH$1:$AH$1999=\"\")), ROW(A1818)))&\"\"","v":""},"","","","","","","","","","","","","","","","","","","","","","","","","","","","","","","",{"$f":"INDEX(AJ:AJ,SMALL(ROW($AJ$1:$AJ$1999)+(1999*($AJ$1:$AJ$1999=\"\")), ROW(A1818)))&\"\"","v":""},"",{"$f":"INDEX(AK:AK,SMALL(ROW($AK$1:$AK$1999)+(1999*($AK$1:$AK$1999=\"\")), ROW(A1818)))&\"\"","v":""},"","","",null,"",""]
[null,null,null,null,null,null,null,null,null,null,null,null,null,null,null,null,null,null,null,null,null,null,null,null,null,null,null,null,null,null,null,null,{"$f":"INDEX(C:C, SMALL(ROW(C$1:C$5000)+(5000*(C$1:C$5000=\"\")),ROW(A1822)))&\"\"","v":""},"",{"$f":"INDEX(B:B, SMALL(ROW(B$1:B$5000)+(5000*(B$1:B$5000=\"\")),ROW(A1822)))&\"\"","v":""},"","","",null,null,{"$f":"INDEX(AH:AH,SMALL(ROW($AH$1:$AH$1999)+(1999*($AH$1:$AH$1999=\"\")), ROW(A1822)))&\"\"","v":""},"","","","","","","","","","","",{"$f":"IFERROR(IF(ISNUMBER(SEARCH(\"*TE*\",AZ1822)),BV1822,\"\"),VALUE(0))","v":""},"","","","","","","","","","","","","","","","","","","",{"$f":"INDEX(AJ:AJ,SMALL(ROW($AJ$1:$AJ$1999)+(1999*($AJ$1:$AJ$1999=\"\")), ROW(A1822)))&\"\"","v":""},"",{"$f":"INDEX(AK:AK,SMALL(ROW($AK$1:$AK$1999)+(1999*($AK$1:$AK$1999=\"\")), ROW(A1822)))&\"\"","v":""},"","","",null,"",""]
[null,null,null,null,null,null,null,null,null,null,null,null,null,null,null,null,null,null,null,null,null,null,null,null,null,null,null,null,null,null,null,null,{"$f":"INDEX(C:C, SMALL(ROW(C$1:C$5000)+(5000*(C$1:C$5000=\"\")),ROW(A1824)))&\"\"","v":""},"",{"$f":"INDEX(B:B, SMALL(ROW(B$1:B$5000)+(5000*(B$1:B$5000=\"\")),ROW(A1824)))&\"\"","v":""},"","","",null,null,{"$f":"INDEX(AH:AH,SMALL(ROW($AH$1:$AH$1999)+(1999*($AH$1:$AH$1999=\"\")), ROW(A1824)))&\"\"","v":""},"","","","","","","","","","","","","","","","","","","","","","","","","","","","","","","",{"$f":"INDEX(AJ:AJ,SMALL(ROW($AJ$1:$AJ$1999)+(1999*($AJ$1:$AJ$1999=\"\")), ROW(A1824)))&\"\"","v":""},"",{"$f":"INDEX(AK:AK,SMALL(ROW($AK$1:$AK$1999)+(1999*($AK$1:$AK$1999=\"\")), ROW(A1824)))&\"\"","v":""},"","","",null,"",""]
[null,null,null,null,null,null,null,null,null,null,null,null,null,null,null,null,null,null,null,null,null,null,null,null,null,null,null,null,null,null,null,null,{"$f":"INDEX(C:C, SMALL(ROW(C$1:C$5000)+(5000*(C$1:C$5000=\"\")),ROW(A1828)))&\"\"","v":""},"",{"$f":"INDEX(B:B, SMALL(ROW(B$1:B$5000)+(5000*(B$1:B$5000=\"\")),ROW(A1828)))&\"\"","v":""},"","","",null,null,{"$f":"INDEX(AH:AH,SMALL(ROW($AH$1:$AH$1999)+(1999*($AH$1:$AH$1999=\"\")), ROW(A1828)))&\"\"","v":""},"","","","","","","","","","","","","","","","","","","","","","","","","","","","","","","",{"$f":"INDEX(AJ:AJ,SMALL(ROW($AJ$1:$AJ$1999)+(1999*($AJ$1:$AJ$1999=\"\")), ROW(A1828)))&\"\"","v":""},"",{"$f":"INDEX(AK:AK,SMALL(ROW($AK$1:$AK$1999)+(1999*($AK$1:$AK$1999=\"\")), ROW(A1828)))&\"\"","v":""},"","","",null,"",""]
[null,null,null,null,null,null,null,null,null,null,null,null,null,null,null,null,null,null,null,null,null,null,null,null,null,null,null,null,null,null,null,null,{"$f":"INDEX(C:C, SMALL(ROW(C$1:C$5000)+(5000*(C$1:C$5000=\"\")),ROW(A1831)))&\"\"","v":""},"",{"$f":"INDEX(B:B, SMALL(ROW(B$1:B$5000)+(5000*(B$1:B$5000=\"\")),ROW(A1831)))&\"\"","v":""},"","","",null,null,{"$f":"INDEX(AH:AH,SMALL(ROW($AH$1:$AH$1999)+(1999*($AH$1:$AH$1999=\"\")), ROW(A1831)))&\"\"","v":""},"","","","","","","","","","","","","","","","","","","","","","","","","","","","","","","",{"$f":"INDEX(AJ:AJ,SMALL(ROW($AJ$1:$AJ$1999)+(1999*($AJ$1:$AJ$1999=\"\")), ROW(A1831)))&\"\"","v":""},"",{"$f":"INDEX(AK:AK,SMALL(ROW($AK$1:$AK$1999)+(1999*($AK$1:$AK$1999=\"\")), ROW(A1831)))&\"\"","v":""},"","","",null,"",""]
[null,null,null,null,null,null,null,null,null,null,null,null,null,null,null,null,null,null,null,null,null,null,null,null,null,null,null,null,null,null,null,null,{"$f":"INDEX(C:C, SMALL(ROW(C$1:C$5000)+(5000*(C$1:C$5000=\"\")),ROW(A1833)))&\"\"","v":""},"",{"$f":"INDEX(B:B, SMALL(ROW(B$1:B$5000)+(5000*(B$1:B$5000=\"\")),ROW(A1833)))&\"\"","v":""},"","","",null,null,{"$f":"INDEX(AH:AH,SMALL(ROW($AH$1:$AH$1999)+(1999*($AH$1:$AH$1999=\"\")), ROW(A1833)))&\"\"","v":""},"","","","","","","","","","","","","","","","","","","","","","","","","","","","","","","",{"$f":"INDEX(AJ:AJ,SMALL(ROW($AJ$1:$AJ$1999)+(1999*($AJ$1:$AJ$1999=\"\")), ROW(A1833)))&\"\"","v":""},"",{"$f":"INDEX(AK:AK,SMALL(ROW($AK$1:$AK$1999)+(1999*($AK$1:$AK$1999=\"\")), ROW(A1833)))&\"\"","v":""},"","","",null,"",""]
[null,null,null,null,null,null,null,null,null,null,null,null,null,null,null,null,null,null,null,null,null,null,null,null,null,null,null,null,null,null,null,null,{"$f":"INDEX(C:C, SMALL(ROW(C$1:C$5000)+(5000*(C$1:C$5000=\"\")),ROW(A1834)))&\"\"","v":""},"",{"$f":"INDEX(B:B, SMALL(ROW(B$1:B$5000)+(5000*(B$1:B$5000=\"\")),ROW(A1834)))&\"\"","v":""},"","","",null,null,{"$f":"INDEX(AH:AH,SMALL(ROW($AH$1:$AH$1999)+(1999*($AH$1:$AH$1999=\"\")), ROW(A1834)))&\"\"","v":""},"","","","","","","","","","","","","","","","","","","","","","","","","","","","","","","",{"$f":"INDEX(AJ:AJ,SMALL(ROW($AJ$1:$AJ$1999)+(1999*($AJ$1:$AJ$1999=\"\")), ROW(A1834)))&\"\"","v":""},"",{"$f":"INDEX(AK:AK,SMALL(ROW($AK$1:$AK$1999)+(1999*($AK$1:$AK$1999=\"\")), ROW(A1834)))&\"\"","v":""},"","","",null,"",""]
[null,null,null,null,null,null,null,null,null,null,null,null,null,null,null,null,null,null,null,null,null,null,null,null,null,null,null,null,null,null,null,null,{"$f":"INDEX(C:C, SMALL(ROW(C$1:C$5000)+(5000*(C$1:C$5000=\"\")),ROW(A1837)))&\"\"","v":""},"",{"$f":"INDEX(B:B, SMALL(ROW(B$1:B$5000)+(5000*(B$1:B$5000=\"\")),ROW(A1837)))&\"\"","v":""},"","","",null,null,{"$f":"INDEX(AH:AH,SMALL(ROW($AH$1:$AH$1999)+(1999*($AH$1:$AH$1999=\"\")), ROW(A1837)))&\"\"","v":""},"","","","","","","","","","","","","","","","","","","","","","","","","","","","","","","",{"$f":"INDEX(AJ:AJ,SMALL(ROW($AJ$1:$AJ$1999)+(1999*($AJ$1:$AJ$1999=\"\")), ROW(A1837)))&\"\"","v":""},"",{"$f":"INDEX(AK:AK,SMALL(ROW($AK$1:$AK$1999)+(1999*($AK$1:$AK$1999=\"\")), ROW(A1837)))&\"\"","v":""},"","","",null,"",""]
[null,null,null,null,null,null,null,null,null,null,null,null,null,null,null,null,null,null,null,null,null,null,null,null,null,null,null,null,null,null,null,null,{"$f":"INDEX(C:C, SMALL(ROW(C$1:C$5000)+(5000*(C$1:C$5000=\"\")),ROW(A1841)))&\"\"","v":""},"",{"$f":"INDEX(B:B, SMALL(ROW(B$1:B$5000)+(5000*(B$1:B$5000=\"\")),ROW(A1841)))&\"\"","v":""},"","","",null,null,{"$f":"INDEX(AH:AH,SMALL(ROW($AH$1:$AH$1999)+(1999*($AH$1:$AH$1999=\"\")), ROW(A1841)))&\"\"","v":""},"","","","","","","","","","","","","","","","","","","","","","","","","","","","","","","",{"$f":"INDEX(AJ:AJ,SMALL(ROW($AJ$1:$AJ$1999)+(1999*($AJ$1:$AJ$1999=\"\")), ROW(A1841)))&\"\"","v":""},"",{"$f":"INDEX(AK:AK,SMALL(ROW($AK$1:$AK$1999)+(1999*($AK$1:$AK$1999=\"\")), ROW(A1841)))&\"\"","v":""},"","","",null,"",""]
[null,null,null,null,null,null,null,null,null,null,null,null,null,null,null,null,null,null,null,null,null,null,null,null,null,null,null,null,null,null,null,null,{"$f":"INDEX(C:C, SMALL(ROW(C$1:C$5000)+(5000*(C$1:C$5000=\"\")),ROW(A1844)))&\"\"","v":""},"",{"$f":"INDEX(B:B, SMALL(ROW(B$1:B$5000)+(5000*(B$1:B$5000=\"\")),ROW(A1844)))&\"\"","v":""},"","","",null,null,{"$f":"INDEX(AH:AH,SMALL(ROW($AH$1:$AH$1999)+(1999*($AH$1:$AH$1999=\"\")), ROW(A1844)))&\"\"","v":""},"","","","","","","","","","","","","","","","","","","","","","","","","","","","","","","",{"$f":"INDEX(AJ:AJ,SMALL(ROW($AJ$1:$AJ$1999)+(1999*($AJ$1:$AJ$1999=\"\")), ROW(A1844)))&\"\"","v":""},"",{"$f":"INDEX(AK:AK,SMALL(ROW($AK$1:$AK$1999)+(1999*($AK$1:$AK$1999=\"\")), ROW(A1844)))&\"\"","v":""},"","","",null,"",""]
[null,null,null,null,null,null,null,null,null,null,null,null,null,null,null,null,null,null,null,null,null,null,null,null,null,null,null,null,null,null,null,null,{"$f":"INDEX(C:C, SMALL(ROW(C$1:C$5000)+(5000*(C$1:C$5000=\"\")),ROW(A1846)))&\"\"","v":""},"",{"$f":"INDEX(B:B, SMALL(ROW(B$1:B$5000)+(5000*(B$1:B$5000=\"\")),ROW(A1846)))&\"\"","v":""},"","","",null,null,{"$f":"INDEX(AH:AH,SMALL(ROW($AH$1:$AH$1999)+(1999*($AH$1:$AH$1999=\"\")), ROW(A1846)))&\"\"","v":""},"","","","","","","","","","","","","","","","","","","","","","","","","","","","","","","",{"$f":"INDEX(AJ:AJ,SMALL(ROW($AJ$1:$AJ$1999)+(1999*($AJ$1:$AJ$1999=\"\")), ROW(A1846)))&\"\"","v":""},"",{"$f":"INDEX(AK:AK,SMALL(ROW($AK$1:$AK$1999)+(1999*($AK$1:$AK$1999=\"\")), ROW(A1846)))&\"\"","v":""},"","","",null,"",""]
[null,null,null,null,null,null,null,null,null,null,null,null,null,null,null,null,null,null,null,null,null,null,null,null,null,null,null,null,null,null,null,null,{"$f":"INDEX(C:C, SMALL(ROW(C$1:C$5000)+(5000*(C$1:C$5000=\"\")),ROW(A1850)))&\"\"","v":""},"",{"$f":"INDEX(B:B, SMALL(ROW(B$1:B$5000)+(5000*(B$1:B$5000=\"\")),ROW(A1850)))&\"\"","v":""},"","","",null,null,{"$f":"INDEX(AH:AH,SMALL(ROW($AH$1:$AH$1999)+(1999*($AH$1:$AH$1999=\"\")), ROW(A1850)))&\"\"","v":""},"","","","","","","","","","","","","","","","","","","","","","","","","","","","","","","",{"$f":"INDEX(AJ:AJ,SMALL(ROW($AJ$1:$AJ$1999)+(1999*($AJ$1:$AJ$1999=\"\")), ROW(A1850)))&\"\"","v":""},"",{"$f":"INDEX(AK:AK,SMALL(ROW($AK$1:$AK$1999)+(1999*($AK$1:$AK$1999=\"\")), ROW(A1850)))&\"\"","v":""},"","","",null,"",""]
[null,null,null,null,null,null,null,null,null,null,null,null,null,null,null,null,null,null,null,null,null,null,null,null,null,null,null,null,null,null,null,null,{"$f":"INDEX(C:C, SMALL(ROW(C$1:C$5000)+(5000*(C$1:C$5000=\"\")),ROW(A1853)))&\"\"","v":""},"",{"$f":"INDEX(B:B, SMALL(ROW(B$1:B$5000)+(5000*(B$1:B$5000=\"\")),ROW(A1853)))&\"\"","v":""},"","","",null,null,{"$f":"INDEX(AH:AH,SMALL(ROW($AH$1:$AH$1999)+(1999*($AH$1:$AH$1999=\"\")), ROW(A1853)))&\"\"","v":""},"","","","","","","","","","","","","","","","","","","","","","","","","","","","","","","",{"$f":"INDEX(AJ:AJ,SMALL(ROW($AJ$1:$AJ$1999)+(1999*($AJ$1:$AJ$1999=\"\")), ROW(A1853)))&\"\"","v":""},"",{"$f":"INDEX(AK:AK,SMALL(ROW($AK$1:$AK$1999)+(1999*($AK$1:$AK$1999=\"\")), ROW(A1853)))&\"\"","v":""},"","","",null,"",""]
[null,null,null,null,null,null,null,null,null,null,null,null,null,null,null,null,null,null,null,null,null,null,null,null,null,null,null,null,null,null,null,null,{"$f":"INDEX(C:C, SMALL(ROW(C$1:C$5000)+(5000*(C$1:C$5000=\"\")),ROW(A1855)))&\"\"","v":""},"",{"$f":"INDEX(B:B, SMALL(ROW(B$1:B$5000)+(5000*(B$1:B$5000=\"\")),ROW(A1855)))&\"\"","v":""},"","","",null,null,{"$f":"INDEX(AH:AH,SMALL(ROW($AH$1:$AH$1999)+(1999*($AH$1:$AH$1999=\"\")), ROW(A1855)))&\"\"","v":""},"","","","","","","","","","","","","","","","","","","","","","","","","","","","","","","",{"$f":"INDEX(AJ:AJ,SMALL(ROW($AJ$1:$AJ$1999)+(1999*($AJ$1:$AJ$1999=\"\")), ROW(A1855)))&\"\"","v":""},"",{"$f":"INDEX(AK:AK,SMALL(ROW($AK$1:$AK$1999)+(1999*($AK$1:$AK$1999=\"\")), ROW(A1855)))&\"\"","v":""},"","","",null,"",""]
[null,null,null,null,null,null,null,null,null,null,null,null,null,null,null,null,null,null,null,null,null,null,null,null,null,null,null,null,null,null,null,null,{"$f":"INDEX(C:C, SMALL(ROW(C$1:C$5000)+(5000*(C$1:C$5000=\"\")),ROW(A1856)))&\"\"","v":""},"",{"$f":"INDEX(B:B, SMALL(ROW(B$1:B$5000)+(5000*(B$1:B$5000=\"\")),ROW(A1856)))&\"\"","v":""},"","","",null,null,{"$f":"INDEX(AH:AH,SMALL(ROW($AH$1:$AH$1999)+(1999*($AH$1:$AH$1999=\"\")), ROW(A1856)))&\"\"","v":""},"","","","","","","","","","","","","","","","","","","","","","","","","","","","","","","",{"$f":"INDEX(AJ:AJ,SMALL(ROW($AJ$1:$AJ$1999)+(1999*($AJ$1:$AJ$1999=\"\")), ROW(A1856)))&\"\"","v":""},"",{"$f":"INDEX(AK:AK,SMALL(ROW($AK$1:$AK$1999)+(1999*($AK$1:$AK$1999=\"\")), ROW(A1856)))&\"\"","v":""},"","","",null,"",""]
[null,null,null,null,null,null,null,null,null,null,null,null,null,null,null,null,null,null,null,null,null,null,null,null,null,null,null,null,null,null,null,null,{"$f":"INDEX(C:C, SMALL(ROW(C$1:C$5000)+(5000*(C$1:C$5000=\"\")),ROW(A1859)))&\"\"","v":""},"",{"$f":"INDEX(B:B, SMALL(ROW(B$1:B$5000)+(5000*(B$1:B$5000=\"\")),ROW(A1859)))&\"\"","v":""},"","","",null,null,{"$f":"INDEX(AH:AH,SMALL(ROW($AH$1:$AH$1999)+(1999*($AH$1:$AH$1999=\"\")), ROW(A1859)))&\"\"","v":""},"","","","","","","","","","","","","","","","","","","","","","","","","","","","","","","",{"$f":"INDEX(AJ:AJ,SMALL(ROW($AJ$1:$AJ$1999)+(1999*($AJ$1:$AJ$1999=\"\")), ROW(A1859)))&\"\"","v":""},"",{"$f":"INDEX(AK:AK,SMALL(ROW($AK$1:$AK$1999)+(1999*($AK$1:$AK$1999=\"\")), ROW(A1859)))&\"\"","v":""},"","","",null,"",""]
[null,null,null,null,null,null,null,null,null,null,null,null,null,null,null,null,null,null,null,null,null,null,null,null,null,null,null,null,null,null,null,null,{"$f":"INDEX(C:C, SMALL(ROW(C$1:C$5000)+(5000*(C$1:C$5000=\"\")),ROW(A1863)))&\"\"","v":""},"",{"$f":"INDEX(B:B, SMALL(ROW(B$1:B$5000)+(5000*(B$1:B$5000=\"\")),ROW(A1863)))&\"\"","v":""},"","","",null,null,{"$f":"INDEX(AH:AH,SMALL(ROW($AH$1:$AH$1999)+(1999*($AH$1:$AH$1999=\"\")), ROW(A1863)))&\"\"","v":""},"","","","","","","","","","","","","","","","","","","","","","","","","","","","","","","",{"$f":"INDEX(AJ:AJ,SMALL(ROW($AJ$1:$AJ$1999)+(1999*($AJ$1:$AJ$1999=\"\")), ROW(A1863)))&\"\"","v":""},"",{"$f":"INDEX(AK:AK,SMALL(ROW($AK$1:$AK$1999)+(1999*($AK$1:$AK$1999=\"\")), ROW(A1863)))&\"\"","v":""},"","","",null,"",""]
[null,null,null,null,null,null,null,null,null,null,null,null,null,null,null,null,null,null,null,null,null,null,null,null,null,null,null,null,null,null,null,null,{"$f":"INDEX(C:C, SMALL(ROW(C$1:C$5000)+(5000*(C$1:C$5000=\"\")),ROW(A1866)))&\"\"","v":""},"",{"$f":"INDEX(B:B, SMALL(ROW(B$1:B$5000)+(5000*(B$1:B$5000=\"\")),ROW(A1866)))&\"\"","v":""},"","","",null,null,{"$f":"INDEX(AH:AH,SMALL(ROW($AH$1:$AH$1999)+(1999*($AH$1:$AH$1999=\"\")), ROW(A1866)))&\"\"","v":""},"","","","","","","","","","","","","","","","","","","","","","","","","","","","","","","",{"$f":"INDEX(AJ:AJ,SMALL(ROW($AJ$1:$AJ$1999)+(1999*($AJ$1:$AJ$1999=\"\")), ROW(A1866)))&\"\"","v":""},"",{"$f":"INDEX(AK:AK,SMALL(ROW($AK$1:$AK$1999)+(1999*($AK$1:$AK$1999=\"\")), ROW(A1866)))&\"\"","v":""},"","","",null,"",""]
[null,null,null,null,null,null,null,null,null,null,null,null,null,null,null,null,null,null,null,null,null,null,null,null,null,null,null,null,null,null,null,null,{"$f":"INDEX(C:C, SMALL(ROW(C$1:C$5000)+(5000*(C$1:C$5000=\"\")),ROW(A1868)))&\"\"","v":""},"",{"$f":"INDEX(B:B, SMALL(ROW(B$1:B$5000)+(5000*(B$1:B$5000=\"\")),ROW(A1868)))&\"\"","v":""},"","","",null,null,{"$f":"INDEX(AH:AH,SMALL(ROW($AH$1:$AH$1999)+(1999*($AH$1:$AH$1999=\"\")), ROW(A1868)))&\"\"","v":""},"","","","","","","","","","","","","","","","","","","","","","","","","","","","","","","",{"$f":"INDEX(AJ:AJ,SMALL(ROW($AJ$1:$AJ$1999)+(1999*($AJ$1:$AJ$1999=\"\")), ROW(A1868)))&\"\"","v":""},"",{"$f":"INDEX(AK:AK,SMALL(ROW($AK$1:$AK$1999)+(1999*($AK$1:$AK$1999=\"\")), ROW(A1868)))&\"\"","v":""},"","","",null,"",""]
[null,null,null,null,null,null,null,null,null,null,null,null,null,null,null,null,null,null,null,null,null,null,null,null,null,null,null,null,null,null,null,null,{"$f":"INDEX(C:C, SMALL(ROW(C$1:C$5000)+(5000*(C$1:C$5000=\"\")),ROW(A1872)))&\"\"","v":""},"",{"$f":"INDEX(B:B, SMALL(ROW(B$1:B$5000)+(5000*(B$1:B$5000=\"\")),ROW(A1872)))&\"\"","v":""},"","","",null,null,{"$f":"INDEX(AH:AH,SMALL(ROW($AH$1:$AH$1999)+(1999*($AH$1:$AH$1999=\"\")), ROW(A1872)))&\"\"","v":""},"","","","","","","","","","","","","","","","","","","","","","","","","","","","","","","",{"$f":"INDEX(AJ:AJ,SMALL(ROW($AJ$1:$AJ$1999)+(1999*($AJ$1:$AJ$1999=\"\")), ROW(A1872)))&\"\"","v":""},"",{"$f":"INDEX(AK:AK,SMALL(ROW($AK$1:$AK$1999)+(1999*($AK$1:$AK$1999=\"\")), ROW(A1872)))&\"\"","v":""},"","","",null,"",""]
[null,null,null,null,null,null,null,null,null,null,null,null,null,null,null,null,null,null,null,null,null,null,null,null,null,null,null,null,null,null,null,null,{"$f":"INDEX(C:C, SMALL(ROW(C$1:C$5000)+(5000*(C$1:C$5000=\"\")),ROW(A1875)))&\"\"","v":""},"",{"$f":"INDEX(B:B, SMALL(ROW(B$1:B$5000)+(5000*(B$1:B$5000=\"\")),ROW(A1875)))&\"\"","v":""},"","","",null,null,{"$f":"INDEX(AH:AH,SMALL(ROW($AH$1:$AH$1999)+(1999*($AH$1:$AH$1999=\"\")), ROW(A1875)))&\"\"","v":""},"","","","","","","","","","","","","","","","","","","","","","","","","","","","","","","",{"$f":"INDEX(AJ:AJ,SMALL(ROW($AJ$1:$AJ$1999)+(1999*($AJ$1:$AJ$1999=\"\")), ROW(A1875)))&\"\"","v":""},"",{"$f":"INDEX(AK:AK,SMALL(ROW($AK$1:$AK$1999)+(1999*($AK$1:$AK$1999=\"\")), ROW(A1875)))&\"\"","v":""},"","","",null,"",""]
[null,null,null,null,null,null,null,null,null,null,null,null,null,null,null,null,null,null,null,null,null,null,null,null,null,null,null,null,null,null,null,null,{"$f":"INDEX(C:C, SMALL(ROW(C$1:C$5000)+(5000*(C$1:C$5000=\"\")),ROW(A1876)))&\"\"","v":""},"",{"$f":"INDEX(B:B, SMALL(ROW(B$1:B$5000)+(5000*(B$1:B$5000=\"\")),ROW(A1876)))&\"\"","v":""},"","","",null,null,{"$f":"INDEX(AH:AH,SMALL(ROW($AH$1:$AH$1999)+(1999*($AH$1:$AH$1999=\"\")), ROW(A1876)))&\"\"","v":""},"","","","","","","","","","","","","","","","","","","","","","","","","","","","","","","",{"$f":"INDEX(AJ:AJ,SMALL(ROW($AJ$1:$AJ$1999)+(1999*($AJ$1:$AJ$1999=\"\")), ROW(A1876)))&\"\"","v":""},"",{"$f":"INDEX(AK:AK,SMALL(ROW($AK$1:$AK$1999)+(1999*($AK$1:$AK$1999=\"\")), ROW(A1876)))&\"\"","v":""},"","","",null,"",""]
[null,null,null,null,null,null,null,null,null,null,null,null,null,null,null,null,null,null,null,null,null,null,null,null,null,null,null,null,null,null,null,null,{"$f":"INDEX(C:C, SMALL(ROW(C$1:C$5000)+(5000*(C$1:C$5000=\"\")),ROW(A1877)))&\"\"","v":""},"",{"$f":"INDEX(B:B, SMALL(ROW(B$1:B$5000)+(5000*(B$1:B$5000=\"\")),ROW(A1877)))&\"\"","v":""},"","","",null,null,{"$f":"INDEX(AH:AH,SMALL(ROW($AH$1:$AH$1999)+(1999*($AH$1:$AH$1999=\"\")), ROW(A1877)))&\"\"","v":""},"","","","","","","","","","","","","","","","","","","","","","","","","","","","","","","",{"$f":"INDEX(AJ:AJ,SMALL(ROW($AJ$1:$AJ$1999)+(1999*($AJ$1:$AJ$1999=\"\")), ROW(A1877)))&\"\"","v":""},"",{"$f":"INDEX(AK:AK,SMALL(ROW($AK$1:$AK$1999)+(1999*($AK$1:$AK$1999=\"\")), ROW(A1877)))&\"\"","v":""},"","","",null,"",""]
[null,null,null,null,null,null,null,null,null,null,null,null,null,null,null,null,null,null,null,null,null,null,null,null,null,null,null,null,null,null,null,null,{"$f":"INDEX(C:C, SMALL(ROW(C$1:C$5000)+(5000*(C$1:C$5000=\"\")),ROW(A1878)))&\"\"","v":""},"",{"$f":"INDEX(B:B, SMALL(ROW(B$1:B$5000)+(5000*(B$1:B$5000=\"\")),ROW(A1878)))&\"\"","v":""},"","","",null,null,{"$f":"INDEX(AH:AH,SMALL(ROW($AH$1:$AH$1999)+(1999*($AH$1:$AH$1999=\"\")), ROW(A1878)))&\"\"","v":""},"","","","","","","","","","","","","","","","","","","","","","","","","","","","","","","",{"$f":"INDEX(AJ:AJ,SMALL(ROW($AJ$1:$AJ$1999)+(1999*($AJ$1:$AJ$1999=\"\")), ROW(A1878)))&\"\"","v":""},"",{"$f":"INDEX(AK:AK,SMALL(ROW($AK$1:$AK$1999)+(1999*($AK$1:$AK$1999=\"\")), ROW(A1878)))&\"\"","v":""},"","","",null,"",""]
[null,null,null,null,null,null,null,null,null,null,null,null,null,null,null,null,null,null,null,null,null,null,null,null,null,null,null,null,null,null,null,null,{"$f":"INDEX(C:C, SMALL(ROW(C$1:C$5000)+(5000*(C$1:C$5000=\"\")),ROW(A1879)))&\"\"","v":""},"",{"$f":"INDEX(B:B, SMALL(ROW(B$1:B$5000)+(5000*(B$1:B$5000=\"\")),ROW(A1879)))&\"\"","v":""},"","","",null,null,{"$f":"INDEX(AH:AH,SMALL(ROW($AH$1:$AH$1999)+(1999*($AH$1:$AH$1999=\"\")), ROW(A1879)))&\"\"","v":""},"","","","","","","","","","","","","","","","","","","","","","","","","","","","","","","",{"$f":"INDEX(AJ:AJ,SMALL(ROW($AJ$1:$AJ$1999)+(1999*($AJ$1:$AJ$1999=\"\")), ROW(A1879)))&\"\"","v":""},"",{"$f":"INDEX(AK:AK,SMALL(ROW($AK$1:$AK$1999)+(1999*($AK$1:$AK$1999=\"\")), ROW(A1879)))&\"\"","v":""},"","","",null,"",""]
[null,null,null,null,null,null,null,null,null,null,null,null,null,null,null,null,null,null,null,null,null,null,null,null,null,null,null,null,null,null,null,null,{"$f":"INDEX(C:C, SMALL(ROW(C$1:C$5000)+(5000*(C$1:C$5000=\"\")),ROW(A1880)))&\"\"","v":""},"",{"$f":"INDEX(B:B, SMALL(ROW(B$1:B$5000)+(5000*(B$1:B$5000=\"\")),ROW(A1880)))&\"\"","v":""},"","","",null,null,{"$f":"INDEX(AH:AH,SMALL(ROW($AH$1:$AH$1999)+(1999*($AH$1:$AH$1999=\"\")), ROW(A1880)))&\"\"","v":""},"","","","","","","","","","","","","","","","","","","","","","","","","","","","","","","",{"$f":"INDEX(AJ:AJ,SMALL(ROW($AJ$1:$AJ$1999)+(1999*($AJ$1:$AJ$1999=\"\")), ROW(A1880)))&\"\"","v":""},"",{"$f":"INDEX(AK:AK,SMALL(ROW($AK$1:$AK$1999)+(1999*($AK$1:$AK$1999=\"\")), ROW(A1880)))&\"\"","v":""},"","","",null,"",""]
[null,null,null,null,null,null,null,null,null,null,null,null,null,null,null,null,null,null,null,null,null,null,null,null,null,null,null,null,null,null,null,null,{"$f":"INDEX(C:C, SMALL(ROW(C$1:C$5000)+(5000*(C$1:C$5000=\"\")),ROW(A1881)))&\"\"","v":""},"",{"$f":"INDEX(B:B, SMALL(ROW(B$1:B$5000)+(5000*(B$1:B$5000=\"\")),ROW(A1881)))&\"\"","v":""},"","","",null,null,{"$f":"INDEX(AH:AH,SMALL(ROW($AH$1:$AH$1999)+(1999*($AH$1:$AH$1999=\"\")), ROW(A1881)))&\"\"","v":""},"","","","","","","","","","","","","","","","","","","","","","","","","","","","","","","",{"$f":"INDEX(AJ:AJ,SMALL(ROW($AJ$1:$AJ$1999)+(1999*($AJ$1:$AJ$1999=\"\")), ROW(A1881)))&\"\"","v":""},"",{"$f":"INDEX(AK:AK,SMALL(ROW($AK$1:$AK$1999)+(1999*($AK$1:$AK$1999=\"\")), ROW(A1881)))&\"\"","v":""},"","","",null,"",""]
[null,null,null,null,null,null,null,null,null,null,null,null,null,null,null,null,null,null,null,null,null,null,null,null,null,null,null,null,null,null,null,null,{"$f":"INDEX(C:C, SMALL(ROW(C$1:C$5000)+(5000*(C$1:C$5000=\"\")),ROW(A1882)))&\"\"","v":""},"",{"$f":"INDEX(B:B, SMALL(ROW(B$1:B$5000)+(5000*(B$1:B$5000=\"\")),ROW(A1882)))&\"\"","v":""},"","","",null,null,{"$f":"INDEX(AH:AH,SMALL(ROW($AH$1:$AH$1999)+(1999*($AH$1:$AH$1999=\"\")), ROW(A1882)))&\"\"","v":""},"","","","","","","","","","","","","","","","","","","","","","","","","","","","","","","",{"$f":"INDEX(AJ:AJ,SMALL(ROW($AJ$1:$AJ$1999)+(1999*($AJ$1:$AJ$1999=\"\")), ROW(A1882)))&\"\"","v":""},"",{"$f":"INDEX(AK:AK,SMALL(ROW($AK$1:$AK$1999)+(1999*($AK$1:$AK$1999=\"\")), ROW(A1882)))&\"\"","v":""},"","","",null,"",""]
[null,null,null,null,null,null,null,null,null,null,null,null,null,null,null,null,null,null,null,null,null,null,null,null,null,null,null,null,null,null,null,null,{"$f":"INDEX(C:C, SMALL(ROW(C$1:C$5000)+(5000*(C$1:C$5000=\"\")),ROW(A1883)))&\"\"","v":""},"",{"$f":"INDEX(B:B, SMALL(ROW(B$1:B$5000)+(5000*(B$1:B$5000=\"\")),ROW(A1883)))&\"\"","v":""},"","","",null,null,{"$f":"INDEX(AH:AH,SMALL(ROW($AH$1:$AH$1999)+(1999*($AH$1:$AH$1999=\"\")), ROW(A1883)))&\"\"","v":""},"","","","","","","","","","","","","","","","","","","","","","","","","","","","","","","",{"$f":"INDEX(AJ:AJ,SMALL(ROW($AJ$1:$AJ$1999)+(1999*($AJ$1:$AJ$1999=\"\")), ROW(A1883)))&\"\"","v":""},"",{"$f":"INDEX(AK:AK,SMALL(ROW($AK$1:$AK$1999)+(1999*($AK$1:$AK$1999=\"\")), ROW(A1883)))&\"\"","v":""},"","","",null,"",""]
[null,null,null,null,null,null,null,null,null,null,null,null,null,null,null,null,null,null,null,null,null,null,null,null,null,null,null,null,null,null,null,null,{"$f":"INDEX(C:C, SMALL(ROW(C$1:C$5000)+(5000*(C$1:C$5000=\"\")),ROW(A1884)))&\"\"","v":""},"",{"$f":"INDEX(B:B, SMALL(ROW(B$1:B$5000)+(5000*(B$1:B$5000=\"\")),ROW(A1884)))&\"\"","v":""},"","","",null,null,{"$f":"INDEX(AH:AH,SMALL(ROW($AH$1:$AH$1999)+(1999*($AH$1:$AH$1999=\"\")), ROW(A1884)))&\"\"","v":""},"","","","","","","","","","","","","","","","","","","","","","","","","","","","","","","",{"$f":"INDEX(AJ:AJ,SMALL(ROW($AJ$1:$AJ$1999)+(1999*($AJ$1:$AJ$1999=\"\")), ROW(A1884)))&\"\"","v":""},"",{"$f":"INDEX(AK:AK,SMALL(ROW($AK$1:$AK$1999)+(1999*($AK$1:$AK$1999=\"\")), ROW(A1884)))&\"\"","v":""},"","","",null,"",""]
[null,null,null,null,null,null,null,null,null,null,null,null,null,null,null,null,null,null,null,null,null,null,null,null,null,null,null,null,null,null,null,null,{"$f":"INDEX(C:C, SMALL(ROW(C$1:C$5000)+(5000*(C$1:C$5000=\"\")),ROW(A1885)))&\"\"","v":""},"",{"$f":"INDEX(B:B, SMALL(ROW(B$1:B$5000)+(5000*(B$1:B$5000=\"\")),ROW(A1885)))&\"\"","v":""},"","","",null,null,{"$f":"INDEX(AH:AH,SMALL(ROW($AH$1:$AH$1999)+(1999*($AH$1:$AH$1999=\"\")), ROW(A1885)))&\"\"","v":""},"","","","","","","","","","","","","","","","","","","","","","","","","","","","","","","",{"$f":"INDEX(AJ:AJ,SMALL(ROW($AJ$1:$AJ$1999)+(1999*($AJ$1:$AJ$1999=\"\")), ROW(A1885)))&\"\"","v":""},"",{"$f":"INDEX(AK:AK,SMALL(ROW($AK$1:$AK$1999)+(1999*($AK$1:$AK$1999=\"\")), ROW(A1885)))&\"\"","v":""},"","","",null,"",""]
[null,null,null,null,null,null,null,null,null,null,null,null,null,null,null,null,null,null,null,null,null,null,null,null,null,null,null,null,null,null,null,null,{"$f":"INDEX(C:C, SMALL(ROW(C$1:C$5000)+(5000*(C$1:C$5000=\"\")),ROW(A1886)))&\"\"","v":""},"",{"$f":"INDEX(B:B, SMALL(ROW(B$1:B$5000)+(5000*(B$1:B$5000=\"\")),ROW(A1886)))&\"\"","v":""},"","","",null,null,{"$f":"INDEX(AH:AH,SMALL(ROW($AH$1:$AH$1999)+(1999*($AH$1:$AH$1999=\"\")), ROW(A1886)))&\"\"","v":""},"","","","","","","","","","","",{"$f":"IFERROR(IF(ISNUMBER(SEARCH(\"*TE*\",AZ1886)),BV1886,\"\"),VALUE(0))","v":""},"","","","","","","","","","","","","","","","","","","",{"$f":"INDEX(AJ:AJ,SMALL(ROW($AJ$1:$AJ$1999)+(1999*($AJ$1:$AJ$1999=\"\")), ROW(A1886)))&\"\"","v":""},"",{"$f":"INDEX(AK:AK,SMALL(ROW($AK$1:$AK$1999)+(1999*($AK$1:$AK$1999=\"\")), ROW(A1886)))&\"\"","v":""},"","","",null,"",""]
[null,null,null,null,null,null,null,null,null,null,null,null,null,null,null,null,null,null,null,null,null,null,null,null,null,null,null,null,null,null,null,null,{"$f":"INDEX(C:C, SMALL(ROW(C$1:C$5000)+(5000*(C$1:C$5000=\"\")),ROW(A1887)))&\"\"","v":""},"",{"$f":"INDEX(B:B, SMALL(ROW(B$1:B$5000)+(5000*(B$1:B$5000=\"\")),ROW(A1887)))&\"\"","v":""},"","","",null,null,{"$f":"INDEX(AH:AH,SMALL(ROW($AH$1:$AH$1999)+(1999*($AH$1:$AH$1999=\"\")), ROW(A1887)))&\"\"","v":""},"","","","","","","","","","","","","","","","","","","","","","","","","","","","","","","",{"$f":"INDEX(AJ:AJ,SMALL(ROW($AJ$1:$AJ$1999)+(1999*($AJ$1:$AJ$1999=\"\")), ROW(A1887)))&\"\"","v":""},"",{"$f":"INDEX(AK:AK,SMALL(ROW($AK$1:$AK$1999)+(1999*($AK$1:$AK$1999=\"\")), ROW(A1887)))&\"\"","v":""},"","","",null,"",""]
[null,null,null,null,null,null,null,null,null,null,null,null,null,null,null,null,null,null,null,null,null,null,null,null,null,null,null,null,null,null,null,null,{"$f":"INDEX(C:C, SMALL(ROW(C$1:C$5000)+(5000*(C$1:C$5000=\"\")),ROW(A1888)))&\"\"","v":""},"",{"$f":"INDEX(B:B, SMALL(ROW(B$1:B$5000)+(5000*(B$1:B$5000=\"\")),ROW(A1888)))&\"\"","v":""},"","","",null,null,{"$f":"INDEX(AH:AH,SMALL(ROW($AH$1:$AH$1999)+(1999*($AH$1:$AH$1999=\"\")), ROW(A1888)))&\"\"","v":""},"","","","","","","","","","","","","","","","","","","","","","","","","","","","","","","",{"$f":"INDEX(AJ:AJ,SMALL(ROW($AJ$1:$AJ$1999)+(1999*($AJ$1:$AJ$1999=\"\")), ROW(A1888)))&\"\"","v":""},"",{"$f":"INDEX(AK:AK,SMALL(ROW($AK$1:$AK$1999)+(1999*($AK$1:$AK$1999=\"\")), ROW(A1888)))&\"\"","v":""},"","","",null,"",""]
[null,null,null,null,null,null,null,null,null,null,null,null,null,null,null,null,null,null,null,null,null,null,null,null,null,null,null,null,null,null,null,null,{"$f":"INDEX(C:C, SMALL(ROW(C$1:C$5000)+(5000*(C$1:C$5000=\"\")),ROW(A1889)))&\"\"","v":""},"",{"$f":"INDEX(B:B, SMALL(ROW(B$1:B$5000)+(5000*(B$1:B$5000=\"\")),ROW(A1889)))&\"\"","v":""},"","","",null,null,{"$f":"INDEX(AH:AH,SMALL(ROW($AH$1:$AH$1999)+(1999*($AH$1:$AH$1999=\"\")), ROW(A1889)))&\"\"","v":""},"","","","","","","","","","","","","","","","","","","","","","","","","","","","","","","",{"$f":"INDEX(AJ:AJ,SMALL(ROW($AJ$1:$AJ$1999)+(1999*($AJ$1:$AJ$1999=\"\")), ROW(A1889)))&\"\"","v":""},"",{"$f":"INDEX(AK:AK,SMALL(ROW($AK$1:$AK$1999)+(1999*($AK$1:$AK$1999=\"\")), ROW(A1889)))&\"\"","v":""},"","","",null,"",""]
[null,null,null,null,null,null,null,null,null,null,null,null,null,null,null,null,null,null,null,null,null,null,null,null,null,null,null,null,null,null,null,null,{"$f":"INDEX(C:C, SMALL(ROW(C$1:C$5000)+(5000*(C$1:C$5000=\"\")),ROW(A1890)))&\"\"","v":""},"",{"$f":"INDEX(B:B, SMALL(ROW(B$1:B$5000)+(5000*(B$1:B$5000=\"\")),ROW(A1890)))&\"\"","v":""},"","","",null,null,{"$f":"INDEX(AH:AH,SMALL(ROW($AH$1:$AH$1999)+(1999*($AH$1:$AH$1999=\"\")), ROW(A1890)))&\"\"","v":""},"","","","","","","","","","","","","","","","","","","","","","","","","","","","","","","",{"$f":"INDEX(AJ:AJ,SMALL(ROW($AJ$1:$AJ$1999)+(1999*($AJ$1:$AJ$1999=\"\")), ROW(A1890)))&\"\"","v":""},"",{"$f":"INDEX(AK:AK,SMALL(ROW($AK$1:$AK$1999)+(1999*($AK$1:$AK$1999=\"\")), ROW(A1890)))&\"\"","v":""},"","","",null,"",""]
[null,null,null,null,null,null,null,null,null,null,null,null,null,null,null,null,null,null,null,null,null,null,null,null,null,null,null,null,null,null,null,null,{"$f":"INDEX(C:C, SMALL(ROW(C$1:C$5000)+(5000*(C$1:C$5000=\"\")),ROW(A1891)))&\"\"","v":""},"",{"$f":"INDEX(B:B, SMALL(ROW(B$1:B$5000)+(5000*(B$1:B$5000=\"\")),ROW(A1891)))&\"\"","v":""},"","","",null,null,{"$f":"INDEX(AH:AH,SMALL(ROW($AH$1:$AH$1999)+(1999*($AH$1:$AH$1999=\"\")), ROW(A1891)))&\"\"","v":""},"","","","","","","","","","","","","","","","","","","","","","","","","","","","","","","",{"$f":"INDEX(AJ:AJ,SMALL(ROW($AJ$1:$AJ$1999)+(1999*($AJ$1:$AJ$1999=\"\")), ROW(A1891)))&\"\"","v":""},"",{"$f":"INDEX(AK:AK,SMALL(ROW($AK$1:$AK$1999)+(1999*($AK$1:$AK$1999=\"\")), ROW(A1891)))&\"\"","v":""},"","","",null,"",""]
[null,null,null,null,null,null,null,null,null,null,null,null,null,null,null,null,null,null,null,null,null,null,null,null,null,null,null,null,null,null,null,null,{"$f":"INDEX(C:C, SMALL(ROW(C$1:C$5000)+(5000*(C$1:C$5000=\"\")),ROW(A1892)))&\"\"","v":""},"",{"$f":"INDEX(B:B, SMALL(ROW(B$1:B$5000)+(5000*(B$1:B$5000=\"\")),ROW(A1892)))&\"\"","v":""},"","","",null,null,{"$f":"INDEX(AH:AH,SMALL(ROW($AH$1:$AH$1999)+(1999*($AH$1:$AH$1999=\"\")), ROW(A1892)))&\"\"","v":""},"","","","","","","","","","","","","","","","","","","","","","","","","","","","","","","",{"$f":"INDEX(AJ:AJ,SMALL(ROW($AJ$1:$AJ$1999)+(1999*($AJ$1:$AJ$1999=\"\")), ROW(A1892)))&\"\"","v":""},"",{"$f":"INDEX(AK:AK,SMALL(ROW($AK$1:$AK$1999)+(1999*($AK$1:$AK$1999=\"\")), ROW(A1892)))&\"\"","v":""},"","","",null,"",""]
[null,null,null,null,null,null,null,null,null,null,null,null,null,null,null,null,null,null,null,null,null,null,null,null,null,null,null,null,null,null,null,null,{"$f":"INDEX(C:C, SMALL(ROW(C$1:C$5000)+(5000*(C$1:C$5000=\"\")),ROW(A1893)))&\"\"","v":""},"",{"$f":"INDEX(B:B, SMALL(ROW(B$1:B$5000)+(5000*(B$1:B$5000=\"\")),ROW(A1893)))&\"\"","v":""},"","","",null,null,{"$f":"INDEX(AH:AH,SMALL(ROW($AH$1:$AH$1999)+(1999*($AH$1:$AH$1999=\"\")), ROW(A1893)))&\"\"","v":""},"","","","","","","","","","","","","","","","","","","","","","","","","","","","","","","",{"$f":"INDEX(AJ:AJ,SMALL(ROW($AJ$1:$AJ$1999)+(1999*($AJ$1:$AJ$1999=\"\")), ROW(A1893)))&\"\"","v":""},"",{"$f":"INDEX(AK:AK,SMALL(ROW($AK$1:$AK$1999)+(1999*($AK$1:$AK$1999=\"\")), ROW(A1893)))&\"\"","v":""},"","","",null,"",""]
[null,null,null,null,null,null,null,null,null,null,null,null,null,null,null,null,null,null,null,null,null,null,null,null,null,null,null,null,null,null,null,null,{"$f":"INDEX(C:C, SMALL(ROW(C$1:C$5000)+(5000*(C$1:C$5000=\"\")),ROW(A1894)))&\"\"","v":""},"",{"$f":"INDEX(B:B, SMALL(ROW(B$1:B$5000)+(5000*(B$1:B$5000=\"\")),ROW(A1894)))&\"\"","v":""},"","","",null,null,{"$f":"INDEX(AH:AH,SMALL(ROW($AH$1:$AH$1999)+(1999*($AH$1:$AH$1999=\"\")), ROW(A1894)))&\"\"","v":""},"","","","","","","","","","","","","","","","","","","","","","","","","","","","","","","",{"$f":"INDEX(AJ:AJ,SMALL(ROW($AJ$1:$AJ$1999)+(1999*($AJ$1:$AJ$1999=\"\")), ROW(A1894)))&\"\"","v":""},"",{"$f":"INDEX(AK:AK,SMALL(ROW($AK$1:$AK$1999)+(1999*($AK$1:$AK$1999=\"\")), ROW(A1894)))&\"\"","v":""},"","","",null,"",""]
[null,null,null,null,null,null,null,null,null,null,null,null,null,null,null,null,null,null,null,null,null,null,null,null,null,null,null,null,null,null,null,null,{"$f":"INDEX(C:C, SMALL(ROW(C$1:C$5000)+(5000*(C$1:C$5000=\"\")),ROW(A1895)))&\"\"","v":""},"",{"$f":"INDEX(B:B, SMALL(ROW(B$1:B$5000)+(5000*(B$1:B$5000=\"\")),ROW(A1895)))&\"\"","v":""},"","","",null,null,{"$f":"INDEX(AH:AH,SMALL(ROW($AH$1:$AH$1999)+(1999*($AH$1:$AH$1999=\"\")), ROW(A1895)))&\"\"","v":""},"","","","","","","","","","","","","","","","","","","","","","","","","","","","","","","",{"$f":"INDEX(AJ:AJ,SMALL(ROW($AJ$1:$AJ$1999)+(1999*($AJ$1:$AJ$1999=\"\")), ROW(A1895)))&\"\"","v":""},"",{"$f":"INDEX(AK:AK,SMALL(ROW($AK$1:$AK$1999)+(1999*($AK$1:$AK$1999=\"\")), ROW(A1895)))&\"\"","v":""},"","","",null,"",""]
[null,null,null,null,null,null,null,null,null,null,null,null,null,null,null,null,null,null,null,null,null,null,null,null,null,null,null,null,null,null,null,null,{"$f":"INDEX(C:C, SMALL(ROW(C$1:C$5000)+(5000*(C$1:C$5000=\"\")),ROW(A1896)))&\"\"","v":""},"",{"$f":"INDEX(B:B, SMALL(ROW(B$1:B$5000)+(5000*(B$1:B$5000=\"\")),ROW(A1896)))&\"\"","v":""},"","","",null,null,{"$f":"INDEX(AH:AH,SMALL(ROW($AH$1:$AH$1999)+(1999*($AH$1:$AH$1999=\"\")), ROW(A1896)))&\"\"","v":""},"","","","","","","","","","","","","","","","","","","","","","","","","","","","","","","",{"$f":"INDEX(AJ:AJ,SMALL(ROW($AJ$1:$AJ$1999)+(1999*($AJ$1:$AJ$1999=\"\")), ROW(A1896)))&\"\"","v":""},"",{"$f":"INDEX(AK:AK,SMALL(ROW($AK$1:$AK$1999)+(1999*($AK$1:$AK$1999=\"\")), ROW(A1896)))&\"\"","v":""},"","","",null,"",""]
[null,null,null,null,null,null,null,null,null,null,null,null,null,null,null,null,null,null,null,null,null,null,null,null,null,null,null,null,null,null,null,null,{"$f":"INDEX(C:C, SMALL(ROW(C$1:C$5000)+(5000*(C$1:C$5000=\"\")),ROW(A1897)))&\"\"","v":""},"",{"$f":"INDEX(B:B, SMALL(ROW(B$1:B$5000)+(5000*(B$1:B$5000=\"\")),ROW(A1897)))&\"\"","v":""},"","","",null,null,{"$f":"INDEX(AH:AH,SMALL(ROW($AH$1:$AH$1999)+(1999*($AH$1:$AH$1999=\"\")), ROW(A1897)))&\"\"","v":""},"","","","","","","","","","","","","","","","","","","","","","","","","","","","","","","",{"$f":"INDEX(AJ:AJ,SMALL(ROW($AJ$1:$AJ$1999)+(1999*($AJ$1:$AJ$1999=\"\")), ROW(A1897)))&\"\"","v":""},"",{"$f":"INDEX(AK:AK,SMALL(ROW($AK$1:$AK$1999)+(1999*($AK$1:$AK$1999=\"\")), ROW(A1897)))&\"\"","v":""},"","","",null,"",""]
[null,null,null,null,null,null,null,null,null,null,null,null,null,null,null,null,null,null,null,null,null,null,null,null,null,null,null,null,null,null,null,null,{"$f":"INDEX(C:C, SMALL(ROW(C$1:C$5000)+(5000*(C$1:C$5000=\"\")),ROW(A1898)))&\"\"","v":""},"",{"$f":"INDEX(B:B, SMALL(ROW(B$1:B$5000)+(5000*(B$1:B$5000=\"\")),ROW(A1898)))&\"\"","v":""},"","","",null,null,{"$f":"INDEX(AH:AH,SMALL(ROW($AH$1:$AH$1999)+(1999*($AH$1:$AH$1999=\"\")), ROW(A1898)))&\"\"","v":""},"","","","","","","","","","","","","","","","","","","","","","","","","","","","","","","",{"$f":"INDEX(AJ:AJ,SMALL(ROW($AJ$1:$AJ$1999)+(1999*($AJ$1:$AJ$1999=\"\")), ROW(A1898)))&\"\"","v":""},"",{"$f":"INDEX(AK:AK,SMALL(ROW($AK$1:$AK$1999)+(1999*($AK$1:$AK$1999=\"\")), ROW(A1898)))&\"\"","v":""},"","","",null,"",""]
[null,null,null,null,null,null,null,null,null,null,null,null,null,null,null,null,null,null,null,null,null,null,null,null,null,null,null,null,null,null,null,null,{"$f":"INDEX(C:C, SMALL(ROW(C$1:C$5000)+(5000*(C$1:C$5000=\"\")),ROW(A1899)))&\"\"","v":""},"",{"$f":"INDEX(B:B, SMALL(ROW(B$1:B$5000)+(5000*(B$1:B$5000=\"\")),ROW(A1899)))&\"\"","v":""},"","","",null,null,{"$f":"INDEX(AH:AH,SMALL(ROW($AH$1:$AH$1999)+(1999*($AH$1:$AH$1999=\"\")), ROW(A1899)))&\"\"","v":""},"","","","","","","","","","","","","","","","","","","","","","","","","","","","","","","",{"$f":"INDEX(AJ:AJ,SMALL(ROW($AJ$1:$AJ$1999)+(1999*($AJ$1:$AJ$1999=\"\")), ROW(A1899)))&\"\"","v":""},"",{"$f":"INDEX(AK:AK,SMALL(ROW($AK$1:$AK$1999)+(1999*($AK$1:$AK$1999=\"\")), ROW(A1899)))&\"\"","v":""},"","","",null,"",""]
[null,null,null,null,null,null,null,null,null,null,null,null,null,null,null,null,null,null,null,null,null,null,null,null,null,null,null,null,null,null,null,null,{"$f":"INDEX(C:C, SMALL(ROW(C$1:C$5000)+(5000*(C$1:C$5000=\"\")),ROW(A1900)))&\"\"","v":""},"",{"$f":"INDEX(B:B, SMALL(ROW(B$1:B$5000)+(5000*(B$1:B$5000=\"\")),ROW(A1900)))&\"\"","v":""},"","","",null,null,{"$f":"INDEX(AH:AH,SMALL(ROW($AH$1:$AH$1999)+(1999*($AH$1:$AH$1999=\"\")), ROW(A1900)))&\"\"","v":""},"","","","","","","","","","","","","","","","","","","","","","","","","","","","","","","",{"$f":"INDEX(AJ:AJ,SMALL(ROW($AJ$1:$AJ$1999)+(1999*($AJ$1:$AJ$1999=\"\")), ROW(A1900)))&\"\"","v":""},"",{"$f":"INDEX(AK:AK,SMALL(ROW($AK$1:$AK$1999)+(1999*($AK$1:$AK$1999=\"\")), ROW(A1900)))&\"\"","v":""},"","","",null,"",""]
[null,null,null,null,null,null,null,null,null,null,null,null,null,null,null,null,null,null,null,null,null,null,null,null,null,null,null,null,null,null,null,null,{"$f":"INDEX(C:C, SMALL(ROW(C$1:C$5000)+(5000*(C$1:C$5000=\"\")),ROW(A1901)))&\"\"","v":""},"",{"$f":"INDEX(B:B, SMALL(ROW(B$1:B$5000)+(5000*(B$1:B$5000=\"\")),ROW(A1901)))&\"\"","v":""},"","","",null,null,{"$f":"INDEX(AH:AH,SMALL(ROW($AH$1:$AH$1999)+(1999*($AH$1:$AH$1999=\"\")), ROW(A1901)))&\"\"","v":""},"","","","","","","","","","","","","","","","","","","","","","","","","","","","","","","",{"$f":"INDEX(AJ:AJ,SMALL(ROW($AJ$1:$AJ$1999)+(1999*($AJ$1:$AJ$1999=\"\")), ROW(A1901)))&\"\"","v":""},"",{"$f":"INDEX(AK:AK,SMALL(ROW($AK$1:$AK$1999)+(1999*($AK$1:$AK$1999=\"\")), ROW(A1901)))&\"\"","v":""},"","","",null,"",""]
[null,null,null,null,null,null,null,null,null,null,null,null,null,null,null,null,null,null,null,null,null,null,null,null,null,null,null,null,null,null,null,null,{"$f":"INDEX(C:C, SMALL(ROW(C$1:C$5000)+(5000*(C$1:C$5000=\"\")),ROW(A1902)))&\"\"","v":""},"",{"$f":"INDEX(B:B, SMALL(ROW(B$1:B$5000)+(5000*(B$1:B$5000=\"\")),ROW(A1902)))&\"\"","v":""},"","","",null,null,{"$f":"INDEX(AH:AH,SMALL(ROW($AH$1:$AH$1999)+(1999*($AH$1:$AH$1999=\"\")), ROW(A1902)))&\"\"","v":""},"","","","","","","","","","","","","","","","","","","","","","","","","","","","","","","",{"$f":"INDEX(AJ:AJ,SMALL(ROW($AJ$1:$AJ$1999)+(1999*($AJ$1:$AJ$1999=\"\")), ROW(A1902)))&\"\"","v":""},"",{"$f":"INDEX(AK:AK,SMALL(ROW($AK$1:$AK$1999)+(1999*($AK$1:$AK$1999=\"\")), ROW(A1902)))&\"\"","v":""},"","","",null,"",""]
[null,null,null,null,null,null,null,null,null,null,null,null,null,null,null,null,null,null,null,null,null,null,null,null,null,null,null,null,null,null,null,null,{"$f":"INDEX(C:C, SMALL(ROW(C$1:C$5000)+(5000*(C$1:C$5000=\"\")),ROW(A1903)))&\"\"","v":""},"",{"$f":"INDEX(B:B, SMALL(ROW(B$1:B$5000)+(5000*(B$1:B$5000=\"\")),ROW(A1903)))&\"\"","v":""},"","","",null,null,{"$f":"INDEX(AH:AH,SMALL(ROW($AH$1:$AH$1999)+(1999*($AH$1:$AH$1999=\"\")), ROW(A1903)))&\"\"","v":""},"","","","","","","","","","","","","","","","","","","","","","","","","","","","","","","",{"$f":"INDEX(AJ:AJ,SMALL(ROW($AJ$1:$AJ$1999)+(1999*($AJ$1:$AJ$1999=\"\")), ROW(A1903)))&\"\"","v":""},"",{"$f":"INDEX(AK:AK,SMALL(ROW($AK$1:$AK$1999)+(1999*($AK$1:$AK$1999=\"\")), ROW(A1903)))&\"\"","v":""},"","","",null,"",""]
[null,null,null,null,null,null,null,null,null,null,null,null,null,null,null,null,null,null,null,null,null,null,null,null,null,null,null,null,null,null,null,null,{"$f":"INDEX(C:C, SMALL(ROW(C$1:C$5000)+(5000*(C$1:C$5000=\"\")),ROW(A1904)))&\"\"","v":""},"",{"$f":"INDEX(B:B, SMALL(ROW(B$1:B$5000)+(5000*(B$1:B$5000=\"\")),ROW(A1904)))&\"\"","v":""},"","","",null,null,{"$f":"INDEX(AH:AH,SMALL(ROW($AH$1:$AH$1999)+(1999*($AH$1:$AH$1999=\"\")), ROW(A1904)))&\"\"","v":""},"","","","","","","","","","","","","","","","","","","","","","","","","","","","","","","",{"$f":"INDEX(AJ:AJ,SMALL(ROW($AJ$1:$AJ$1999)+(1999*($AJ$1:$AJ$1999=\"\")), ROW(A1904)))&\"\"","v":""},"",{"$f":"INDEX(AK:AK,SMALL(ROW($AK$1:$AK$1999)+(1999*($AK$1:$AK$1999=\"\")), ROW(A1904)))&\"\"","v":""},"","","",null,"",""]
[null,null,null,null,null,null,null,null,null,null,null,null,null,null,null,null,null,null,null,null,null,null,null,null,null,null,null,null,null,null,null,null,{"$f":"INDEX(C:C, SMALL(ROW(C$1:C$5000)+(5000*(C$1:C$5000=\"\")),ROW(A1905)))&\"\"","v":""},"",{"$f":"INDEX(B:B, SMALL(ROW(B$1:B$5000)+(5000*(B$1:B$5000=\"\")),ROW(A1905)))&\"\"","v":""},"","","",null,null,{"$f":"INDEX(AH:AH,SMALL(ROW($AH$1:$AH$1999)+(1999*($AH$1:$AH$1999=\"\")), ROW(A1905)))&\"\"","v":""},"","","","","","","","","","","","","","","","","","","","","","","","","","","","","","","",{"$f":"INDEX(AJ:AJ,SMALL(ROW($AJ$1:$AJ$1999)+(1999*($AJ$1:$AJ$1999=\"\")), ROW(A1905)))&\"\"","v":""},"",{"$f":"INDEX(AK:AK,SMALL(ROW($AK$1:$AK$1999)+(1999*($AK$1:$AK$1999=\"\")), ROW(A1905)))&\"\"","v":""},"","","",null,"",""]
[null,null,null,null,null,null,null,null,null,null,null,null,null,null,null,null,null,null,null,null,null,null,null,null,null,null,null,null,null,null,null,null,{"$f":"INDEX(C:C, SMALL(ROW(C$1:C$5000)+(5000*(C$1:C$5000=\"\")),ROW(A1906)))&\"\"","v":""},"",{"$f":"INDEX(B:B, SMALL(ROW(B$1:B$5000)+(5000*(B$1:B$5000=\"\")),ROW(A1906)))&\"\"","v":""},"","","",null,null,{"$f":"INDEX(AH:AH,SMALL(ROW($AH$1:$AH$1999)+(1999*($AH$1:$AH$1999=\"\")), ROW(A1906)))&\"\"","v":""},"","","","","","","","","","","","","","","","","","","","","","","","","","","","","","","",{"$f":"INDEX(AJ:AJ,SMALL(ROW($AJ$1:$AJ$1999)+(1999*($AJ$1:$AJ$1999=\"\")), ROW(A1906)))&\"\"","v":""},"",{"$f":"INDEX(AK:AK,SMALL(ROW($AK$1:$AK$1999)+(1999*($AK$1:$AK$1999=\"\")), ROW(A1906)))&\"\"","v":""},"","","",null,"",""]
[null,null,null,null,null,null,null,null,null,null,null,null,null,null,null,null,null,null,null,null,null,null,null,null,null,null,null,null,null,null,null,null,{"$f":"INDEX(C:C, SMALL(ROW(C$1:C$5000)+(5000*(C$1:C$5000=\"\")),ROW(A1907)))&\"\"","v":""},"",{"$f":"INDEX(B:B, SMALL(ROW(B$1:B$5000)+(5000*(B$1:B$5000=\"\")),ROW(A1907)))&\"\"","v":""},"","","",null,null,{"$f":"INDEX(AH:AH,SMALL(ROW($AH$1:$AH$1999)+(1999*($AH$1:$AH$1999=\"\")), ROW(A1907)))&\"\"","v":""},"","","","","","","","","","","","","","","","","","","","","","","","","","","","","","","",{"$f":"INDEX(AJ:AJ,SMALL(ROW($AJ$1:$AJ$1999)+(1999*($AJ$1:$AJ$1999=\"\")), ROW(A1907)))&\"\"","v":""},"",{"$f":"INDEX(AK:AK,SMALL(ROW($AK$1:$AK$1999)+(1999*($AK$1:$AK$1999=\"\")), ROW(A1907)))&\"\"","v":""},"","","",null,"",""]
[null,null,null,null,null,null,null,null,null,null,null,null,null,null,null,null,null,null,null,null,null,null,null,null,null,null,null,null,null,null,null,null,{"$f":"INDEX(C:C, SMALL(ROW(C$1:C$5000)+(5000*(C$1:C$5000=\"\")),ROW(A1908)))&\"\"","v":""},"",{"$f":"INDEX(B:B, SMALL(ROW(B$1:B$5000)+(5000*(B$1:B$5000=\"\")),ROW(A1908)))&\"\"","v":""},"","","",null,null,{"$f":"INDEX(AH:AH,SMALL(ROW($AH$1:$AH$1999)+(1999*($AH$1:$AH$1999=\"\")), ROW(A1908)))&\"\"","v":""},"","","","","","","","","","","","","","","","","","","","","","","","","","","","","","","",{"$f":"INDEX(AJ:AJ,SMALL(ROW($AJ$1:$AJ$1999)+(1999*($AJ$1:$AJ$1999=\"\")), ROW(A1908)))&\"\"","v":""},"",{"$f":"INDEX(AK:AK,SMALL(ROW($AK$1:$AK$1999)+(1999*($AK$1:$AK$1999=\"\")), ROW(A1908)))&\"\"","v":""},"","","",null,"",""]
[null,null,null,null,null,null,null,null,null,null,null,null,null,null,null,null,null,null,null,null,null,null,null,null,null,null,null,null,null,null,null,null,{"$f":"INDEX(C:C, SMALL(ROW(C$1:C$5000)+(5000*(C$1:C$5000=\"\")),ROW(A1909)))&\"\"","v":""},"",{"$f":"INDEX(B:B, SMALL(ROW(B$1:B$5000)+(5000*(B$1:B$5000=\"\")),ROW(A1909)))&\"\"","v":""},"","","",null,null,{"$f":"INDEX(AH:AH,SMALL(ROW($AH$1:$AH$1999)+(1999*($AH$1:$AH$1999=\"\")), ROW(A1909)))&\"\"","v":""},"","","","","","","","","","","","","","","","","","","","","","","","","","","","","","","",{"$f":"INDEX(AJ:AJ,SMALL(ROW($AJ$1:$AJ$1999)+(1999*($AJ$1:$AJ$1999=\"\")), ROW(A1909)))&\"\"","v":""},"",{"$f":"INDEX(AK:AK,SMALL(ROW($AK$1:$AK$1999)+(1999*($AK$1:$AK$1999=\"\")), ROW(A1909)))&\"\"","v":""},"","","",null,"",""]
[null,null,null,null,null,null,null,null,null,null,null,null,null,null,null,null,null,null,null,null,null,null,null,null,null,null,null,null,null,null,null,null,{"$f":"INDEX(C:C, SMALL(ROW(C$1:C$5000)+(5000*(C$1:C$5000=\"\")),ROW(A1910)))&\"\"","v":""},"",{"$f":"INDEX(B:B, SMALL(ROW(B$1:B$5000)+(5000*(B$1:B$5000=\"\")),ROW(A1910)))&\"\"","v":""},"","","",null,null,{"$f":"INDEX(AH:AH,SMALL(ROW($AH$1:$AH$1999)+(1999*($AH$1:$AH$1999=\"\")), ROW(A1910)))&\"\"","v":""},"","","","","","","","","","","","","","","","","","","","","","","","","","","","","","","",{"$f":"INDEX(AJ:AJ,SMALL(ROW($AJ$1:$AJ$1999)+(1999*($AJ$1:$AJ$1999=\"\")), ROW(A1910)))&\"\"","v":""},"",{"$f":"INDEX(AK:AK,SMALL(ROW($AK$1:$AK$1999)+(1999*($AK$1:$AK$1999=\"\")), ROW(A1910)))&\"\"","v":""},"","","",null,"",""]
[null,null,null,null,null,null,null,null,null,null,null,null,null,null,null,null,null,null,null,null,null,null,null,null,null,null,null,null,null,null,null,null,{"$f":"INDEX(C:C, SMALL(ROW(C$1:C$5000)+(5000*(C$1:C$5000=\"\")),ROW(A1911)))&\"\"","v":""},"",{"$f":"INDEX(B:B, SMALL(ROW(B$1:B$5000)+(5000*(B$1:B$5000=\"\")),ROW(A1911)))&\"\"","v":""},"","","",null,null,{"$f":"INDEX(AH:AH,SMALL(ROW($AH$1:$AH$1999)+(1999*($AH$1:$AH$1999=\"\")), ROW(A1911)))&\"\"","v":""},"","","","","","","","","","","","","","","","","","","","","","","","","","","","","","","",{"$f":"INDEX(AJ:AJ,SMALL(ROW($AJ$1:$AJ$1999)+(1999*($AJ$1:$AJ$1999=\"\")), ROW(A1911)))&\"\"","v":""},"",{"$f":"INDEX(AK:AK,SMALL(ROW($AK$1:$AK$1999)+(1999*($AK$1:$AK$1999=\"\")), ROW(A1911)))&\"\"","v":""},"","","",null,"",""]
[null,null,null,null,null,null,null,null,null,null,null,null,null,null,null,null,null,null,null,null,null,null,null,null,null,null,null,null,null,null,null,null,{"$f":"INDEX(C:C, SMALL(ROW(C$1:C$5000)+(5000*(C$1:C$5000=\"\")),ROW(A1912)))&\"\"","v":""},"",{"$f":"INDEX(B:B, SMALL(ROW(B$1:B$5000)+(5000*(B$1:B$5000=\"\")),ROW(A1912)))&\"\"","v":""},"","","",null,null,{"$f":"INDEX(AH:AH,SMALL(ROW($AH$1:$AH$1999)+(1999*($AH$1:$AH$1999=\"\")), ROW(A1912)))&\"\"","v":""},"","","","","","","","","","","","","","","","","","","","","","","","","","","","","","","",{"$f":"INDEX(AJ:AJ,SMALL(ROW($AJ$1:$AJ$1999)+(1999*($AJ$1:$AJ$1999=\"\")), ROW(A1912)))&\"\"","v":""},"",{"$f":"INDEX(AK:AK,SMALL(ROW($AK$1:$AK$1999)+(1999*($AK$1:$AK$1999=\"\")), ROW(A1912)))&\"\"","v":""},"","","",null,"",""]
[null,null,null,null,null,null,null,null,null,null,null,null,null,null,null,null,null,null,null,null,null,null,null,null,null,null,null,null,null,null,null,null,{"$f":"INDEX(C:C, SMALL(ROW(C$1:C$5000)+(5000*(C$1:C$5000=\"\")),ROW(A1913)))&\"\"","v":""},"",{"$f":"INDEX(B:B, SMALL(ROW(B$1:B$5000)+(5000*(B$1:B$5000=\"\")),ROW(A1913)))&\"\"","v":""},"","","",null,null,{"$f":"INDEX(AH:AH,SMALL(ROW($AH$1:$AH$1999)+(1999*($AH$1:$AH$1999=\"\")), ROW(A1913)))&\"\"","v":""},"","","","","","","","","","","","","","","","","","","","","","","","","","","","","","","",{"$f":"INDEX(AJ:AJ,SMALL(ROW($AJ$1:$AJ$1999)+(1999*($AJ$1:$AJ$1999=\"\")), ROW(A1913)))&\"\"","v":""},"",{"$f":"INDEX(AK:AK,SMALL(ROW($AK$1:$AK$1999)+(1999*($AK$1:$AK$1999=\"\")), ROW(A1913)))&\"\"","v":""},"","","",null,"",""]
[null,null,null,null,null,null,null,null,null,null,null,null,null,null,null,null,null,null,null,null,null,null,null,null,null,null,null,null,null,null,null,null,{"$f":"INDEX(C:C, SMALL(ROW(C$1:C$5000)+(5000*(C$1:C$5000=\"\")),ROW(A1914)))&\"\"","v":""},"",{"$f":"INDEX(B:B, SMALL(ROW(B$1:B$5000)+(5000*(B$1:B$5000=\"\")),ROW(A1914)))&\"\"","v":""},"","","",null,null,{"$f":"INDEX(AH:AH,SMALL(ROW($AH$1:$AH$1999)+(1999*($AH$1:$AH$1999=\"\")), ROW(A1914)))&\"\"","v":""},"","","","","","","","","","","","","","","","","","","","","","","","","","","","","","","",{"$f":"INDEX(AJ:AJ,SMALL(ROW($AJ$1:$AJ$1999)+(1999*($AJ$1:$AJ$1999=\"\")), ROW(A1914)))&\"\"","v":""},"",{"$f":"INDEX(AK:AK,SMALL(ROW($AK$1:$AK$1999)+(1999*($AK$1:$AK$1999=\"\")), ROW(A1914)))&\"\"","v":""},"","","",null,"",""]
[null,null,null,null,null,null,null,null,null,null,null,null,null,null,null,null,null,null,null,null,null,null,null,null,null,null,null,null,null,null,null,null,{"$f":"INDEX(C:C, SMALL(ROW(C$1:C$5000)+(5000*(C$1:C$5000=\"\")),ROW(A1915)))&\"\"","v":""},"",{"$f":"INDEX(B:B, SMALL(ROW(B$1:B$5000)+(5000*(B$1:B$5000=\"\")),ROW(A1915)))&\"\"","v":""},"","","",null,null,{"$f":"INDEX(AH:AH,SMALL(ROW($AH$1:$AH$1999)+(1999*($AH$1:$AH$1999=\"\")), ROW(A1915)))&\"\"","v":""},"","","","","","","","","","","","","","","","","","","","","","","","","","","","","","","",{"$f":"INDEX(AJ:AJ,SMALL(ROW($AJ$1:$AJ$1999)+(1999*($AJ$1:$AJ$1999=\"\")), ROW(A1915)))&\"\"","v":""},"",{"$f":"INDEX(AK:AK,SMALL(ROW($AK$1:$AK$1999)+(1999*($AK$1:$AK$1999=\"\")), ROW(A1915)))&\"\"","v":""},"","","",null,"",""]
[null,null,null,null,null,null,null,null,null,null,null,null,null,null,null,null,null,null,null,null,null,null,null,null,null,null,null,null,null,null,null,null,{"$f":"INDEX(C:C, SMALL(ROW(C$1:C$5000)+(5000*(C$1:C$5000=\"\")),ROW(A1916)))&\"\"","v":""},"",{"$f":"INDEX(B:B, SMALL(ROW(B$1:B$5000)+(5000*(B$1:B$5000=\"\")),ROW(A1916)))&\"\"","v":""},"","","",null,null,{"$f":"INDEX(AH:AH,SMALL(ROW($AH$1:$AH$1999)+(1999*($AH$1:$AH$1999=\"\")), ROW(A1916)))&\"\"","v":""},"","","","","","","","","","","","","","","","","","","","","","","","","","","","","","","",{"$f":"INDEX(AJ:AJ,SMALL(ROW($AJ$1:$AJ$1999)+(1999*($AJ$1:$AJ$1999=\"\")), ROW(A1916)))&\"\"","v":""},"",{"$f":"INDEX(AK:AK,SMALL(ROW($AK$1:$AK$1999)+(1999*($AK$1:$AK$1999=\"\")), ROW(A1916)))&\"\"","v":""},"","","",null,"",""]
[null,null,null,null,null,null,null,null,null,null,null,null,null,null,null,null,null,null,null,null,null,null,null,null,null,null,null,null,null,null,null,null,{"$f":"INDEX(C:C, SMALL(ROW(C$1:C$5000)+(5000*(C$1:C$5000=\"\")),ROW(A1917)))&\"\"","v":""},"",{"$f":"INDEX(B:B, SMALL(ROW(B$1:B$5000)+(5000*(B$1:B$5000=\"\")),ROW(A1917)))&\"\"","v":""},"","","",null,null,{"$f":"INDEX(AH:AH,SMALL(ROW($AH$1:$AH$1999)+(1999*($AH$1:$AH$1999=\"\")), ROW(A1917)))&\"\"","v":""},"","","","","","","","","","","","","","","","","","","","","","","","","","","","","","","",{"$f":"INDEX(AJ:AJ,SMALL(ROW($AJ$1:$AJ$1999)+(1999*($AJ$1:$AJ$1999=\"\")), ROW(A1917)))&\"\"","v":""},"",{"$f":"INDEX(AK:AK,SMALL(ROW($AK$1:$AK$1999)+(1999*($AK$1:$AK$1999=\"\")), ROW(A1917)))&\"\"","v":""},"","","",null,"",""]
[null,null,null,null,null,null,null,null,null,null,null,null,null,null,null,null,null,null,null,null,null,null,null,null,null,null,null,null,null,null,null,null,{"$f":"INDEX(C:C, SMALL(ROW(C$1:C$5000)+(5000*(C$1:C$5000=\"\")),ROW(A1918)))&\"\"","v":""},"",{"$f":"INDEX(B:B, SMALL(ROW(B$1:B$5000)+(5000*(B$1:B$5000=\"\")),ROW(A1918)))&\"\"","v":""},"","","",null,null,{"$f":"INDEX(AH:AH,SMALL(ROW($AH$1:$AH$1999)+(1999*($AH$1:$AH$1999=\"\")), ROW(A1918)))&\"\"","v":""},"","","","","","","","","","","","","","","","","","","","","","","","","","","","","","","",{"$f":"INDEX(AJ:AJ,SMALL(ROW($AJ$1:$AJ$1999)+(1999*($AJ$1:$AJ$1999=\"\")), ROW(A1918)))&\"\"","v":""},"",{"$f":"INDEX(AK:AK,SMALL(ROW($AK$1:$AK$1999)+(1999*($AK$1:$AK$1999=\"\")), ROW(A1918)))&\"\"","v":""},"","","",null,"",""]
[null,null,null,null,null,null,null,null,null,null,null,null,null,null,null,null,null,null,null,null,null,null,null,null,null,null,null,null,null,null,null,null,{"$f":"INDEX(C:C, SMALL(ROW(C$1:C$5000)+(5000*(C$1:C$5000=\"\")),ROW(A1919)))&\"\"","v":""},"",{"$f":"INDEX(B:B, SMALL(ROW(B$1:B$5000)+(5000*(B$1:B$5000=\"\")),ROW(A1919)))&\"\"","v":""},"","","",null,null,{"$f":"INDEX(AH:AH,SMALL(ROW($AH$1:$AH$1999)+(1999*($AH$1:$AH$1999=\"\")), ROW(A1919)))&\"\"","v":""},"","","","","","","","","","","","","","","","","","","","","","","","","","","","","","","",{"$f":"INDEX(AJ:AJ,SMALL(ROW($AJ$1:$AJ$1999)+(1999*($AJ$1:$AJ$1999=\"\")), ROW(A1919)))&\"\"","v":""},"",{"$f":"INDEX(AK:AK,SMALL(ROW($AK$1:$AK$1999)+(1999*($AK$1:$AK$1999=\"\")), ROW(A1919)))&\"\"","v":""},"","","",null,"",""]
[null,null,null,null,null,null,null,null,null,null,null,null,null,null,null,null,null,null,null,null,null,null,null,null,null,null,null,null,null,null,null,null,{"$f":"INDEX(C:C, SMALL(ROW(C$1:C$5000)+(5000*(C$1:C$5000=\"\")),ROW(A1920)))&\"\"","v":""},"",{"$f":"INDEX(B:B, SMALL(ROW(B$1:B$5000)+(5000*(B$1:B$5000=\"\")),ROW(A1920)))&\"\"","v":""},"","","",null,null,{"$f":"INDEX(AH:AH,SMALL(ROW($AH$1:$AH$1999)+(1999*($AH$1:$AH$1999=\"\")), ROW(A1920)))&\"\"","v":""},"","","","","","","","","","","","","","","","","","","","","","","","","","","","","","","",{"$f":"INDEX(AJ:AJ,SMALL(ROW($AJ$1:$AJ$1999)+(1999*($AJ$1:$AJ$1999=\"\")), ROW(A1920)))&\"\"","v":""},"",{"$f":"INDEX(AK:AK,SMALL(ROW($AK$1:$AK$1999)+(1999*($AK$1:$AK$1999=\"\")), ROW(A1920)))&\"\"","v":""},"","","",null,"",""]
[null,null,null,null,null,null,null,null,null,null,null,null,null,null,null,null,null,null,null,null,null,null,null,null,null,null,null,null,null,null,null,null,{"$f":"INDEX(C:C, SMALL(ROW(C$1:C$5000)+(5000*(C$1:C$5000=\"\")),ROW(A1921)))&\"\"","v":""},{"$f":"IF(ISNUMBER(SEARCH(\"*,*\",AG1921)),AG1921,\"\")","v":""},{"$f":"INDEX(B:B, SMALL(ROW(B$1:B$5000)+(5000*(B$1:B$5000=\"\")),ROW(A1921)))&\"\"","v":""},"","",{"$f":"IF(ISNUMBER(SEARCH(\"*Round*\",AI1921)),AI1921,\"\")","v":""},null,null,{"$f":"INDEX(AH:AH,SMALL(ROW($AH$1:$AH$1999)+(1999*($AH$1:$AH$1999=\"\")), ROW(A1921)))&\"\"","v":""},"","","","","","","","","","","","","","","","","","","","","","","","","","","","","","","",{"$f":"INDEX(AJ:AJ,SMALL(ROW($AJ$1:$AJ$1999)+(1999*($AJ$1:$AJ$1999=\"\")), ROW(A1921)))&\"\"","v":""},"",{"$f":"INDEX(AK:AK,SMALL(ROW($AK$1:$AK$1999)+(1999*($AK$1:$AK$1999=\"\")), ROW(A1921)))&\"\"","v":""},"","","",null,"",""]
[null,null,null,null,null,null,null,null,null,null,null,null,null,null,null,null,null,null,null,null,null,null,null,null,null,null,null,null,null,null,null,null,{"$f":"INDEX(C:C, SMALL(ROW(C$1:C$5000)+(5000*(C$1:C$5000=\"\")),ROW(A1922)))&\"\"","v":""},"",{"$f":"INDEX(B:B, SMALL(ROW(B$1:B$5000)+(5000*(B$1:B$5000=\"\")),ROW(A1922)))&\"\"","v":""},{"$f":"IF(ISNUMBER(SEARCH(\"*years*\",AI1922)),AI1922,\"\")","v":""},{"$f":"IF(ISNUMBER(SEARCH(\"*, 19*\",AI1922)),AI1922,\"\")","v":""},"",null,null,{"$f":"INDEX(AH:AH,SMALL(ROW($AH$1:$AH$1999)+(1999*($AH$1:$AH$1999=\"\")), ROW(A1922)))&\"\"","v":""},{"$f":"TRIM(TEXT(RIGHT(AO1922,2),))","v":""},{"$f":"IF(ISNUMBER(SEARCH(\"*QB*\",AP1922)),AO1922,\"\")","v":""},{"$f":"IFERROR(IF(ISNUMBER(SEARCH(\"*QB*\",AQ1922)),BV1922,\"\"),VALUE(0))","v":""},{"$f":"IFERROR(IF(ISNUMBER(SEARCH(\"*QB*\",AQ1922)),BX1922,\"\"),VALUE(0))","v":""},{"$f":"IF(ISNUMBER(SEARCH(\"*RB*\",AP1922)),AO1922,\"\")","v":""},{"$f":"IFERROR(IF(ISNUMBER(SEARCH(\"*RB*\",AT1922)),BV1922,\"\"),VALUE(0))","v":""},{"$f":"IFERROR(IF(ISNUMBER(SEARCH(\"*RB*\",AT1922)),BX1922,\"\"),VALUE(0))","v":""},{"$f":"IF(ISNUMBER(SEARCH(\"*WR*\",AP1922)),AO1922,\"\")","v":""},{"$f":"IFERROR(IF(ISNUMBER(SEARCH(\"*WR*\",AW1922)),BV1922,\"\"),VALUE(0))","v":""},{"$f":"IFERROR(IF(ISNUMBER(SEARCH(\"*WR*\",AW1922)),BX1922,\"\"),VALUE(0))","v":""},{"$f":"IF(ISNUMBER(SEARCH(\"*TE*\",AP1922)),AO1922,\"\")","v":""},"",{"$f":"IFERROR(IF(ISNUMBER(SEARCH(\"*TE*\",AZ1922)),BX1922,\"\"),VALUE(0))","v":""},{"$f":"IF(ISNUMBER(SEARCH(\"*PK*\",AP1922)),AO1922,\"\")","v":""},{"$f":"IFERROR(IF(ISNUMBER(SEARCH(\"*PK*\",BC1922)),BV1922,\"\"),VALUE(0))","v":""},{"$f":"IFERROR(IF(ISNUMBER(SEARCH(\"*PK*\",BC1922)),BX1922,\"\"),VALUE(0))","v":""},{"$f":"IF(ISNUMBER(SEARCH(\"*DT*\",AP1922)),AO1922,\"\")","v":""},{"$f":"IFERROR(IF(ISNUMBER(SEARCH(\"*DT*\",BF1922)),BV1922,\"\"),VALUE(0))","v":""},{"$f":"IFERROR(IF(ISNUMBER(SEARCH(\"*DT*\",BF1922)),BX1922,\"\"),VALUE(0))","v":""},{"$f":"IF(ISNUMBER(SEARCH(\"*DE*\",AP1922)),AO1922,\"\")","v":""},{"$f":"IFERROR(IF(ISNUMBER(SEARCH(\"*DE*\",BI1922)),BV1922,\"\"),VALUE(0))","v":""},{"$f":"IFERROR(IF(ISNUMBER(SEARCH(\"*DE*\",BI1922)),BX1922,\"\"),VALUE(0))","v":""},{"$f":"IF(ISNUMBER(SEARCH(\"*LB*\",AP1922)),AO1922,\"\")","v":""},{"$f":"IFERROR(IF(ISNUMBER(SEARCH(\"*LB*\",BL1922)),BV1922,\"\"),VALUE(0))","v":""},{"$f":"IFERROR(IF(ISNUMBER(SEARCH(\"*LB*\",BL1922)),BX1922,\"\"),VALUE(0))","v":""},{"$f":"IF(ISNUMBER(SEARCH(\"*CB*\",AP1922)),AO1922,\"\")","v":""},{"$f":"IFERROR(IF(ISNUMBER(SEARCH(\"*CB*\",BO1922)),BV1922,\"\"),VALUE(0))","v":""},{"$f":"IFERROR(IF(ISNUMBER(SEARCH(\"*CB*\",BO1922)),BX1922,\"\"),VALUE(0))","v":""},{"$f":"IF(ISNUMBER(SEARCH(\"*S*\",AP1922)),AO1922,\"\")","v":""},{"$f":"IFERROR(IF(ISNUMBER(SEARCH(\"*S*\",BR1922)),BV1922,\"\"),VALUE(0))","v":""},{"$f":"IFERROR(IF(ISNUMBER(SEARCH(\"*S*\",BR1922)),BX1922,\"\"),VALUE(0))","v":""},{"$f":"INDEX(AJ:AJ,SMALL(ROW($AJ$1:$AJ$1999)+(1999*($AJ$1:$AJ$1999=\"\")), ROW(A1922)))&\"\"","v":""},{"$f":"IFERROR(IF(BW1922<>\"\",VALUE(LEFT(BU1922,LEN(BU1922)-6)),\"\"),VALUE(0))","v":""},{"$f":"INDEX(AK:AK,SMALL(ROW($AK$1:$AK$1999)+(1999*($AK$1:$AK$1999=\"\")), ROW(A1922)))&\"\"","v":""},{"$f":"IF(BW1922<>\"\",VALUE(RIGHT(BW1922,2)),\"\")","v":""},{"$f":"IF(BX1922=\"\",\"\",IF(BX1922>27,1,0))","v":""},{"$f":"IF(BX1922=\"\",\"\",IF(BX1922<27,1,0))","v":""},null,{"$f":"IF(BV1922=\"\",\"\",IF(BV1922>3.5,1,0))","v":""},{"$f":"IF(BV1922=\"\",\"\",IF(BV1922<3.5,1,0))","v":""}]
[null,null,null,null,null,null,null,null,null,null,null,null,null,null,null,null,null,null,null,null,null,null,null,null,null,null,null,null,null,null,null,null,{"$f":"INDEX(C:C, SMALL(ROW(C$1:C$5000)+(5000*(C$1:C$5000=\"\")),ROW(A1923)))&\"\"","v":""},"",{"$f":"INDEX(B:B, SMALL(ROW(B$1:B$5000)+(5000*(B$1:B$5000=\"\")),ROW(A1923)))&\"\"","v":""},"","","",null,null,{"$f":"INDEX(AH:AH,SMALL(ROW($AH$1:$AH$1999)+(1999*($AH$1:$AH$1999=\"\")), ROW(A1923)))&\"\"","v":""},"","","","","","","","","","","","","","","","","","","","","","","","","","","","","","","",{"$f":"INDEX(AJ:AJ,SMALL(ROW($AJ$1:$AJ$1999)+(1999*($AJ$1:$AJ$1999=\"\")), ROW(A1923)))&\"\"","v":""},"",{"$f":"INDEX(AK:AK,SMALL(ROW($AK$1:$AK$1999)+(1999*($AK$1:$AK$1999=\"\")), ROW(A1923)))&\"\"","v":""},"","","",null,"",""]
[null,null,null,null,null,null,null,null,null,null,null,null,null,null,null,null,null,null,null,null,null,null,null,null,null,null,null,null,null,null,null,null,{"$f":"INDEX(C:C, SMALL(ROW(C$1:C$5000)+(5000*(C$1:C$5000=\"\")),ROW(A1924)))&\"\"","v":""},"",{"$f":"INDEX(B:B, SMALL(ROW(B$1:B$5000)+(5000*(B$1:B$5000=\"\")),ROW(A1924)))&\"\"","v":""},"","","",null,null,{"$f":"INDEX(AH:AH,SMALL(ROW($AH$1:$AH$1999)+(1999*($AH$1:$AH$1999=\"\")), ROW(A1924)))&\"\"","v":""},"","","","","","","","","","","","","","","","","","","","","","","","","","","","","","","",{"$f":"INDEX(AJ:AJ,SMALL(ROW($AJ$1:$AJ$1999)+(1999*($AJ$1:$AJ$1999=\"\")), ROW(A1924)))&\"\"","v":""},"",{"$f":"INDEX(AK:AK,SMALL(ROW($AK$1:$AK$1999)+(1999*($AK$1:$AK$1999=\"\")), ROW(A1924)))&\"\"","v":""},"","","",null,"",""]
[null,null,null,null,null,null,null,null,null,null,null,null,null,null,null,null,null,null,null,null,null,null,null,null,null,null,null,null,null,null,null,null,{"$f":"INDEX(C:C, SMALL(ROW(C$1:C$5000)+(5000*(C$1:C$5000=\"\")),ROW(A1925)))&\"\"","v":""},"",{"$f":"INDEX(B:B, SMALL(ROW(B$1:B$5000)+(5000*(B$1:B$5000=\"\")),ROW(A1925)))&\"\"","v":""},"","","",null,null,{"$f":"INDEX(AH:AH,SMALL(ROW($AH$1:$AH$1999)+(1999*($AH$1:$AH$1999=\"\")), ROW(A1925)))&\"\"","v":""},"","","","","","","","","","","","","","","","","","","","","","","","","","","","","","","",{"$f":"INDEX(AJ:AJ,SMALL(ROW($AJ$1:$AJ$1999)+(1999*($AJ$1:$AJ$1999=\"\")), ROW(A1925)))&\"\"","v":""},"",{"$f":"INDEX(AK:AK,SMALL(ROW($AK$1:$AK$1999)+(1999*($AK$1:$AK$1999=\"\")), ROW(A1925)))&\"\"","v":""},"","","",null,"",""]
[null,null,null,null,null,null,null,null,null,null,null,null,null,null,null,null,null,null,null,null,null,null,null,null,null,null,null,null,null,null,null,null,{"$f":"INDEX(C:C, SMALL(ROW(C$1:C$5000)+(5000*(C$1:C$5000=\"\")),ROW(A1926)))&\"\"","v":""},"",{"$f":"INDEX(B:B, SMALL(ROW(B$1:B$5000)+(5000*(B$1:B$5000=\"\")),ROW(A1926)))&\"\"","v":""},"","","",null,null,{"$f":"INDEX(AH:AH,SMALL(ROW($AH$1:$AH$1999)+(1999*($AH$1:$AH$1999=\"\")), ROW(A1926)))&\"\"","v":""},"","","","","","","","","","","","","","","","","","","","","","","","","","","","","","","",{"$f":"INDEX(AJ:AJ,SMALL(ROW($AJ$1:$AJ$1999)+(1999*($AJ$1:$AJ$1999=\"\")), ROW(A1926)))&\"\"","v":""},"",{"$f":"INDEX(AK:AK,SMALL(ROW($AK$1:$AK$1999)+(1999*($AK$1:$AK$1999=\"\")), ROW(A1926)))&\"\"","v":""},"","","",null,"",""]
[null,null,null,null,null,null,null,null,null,null,null,null,null,null,null,null,null,null,null,null,null,null,null,null,null,null,null,null,null,null,null,null,{"$f":"INDEX(C:C, SMALL(ROW(C$1:C$5000)+(5000*(C$1:C$5000=\"\")),ROW(A1927)))&\"\"","v":""},"",{"$f":"INDEX(B:B, SMALL(ROW(B$1:B$5000)+(5000*(B$1:B$5000=\"\")),ROW(A1927)))&\"\"","v":""},"","","",null,null,{"$f":"INDEX(AH:AH,SMALL(ROW($AH$1:$AH$1999)+(1999*($AH$1:$AH$1999=\"\")), ROW(A1927)))&\"\"","v":""},"","","","","","","","","","","","","","","","","","","","","","","","","","","","","","","",{"$f":"INDEX(AJ:AJ,SMALL(ROW($AJ$1:$AJ$1999)+(1999*($AJ$1:$AJ$1999=\"\")), ROW(A1927)))&\"\"","v":""},"",{"$f":"INDEX(AK:AK,SMALL(ROW($AK$1:$AK$1999)+(1999*($AK$1:$AK$1999=\"\")), ROW(A1927)))&\"\"","v":""},"","","",null,"",""]
[null,null,null,null,null,null,null,null,null,null,null,null,null,null,null,null,null,null,null,null,null,null,null,null,null,null,null,null,null,null,null,null,{"$f":"INDEX(C:C, SMALL(ROW(C$1:C$5000)+(5000*(C$1:C$5000=\"\")),ROW(A1928)))&\"\"","v":""},"",{"$f":"INDEX(B:B, SMALL(ROW(B$1:B$5000)+(5000*(B$1:B$5000=\"\")),ROW(A1928)))&\"\"","v":""},"","","",null,null,{"$f":"INDEX(AH:AH,SMALL(ROW($AH$1:$AH$1999)+(1999*($AH$1:$AH$1999=\"\")), ROW(A1928)))&\"\"","v":""},"","","","","","","","","","","","","","","","","","","","","","","","","","","","","","","",{"$f":"INDEX(AJ:AJ,SMALL(ROW($AJ$1:$AJ$1999)+(1999*($AJ$1:$AJ$1999=\"\")), ROW(A1928)))&\"\"","v":""},"",{"$f":"INDEX(AK:AK,SMALL(ROW($AK$1:$AK$1999)+(1999*($AK$1:$AK$1999=\"\")), ROW(A1928)))&\"\"","v":""},"","","",null,"",""]
[null,null,null,null,null,null,null,null,null,null,null,null,null,null,null,null,null,null,null,null,null,null,null,null,null,null,null,null,null,null,null,null,{"$f":"INDEX(C:C, SMALL(ROW(C$1:C$5000)+(5000*(C$1:C$5000=\"\")),ROW(A1929)))&\"\"","v":""},"",{"$f":"INDEX(B:B, SMALL(ROW(B$1:B$5000)+(5000*(B$1:B$5000=\"\")),ROW(A1929)))&\"\"","v":""},"","","",null,null,{"$f":"INDEX(AH:AH,SMALL(ROW($AH$1:$AH$1999)+(1999*($AH$1:$AH$1999=\"\")), ROW(A1929)))&\"\"","v":""},"","","","","","","","","","","","","","","","","","","","","","","","","","","","","","","",{"$f":"INDEX(AJ:AJ,SMALL(ROW($AJ$1:$AJ$1999)+(1999*($AJ$1:$AJ$1999=\"\")), ROW(A1929)))&\"\"","v":""},"",{"$f":"INDEX(AK:AK,SMALL(ROW($AK$1:$AK$1999)+(1999*($AK$1:$AK$1999=\"\")), ROW(A1929)))&\"\"","v":""},"","","",null,"",""]
[null,null,null,null,null,null,null,null,null,null,null,null,null,null,null,null,null,null,null,null,null,null,null,null,null,null,null,null,null,null,null,null,{"$f":"INDEX(C:C, SMALL(ROW(C$1:C$5000)+(5000*(C$1:C$5000=\"\")),ROW(A1930)))&\"\"","v":""},"",{"$f":"INDEX(B:B, SMALL(ROW(B$1:B$5000)+(5000*(B$1:B$5000=\"\")),ROW(A1930)))&\"\"","v":""},"","","",null,null,{"$f":"INDEX(AH:AH,SMALL(ROW($AH$1:$AH$1999)+(1999*($AH$1:$AH$1999=\"\")), ROW(A1930)))&\"\"","v":""},"","","","","","","","","","","","","","","","","","","","","","","","","","","","","","","",{"$f":"INDEX(AJ:AJ,SMALL(ROW($AJ$1:$AJ$1999)+(1999*($AJ$1:$AJ$1999=\"\")), ROW(A1930)))&\"\"","v":""},"",{"$f":"INDEX(AK:AK,SMALL(ROW($AK$1:$AK$1999)+(1999*($AK$1:$AK$1999=\"\")), ROW(A1930)))&\"\"","v":""},"","","",null,"",""]
[null,null,null,null,null,null,null,null,null,null,null,null,null,null,null,null,null,null,null,null,null,null,null,null,null,null,null,null,null,null,null,null,{"$f":"INDEX(C:C, SMALL(ROW(C$1:C$5000)+(5000*(C$1:C$5000=\"\")),ROW(A1931)))&\"\"","v":""},"",{"$f":"INDEX(B:B, SMALL(ROW(B$1:B$5000)+(5000*(B$1:B$5000=\"\")),ROW(A1931)))&\"\"","v":""},"","","",null,null,{"$f":"INDEX(AH:AH,SMALL(ROW($AH$1:$AH$1999)+(1999*($AH$1:$AH$1999=\"\")), ROW(A1931)))&\"\"","v":""},"","","","","","","","","","","","","","","","","","","","","","","","","","","","","","","",{"$f":"INDEX(AJ:AJ,SMALL(ROW($AJ$1:$AJ$1999)+(1999*($AJ$1:$AJ$1999=\"\")), ROW(A1931)))&\"\"","v":""},"",{"$f":"INDEX(AK:AK,SMALL(ROW($AK$1:$AK$1999)+(1999*($AK$1:$AK$1999=\"\")), ROW(A1931)))&\"\"","v":""},"","","",null,"",""]
[null,null,null,null,null,null,null,null,null,null,null,null,null,null,null,null,null,null,null,null,null,null,null,null,null,null,null,null,null,null,null,null,{"$f":"INDEX(C:C, SMALL(ROW(C$1:C$5000)+(5000*(C$1:C$5000=\"\")),ROW(A1932)))&\"\"","v":""},"",{"$f":"INDEX(B:B, SMALL(ROW(B$1:B$5000)+(5000*(B$1:B$5000=\"\")),ROW(A1932)))&\"\"","v":""},"","","",null,null,{"$f":"INDEX(AH:AH,SMALL(ROW($AH$1:$AH$1999)+(1999*($AH$1:$AH$1999=\"\")), ROW(A1932)))&\"\"","v":""},"","","","","","","","","","","","","","","","","","","","","","","","","","","","","","","",{"$f":"INDEX(AJ:AJ,SMALL(ROW($AJ$1:$AJ$1999)+(1999*($AJ$1:$AJ$1999=\"\")), ROW(A1932)))&\"\"","v":""},"",{"$f":"INDEX(AK:AK,SMALL(ROW($AK$1:$AK$1999)+(1999*($AK$1:$AK$1999=\"\")), ROW(A1932)))&\"\"","v":""},"","","",null,"",""]
[null,null,null,null,null,null,null,null,null,null,null,null,null,null,null,null,null,null,null,null,null,null,null,null,null,null,null,null,null,null,null,null,{"$f":"INDEX(C:C, SMALL(ROW(C$1:C$5000)+(5000*(C$1:C$5000=\"\")),ROW(A1933)))&\"\"","v":""},"",{"$f":"INDEX(B:B, SMALL(ROW(B$1:B$5000)+(5000*(B$1:B$5000=\"\")),ROW(A1933)))&\"\"","v":""},"","","",null,null,{"$f":"INDEX(AH:AH,SMALL(ROW($AH$1:$AH$1999)+(1999*($AH$1:$AH$1999=\"\")), ROW(A1933)))&\"\"","v":""},"","","","","","","","","","","","","","","","","","","","","","","","","","","","","","","",{"$f":"INDEX(AJ:AJ,SMALL(ROW($AJ$1:$AJ$1999)+(1999*($AJ$1:$AJ$1999=\"\")), ROW(A1933)))&\"\"","v":""},"",{"$f":"INDEX(AK:AK,SMALL(ROW($AK$1:$AK$1999)+(1999*($AK$1:$AK$1999=\"\")), ROW(A1933)))&\"\"","v":""},"","","",null,"",""]
[null,null,null,null,null,null,null,null,null,null,null,null,null,null,null,null,null,null,null,null,null,null,null,null,null,null,null,null,null,null,null,null,{"$f":"INDEX(C:C, SMALL(ROW(C$1:C$5000)+(5000*(C$1:C$5000=\"\")),ROW(A1934)))&\"\"","v":""},"",{"$f":"INDEX(B:B, SMALL(ROW(B$1:B$5000)+(5000*(B$1:B$5000=\"\")),ROW(A1934)))&\"\"","v":""},"","","",null,null,{"$f":"INDEX(AH:AH,SMALL(ROW($AH$1:$AH$1999)+(1999*($AH$1:$AH$1999=\"\")), ROW(A1934)))&\"\"","v":""},"","","","","","","","","","","","","","","","","","","","","","","","","","","","","","","",{"$f":"INDEX(AJ:AJ,SMALL(ROW($AJ$1:$AJ$1999)+(1999*($AJ$1:$AJ$1999=\"\")), ROW(A1934)))&\"\"","v":""},"",{"$f":"INDEX(AK:AK,SMALL(ROW($AK$1:$AK$1999)+(1999*($AK$1:$AK$1999=\"\")), ROW(A1934)))&\"\"","v":""},"","","",null,"",""]
[null,null,null,null,null,null,null,null,null,null,null,null,null,null,null,null,null,null,null,null,null,null,null,null,null,null,null,null,null,null,null,null,{"$f":"INDEX(C:C, SMALL(ROW(C$1:C$5000)+(5000*(C$1:C$5000=\"\")),ROW(A1935)))&\"\"","v":""},"",{"$f":"INDEX(B:B, SMALL(ROW(B$1:B$5000)+(5000*(B$1:B$5000=\"\")),ROW(A1935)))&\"\"","v":""},"","","",null,null,{"$f":"INDEX(AH:AH,SMALL(ROW($AH$1:$AH$1999)+(1999*($AH$1:$AH$1999=\"\")), ROW(A1935)))&\"\"","v":""},"","","","","","","","","","","","","","","","","","","","","","","","","","","","","","","",{"$f":"INDEX(AJ:AJ,SMALL(ROW($AJ$1:$AJ$1999)+(1999*($AJ$1:$AJ$1999=\"\")), ROW(A1935)))&\"\"","v":""},"",{"$f":"INDEX(AK:AK,SMALL(ROW($AK$1:$AK$1999)+(1999*($AK$1:$AK$1999=\"\")), ROW(A1935)))&\"\"","v":""},"","","",null,"",""]
[null,null,null,null,null,null,null,null,null,null,null,null,null,null,null,null,null,null,null,null,null,null,null,null,null,null,null,null,null,null,null,null,{"$f":"INDEX(C:C, SMALL(ROW(C$1:C$5000)+(5000*(C$1:C$5000=\"\")),ROW(A1936)))&\"\"","v":""},"",{"$f":"INDEX(B:B, SMALL(ROW(B$1:B$5000)+(5000*(B$1:B$5000=\"\")),ROW(A1936)))&\"\"","v":""},"","","",null,null,{"$f":"INDEX(AH:AH,SMALL(ROW($AH$1:$AH$1999)+(1999*($AH$1:$AH$1999=\"\")), ROW(A1936)))&\"\"","v":""},"","","","","","","","","","","","","","","","","","","","","","","","","","","","","","","",{"$f":"INDEX(AJ:AJ,SMALL(ROW($AJ$1:$AJ$1999)+(1999*($AJ$1:$AJ$1999=\"\")), ROW(A1936)))&\"\"","v":""},"",{"$f":"INDEX(AK:AK,SMALL(ROW($AK$1:$AK$1999)+(1999*($AK$1:$AK$1999=\"\")), ROW(A1936)))&\"\"","v":""},"","","",null,"",""]
[null,null,null,null,null,null,null,null,null,null,null,null,null,null,null,null,null,null,null,null,null,null,null,null,null,null,null,null,null,null,null,null,{"$f":"INDEX(C:C, SMALL(ROW(C$1:C$5000)+(5000*(C$1:C$5000=\"\")),ROW(A1937)))&\"\"","v":""},"",{"$f":"INDEX(B:B, SMALL(ROW(B$1:B$5000)+(5000*(B$1:B$5000=\"\")),ROW(A1937)))&\"\"","v":""},"","","",null,null,{"$f":"INDEX(AH:AH,SMALL(ROW($AH$1:$AH$1999)+(1999*($AH$1:$AH$1999=\"\")), ROW(A1937)))&\"\"","v":""},"","","","","","","","","","","","","","","","","","","","","","","","","","","","","","","",{"$f":"INDEX(AJ:AJ,SMALL(ROW($AJ$1:$AJ$1999)+(1999*($AJ$1:$AJ$1999=\"\")), ROW(A1937)))&\"\"","v":""},"",{"$f":"INDEX(AK:AK,SMALL(ROW($AK$1:$AK$1999)+(1999*($AK$1:$AK$1999=\"\")), ROW(A1937)))&\"\"","v":""},"","","",null,"",""]
[null,null,null,null,null,null,null,null,null,null,null,null,null,null,null,null,null,null,null,null,null,null,null,null,null,null,null,null,null,null,null,null,{"$f":"INDEX(C:C, SMALL(ROW(C$1:C$5000)+(5000*(C$1:C$5000=\"\")),ROW(A1938)))&\"\"","v":""},"",{"$f":"INDEX(B:B, SMALL(ROW(B$1:B$5000)+(5000*(B$1:B$5000=\"\")),ROW(A1938)))&\"\"","v":""},"","","",null,null,{"$f":"INDEX(AH:AH,SMALL(ROW($AH$1:$AH$1999)+(1999*($AH$1:$AH$1999=\"\")), ROW(A1938)))&\"\"","v":""},"","","","","","","","","","","","","","","","","","","","","","","","","","","","","","","",{"$f":"INDEX(AJ:AJ,SMALL(ROW($AJ$1:$AJ$1999)+(1999*($AJ$1:$AJ$1999=\"\")), ROW(A1938)))&\"\"","v":""},"",{"$f":"INDEX(AK:AK,SMALL(ROW($AK$1:$AK$1999)+(1999*($AK$1:$AK$1999=\"\")), ROW(A1938)))&\"\"","v":""},"","","",null,"",""]
[null,null,null,null,null,null,null,null,null,null,null,null,null,null,null,null,null,null,null,null,null,null,null,null,null,null,null,null,null,null,null,null,{"$f":"INDEX(C:C, SMALL(ROW(C$1:C$5000)+(5000*(C$1:C$5000=\"\")),ROW(A1939)))&\"\"","v":""},"",{"$f":"INDEX(B:B, SMALL(ROW(B$1:B$5000)+(5000*(B$1:B$5000=\"\")),ROW(A1939)))&\"\"","v":""},"","","",null,null,{"$f":"INDEX(AH:AH,SMALL(ROW($AH$1:$AH$1999)+(1999*($AH$1:$AH$1999=\"\")), ROW(A1939)))&\"\"","v":""},"","","","","","","","","","","","","","","","","","","","","","","","","","","","","","","",{"$f":"INDEX(AJ:AJ,SMALL(ROW($AJ$1:$AJ$1999)+(1999*($AJ$1:$AJ$1999=\"\")), ROW(A1939)))&\"\"","v":""},"",{"$f":"INDEX(AK:AK,SMALL(ROW($AK$1:$AK$1999)+(1999*($AK$1:$AK$1999=\"\")), ROW(A1939)))&\"\"","v":""},"","","",null,"",""]
[null,null,null,null,null,null,null,null,null,null,null,null,null,null,null,null,null,null,null,null,null,null,null,null,null,null,null,null,null,null,null,null,{"$f":"INDEX(C:C, SMALL(ROW(C$1:C$5000)+(5000*(C$1:C$5000=\"\")),ROW(A1940)))&\"\"","v":""},"",{"$f":"INDEX(B:B, SMALL(ROW(B$1:B$5000)+(5000*(B$1:B$5000=\"\")),ROW(A1940)))&\"\"","v":""},"","","",null,null,{"$f":"INDEX(AH:AH,SMALL(ROW($AH$1:$AH$1999)+(1999*($AH$1:$AH$1999=\"\")), ROW(A1940)))&\"\"","v":""},"","","","","","","","","","","","","","","","","","","","","","","","","","","","","","","",{"$f":"INDEX(AJ:AJ,SMALL(ROW($AJ$1:$AJ$1999)+(1999*($AJ$1:$AJ$1999=\"\")), ROW(A1940)))&\"\"","v":""},"",{"$f":"INDEX(AK:AK,SMALL(ROW($AK$1:$AK$1999)+(1999*($AK$1:$AK$1999=\"\")), ROW(A1940)))&\"\"","v":""},"","","",null,"",""]
[null,null,null,null,null,null,null,null,null,null,null,null,null,null,null,null,null,null,null,null,null,null,null,null,null,null,null,null,null,null,null,null,{"$f":"INDEX(C:C, SMALL(ROW(C$1:C$5000)+(5000*(C$1:C$5000=\"\")),ROW(A1941)))&\"\"","v":""},"",{"$f":"INDEX(B:B, SMALL(ROW(B$1:B$5000)+(5000*(B$1:B$5000=\"\")),ROW(A1941)))&\"\"","v":""},"","","",null,null,{"$f":"INDEX(AH:AH,SMALL(ROW($AH$1:$AH$1999)+(1999*($AH$1:$AH$1999=\"\")), ROW(A1941)))&\"\"","v":""},"","","","","","","","","","","","","","","","","","","","","","","","","","","","","","","",{"$f":"INDEX(AJ:AJ,SMALL(ROW($AJ$1:$AJ$1999)+(1999*($AJ$1:$AJ$1999=\"\")), ROW(A1941)))&\"\"","v":""},"",{"$f":"INDEX(AK:AK,SMALL(ROW($AK$1:$AK$1999)+(1999*($AK$1:$AK$1999=\"\")), ROW(A1941)))&\"\"","v":""},"","","",null,"",""]
[null,null,null,null,null,null,null,null,null,null,null,null,null,null,null,null,null,null,null,null,null,null,null,null,null,null,null,null,null,null,null,null,{"$f":"INDEX(C:C, SMALL(ROW(C$1:C$5000)+(5000*(C$1:C$5000=\"\")),ROW(A1942)))&\"\"","v":""},"",{"$f":"INDEX(B:B, SMALL(ROW(B$1:B$5000)+(5000*(B$1:B$5000=\"\")),ROW(A1942)))&\"\"","v":""},"","","",null,null,{"$f":"INDEX(AH:AH,SMALL(ROW($AH$1:$AH$1999)+(1999*($AH$1:$AH$1999=\"\")), ROW(A1942)))&\"\"","v":""},"","","","","","","","","","","","","","","","","","","","","","","","","","","","","","","",{"$f":"INDEX(AJ:AJ,SMALL(ROW($AJ$1:$AJ$1999)+(1999*($AJ$1:$AJ$1999=\"\")), ROW(A1942)))&\"\"","v":""},"",{"$f":"INDEX(AK:AK,SMALL(ROW($AK$1:$AK$1999)+(1999*($AK$1:$AK$1999=\"\")), ROW(A1942)))&\"\"","v":""},"","","",null,"",""]
[null,null,null,null,null,null,null,null,null,null,null,null,null,null,null,null,null,null,null,null,null,null,null,null,null,null,null,null,null,null,null,null,{"$f":"INDEX(C:C, SMALL(ROW(C$1:C$5000)+(5000*(C$1:C$5000=\"\")),ROW(A1943)))&\"\"","v":""},"",{"$f":"INDEX(B:B, SMALL(ROW(B$1:B$5000)+(5000*(B$1:B$5000=\"\")),ROW(A1943)))&\"\"","v":""},"","","",null,null,{"$f":"INDEX(AH:AH,SMALL(ROW($AH$1:$AH$1999)+(1999*($AH$1:$AH$1999=\"\")), ROW(A1943)))&\"\"","v":""},"","","","","","","","","","","","","","","","","","","","","","","","","","","","","","","",{"$f":"INDEX(AJ:AJ,SMALL(ROW($AJ$1:$AJ$1999)+(1999*($AJ$1:$AJ$1999=\"\")), ROW(A1943)))&\"\"","v":""},"",{"$f":"INDEX(AK:AK,SMALL(ROW($AK$1:$AK$1999)+(1999*($AK$1:$AK$1999=\"\")), ROW(A1943)))&\"\"","v":""},"","","",null,"",""]
[null,null,null,null,null,null,null,null,null,null,null,null,null,null,null,null,null,null,null,null,null,null,null,null,null,null,null,null,null,null,null,null,{"$f":"INDEX(C:C, SMALL(ROW(C$1:C$5000)+(5000*(C$1:C$5000=\"\")),ROW(A1944)))&\"\"","v":""},"",{"$f":"INDEX(B:B, SMALL(ROW(B$1:B$5000)+(5000*(B$1:B$5000=\"\")),ROW(A1944)))&\"\"","v":""},"","","",null,null,{"$f":"INDEX(AH:AH,SMALL(ROW($AH$1:$AH$1999)+(1999*($AH$1:$AH$1999=\"\")), ROW(A1944)))&\"\"","v":""},"","","","","","","","","","","","","","","","","","","","","","","","","","","","","","","",{"$f":"INDEX(AJ:AJ,SMALL(ROW($AJ$1:$AJ$1999)+(1999*($AJ$1:$AJ$1999=\"\")), ROW(A1944)))&\"\"","v":""},"",{"$f":"INDEX(AK:AK,SMALL(ROW($AK$1:$AK$1999)+(1999*($AK$1:$AK$1999=\"\")), ROW(A1944)))&\"\"","v":""},"","","",null,"",""]
[null,null,null,null,null,null,null,null,null,null,null,null,null,null,null,null,null,null,null,null,null,null,null,null,null,null,null,null,null,null,null,null,{"$f":"INDEX(C:C, SMALL(ROW(C$1:C$5000)+(5000*(C$1:C$5000=\"\")),ROW(A1945)))&\"\"","v":""},"",{"$f":"INDEX(B:B, SMALL(ROW(B$1:B$5000)+(5000*(B$1:B$5000=\"\")),ROW(A1945)))&\"\"","v":""},"","","",null,null,{"$f":"INDEX(AH:AH,SMALL(ROW($AH$1:$AH$1999)+(1999*($AH$1:$AH$1999=\"\")), ROW(A1945)))&\"\"","v":""},"","","","","","","","","","","","","","","","","","","","","","","","","","","","","","","",{"$f":"INDEX(AJ:AJ,SMALL(ROW($AJ$1:$AJ$1999)+(1999*($AJ$1:$AJ$1999=\"\")), ROW(A1945)))&\"\"","v":""},"",{"$f":"INDEX(AK:AK,SMALL(ROW($AK$1:$AK$1999)+(1999*($AK$1:$AK$1999=\"\")), ROW(A1945)))&\"\"","v":""},"","","",null,"",""]
[null,null,null,null,null,null,null,null,null,null,null,null,null,null,null,null,null,null,null,null,null,null,null,null,null,null,null,null,null,null,null,null,{"$f":"INDEX(C:C, SMALL(ROW(C$1:C$5000)+(5000*(C$1:C$5000=\"\")),ROW(A1946)))&\"\"","v":""},"",{"$f":"INDEX(B:B, SMALL(ROW(B$1:B$5000)+(5000*(B$1:B$5000=\"\")),ROW(A1946)))&\"\"","v":""},"","","",null,null,{"$f":"INDEX(AH:AH,SMALL(ROW($AH$1:$AH$1999)+(1999*($AH$1:$AH$1999=\"\")), ROW(A1946)))&\"\"","v":""},"","","","","","","","","","","","","","","","","","","","","","","","","","","","","","","",{"$f":"INDEX(AJ:AJ,SMALL(ROW($AJ$1:$AJ$1999)+(1999*($AJ$1:$AJ$1999=\"\")), ROW(A1946)))&\"\"","v":""},"",{"$f":"INDEX(AK:AK,SMALL(ROW($AK$1:$AK$1999)+(1999*($AK$1:$AK$1999=\"\")), ROW(A1946)))&\"\"","v":""},"","","",null,"",""]
[null,null,null,null,null,null,null,null,null,null,null,null,null,null,null,null,null,null,null,null,null,null,null,null,null,null,null,null,null,null,null,null,{"$f":"INDEX(C:C, SMALL(ROW(C$1:C$5000)+(5000*(C$1:C$5000=\"\")),ROW(A1947)))&\"\"","v":""},"",{"$f":"INDEX(B:B, SMALL(ROW(B$1:B$5000)+(5000*(B$1:B$5000=\"\")),ROW(A1947)))&\"\"","v":""},"","","",null,null,{"$f":"INDEX(AH:AH,SMALL(ROW($AH$1:$AH$1999)+(1999*($AH$1:$AH$1999=\"\")), ROW(A1947)))&\"\"","v":""},"","","","","","","","","","","","","","","","","","","","","","","","","","","","","","","",{"$f":"INDEX(AJ:AJ,SMALL(ROW($AJ$1:$AJ$1999)+(1999*($AJ$1:$AJ$1999=\"\")), ROW(A1947)))&\"\"","v":""},"",{"$f":"INDEX(AK:AK,SMALL(ROW($AK$1:$AK$1999)+(1999*($AK$1:$AK$1999=\"\")), ROW(A1947)))&\"\"","v":""},"","","",null,"",""]
[null,null,null,null,null,null,null,null,null,null,null,null,null,null,null,null,null,null,null,null,null,null,null,null,null,null,null,null,null,null,null,null,{"$f":"INDEX(C:C, SMALL(ROW(C$1:C$5000)+(5000*(C$1:C$5000=\"\")),ROW(A1948)))&\"\"","v":""},"",{"$f":"INDEX(B:B, SMALL(ROW(B$1:B$5000)+(5000*(B$1:B$5000=\"\")),ROW(A1948)))&\"\"","v":""},"","","",null,null,{"$f":"INDEX(AH:AH,SMALL(ROW($AH$1:$AH$1999)+(1999*($AH$1:$AH$1999=\"\")), ROW(A1948)))&\"\"","v":""},"","","","","","","","","","","","","","","","","","","","","","","","","","","","","","","",{"$f":"INDEX(AJ:AJ,SMALL(ROW($AJ$1:$AJ$1999)+(1999*($AJ$1:$AJ$1999=\"\")), ROW(A1948)))&\"\"","v":""},"",{"$f":"INDEX(AK:AK,SMALL(ROW($AK$1:$AK$1999)+(1999*($AK$1:$AK$1999=\"\")), ROW(A1948)))&\"\"","v":""},"","","",null,"",""]
[null,null,null,null,null,null,null,null,null,null,null,null,null,null,null,null,null,null,null,null,null,null,null,null,null,null,null,null,null,null,null,null,{"$f":"INDEX(C:C, SMALL(ROW(C$1:C$5000)+(5000*(C$1:C$5000=\"\")),ROW(A1949)))&\"\"","v":""},"",{"$f":"INDEX(B:B, SMALL(ROW(B$1:B$5000)+(5000*(B$1:B$5000=\"\")),ROW(A1949)))&\"\"","v":""},"","","",null,null,{"$f":"INDEX(AH:AH,SMALL(ROW($AH$1:$AH$1999)+(1999*($AH$1:$AH$1999=\"\")), ROW(A1949)))&\"\"","v":""},"","","","","","","","","","","","","","","","","","","","","","","","","","","","","","","",{"$f":"INDEX(AJ:AJ,SMALL(ROW($AJ$1:$AJ$1999)+(1999*($AJ$1:$AJ$1999=\"\")), ROW(A1949)))&\"\"","v":""},"",{"$f":"INDEX(AK:AK,SMALL(ROW($AK$1:$AK$1999)+(1999*($AK$1:$AK$1999=\"\")), ROW(A1949)))&\"\"","v":""},"","","",null,"",""]
[null,null,null,null,null,null,null,null,null,null,null,null,null,null,null,null,null,null,null,null,null,null,null,null,null,null,null,null,null,null,null,null,{"$f":"INDEX(C:C, SMALL(ROW(C$1:C$5000)+(5000*(C$1:C$5000=\"\")),ROW(A1950)))&\"\"","v":""},"",{"$f":"INDEX(B:B, SMALL(ROW(B$1:B$5000)+(5000*(B$1:B$5000=\"\")),ROW(A1950)))&\"\"","v":""},"","","",null,null,{"$f":"INDEX(AH:AH,SMALL(ROW($AH$1:$AH$1999)+(1999*($AH$1:$AH$1999=\"\")), ROW(A1950)))&\"\"","v":""},"","","","","","","","","","","",{"$f":"IFERROR(IF(ISNUMBER(SEARCH(\"*TE*\",AZ1950)),BV1950,\"\"),VALUE(0))","v":""},"","","","","","","","","","","","","","","","","","","",{"$f":"INDEX(AJ:AJ,SMALL(ROW($AJ$1:$AJ$1999)+(1999*($AJ$1:$AJ$1999=\"\")), ROW(A1950)))&\"\"","v":""},"",{"$f":"INDEX(AK:AK,SMALL(ROW($AK$1:$AK$1999)+(1999*($AK$1:$AK$1999=\"\")), ROW(A1950)))&\"\"","v":""},"","","",null,"",""]
[null,null,null,null,null,null,null,null,null,null,null,null,null,null,null,null,null,null,null,null,null,null,null,null,null,null,null,null,null,null,null,null,{"$f":"INDEX(C:C, SMALL(ROW(C$1:C$5000)+(5000*(C$1:C$5000=\"\")),ROW(A1951)))&\"\"","v":""},"",{"$f":"INDEX(B:B, SMALL(ROW(B$1:B$5000)+(5000*(B$1:B$5000=\"\")),ROW(A1951)))&\"\"","v":""},"","","",null,null,{"$f":"INDEX(AH:AH,SMALL(ROW($AH$1:$AH$1999)+(1999*($AH$1:$AH$1999=\"\")), ROW(A1951)))&\"\"","v":""},"","","","","","","","","","","","","","","","","","","","","","","","","","","","","","","",{"$f":"INDEX(AJ:AJ,SMALL(ROW($AJ$1:$AJ$1999)+(1999*($AJ$1:$AJ$1999=\"\")), ROW(A1951)))&\"\"","v":""},"",{"$f":"INDEX(AK:AK,SMALL(ROW($AK$1:$AK$1999)+(1999*($AK$1:$AK$1999=\"\")), ROW(A1951)))&\"\"","v":""},"","","",null,"",""]
[null,null,null,null,null,null,null,null,null,null,null,null,null,null,null,null,null,null,null,null,null,null,null,null,null,null,null,null,null,null,null,null,{"$f":"INDEX(C:C, SMALL(ROW(C$1:C$5000)+(5000*(C$1:C$5000=\"\")),ROW(A1952)))&\"\"","v":""},"",{"$f":"INDEX(B:B, SMALL(ROW(B$1:B$5000)+(5000*(B$1:B$5000=\"\")),ROW(A1952)))&\"\"","v":""},"","","",null,null,{"$f":"INDEX(AH:AH,SMALL(ROW($AH$1:$AH$1999)+(1999*($AH$1:$AH$1999=\"\")), ROW(A1952)))&\"\"","v":""},"","","","","","","","","","","","","","","","","","","","","","","","","","","","","","","",{"$f":"INDEX(AJ:AJ,SMALL(ROW($AJ$1:$AJ$1999)+(1999*($AJ$1:$AJ$1999=\"\")), ROW(A1952)))&\"\"","v":""},"",{"$f":"INDEX(AK:AK,SMALL(ROW($AK$1:$AK$1999)+(1999*($AK$1:$AK$1999=\"\")), ROW(A1952)))&\"\"","v":""},"","","",null,"",""]
[null,null,null,null,null,null,null,null,null,null,null,null,null,null,null,null,null,null,null,null,null,null,null,null,null,null,null,null,null,null,null,null,{"$f":"INDEX(C:C, SMALL(ROW(C$1:C$5000)+(5000*(C$1:C$5000=\"\")),ROW(A1953)))&\"\"","v":""},"",{"$f":"INDEX(B:B, SMALL(ROW(B$1:B$5000)+(5000*(B$1:B$5000=\"\")),ROW(A1953)))&\"\"","v":""},"","","",null,null,{"$f":"INDEX(AH:AH,SMALL(ROW($AH$1:$AH$1999)+(1999*($AH$1:$AH$1999=\"\")), ROW(A1953)))&\"\"","v":""},"","","","","","","","","","","","","","","","","","","","","","","","","","","","","","","",{"$f":"INDEX(AJ:AJ,SMALL(ROW($AJ$1:$AJ$1999)+(1999*($AJ$1:$AJ$1999=\"\")), ROW(A1953)))&\"\"","v":""},"",{"$f":"INDEX(AK:AK,SMALL(ROW($AK$1:$AK$1999)+(1999*($AK$1:$AK$1999=\"\")), ROW(A1953)))&\"\"","v":""},"","","",null,"",""]
[null,null,null,null,null,null,null,null,null,null,null,null,null,null,null,null,null,null,null,null,null,null,null,null,null,null,null,null,null,null,null,null,{"$f":"INDEX(C:C, SMALL(ROW(C$1:C$5000)+(5000*(C$1:C$5000=\"\")),ROW(A1954)))&\"\"","v":""},"",{"$f":"INDEX(B:B, SMALL(ROW(B$1:B$5000)+(5000*(B$1:B$5000=\"\")),ROW(A1954)))&\"\"","v":""},"","","",null,null,{"$f":"INDEX(AH:AH,SMALL(ROW($AH$1:$AH$1999)+(1999*($AH$1:$AH$1999=\"\")), ROW(A1954)))&\"\"","v":""},"","","","","","","","","","","","","","","","","","","","","","","","","","","","","","","",{"$f":"INDEX(AJ:AJ,SMALL(ROW($AJ$1:$AJ$1999)+(1999*($AJ$1:$AJ$1999=\"\")), ROW(A1954)))&\"\"","v":""},"",{"$f":"INDEX(AK:AK,SMALL(ROW($AK$1:$AK$1999)+(1999*($AK$1:$AK$1999=\"\")), ROW(A1954)))&\"\"","v":""},"","","",null,"",""]
[null,null,null,null,null,null,null,null,null,null,null,null,null,null,null,null,null,null,null,null,null,null,null,null,null,null,null,null,null,null,null,null,{"$f":"INDEX(C:C, SMALL(ROW(C$1:C$5000)+(5000*(C$1:C$5000=\"\")),ROW(A1955)))&\"\"","v":""},"",{"$f":"INDEX(B:B, SMALL(ROW(B$1:B$5000)+(5000*(B$1:B$5000=\"\")),ROW(A1955)))&\"\"","v":""},"","","",null,null,{"$f":"INDEX(AH:AH,SMALL(ROW($AH$1:$AH$1999)+(1999*($AH$1:$AH$1999=\"\")), ROW(A1955)))&\"\"","v":""},"","","","","","","","","","","","","","","","","","","","","","","","","","","","","","","",{"$f":"INDEX(AJ:AJ,SMALL(ROW($AJ$1:$AJ$1999)+(1999*($AJ$1:$AJ$1999=\"\")), ROW(A1955)))&\"\"","v":""},"",{"$f":"INDEX(AK:AK,SMALL(ROW($AK$1:$AK$1999)+(1999*($AK$1:$AK$1999=\"\")), ROW(A1955)))&\"\"","v":""},"","","",null,"",""]
[null,null,null,null,null,null,null,null,null,null,null,null,null,null,null,null,null,null,null,null,null,null,null,null,null,null,null,null,null,null,null,null,{"$f":"INDEX(C:C, SMALL(ROW(C$1:C$5000)+(5000*(C$1:C$5000=\"\")),ROW(A1956)))&\"\"","v":""},"",{"$f":"INDEX(B:B, SMALL(ROW(B$1:B$5000)+(5000*(B$1:B$5000=\"\")),ROW(A1956)))&\"\"","v":""},"","","",null,null,{"$f":"INDEX(AH:AH,SMALL(ROW($AH$1:$AH$1999)+(1999*($AH$1:$AH$1999=\"\")), ROW(A1956)))&\"\"","v":""},"","","","","","","","","","","","","","","","","","","","","","","","","","","","","","","",{"$f":"INDEX(AJ:AJ,SMALL(ROW($AJ$1:$AJ$1999)+(1999*($AJ$1:$AJ$1999=\"\")), ROW(A1956)))&\"\"","v":""},"",{"$f":"INDEX(AK:AK,SMALL(ROW($AK$1:$AK$1999)+(1999*($AK$1:$AK$1999=\"\")), ROW(A1956)))&\"\"","v":""},"","","",null,"",""]
[null,null,null,null,null,null,null,null,null,null,null,null,null,null,null,null,null,null,null,null,null,null,null,null,null,null,null,null,null,null,null,null,{"$f":"INDEX(C:C, SMALL(ROW(C$1:C$5000)+(5000*(C$1:C$5000=\"\")),ROW(A1957)))&\"\"","v":""},"",{"$f":"INDEX(B:B, SMALL(ROW(B$1:B$5000)+(5000*(B$1:B$5000=\"\")),ROW(A1957)))&\"\"","v":""},"","","",null,null,{"$f":"INDEX(AH:AH,SMALL(ROW($AH$1:$AH$1999)+(1999*($AH$1:$AH$1999=\"\")), ROW(A1957)))&\"\"","v":""},"","","","","","","","","","","","","","","","","","","","","","","","","","","","","","","",{"$f":"INDEX(AJ:AJ,SMALL(ROW($AJ$1:$AJ$1999)+(1999*($AJ$1:$AJ$1999=\"\")), ROW(A1957)))&\"\"","v":""},"",{"$f":"INDEX(AK:AK,SMALL(ROW($AK$1:$AK$1999)+(1999*($AK$1:$AK$1999=\"\")), ROW(A1957)))&\"\"","v":""},"","","",null,"",""]
[null,null,null,null,null,null,null,null,null,null,null,null,null,null,null,null,null,null,null,null,null,null,null,null,null,null,null,null,null,null,null,null,{"$f":"INDEX(C:C, SMALL(ROW(C$1:C$5000)+(5000*(C$1:C$5000=\"\")),ROW(A1958)))&\"\"","v":""},"",{"$f":"INDEX(B:B, SMALL(ROW(B$1:B$5000)+(5000*(B$1:B$5000=\"\")),ROW(A1958)))&\"\"","v":""},"","","",null,null,{"$f":"INDEX(AH:AH,SMALL(ROW($AH$1:$AH$1999)+(1999*($AH$1:$AH$1999=\"\")), ROW(A1958)))&\"\"","v":""},"","","","","","","","","","","","","","","","","","","","","","","","","","","","","","","",{"$f":"INDEX(AJ:AJ,SMALL(ROW($AJ$1:$AJ$1999)+(1999*($AJ$1:$AJ$1999=\"\")), ROW(A1958)))&\"\"","v":""},"",{"$f":"INDEX(AK:AK,SMALL(ROW($AK$1:$AK$1999)+(1999*($AK$1:$AK$1999=\"\")), ROW(A1958)))&\"\"","v":""},"","","",null,"",""]
[null,null,null,null,null,null,null,null,null,null,null,null,null,null,null,null,null,null,null,null,null,null,null,null,null,null,null,null,null,null,null,null,{"$f":"INDEX(C:C, SMALL(ROW(C$1:C$5000)+(5000*(C$1:C$5000=\"\")),ROW(A1959)))&\"\"","v":""},"",{"$f":"INDEX(B:B, SMALL(ROW(B$1:B$5000)+(5000*(B$1:B$5000=\"\")),ROW(A1959)))&\"\"","v":""},"","","",null,null,{"$f":"INDEX(AH:AH,SMALL(ROW($AH$1:$AH$1999)+(1999*($AH$1:$AH$1999=\"\")), ROW(A1959)))&\"\"","v":""},"","","","","","","","","","","","","","","","","","","","","","","","","","","","","","","",{"$f":"INDEX(AJ:AJ,SMALL(ROW($AJ$1:$AJ$1999)+(1999*($AJ$1:$AJ$1999=\"\")), ROW(A1959)))&\"\"","v":""},"",{"$f":"INDEX(AK:AK,SMALL(ROW($AK$1:$AK$1999)+(1999*($AK$1:$AK$1999=\"\")), ROW(A1959)))&\"\"","v":""},"","","",null,"",""]
[null,null,null,null,null,null,null,null,null,null,null,null,null,null,null,null,null,null,null,null,null,null,null,null,null,null,null,null,null,null,null,null,{"$f":"INDEX(C:C, SMALL(ROW(C$1:C$5000)+(5000*(C$1:C$5000=\"\")),ROW(A1960)))&\"\"","v":""},"",{"$f":"INDEX(B:B, SMALL(ROW(B$1:B$5000)+(5000*(B$1:B$5000=\"\")),ROW(A1960)))&\"\"","v":""},"","","",null,null,{"$f":"INDEX(AH:AH,SMALL(ROW($AH$1:$AH$1999)+(1999*($AH$1:$AH$1999=\"\")), ROW(A1960)))&\"\"","v":""},"","","","","","","","","","","","","","","","","","","","","","","","","","","","","","","",{"$f":"INDEX(AJ:AJ,SMALL(ROW($AJ$1:$AJ$1999)+(1999*($AJ$1:$AJ$1999=\"\")), ROW(A1960)))&\"\"","v":""},"",{"$f":"INDEX(AK:AK,SMALL(ROW($AK$1:$AK$1999)+(1999*($AK$1:$AK$1999=\"\")), ROW(A1960)))&\"\"","v":""},"","","",null,"",""]
[null,null,null,null,null,null,null,null,null,null,null,null,null,null,null,null,null,null,null,null,null,null,null,null,null,null,null,null,null,null,null,null,{"$f":"INDEX(C:C, SMALL(ROW(C$1:C$5000)+(5000*(C$1:C$5000=\"\")),ROW(A1961)))&\"\"","v":""},"",{"$f":"INDEX(B:B, SMALL(ROW(B$1:B$5000)+(5000*(B$1:B$5000=\"\")),ROW(A1961)))&\"\"","v":""},"","","",null,null,{"$f":"INDEX(AH:AH,SMALL(ROW($AH$1:$AH$1999)+(1999*($AH$1:$AH$1999=\"\")), ROW(A1961)))&\"\"","v":""},"","","","","","","","","","","","","","","","","","","","","","","","","","","","","","","",{"$f":"INDEX(AJ:AJ,SMALL(ROW($AJ$1:$AJ$1999)+(1999*($AJ$1:$AJ$1999=\"\")), ROW(A1961)))&\"\"","v":""},"",{"$f":"INDEX(AK:AK,SMALL(ROW($AK$1:$AK$1999)+(1999*($AK$1:$AK$1999=\"\")), ROW(A1961)))&\"\"","v":""},"","","",null,"",""]
[null,null,null,null,null,null,null,null,null,null,null,null,null,null,null,null,null,null,null,null,null,null,null,null,null,null,null,null,null,null,null,null,{"$f":"INDEX(C:C, SMALL(ROW(C$1:C$5000)+(5000*(C$1:C$5000=\"\")),ROW(A1962)))&\"\"","v":""},"",{"$f":"INDEX(B:B, SMALL(ROW(B$1:B$5000)+(5000*(B$1:B$5000=\"\")),ROW(A1962)))&\"\"","v":""},"","","",null,null,{"$f":"INDEX(AH:AH,SMALL(ROW($AH$1:$AH$1999)+(1999*($AH$1:$AH$1999=\"\")), ROW(A1962)))&\"\"","v":""},"","","","","","","","","","","","","","","","","","","","","","","","","","","","","","","",{"$f":"INDEX(AJ:AJ,SMALL(ROW($AJ$1:$AJ$1999)+(1999*($AJ$1:$AJ$1999=\"\")), ROW(A1962)))&\"\"","v":""},"",{"$f":"INDEX(AK:AK,SMALL(ROW($AK$1:$AK$1999)+(1999*($AK$1:$AK$1999=\"\")), ROW(A1962)))&\"\"","v":""},"","","",null,"",""]
[null,null,null,null,null,null,null,null,null,null,null,null,null,null,null,null,null,null,null,null,null,null,null,null,null,null,null,null,null,null,null,null,{"$f":"INDEX(C:C, SMALL(ROW(C$1:C$5000)+(5000*(C$1:C$5000=\"\")),ROW(A1963)))&\"\"","v":""},"",{"$f":"INDEX(B:B, SMALL(ROW(B$1:B$5000)+(5000*(B$1:B$5000=\"\")),ROW(A1963)))&\"\"","v":""},"","","",null,null,{"$f":"INDEX(AH:AH,SMALL(ROW($AH$1:$AH$1999)+(1999*($AH$1:$AH$1999=\"\")), ROW(A1963)))&\"\"","v":""},"","","","","","","","","","","","","","","","","","","","","","","","","","","","","","","",{"$f":"INDEX(AJ:AJ,SMALL(ROW($AJ$1:$AJ$1999)+(1999*($AJ$1:$AJ$1999=\"\")), ROW(A1963)))&\"\"","v":""},"",{"$f":"INDEX(AK:AK,SMALL(ROW($AK$1:$AK$1999)+(1999*($AK$1:$AK$1999=\"\")), ROW(A1963)))&\"\"","v":""},"","","",null,"",""]
[null,null,null,null,null,null,null,null,null,null,null,null,null,null,null,null,null,null,null,null,null,null,null,null,null,null,null,null,null,null,null,null,{"$f":"INDEX(C:C, SMALL(ROW(C$1:C$5000)+(5000*(C$1:C$5000=\"\")),ROW(A1964)))&\"\"","v":""},"",{"$f":"INDEX(B:B, SMALL(ROW(B$1:B$5000)+(5000*(B$1:B$5000=\"\")),ROW(A1964)))&\"\"","v":""},"","","",null,null,{"$f":"INDEX(AH:AH,SMALL(ROW($AH$1:$AH$1999)+(1999*($AH$1:$AH$1999=\"\")), ROW(A1964)))&\"\"","v":""},"","","","","","","","","","","","","","","","","","","","","","","","","","","","","","","",{"$f":"INDEX(AJ:AJ,SMALL(ROW($AJ$1:$AJ$1999)+(1999*($AJ$1:$AJ$1999=\"\")), ROW(A1964)))&\"\"","v":""},"",{"$f":"INDEX(AK:AK,SMALL(ROW($AK$1:$AK$1999)+(1999*($AK$1:$AK$1999=\"\")), ROW(A1964)))&\"\"","v":""},"","","",null,"",""]
[null,null,null,null,null,null,null,null,null,null,null,null,null,null,null,null,null,null,null,null,null,null,null,null,null,null,null,null,null,null,null,null,{"$f":"INDEX(C:C, SMALL(ROW(C$1:C$5000)+(5000*(C$1:C$5000=\"\")),ROW(A1965)))&\"\"","v":""},"",{"$f":"INDEX(B:B, SMALL(ROW(B$1:B$5000)+(5000*(B$1:B$5000=\"\")),ROW(A1965)))&\"\"","v":""},"","","",null,null,{"$f":"INDEX(AH:AH,SMALL(ROW($AH$1:$AH$1999)+(1999*($AH$1:$AH$1999=\"\")), ROW(A1965)))&\"\"","v":""},"","","","","","","","","","","","","","","","","","","","","","","","","","","","","","","",{"$f":"INDEX(AJ:AJ,SMALL(ROW($AJ$1:$AJ$1999)+(1999*($AJ$1:$AJ$1999=\"\")), ROW(A1965)))&\"\"","v":""},"",{"$f":"INDEX(AK:AK,SMALL(ROW($AK$1:$AK$1999)+(1999*($AK$1:$AK$1999=\"\")), ROW(A1965)))&\"\"","v":""},"","","",null,"",""]
[null,null,null,null,null,null,null,null,null,null,null,null,null,null,null,null,null,null,null,null,null,null,null,null,null,null,null,null,null,null,null,null,{"$f":"INDEX(C:C, SMALL(ROW(C$1:C$5000)+(5000*(C$1:C$5000=\"\")),ROW(A1966)))&\"\"","v":""},"",{"$f":"INDEX(B:B, SMALL(ROW(B$1:B$5000)+(5000*(B$1:B$5000=\"\")),ROW(A1966)))&\"\"","v":""},"","","",null,null,{"$f":"INDEX(AH:AH,SMALL(ROW($AH$1:$AH$1999)+(1999*($AH$1:$AH$1999=\"\")), ROW(A1966)))&\"\"","v":""},"","","","","","","","","","","","","","","","","","","","","","","","","","","","","","","",{"$f":"INDEX(AJ:AJ,SMALL(ROW($AJ$1:$AJ$1999)+(1999*($AJ$1:$AJ$1999=\"\")), ROW(A1966)))&\"\"","v":""},"",{"$f":"INDEX(AK:AK,SMALL(ROW($AK$1:$AK$1999)+(1999*($AK$1:$AK$1999=\"\")), ROW(A1966)))&\"\"","v":""},"","","",null,"",""]
[null,null,null,null,null,null,null,null,null,null,null,null,null,null,null,null,null,null,null,null,null,null,null,null,null,null,null,null,null,null,null,null,{"$f":"INDEX(C:C, SMALL(ROW(C$1:C$5000)+(5000*(C$1:C$5000=\"\")),ROW(A1967)))&\"\"","v":""},"",{"$f":"INDEX(B:B, SMALL(ROW(B$1:B$5000)+(5000*(B$1:B$5000=\"\")),ROW(A1967)))&\"\"","v":""},"","","",null,null,{"$f":"INDEX(AH:AH,SMALL(ROW($AH$1:$AH$1999)+(1999*($AH$1:$AH$1999=\"\")), ROW(A1967)))&\"\"","v":""},"","","","","","","","","","","","","","","","","","","","","","","","","","","","","","","",{"$f":"INDEX(AJ:AJ,SMALL(ROW($AJ$1:$AJ$1999)+(1999*($AJ$1:$AJ$1999=\"\")), ROW(A1967)))&\"\"","v":""},"",{"$f":"INDEX(AK:AK,SMALL(ROW($AK$1:$AK$1999)+(1999*($AK$1:$AK$1999=\"\")), ROW(A1967)))&\"\"","v":""},"","","",null,"",""]
[null,null,null,null,null,null,null,null,null,null,null,null,null,null,null,null,null,null,null,null,null,null,null,null,null,null,null,null,null,null,null,null,{"$f":"INDEX(C:C, SMALL(ROW(C$1:C$5000)+(5000*(C$1:C$5000=\"\")),ROW(A1968)))&\"\"","v":""},"",{"$f":"INDEX(B:B, SMALL(ROW(B$1:B$5000)+(5000*(B$1:B$5000=\"\")),ROW(A1968)))&\"\"","v":""},"","","",null,null,{"$f":"INDEX(AH:AH,SMALL(ROW($AH$1:$AH$1999)+(1999*($AH$1:$AH$1999=\"\")), ROW(A1968)))&\"\"","v":""},"","","","","","","","","","","","","","","","","","","","","","","","","","","","","","","",{"$f":"INDEX(AJ:AJ,SMALL(ROW($AJ$1:$AJ$1999)+(1999*($AJ$1:$AJ$1999=\"\")), ROW(A1968)))&\"\"","v":""},"",{"$f":"INDEX(AK:AK,SMALL(ROW($AK$1:$AK$1999)+(1999*($AK$1:$AK$1999=\"\")), ROW(A1968)))&\"\"","v":""},"","","",null,"",""]
[null,null,null,null,null,null,null,null,null,null,null,null,null,null,null,null,null,null,null,null,null,null,null,null,null,null,null,null,null,null,null,null,{"$f":"INDEX(C:C, SMALL(ROW(C$1:C$5000)+(5000*(C$1:C$5000=\"\")),ROW(A1969)))&\"\"","v":""},"",{"$f":"INDEX(B:B, SMALL(ROW(B$1:B$5000)+(5000*(B$1:B$5000=\"\")),ROW(A1969)))&\"\"","v":""},"","","",null,null,{"$f":"INDEX(AH:AH,SMALL(ROW($AH$1:$AH$1999)+(1999*($AH$1:$AH$1999=\"\")), ROW(A1969)))&\"\"","v":""},"","","","","","","","","","","","","","","","","","","","","","","","","","","","","","","",{"$f":"INDEX(AJ:AJ,SMALL(ROW($AJ$1:$AJ$1999)+(1999*($AJ$1:$AJ$1999=\"\")), ROW(A1969)))&\"\"","v":""},"",{"$f":"INDEX(AK:AK,SMALL(ROW($AK$1:$AK$1999)+(1999*($AK$1:$AK$1999=\"\")), ROW(A1969)))&\"\"","v":""},"","","",null,"",""]
[null,null,null,null,null,null,null,null,null,null,null,null,null,null,null,null,null,null,null,null,null,null,null,null,null,null,null,null,null,null,null,null,{"$f":"INDEX(C:C, SMALL(ROW(C$1:C$5000)+(5000*(C$1:C$5000=\"\")),ROW(A1970)))&\"\"","v":""},"",{"$f":"INDEX(B:B, SMALL(ROW(B$1:B$5000)+(5000*(B$1:B$5000=\"\")),ROW(A1970)))&\"\"","v":""},"","","",null,null,{"$f":"INDEX(AH:AH,SMALL(ROW($AH$1:$AH$1999)+(1999*($AH$1:$AH$1999=\"\")), ROW(A1970)))&\"\"","v":""},"","","","","","","","","","","","","","","","","","","","","","","","","","","","","","","",{"$f":"INDEX(AJ:AJ,SMALL(ROW($AJ$1:$AJ$1999)+(1999*($AJ$1:$AJ$1999=\"\")), ROW(A1970)))&\"\"","v":""},"",{"$f":"INDEX(AK:AK,SMALL(ROW($AK$1:$AK$1999)+(1999*($AK$1:$AK$1999=\"\")), ROW(A1970)))&\"\"","v":""},"","","",null,"",""]
[null,null,null,null,null,null,null,null,null,null,null,null,null,null,null,null,null,null,null,null,null,null,null,null,null,null,null,null,null,null,null,null,{"$f":"INDEX(C:C, SMALL(ROW(C$1:C$5000)+(5000*(C$1:C$5000=\"\")),ROW(A1971)))&\"\"","v":""},"",{"$f":"INDEX(B:B, SMALL(ROW(B$1:B$5000)+(5000*(B$1:B$5000=\"\")),ROW(A1971)))&\"\"","v":""},"","","",null,null,{"$f":"INDEX(AH:AH,SMALL(ROW($AH$1:$AH$1999)+(1999*($AH$1:$AH$1999=\"\")), ROW(A1971)))&\"\"","v":""},"","","","","","","","","","","","","","","","","","","","","","","","","","","","","","","",{"$f":"INDEX(AJ:AJ,SMALL(ROW($AJ$1:$AJ$1999)+(1999*($AJ$1:$AJ$1999=\"\")), ROW(A1971)))&\"\"","v":""},"",{"$f":"INDEX(AK:AK,SMALL(ROW($AK$1:$AK$1999)+(1999*($AK$1:$AK$1999=\"\")), ROW(A1971)))&\"\"","v":""},"","","",null,"",""]
[null,null,null,null,null,null,null,null,null,null,null,null,null,null,null,null,null,null,null,null,null,null,null,null,null,null,null,null,null,null,null,null,{"$f":"INDEX(C:C, SMALL(ROW(C$1:C$5000)+(5000*(C$1:C$5000=\"\")),ROW(A1972)))&\"\"","v":""},"",{"$f":"INDEX(B:B, SMALL(ROW(B$1:B$5000)+(5000*(B$1:B$5000=\"\")),ROW(A1972)))&\"\"","v":""},"","","",null,null,{"$f":"INDEX(AH:AH,SMALL(ROW($AH$1:$AH$1999)+(1999*($AH$1:$AH$1999=\"\")), ROW(A1972)))&\"\"","v":""},"","","","","","","","","","","","","","","","","","","","","","","","","","","","","","","",{"$f":"INDEX(AJ:AJ,SMALL(ROW($AJ$1:$AJ$1999)+(1999*($AJ$1:$AJ$1999=\"\")), ROW(A1972)))&\"\"","v":""},"",{"$f":"INDEX(AK:AK,SMALL(ROW($AK$1:$AK$1999)+(1999*($AK$1:$AK$1999=\"\")), ROW(A1972)))&\"\"","v":""},"","","",null,"",""]
[null,null,null,null,null,null,null,null,null,null,null,null,null,null,null,null,null,null,null,null,null,null,null,null,null,null,null,null,null,null,null,null,{"$f":"INDEX(C:C, SMALL(ROW(C$1:C$5000)+(5000*(C$1:C$5000=\"\")),ROW(A1973)))&\"\"","v":""},"",{"$f":"INDEX(B:B, SMALL(ROW(B$1:B$5000)+(5000*(B$1:B$5000=\"\")),ROW(A1973)))&\"\"","v":""},"","","",null,null,{"$f":"INDEX(AH:AH,SMALL(ROW($AH$1:$AH$1999)+(1999*($AH$1:$AH$1999=\"\")), ROW(A1973)))&\"\"","v":""},"","","","","","","","","","","","","","","","","","","","","","","","","","","","","","","",{"$f":"INDEX(AJ:AJ,SMALL(ROW($AJ$1:$AJ$1999)+(1999*($AJ$1:$AJ$1999=\"\")), ROW(A1973)))&\"\"","v":""},"",{"$f":"INDEX(AK:AK,SMALL(ROW($AK$1:$AK$1999)+(1999*($AK$1:$AK$1999=\"\")), ROW(A1973)))&\"\"","v":""},"","","",null,"",""]
[null,null,null,null,null,null,null,null,null,null,null,null,null,null,null,null,null,null,null,null,null,null,null,null,null,null,null,null,null,null,null,null,{"$f":"INDEX(C:C, SMALL(ROW(C$1:C$5000)+(5000*(C$1:C$5000=\"\")),ROW(A1974)))&\"\"","v":""},"",{"$f":"INDEX(B:B, SMALL(ROW(B$1:B$5000)+(5000*(B$1:B$5000=\"\")),ROW(A1974)))&\"\"","v":""},"","","",null,null,{"$f":"INDEX(AH:AH,SMALL(ROW($AH$1:$AH$1999)+(1999*($AH$1:$AH$1999=\"\")), ROW(A1974)))&\"\"","v":""},"","","","","","","","","","","","","","","","","","","","","","","","","","","","","","","",{"$f":"INDEX(AJ:AJ,SMALL(ROW($AJ$1:$AJ$1999)+(1999*($AJ$1:$AJ$1999=\"\")), ROW(A1974)))&\"\"","v":""},"",{"$f":"INDEX(AK:AK,SMALL(ROW($AK$1:$AK$1999)+(1999*($AK$1:$AK$1999=\"\")), ROW(A1974)))&\"\"","v":""},"","","",null,"",""]
[null,null,null,null,null,null,null,null,null,null,null,null,null,null,null,null,null,null,null,null,null,null,null,null,null,null,null,null,null,null,null,null,{"$f":"INDEX(C:C, SMALL(ROW(C$1:C$5000)+(5000*(C$1:C$5000=\"\")),ROW(A1975)))&\"\"","v":""},"",{"$f":"INDEX(B:B, SMALL(ROW(B$1:B$5000)+(5000*(B$1:B$5000=\"\")),ROW(A1975)))&\"\"","v":""},"","","",null,null,{"$f":"INDEX(AH:AH,SMALL(ROW($AH$1:$AH$1999)+(1999*($AH$1:$AH$1999=\"\")), ROW(A1975)))&\"\"","v":""},"","","","","","","","","","","","","","","","","","","","","","","","","","","","","","","",{"$f":"INDEX(AJ:AJ,SMALL(ROW($AJ$1:$AJ$1999)+(1999*($AJ$1:$AJ$1999=\"\")), ROW(A1975)))&\"\"","v":""},"",{"$f":"INDEX(AK:AK,SMALL(ROW($AK$1:$AK$1999)+(1999*($AK$1:$AK$1999=\"\")), ROW(A1975)))&\"\"","v":""},"","","",null,"",""]
[null,null,null,null,null,null,null,null,null,null,null,null,null,null,null,null,null,null,null,null,null,null,null,null,null,null,null,null,null,null,null,null,{"$f":"INDEX(C:C, SMALL(ROW(C$1:C$5000)+(5000*(C$1:C$5000=\"\")),ROW(A1976)))&\"\"","v":""},"",{"$f":"INDEX(B:B, SMALL(ROW(B$1:B$5000)+(5000*(B$1:B$5000=\"\")),ROW(A1976)))&\"\"","v":""},"","","",null,null,{"$f":"INDEX(AH:AH,SMALL(ROW($AH$1:$AH$1999)+(1999*($AH$1:$AH$1999=\"\")), ROW(A1976)))&\"\"","v":""},"","","","","","","","","","","","","","","","","","","","","","","","","","","","","","","",{"$f":"INDEX(AJ:AJ,SMALL(ROW($AJ$1:$AJ$1999)+(1999*($AJ$1:$AJ$1999=\"\")), ROW(A1976)))&\"\"","v":""},"",{"$f":"INDEX(AK:AK,SMALL(ROW($AK$1:$AK$1999)+(1999*($AK$1:$AK$1999=\"\")), ROW(A1976)))&\"\"","v":""},"","","",null,"",""]
[null,null,null,null,null,null,null,null,null,null,null,null,null,null,null,null,null,null,null,null,null,null,null,null,null,null,null,null,null,null,null,null,{"$f":"INDEX(C:C, SMALL(ROW(C$1:C$5000)+(5000*(C$1:C$5000=\"\")),ROW(A1977)))&\"\"","v":""},"",{"$f":"INDEX(B:B, SMALL(ROW(B$1:B$5000)+(5000*(B$1:B$5000=\"\")),ROW(A1977)))&\"\"","v":""},"","","",null,null,{"$f":"INDEX(AH:AH,SMALL(ROW($AH$1:$AH$1999)+(1999*($AH$1:$AH$1999=\"\")), ROW(A1977)))&\"\"","v":""},"","","","","","","","","","","","","","","","","","","","","","","","","","","","","","","",{"$f":"INDEX(AJ:AJ,SMALL(ROW($AJ$1:$AJ$1999)+(1999*($AJ$1:$AJ$1999=\"\")), ROW(A1977)))&\"\"","v":""},"",{"$f":"INDEX(AK:AK,SMALL(ROW($AK$1:$AK$1999)+(1999*($AK$1:$AK$1999=\"\")), ROW(A1977)))&\"\"","v":""},"","","",null,"",""]
[null,null,null,null,null,null,null,null,null,null,null,null,null,null,null,null,null,null,null,null,null,null,null,null,null,null,null,null,null,null,null,null,{"$f":"INDEX(C:C, SMALL(ROW(C$1:C$5000)+(5000*(C$1:C$5000=\"\")),ROW(A1978)))&\"\"","v":""},"",{"$f":"INDEX(B:B, SMALL(ROW(B$1:B$5000)+(5000*(B$1:B$5000=\"\")),ROW(A1978)))&\"\"","v":""},"","","",null,null,{"$f":"INDEX(AH:AH,SMALL(ROW($AH$1:$AH$1999)+(1999*($AH$1:$AH$1999=\"\")), ROW(A1978)))&\"\"","v":""},"","","","","","","","","","","","","","","","","","","","","","","","","","","","","","","",{"$f":"INDEX(AJ:AJ,SMALL(ROW($AJ$1:$AJ$1999)+(1999*($AJ$1:$AJ$1999=\"\")), ROW(A1978)))&\"\"","v":""},"",{"$f":"INDEX(AK:AK,SMALL(ROW($AK$1:$AK$1999)+(1999*($AK$1:$AK$1999=\"\")), ROW(A1978)))&\"\"","v":""},"","","",null,"",""]
[null,null,null,null,null,null,null,null,null,null,null,null,null,null,null,null,null,null,null,null,null,null,null,null,null,null,null,null,null,null,null,null,{"$f":"INDEX(C:C, SMALL(ROW(C$1:C$5000)+(5000*(C$1:C$5000=\"\")),ROW(A1979)))&\"\"","v":""},"",{"$f":"INDEX(B:B, SMALL(ROW(B$1:B$5000)+(5000*(B$1:B$5000=\"\")),ROW(A1979)))&\"\"","v":""},"","","",null,null,{"$f":"INDEX(AH:AH,SMALL(ROW($AH$1:$AH$1999)+(1999*($AH$1:$AH$1999=\"\")), ROW(A1979)))&\"\"","v":""},"","","","","","","","","","","","","","","","","","","","","","","","","","","","","","","",{"$f":"INDEX(AJ:AJ,SMALL(ROW($AJ$1:$AJ$1999)+(1999*($AJ$1:$AJ$1999=\"\")), ROW(A1979)))&\"\"","v":""},"",{"$f":"INDEX(AK:AK,SMALL(ROW($AK$1:$AK$1999)+(1999*($AK$1:$AK$1999=\"\")), ROW(A1979)))&\"\"","v":""},"","","",null,"",""]
[null,null,null,null,null,null,null,null,null,null,null,null,null,null,null,null,null,null,null,null,null,null,null,null,null,null,null,null,null,null,null,null,{"$f":"INDEX(C:C, SMALL(ROW(C$1:C$5000)+(5000*(C$1:C$5000=\"\")),ROW(A1980)))&\"\"","v":""},"",{"$f":"INDEX(B:B, SMALL(ROW(B$1:B$5000)+(5000*(B$1:B$5000=\"\")),ROW(A1980)))&\"\"","v":""},"","","",null,null,{"$f":"INDEX(AH:AH,SMALL(ROW($AH$1:$AH$1999)+(1999*($AH$1:$AH$1999=\"\")), ROW(A1980)))&\"\"","v":""},"","","","","","","","","","","","","","","","","","","","","","","","","","","","","","","",{"$f":"INDEX(AJ:AJ,SMALL(ROW($AJ$1:$AJ$1999)+(1999*($AJ$1:$AJ$1999=\"\")), ROW(A1980)))&\"\"","v":""},"",{"$f":"INDEX(AK:AK,SMALL(ROW($AK$1:$AK$1999)+(1999*($AK$1:$AK$1999=\"\")), ROW(A1980)))&\"\"","v":""},"","","",null,"",""]
[null,null,null,null,null,null,null,null,null,null,null,null,null,null,null,null,null,null,null,null,null,null,null,null,null,null,null,null,null,null,null,null,{"$f":"INDEX(C:C, SMALL(ROW(C$1:C$5000)+(5000*(C$1:C$5000=\"\")),ROW(A1981)))&\"\"","v":""},"",{"$f":"INDEX(B:B, SMALL(ROW(B$1:B$5000)+(5000*(B$1:B$5000=\"\")),ROW(A1981)))&\"\"","v":""},"","","",null,null,{"$f":"INDEX(AH:AH,SMALL(ROW($AH$1:$AH$1999)+(1999*($AH$1:$AH$1999=\"\")), ROW(A1981)))&\"\"","v":""},"","","","","","","","","","","","","","","","","","","","","","","","","","","","","","","",{"$f":"INDEX(AJ:AJ,SMALL(ROW($AJ$1:$AJ$1999)+(1999*($AJ$1:$AJ$1999=\"\")), ROW(A1981)))&\"\"","v":""},"",{"$f":"INDEX(AK:AK,SMALL(ROW($AK$1:$AK$1999)+(1999*($AK$1:$AK$1999=\"\")), ROW(A1981)))&\"\"","v":""},"","","",null,"",""]
[null,null,null,null,null,null,null,null,null,null,null,null,null,null,null,null,null,null,null,null,null,null,null,null,null,null,null,null,null,null,null,null,{"$f":"INDEX(C:C, SMALL(ROW(C$1:C$5000)+(5000*(C$1:C$5000=\"\")),ROW(A1982)))&\"\"","v":""},"",{"$f":"INDEX(B:B, SMALL(ROW(B$1:B$5000)+(5000*(B$1:B$5000=\"\")),ROW(A1982)))&\"\"","v":""},"","","",null,null,{"$f":"INDEX(AH:AH,SMALL(ROW($AH$1:$AH$1999)+(1999*($AH$1:$AH$1999=\"\")), ROW(A1982)))&\"\"","v":""},"","","","","","","","","","","","","","","","","","","","","","","","","","","","","","","",{"$f":"INDEX(AJ:AJ,SMALL(ROW($AJ$1:$AJ$1999)+(1999*($AJ$1:$AJ$1999=\"\")), ROW(A1982)))&\"\"","v":""},"",{"$f":"INDEX(AK:AK,SMALL(ROW($AK$1:$AK$1999)+(1999*($AK$1:$AK$1999=\"\")), ROW(A1982)))&\"\"","v":""},"","","",null,"",""]
[null,null,null,null,null,null,null,null,null,null,null,null,null,null,null,null,null,null,null,null,null,null,null,null,null,null,null,null,null,null,null,null,{"$f":"INDEX(C:C, SMALL(ROW(C$1:C$5000)+(5000*(C$1:C$5000=\"\")),ROW(A1983)))&\"\"","v":""},"",{"$f":"INDEX(B:B, SMALL(ROW(B$1:B$5000)+(5000*(B$1:B$5000=\"\")),ROW(A1983)))&\"\"","v":""},"","","",null,null,{"$f":"INDEX(AH:AH,SMALL(ROW($AH$1:$AH$1999)+(1999*($AH$1:$AH$1999=\"\")), ROW(A1983)))&\"\"","v":""},"","","","","","","","","","","","","","","","","","","","","","","","","","","","","","","",{"$f":"INDEX(AJ:AJ,SMALL(ROW($AJ$1:$AJ$1999)+(1999*($AJ$1:$AJ$1999=\"\")), ROW(A1983)))&\"\"","v":""},"",{"$f":"INDEX(AK:AK,SMALL(ROW($AK$1:$AK$1999)+(1999*($AK$1:$AK$1999=\"\")), ROW(A1983)))&\"\"","v":""},"","","",null,"",""]
[null,null,null,null,null,null,null,null,null,null,null,null,null,null,null,null,null,null,null,null,null,null,null,null,null,null,null,null,null,null,null,null,{"$f":"INDEX(C:C, SMALL(ROW(C$1:C$5000)+(5000*(C$1:C$5000=\"\")),ROW(A1984)))&\"\"","v":""},"",{"$f":"INDEX(B:B, SMALL(ROW(B$1:B$5000)+(5000*(B$1:B$5000=\"\")),ROW(A1984)))&\"\"","v":""},"","","",null,null,{"$f":"INDEX(AH:AH,SMALL(ROW($AH$1:$AH$1999)+(1999*($AH$1:$AH$1999=\"\")), ROW(A1984)))&\"\"","v":""},"","","","","","","","","","","","","","","","","","","","","","","","","","","","","","","",{"$f":"INDEX(AJ:AJ,SMALL(ROW($AJ$1:$AJ$1999)+(1999*($AJ$1:$AJ$1999=\"\")), ROW(A1984)))&\"\"","v":""},"",{"$f":"INDEX(AK:AK,SMALL(ROW($AK$1:$AK$1999)+(1999*($AK$1:$AK$1999=\"\")), ROW(A1984)))&\"\"","v":""},"","","",null,"",""]
[null,null,null,null,null,null,null,null,null,null,null,null,null,null,null,null,null,null,null,null,null,null,null,null,null,null,null,null,null,null,null,null,{"$f":"INDEX(C:C, SMALL(ROW(C$1:C$5000)+(5000*(C$1:C$5000=\"\")),ROW(A1985)))&\"\"","v":""},{"$f":"IF(ISNUMBER(SEARCH(\"*,*\",AG1985)),AG1985,\"\")","v":""},{"$f":"INDEX(B:B, SMALL(ROW(B$1:B$5000)+(5000*(B$1:B$5000=\"\")),ROW(A1985)))&\"\"","v":""},"","",{"$f":"IF(ISNUMBER(SEARCH(\"*Round*\",AI1985)),AI1985,\"\")","v":""},null,null,{"$f":"INDEX(AH:AH,SMALL(ROW($AH$1:$AH$1999)+(1999*($AH$1:$AH$1999=\"\")), ROW(A1985)))&\"\"","v":""},"","","","","","","","","","","","","","","","","","","","","","","","","","","","","","","",{"$f":"INDEX(AJ:AJ,SMALL(ROW($AJ$1:$AJ$1999)+(1999*($AJ$1:$AJ$1999=\"\")), ROW(A1985)))&\"\"","v":""},"",{"$f":"INDEX(AK:AK,SMALL(ROW($AK$1:$AK$1999)+(1999*($AK$1:$AK$1999=\"\")), ROW(A1985)))&\"\"","v":""},"","","",null,"",""]
[null,null,null,null,null,null,null,null,null,null,null,null,null,null,null,null,null,null,null,null,null,null,null,null,null,null,null,null,null,null,null,null,{"$f":"INDEX(C:C, SMALL(ROW(C$1:C$5000)+(5000*(C$1:C$5000=\"\")),ROW(A1986)))&\"\"","v":""},"",{"$f":"INDEX(B:B, SMALL(ROW(B$1:B$5000)+(5000*(B$1:B$5000=\"\")),ROW(A1986)))&\"\"","v":""},{"$f":"IF(ISNUMBER(SEARCH(\"*years*\",AI1986)),AI1986,\"\")","v":""},{"$f":"IF(ISNUMBER(SEARCH(\"*, 19*\",AI1986)),AI1986,\"\")","v":""},"",null,null,{"$f":"INDEX(AH:AH,SMALL(ROW($AH$1:$AH$1999)+(1999*($AH$1:$AH$1999=\"\")), ROW(A1986)))&\"\"","v":""},{"$f":"TRIM(TEXT(RIGHT(AO1986,2),))","v":""},{"$f":"IF(ISNUMBER(SEARCH(\"*QB*\",AP1986)),AO1986,\"\")","v":""},{"$f":"IFERROR(IF(ISNUMBER(SEARCH(\"*QB*\",AQ1986)),BV1986,\"\"),VALUE(0))","v":""},{"$f":"IFERROR(IF(ISNUMBER(SEARCH(\"*QB*\",AQ1986)),BX1986,\"\"),VALUE(0))","v":""},{"$f":"IF(ISNUMBER(SEARCH(\"*RB*\",AP1986)),AO1986,\"\")","v":""},{"$f":"IFERROR(IF(ISNUMBER(SEARCH(\"*RB*\",AT1986)),BV1986,\"\"),VALUE(0))","v":""},{"$f":"IFERROR(IF(ISNUMBER(SEARCH(\"*RB*\",AT1986)),BX1986,\"\"),VALUE(0))","v":""},{"$f":"IF(ISNUMBER(SEARCH(\"*WR*\",AP1986)),AO1986,\"\")","v":""},{"$f":"IFERROR(IF(ISNUMBER(SEARCH(\"*WR*\",AW1986)),BV1986,\"\"),VALUE(0))","v":""},{"$f":"IFERROR(IF(ISNUMBER(SEARCH(\"*WR*\",AW1986)),BX1986,\"\"),VALUE(0))","v":""},{"$f":"IF(ISNUMBER(SEARCH(\"*TE*\",AP1986)),AO1986,\"\")","v":""},"",{"$f":"IFERROR(IF(ISNUMBER(SEARCH(\"*TE*\",AZ1986)),BX1986,\"\"),VALUE(0))","v":""},{"$f":"IF(ISNUMBER(SEARCH(\"*PK*\",AP1986)),AO1986,\"\")","v":""},{"$f":"IFERROR(IF(ISNUMBER(SEARCH(\"*PK*\",BC1986)),BV1986,\"\"),VALUE(0))","v":""},{"$f":"IFERROR(IF(ISNUMBER(SEARCH(\"*PK*\",BC1986)),BX1986,\"\"),VALUE(0))","v":""},{"$f":"IF(ISNUMBER(SEARCH(\"*DT*\",AP1986)),AO1986,\"\")","v":""},{"$f":"IFERROR(IF(ISNUMBER(SEARCH(\"*DT*\",BF1986)),BV1986,\"\"),VALUE(0))","v":""},{"$f":"IFERROR(IF(ISNUMBER(SEARCH(\"*DT*\",BF1986)),BX1986,\"\"),VALUE(0))","v":""},{"$f":"IF(ISNUMBER(SEARCH(\"*DE*\",AP1986)),AO1986,\"\")","v":""},{"$f":"IFERROR(IF(ISNUMBER(SEARCH(\"*DE*\",BI1986)),BV1986,\"\"),VALUE(0))","v":""},{"$f":"IFERROR(IF(ISNUMBER(SEARCH(\"*DE*\",BI1986)),BX1986,\"\"),VALUE(0))","v":""},{"$f":"IF(ISNUMBER(SEARCH(\"*LB*\",AP1986)),AO1986,\"\")","v":""},{"$f":"IFERROR(IF(ISNUMBER(SEARCH(\"*LB*\",BL1986)),BV1986,\"\"),VALUE(0))","v":""},{"$f":"IFERROR(IF(ISNUMBER(SEARCH(\"*LB*\",BL1986)),BX1986,\"\"),VALUE(0))","v":""},{"$f":"IF(ISNUMBER(SEARCH(\"*CB*\",AP1986)),AO1986,\"\")","v":""},{"$f":"IFERROR(IF(ISNUMBER(SEARCH(\"*CB*\",BO1986)),BV1986,\"\"),VALUE(0))","v":""},{"$f":"IFERROR(IF(ISNUMBER(SEARCH(\"*CB*\",BO1986)),BX1986,\"\"),VALUE(0))","v":""},{"$f":"IF(ISNUMBER(SEARCH(\"*S*\",AP1986)),AO1986,\"\")","v":""},{"$f":"IFERROR(IF(ISNUMBER(SEARCH(\"*S*\",BR1986)),BV1986,\"\"),VALUE(0))","v":""},{"$f":"IFERROR(IF(ISNUMBER(SEARCH(\"*S*\",BR1986)),BX1986,\"\"),VALUE(0))","v":""},{"$f":"INDEX(AJ:AJ,SMALL(ROW($AJ$1:$AJ$1999)+(1999*($AJ$1:$AJ$1999=\"\")), ROW(A1986)))&\"\"","v":""},{"$f":"IFERROR(IF(BW1986<>\"\",VALUE(LEFT(BU1986,LEN(BU1986)-6)),\"\"),VALUE(0))","v":""},{"$f":"INDEX(AK:AK,SMALL(ROW($AK$1:$AK$1999)+(1999*($AK$1:$AK$1999=\"\")), ROW(A1986)))&\"\"","v":""},{"$f":"IF(BW1986<>\"\",VALUE(RIGHT(BW1986,2)),\"\")","v":""},{"$f":"IF(BX1986=\"\",\"\",IF(BX1986>27,1,0))","v":""},{"$f":"IF(BX1986=\"\",\"\",IF(BX1986<27,1,0))","v":""},null,{"$f":"IF(BV1986=\"\",\"\",IF(BV1986>3.5,1,0))","v":""},{"$f":"IF(BV1986=\"\",\"\",IF(BV1986<3.5,1,0))","v":""}]
[null,null,null,null,null,null,null,null,null,null,null,null,null,null,null,null,null,null,null,null,null,null,null,null,null,null,null,null,null,null,null,null,{"$f":"INDEX(C:C, SMALL(ROW(C$1:C$5000)+(5000*(C$1:C$5000=\"\")),ROW(A1987)))&\"\"","v":""},"",{"$f":"INDEX(B:B, SMALL(ROW(B$1:B$5000)+(5000*(B$1:B$5000=\"\")),ROW(A1987)))&\"\"","v":""},"","","",null,null,{"$f":"INDEX(AH:AH,SMALL(ROW($AH$1:$AH$1999)+(1999*($AH$1:$AH$1999=\"\")), ROW(A1987)))&\"\"","v":""},"","","","","","","","","","","","","","","","","","","","","","","","","","","","","","","",{"$f":"INDEX(AJ:AJ,SMALL(ROW($AJ$1:$AJ$1999)+(1999*($AJ$1:$AJ$1999=\"\")), ROW(A1987)))&\"\"","v":""},"",{"$f":"INDEX(AK:AK,SMALL(ROW($AK$1:$AK$1999)+(1999*($AK$1:$AK$1999=\"\")), ROW(A1987)))&\"\"","v":""},"","","",null,"",""]
[null,null,null,null,null,null,null,null,null,null,null,null,null,null,null,null,null,null,null,null,null,null,null,null,null,null,null,null,null,null,null,null,{"$f":"INDEX(C:C, SMALL(ROW(C$1:C$5000)+(5000*(C$1:C$5000=\"\")),ROW(A1988)))&\"\"","v":""},"",{"$f":"INDEX(B:B, SMALL(ROW(B$1:B$5000)+(5000*(B$1:B$5000=\"\")),ROW(A1988)))&\"\"","v":""},"","","",null,null,{"$f":"INDEX(AH:AH,SMALL(ROW($AH$1:$AH$1999)+(1999*($AH$1:$AH$1999=\"\")), ROW(A1988)))&\"\"","v":""},"","","","","","","","","","","","","","","","","","","","","","","","","","","","","","","",{"$f":"INDEX(AJ:AJ,SMALL(ROW($AJ$1:$AJ$1999)+(1999*($AJ$1:$AJ$1999=\"\")), ROW(A1988)))&\"\"","v":""},"",{"$f":"INDEX(AK:AK,SMALL(ROW($AK$1:$AK$1999)+(1999*($AK$1:$AK$1999=\"\")), ROW(A1988)))&\"\"","v":""},"","","",null,"",""]
[null,null,null,null,null,null,null,null,null,null,null,null,null,null,null,null,null,null,null,null,null,null,null,null,null,null,null,null,null,null,null,null,{"$f":"INDEX(C:C, SMALL(ROW(C$1:C$5000)+(5000*(C$1:C$5000=\"\")),ROW(A1989)))&\"\"","v":""},"",{"$f":"INDEX(B:B, SMALL(ROW(B$1:B$5000)+(5000*(B$1:B$5000=\"\")),ROW(A1989)))&\"\"","v":""},"","","",null,null,{"$f":"INDEX(AH:AH,SMALL(ROW($AH$1:$AH$1999)+(1999*($AH$1:$AH$1999=\"\")), ROW(A1989)))&\"\"","v":""},"","","","","","","","","","","","","","","","","","","","","","","","","","","","","","","",{"$f":"INDEX(AJ:AJ,SMALL(ROW($AJ$1:$AJ$1999)+(1999*($AJ$1:$AJ$1999=\"\")), ROW(A1989)))&\"\"","v":""},"",{"$f":"INDEX(AK:AK,SMALL(ROW($AK$1:$AK$1999)+(1999*($AK$1:$AK$1999=\"\")), ROW(A1989)))&\"\"","v":""},"","","",null,"",""]
[null,null,null,null,null,null,null,null,null,null,null,null,null,null,null,null,null,null,null,null,null,null,null,null,null,null,null,null,null,null,null,null,{"$f":"INDEX(C:C, SMALL(ROW(C$1:C$5000)+(5000*(C$1:C$5000=\"\")),ROW(A1990)))&\"\"","v":""},"",{"$f":"INDEX(B:B, SMALL(ROW(B$1:B$5000)+(5000*(B$1:B$5000=\"\")),ROW(A1990)))&\"\"","v":""},"","","",null,null,{"$f":"INDEX(AH:AH,SMALL(ROW($AH$1:$AH$1999)+(1999*($AH$1:$AH$1999=\"\")), ROW(A1990)))&\"\"","v":""},"","","","","","","","","","","","","","","","","","","","","","","","","","","","","","","",{"$f":"INDEX(AJ:AJ,SMALL(ROW($AJ$1:$AJ$1999)+(1999*($AJ$1:$AJ$1999=\"\")), ROW(A1990)))&\"\"","v":""},"",{"$f":"INDEX(AK:AK,SMALL(ROW($AK$1:$AK$1999)+(1999*($AK$1:$AK$1999=\"\")), ROW(A1990)))&\"\"","v":""},"","","",null,"",""]
[null,null,null,null,null,null,null,null,null,null,null,null,null,null,null,null,null,null,null,null,null,null,null,null,null,null,null,null,null,null,null,null,{"$f":"INDEX(C:C, SMALL(ROW(C$1:C$5000)+(5000*(C$1:C$5000=\"\")),ROW(A1991)))&\"\"","v":""},"",{"$f":"INDEX(B:B, SMALL(ROW(B$1:B$5000)+(5000*(B$1:B$5000=\"\")),ROW(A1991)))&\"\"","v":""},"","","",null,null,{"$f":"INDEX(AH:AH,SMALL(ROW($AH$1:$AH$1999)+(1999*($AH$1:$AH$1999=\"\")), ROW(A1991)))&\"\"","v":""},"","","","","","","","","","","","","","","","","","","","","","","","","","","","","","","",{"$f":"INDEX(AJ:AJ,SMALL(ROW($AJ$1:$AJ$1999)+(1999*($AJ$1:$AJ$1999=\"\")), ROW(A1991)))&\"\"","v":""},"",{"$f":"INDEX(AK:AK,SMALL(ROW($AK$1:$AK$1999)+(1999*($AK$1:$AK$1999=\"\")), ROW(A1991)))&\"\"","v":""},"","","",null,"",""]
[null,null,null,null,null,null,null,null,null,null,null,null,null,null,null,null,null,null,null,null,null,null,null,null,null,null,null,null,null,null,null,null,{"$f":"INDEX(C:C, SMALL(ROW(C$1:C$5000)+(5000*(C$1:C$5000=\"\")),ROW(A1992)))&\"\"","v":""},"",{"$f":"INDEX(B:B, SMALL(ROW(B$1:B$5000)+(5000*(B$1:B$5000=\"\")),ROW(A1992)))&\"\"","v":""},"","","",null,null,{"$f":"INDEX(AH:AH,SMALL(ROW($AH$1:$AH$1999)+(1999*($AH$1:$AH$1999=\"\")), ROW(A1992)))&\"\"","v":""},"","","","","","","","","","","","","","","","","","","","","","","","","","","","","","","",{"$f":"INDEX(AJ:AJ,SMALL(ROW($AJ$1:$AJ$1999)+(1999*($AJ$1:$AJ$1999=\"\")), ROW(A1992)))&\"\"","v":""},"",{"$f":"INDEX(AK:AK,SMALL(ROW($AK$1:$AK$1999)+(1999*($AK$1:$AK$1999=\"\")), ROW(A1992)))&\"\"","v":""},"","","",null,"",""]
[null,null,null,null,null,null,null,null,null,null,null,null,null,null,null,null,null,null,null,null,null,null,null,null,null,null,null,null,null,null,null,null,{"$f":"INDEX(C:C, SMALL(ROW(C$1:C$5000)+(5000*(C$1:C$5000=\"\")),ROW(A1993)))&\"\"","v":""},"",{"$f":"INDEX(B:B, SMALL(ROW(B$1:B$5000)+(5000*(B$1:B$5000=\"\")),ROW(A1993)))&\"\"","v":""},"","","",null,null,{"$f":"INDEX(AH:AH,SMALL(ROW($AH$1:$AH$1999)+(1999*($AH$1:$AH$1999=\"\")), ROW(A1993)))&\"\"","v":""},"","","","","","","","","","","","","","","","","","","","","","","","","","","","","","","",{"$f":"INDEX(AJ:AJ,SMALL(ROW($AJ$1:$AJ$1999)+(1999*($AJ$1:$AJ$1999=\"\")), ROW(A1993)))&\"\"","v":""},"",{"$f":"INDEX(AK:AK,SMALL(ROW($AK$1:$AK$1999)+(1999*($AK$1:$AK$1999=\"\")), ROW(A1993)))&\"\"","v":""},"","","",null,"",""]
[null,null,null,null,null,null,null,null,null,null,null,null,null,null,null,null,null,null,null,null,null,null,null,null,null,null,null,null,null,null,null,null,{"$f":"INDEX(C:C, SMALL(ROW(C$1:C$5000)+(5000*(C$1:C$5000=\"\")),ROW(A1994)))&\"\"","v":""},"",{"$f":"INDEX(B:B, SMALL(ROW(B$1:B$5000)+(5000*(B$1:B$5000=\"\")),ROW(A1994)))&\"\"","v":""},"","","",null,null,{"$f":"INDEX(AH:AH,SMALL(ROW($AH$1:$AH$1999)+(1999*($AH$1:$AH$1999=\"\")), ROW(A1994)))&\"\"","v":""},"","","","","","","","","","","","","","","","","","","","","","","","","","","","","","","",{"$f":"INDEX(AJ:AJ,SMALL(ROW($AJ$1:$AJ$1999)+(1999*($AJ$1:$AJ$1999=\"\")), ROW(A1994)))&\"\"","v":""},"",{"$f":"INDEX(AK:AK,SMALL(ROW($AK$1:$AK$1999)+(1999*($AK$1:$AK$1999=\"\")), ROW(A1994)))&\"\"","v":""},"","","",null,"",""]
[null,null,null,null,null,null,null,null,null,null,null,null,null,null,null,null,null,null,null,null,null,null,null,null,null,null,null,null,null,null,null,null,{"$f":"INDEX(C:C, SMALL(ROW(C$1:C$5000)+(5000*(C$1:C$5000=\"\")),ROW(A1995)))&\"\"","v":""},"",{"$f":"INDEX(B:B, SMALL(ROW(B$1:B$5000)+(5000*(B$1:B$5000=\"\")),ROW(A1995)))&\"\"","v":""},"","","",null,null,{"$f":"INDEX(AH:AH,SMALL(ROW($AH$1:$AH$1999)+(1999*($AH$1:$AH$1999=\"\")), ROW(A1995)))&\"\"","v":""},"","","","","","","","","","","","","","","","","","","","","","","","","","","","","","","",{"$f":"INDEX(AJ:AJ,SMALL(ROW($AJ$1:$AJ$1999)+(1999*($AJ$1:$AJ$1999=\"\")), ROW(A1995)))&\"\"","v":""},"",{"$f":"INDEX(AK:AK,SMALL(ROW($AK$1:$AK$1999)+(1999*($AK$1:$AK$1999=\"\")), ROW(A1995)))&\"\"","v":""},"","","",null,"",""]
[null,null,null,null,null,null,null,null,null,null,null,null,null,null,null,null,null,null,null,null,null,null,null,null,null,null,null,null,null,null,null,null,{"$f":"INDEX(C:C, SMALL(ROW(C$1:C$5000)+(5000*(C$1:C$5000=\"\")),ROW(A1996)))&\"\"","v":""},"",{"$f":"INDEX(B:B, SMALL(ROW(B$1:B$5000)+(5000*(B$1:B$5000=\"\")),ROW(A1996)))&\"\"","v":""},"","","",null,null,{"$f":"INDEX(AH:AH,SMALL(ROW($AH$1:$AH$1999)+(1999*($AH$1:$AH$1999=\"\")), ROW(A1996)))&\"\"","v":""},"","","","","","","","","","","","","","","","","","","","","","","","","","","","","","","",{"$f":"INDEX(AJ:AJ,SMALL(ROW($AJ$1:$AJ$1999)+(1999*($AJ$1:$AJ$1999=\"\")), ROW(A1996)))&\"\"","v":""},"",{"$f":"INDEX(AK:AK,SMALL(ROW($AK$1:$AK$1999)+(1999*($AK$1:$AK$1999=\"\")), ROW(A1996)))&\"\"","v":""},"","","",null,"",""]
[null,null,null,null,null,null,null,null,null,null,null,null,null,null,null,null,null,null,null,null,null,null,null,null,null,null,null,null,null,null,null,null,{"$f":"INDEX(C:C, SMALL(ROW(C$1:C$5000)+(5000*(C$1:C$5000=\"\")),ROW(A1997)))&\"\"","v":""},"",{"$f":"INDEX(B:B, SMALL(ROW(B$1:B$5000)+(5000*(B$1:B$5000=\"\")),ROW(A1997)))&\"\"","v":""},"","","",null,null,{"$f":"INDEX(AH:AH,SMALL(ROW($AH$1:$AH$1999)+(1999*($AH$1:$AH$1999=\"\")), ROW(A1997)))&\"\"","v":""},"","","","","","","","","","","","","","","","","","","","","","","","","","","","","","","",{"$f":"INDEX(AJ:AJ,SMALL(ROW($AJ$1:$AJ$1999)+(1999*($AJ$1:$AJ$1999=\"\")), ROW(A1997)))&\"\"","v":""},"",{"$f":"INDEX(AK:AK,SMALL(ROW($AK$1:$AK$1999)+(1999*($AK$1:$AK$1999=\"\")), ROW(A1997)))&\"\"","v":""},"","","",null,"",""]
[null,null,null,null,null,null,null,null,null,null,null,null,null,null,null,null,null,null,null,null,null,null,null,null,null,null,null,null,null,null,null,null,{"$f":"INDEX(C:C, SMALL(ROW(C$1:C$5000)+(5000*(C$1:C$5000=\"\")),ROW(A1998)))&\"\"","v":""},"",{"$f":"INDEX(B:B, SMALL(ROW(B$1:B$5000)+(5000*(B$1:B$5000=\"\")),ROW(A1998)))&\"\"","v":""},"","","",null,null,{"$f":"INDEX(AH:AH,SMALL(ROW($AH$1:$AH$1999)+(1999*($AH$1:$AH$1999=\"\")), ROW(A1998)))&\"\"","v":""},"","","","","","","","","","","","","","","","","","","","","","","","","","","","","","","",{"$f":"INDEX(AJ:AJ,SMALL(ROW($AJ$1:$AJ$1999)+(1999*($AJ$1:$AJ$1999=\"\")), ROW(A1998)))&\"\"","v":""},"",{"$f":"INDEX(AK:AK,SMALL(ROW($AK$1:$AK$1999)+(1999*($AK$1:$AK$1999=\"\")), ROW(A1998)))&\"\"","v":""},"","","",null,"",""]
[null,null,null,null,null,null,null,null,null,null,null,null,null,null,null,null,null,null,null,null,null,null,null,null,null,null,null,null,null,null,null,null,{"$f":"INDEX(C:C, SMALL(ROW(C$1:C$5000)+(5000*(C$1:C$5000=\"\")),ROW(A1999)))&\"\"","v":""},"",{"$f":"INDEX(B:B, SMALL(ROW(B$1:B$5000)+(5000*(B$1:B$5000=\"\")),ROW(A1999)))&\"\"","v":""},"","","",null,null,{"$f":"INDEX(AH:AH,SMALL(ROW($AH$1:$AH$1999)+(1999*($AH$1:$AH$1999=\"\")), ROW(A1999)))&\"\"","v":""},"","","","","","","","","","","","","","","","","","","","","","","","","","","","","","","",{"$f":"INDEX(AJ:AJ,SMALL(ROW($AJ$1:$AJ$1999)+(1999*($AJ$1:$AJ$1999=\"\")), ROW(A1999)))&\"\"","v":""},"",{"$f":"INDEX(AK:AK,SMALL(ROW($AK$1:$AK$1999)+(1999*($AK$1:$AK$1999=\"\")), ROW(A1999)))&\"\"","v":""},"","","",null,"",""]
[null,null,null,null,null,null,null,null,null,null,null,null,null,null,null,null,null,null,null,null,null,null,null,null,null,null,null,null,null,null,null,null,null,null,null,null,null,null,null,null,null,null,null,null,null,null,null,null,null,null,null,null,null,null,null,null,null,null,null,null,null,null,null,null,null,null,null,null,null,null,null,null,null,""]

{"sheet":"Sheet3","index":3,"n_rows":0,"n_cols":0,"rows_kept":0,"cut":false,"hidden":true,"merged":[]}